BEGIN:VCALENDAR
TZID:Europe/Warsaw
X-WR-TIMEZONE:Europe/Warsaw
VERSION:2.0
PRODID:-//Uniwersytet Zielonogórski//NONSGML Plan zajęć v1.0//EN
NAME:Plan zajęć - semestr zimowy 2025/2026
X-WR-CALNAME:Plan zajęć - semestr zimowy 2025/2026
COLOR:green
CALSCALE:GREGORIAN
BEGIN:VEVENT
UID:UZ_PLZ_20251013_0800_493416
DTSTAMP:20251013T080000
DTSTART:20251013T080000
DTEND:20251013T163000
SUMMARY:Rezerwacja (I)
CATEGORIES:I
LOCATION:329 A-16
END:VEVENT
BEGIN:VEVENT
UID:UZ_PLZ_20251014_0800_493416
DTSTAMP:20251014T080000
DTSTART:20251014T080000
DTEND:20251014T163000
SUMMARY:Rezerwacja (I)
CATEGORIES:I
LOCATION:329 A-16
END:VEVENT
BEGIN:VEVENT
UID:UZ_PLZ_20251107_0800_493416
DTSTAMP:20251107T080000
DTSTART:20251107T080000
DTEND:20251107T200000
SUMMARY:Rezerwacja (I)
CATEGORIES:I
LOCATION:17 A-16
END:VEVENT
BEGIN:VEVENT
UID:UZ_PLZ_20251108_0800_494357
DTSTAMP:20251108T080000
DTSTART:20251108T080000
DTEND:20251108T200000
SUMMARY:Rezerwacja (I)
CATEGORIES:I
LOCATION:417 A-16
END:VEVENT
BEGIN:VEVENT
UID:UZ_PLZ_20260116_0800_493416
DTSTAMP:20260116T080000
DTSTART:20260116T080000
DTEND:20260116T163000
SUMMARY:Rezerwacja (I)
CATEGORIES:I
LOCATION:335 A-16
END:VEVENT
BEGIN:VEVENT
UID:UZ_PLZ_20260202_1300_505716
DTSTAMP:20260202T130000
DTSTART:20260202T130000
DTEND:20260202T160000
SUMMARY:Rezerwacja (I)
CATEGORIES:I
LOCATION:335 A-16
END:VEVENT
BEGIN:VEVENT
UID:UZ_PLZ_20260203_0700_505716
DTSTAMP:20260203T070000
DTSTART:20260203T070000
DTEND:20260203T150000
SUMMARY:Rezerwacja (I)
CATEGORIES:I
LOCATION:335 A-16
END:VEVENT
END:VCALENDAR
