BEGIN:VCALENDAR
TZID:Europe/Warsaw
X-WR-TIMEZONE:Europe/Warsaw
VERSION:2.0
PRODID:-//Uniwersytet Zielonogórski//NONSGML Plan zajęć v1.0//EN
NAME:Plan zajęć - semestr zimowy 2025/2026
X-WR-CALNAME:Plan zajęć - semestr zimowy 2025/2026
COLOR:green
CALSCALE:GREGORIAN
BEGIN:VEVENT
UID:UZ_PLZ_20251001_1100_485882
DTSTAMP:20251001T110000
DTSTART:20251001T110000
DTEND:20251001T140000
SUMMARY:REZERWACJA (R)
CATEGORIES:R
END:VEVENT
BEGIN:VEVENT
UID:UZ_PLZ_20251002_1130_488691
DTSTAMP:20251002T113000
DTSTART:20251002T113000
DTEND:20251002T130000
SUMMARY:Podstawy analiz Big Data (L): 2 SOC-SP 24/25
CATEGORIES:L
LOCATION:17 A-16
END:VEVENT
BEGIN:VEVENT
UID:UZ_PLZ_20251002_1430_485046
DTSTAMP:20251002T143000
DTSTART:20251002T143000
DTEND:20251002T160000
SUMMARY:Języki programowania I (L): 11IB-SP
CATEGORIES:L
LOCATION:B219 A-11
END:VEVENT
BEGIN:VEVENT
UID:UZ_PLZ_20251002_1615_485063
DTSTAMP:20251002T161500
DTSTART:20251002T161500
DTEND:20251002T174500
SUMMARY:Technologia informacyjna (L): 11IB-SP
CATEGORIES:L
LOCATION:B219 A-11
END:VEVENT
BEGIN:VEVENT
UID:UZ_PLZ_20251008_1100_485882
DTSTAMP:20251008T110000
DTSTART:20251008T110000
DTEND:20251008T140000
SUMMARY:REZERWACJA (R)
CATEGORIES:R
END:VEVENT
BEGIN:VEVENT
UID:UZ_PLZ_20251009_1130_488691
DTSTAMP:20251009T113000
DTSTART:20251009T113000
DTEND:20251009T130000
SUMMARY:Podstawy analiz Big Data (L): 2 SOC-SP 24/25
CATEGORIES:L
LOCATION:17 A-16
END:VEVENT
BEGIN:VEVENT
UID:UZ_PLZ_20251009_1430_485046
DTSTAMP:20251009T143000
DTSTART:20251009T143000
DTEND:20251009T160000
SUMMARY:Języki programowania I (L): 11IB-SP
CATEGORIES:L
LOCATION:B219 A-11
END:VEVENT
BEGIN:VEVENT
UID:UZ_PLZ_20251009_1615_485063
DTSTAMP:20251009T161500
DTSTART:20251009T161500
DTEND:20251009T174500
SUMMARY:Technologia informacyjna (L): 11IB-SP
CATEGORIES:L
LOCATION:B219 A-11
END:VEVENT
BEGIN:VEVENT
UID:UZ_PLZ_20251015_1100_485882
DTSTAMP:20251015T110000
DTSTART:20251015T110000
DTEND:20251015T140000
SUMMARY:REZERWACJA (R)
CATEGORIES:R
END:VEVENT
BEGIN:VEVENT
UID:UZ_PLZ_20251016_1130_488691
DTSTAMP:20251016T113000
DTSTART:20251016T113000
DTEND:20251016T130000
SUMMARY:Podstawy analiz Big Data (L): 2 SOC-SP 24/25
CATEGORIES:L
LOCATION:17 A-16
END:VEVENT
BEGIN:VEVENT
UID:UZ_PLZ_20251016_1430_485046
DTSTAMP:20251016T143000
DTSTART:20251016T143000
DTEND:20251016T160000
SUMMARY:Języki programowania I (L): 11IB-SP
CATEGORIES:L
LOCATION:B219 A-11
END:VEVENT
BEGIN:VEVENT
UID:UZ_PLZ_20251016_1615_485063
DTSTAMP:20251016T161500
DTSTART:20251016T161500
DTEND:20251016T174500
SUMMARY:Technologia informacyjna (L): 11IB-SP
CATEGORIES:L
LOCATION:B219 A-11
END:VEVENT
BEGIN:VEVENT
UID:UZ_PLZ_20251022_1100_485882
DTSTAMP:20251022T110000
DTSTART:20251022T110000
DTEND:20251022T140000
SUMMARY:REZERWACJA (R)
CATEGORIES:R
END:VEVENT
BEGIN:VEVENT
UID:UZ_PLZ_20251022_1430_485017
DTSTAMP:20251022T143000
DTSTART:20251022T143000
DTEND:20251022T160000
SUMMARY:Praca przejściowa (P): 15IB-BiBwM-SD
CATEGORIES:P
LOCATION:B419 A-11
END:VEVENT
BEGIN:VEVENT
UID:UZ_PLZ_20251022_1615_485017
DTSTAMP:20251022T161500
DTSTART:20251022T161500
DTEND:20251022T174500
SUMMARY:Praca przejściowa (P): 15IB-BiBwM-SD
CATEGORIES:P
LOCATION:B419 A-11
END:VEVENT
BEGIN:VEVENT
UID:UZ_PLZ_20251023_1130_488691
DTSTAMP:20251023T113000
DTSTART:20251023T113000
DTEND:20251023T130000
SUMMARY:Podstawy analiz Big Data (L): 2 SOC-SP 24/25
CATEGORIES:L
LOCATION:17 A-16
END:VEVENT
BEGIN:VEVENT
UID:UZ_PLZ_20251023_1330_485046
DTSTAMP:20251023T133000
DTSTART:20251023T133000
DTEND:20251023T150000
SUMMARY:Języki programowania I (L): 11IB-SP
CATEGORIES:L
LOCATION:B219 A-11
END:VEVENT
BEGIN:VEVENT
UID:UZ_PLZ_20251023_1510_485063
DTSTAMP:20251023T151000
DTSTART:20251023T151000
DTEND:20251023T164000
SUMMARY:Technologia informacyjna (L): 11IB-SP
CATEGORIES:L
LOCATION:B219 A-11
END:VEVENT
BEGIN:VEVENT
UID:UZ_PLZ_20251029_1100_485882
DTSTAMP:20251029T110000
DTSTART:20251029T110000
DTEND:20251029T140000
SUMMARY:REZERWACJA (R)
CATEGORIES:R
END:VEVENT
BEGIN:VEVENT
UID:UZ_PLZ_20251029_1430_485017
DTSTAMP:20251029T143000
DTSTART:20251029T143000
DTEND:20251029T160000
SUMMARY:Praca przejściowa (P): 15IB-BiBwM-SD
CATEGORIES:P
LOCATION:B419 A-11
END:VEVENT
BEGIN:VEVENT
UID:UZ_PLZ_20251029_1615_485017
DTSTAMP:20251029T161500
DTSTART:20251029T161500
DTEND:20251029T174500
SUMMARY:Praca przejściowa (P): 15IB-BiBwM-SD
CATEGORIES:P
LOCATION:B419 A-11
END:VEVENT
BEGIN:VEVENT
UID:UZ_PLZ_20251030_1130_488691
DTSTAMP:20251030T113000
DTSTART:20251030T113000
DTEND:20251030T130000
SUMMARY:Podstawy analiz Big Data (L): 2 SOC-SP 24/25
CATEGORIES:L
LOCATION:17 A-16
END:VEVENT
BEGIN:VEVENT
UID:UZ_PLZ_20251030_1330_485046
DTSTAMP:20251030T133000
DTSTART:20251030T133000
DTEND:20251030T150000
SUMMARY:Języki programowania I (L): 11IB-SP
CATEGORIES:L
LOCATION:B219 A-11
END:VEVENT
BEGIN:VEVENT
UID:UZ_PLZ_20251030_1510_485063
DTSTAMP:20251030T151000
DTSTART:20251030T151000
DTEND:20251030T164000
SUMMARY:Technologia informacyjna (L): 11IB-SP
CATEGORIES:L
LOCATION:B219 A-11
END:VEVENT
BEGIN:VEVENT
UID:UZ_PLZ_20251105_1100_485882
DTSTAMP:20251105T110000
DTSTART:20251105T110000
DTEND:20251105T140000
SUMMARY:REZERWACJA (R)
CATEGORIES:R
END:VEVENT
BEGIN:VEVENT
UID:UZ_PLZ_20251105_1430_485017
DTSTAMP:20251105T143000
DTSTART:20251105T143000
DTEND:20251105T160000
SUMMARY:Praca przejściowa (P): 15IB-BiBwM-SD
CATEGORIES:P
LOCATION:B419 A-11
END:VEVENT
BEGIN:VEVENT
UID:UZ_PLZ_20251105_1615_485017
DTSTAMP:20251105T161500
DTSTART:20251105T161500
DTEND:20251105T174500
SUMMARY:Praca przejściowa (P): 15IB-BiBwM-SD
CATEGORIES:P
LOCATION:B419 A-11
END:VEVENT
BEGIN:VEVENT
UID:UZ_PLZ_20251106_1130_488691
DTSTAMP:20251106T113000
DTSTART:20251106T113000
DTEND:20251106T130000
SUMMARY:Podstawy analiz Big Data (L): 2 SOC-SP 24/25
CATEGORIES:L
LOCATION:17 A-16
END:VEVENT
BEGIN:VEVENT
UID:UZ_PLZ_20251106_1330_485046
DTSTAMP:20251106T133000
DTSTART:20251106T133000
DTEND:20251106T150000
SUMMARY:Języki programowania I (L): 11IB-SP
CATEGORIES:L
LOCATION:B219 A-11
END:VEVENT
BEGIN:VEVENT
UID:UZ_PLZ_20251106_1510_485063
DTSTAMP:20251106T151000
DTSTART:20251106T151000
DTEND:20251106T164000
SUMMARY:Technologia informacyjna (L): 11IB-SP
CATEGORIES:L
LOCATION:B219 A-11
END:VEVENT
BEGIN:VEVENT
UID:UZ_PLZ_20251112_1100_485882
DTSTAMP:20251112T110000
DTSTART:20251112T110000
DTEND:20251112T140000
SUMMARY:REZERWACJA (R)
CATEGORIES:R
END:VEVENT
BEGIN:VEVENT
UID:UZ_PLZ_20251112_1430_485017
DTSTAMP:20251112T143000
DTSTART:20251112T143000
DTEND:20251112T160000
SUMMARY:Praca przejściowa (P): 15IB-BiBwM-SD
CATEGORIES:P
LOCATION:B419 A-11
END:VEVENT
BEGIN:VEVENT
UID:UZ_PLZ_20251112_1615_485017
DTSTAMP:20251112T161500
DTSTART:20251112T161500
DTEND:20251112T174500
SUMMARY:Praca przejściowa (P): 15IB-BiBwM-SD
CATEGORIES:P
LOCATION:B419 A-11
END:VEVENT
BEGIN:VEVENT
UID:UZ_PLZ_20251119_1100_485882
DTSTAMP:20251119T110000
DTSTART:20251119T110000
DTEND:20251119T140000
SUMMARY:REZERWACJA (R)
CATEGORIES:R
END:VEVENT
BEGIN:VEVENT
UID:UZ_PLZ_20251119_1430_485017
DTSTAMP:20251119T143000
DTSTART:20251119T143000
DTEND:20251119T160000
SUMMARY:Praca przejściowa (P): 15IB-BiBwM-SD
CATEGORIES:P
LOCATION:B419 A-11
END:VEVENT
BEGIN:VEVENT
UID:UZ_PLZ_20251119_1615_485017
DTSTAMP:20251119T161500
DTSTART:20251119T161500
DTEND:20251119T174500
SUMMARY:Praca przejściowa (P): 15IB-BiBwM-SD
CATEGORIES:P
LOCATION:B419 A-11
END:VEVENT
BEGIN:VEVENT
UID:UZ_PLZ_20251120_1130_488691
DTSTAMP:20251120T113000
DTSTART:20251120T113000
DTEND:20251120T130000
SUMMARY:Podstawy analiz Big Data (L): 2 SOC-SP 24/25
CATEGORIES:L
LOCATION:17 A-16
END:VEVENT
BEGIN:VEVENT
UID:UZ_PLZ_20251120_1330_485046
DTSTAMP:20251120T133000
DTSTART:20251120T133000
DTEND:20251120T150000
SUMMARY:Języki programowania I (L): 11IB-SP
CATEGORIES:L
LOCATION:B219 A-11
END:VEVENT
BEGIN:VEVENT
UID:UZ_PLZ_20251120_1510_485063
DTSTAMP:20251120T151000
DTSTART:20251120T151000
DTEND:20251120T164000
SUMMARY:Technologia informacyjna (L): 11IB-SP
CATEGORIES:L
LOCATION:B219 A-11
END:VEVENT
BEGIN:VEVENT
UID:UZ_PLZ_20251126_1100_485882
DTSTAMP:20251126T110000
DTSTART:20251126T110000
DTEND:20251126T140000
SUMMARY:REZERWACJA (R)
CATEGORIES:R
END:VEVENT
BEGIN:VEVENT
UID:UZ_PLZ_20251127_1130_488691
DTSTAMP:20251127T113000
DTSTART:20251127T113000
DTEND:20251127T130000
SUMMARY:Podstawy analiz Big Data (L): 2 SOC-SP 24/25
CATEGORIES:L
LOCATION:17 A-16
END:VEVENT
BEGIN:VEVENT
UID:UZ_PLZ_20251127_1330_485046
DTSTAMP:20251127T133000
DTSTART:20251127T133000
DTEND:20251127T150000
SUMMARY:Języki programowania I (L): 11IB-SP
CATEGORIES:L
LOCATION:B219 A-11
END:VEVENT
BEGIN:VEVENT
UID:UZ_PLZ_20251127_1510_485063
DTSTAMP:20251127T151000
DTSTART:20251127T151000
DTEND:20251127T164000
SUMMARY:Technologia informacyjna (L): 11IB-SP
CATEGORIES:L
LOCATION:B219 A-11
END:VEVENT
BEGIN:VEVENT
UID:UZ_PLZ_20251203_1100_485882
DTSTAMP:20251203T110000
DTSTART:20251203T110000
DTEND:20251203T140000
SUMMARY:REZERWACJA (R)
CATEGORIES:R
END:VEVENT
BEGIN:VEVENT
UID:UZ_PLZ_20251204_1130_488691
DTSTAMP:20251204T113000
DTSTART:20251204T113000
DTEND:20251204T130000
SUMMARY:Podstawy analiz Big Data (L): 2 SOC-SP 24/25
CATEGORIES:L
LOCATION:17 A-16
END:VEVENT
BEGIN:VEVENT
UID:UZ_PLZ_20251204_1330_485046
DTSTAMP:20251204T133000
DTSTART:20251204T133000
DTEND:20251204T150000
SUMMARY:Języki programowania I (L): 11IB-SP
CATEGORIES:L
LOCATION:B219 A-11
END:VEVENT
BEGIN:VEVENT
UID:UZ_PLZ_20251204_1510_485063
DTSTAMP:20251204T151000
DTSTART:20251204T151000
DTEND:20251204T164000
SUMMARY:Technologia informacyjna (L): 11IB-SP
CATEGORIES:L
LOCATION:B219 A-11
END:VEVENT
BEGIN:VEVENT
UID:UZ_PLZ_20251210_1100_485882
DTSTAMP:20251210T110000
DTSTART:20251210T110000
DTEND:20251210T140000
SUMMARY:REZERWACJA (R)
CATEGORIES:R
END:VEVENT
BEGIN:VEVENT
UID:UZ_PLZ_20251211_1130_488691
DTSTAMP:20251211T113000
DTSTART:20251211T113000
DTEND:20251211T130000
SUMMARY:Podstawy analiz Big Data (L): 2 SOC-SP 24/25
CATEGORIES:L
LOCATION:17 A-16
END:VEVENT
BEGIN:VEVENT
UID:UZ_PLZ_20251211_1330_485046
DTSTAMP:20251211T133000
DTSTART:20251211T133000
DTEND:20251211T150000
SUMMARY:Języki programowania I (L): 11IB-SP
CATEGORIES:L
LOCATION:B219 A-11
END:VEVENT
BEGIN:VEVENT
UID:UZ_PLZ_20251211_1510_485063
DTSTAMP:20251211T151000
DTSTART:20251211T151000
DTEND:20251211T164000
SUMMARY:Technologia informacyjna (L): 11IB-SP
CATEGORIES:L
LOCATION:B219 A-11
END:VEVENT
BEGIN:VEVENT
UID:UZ_PLZ_20251217_1100_485882
DTSTAMP:20251217T110000
DTSTART:20251217T110000
DTEND:20251217T140000
SUMMARY:REZERWACJA (R)
CATEGORIES:R
END:VEVENT
BEGIN:VEVENT
UID:UZ_PLZ_20251218_1130_488691
DTSTAMP:20251218T113000
DTSTART:20251218T113000
DTEND:20251218T130000
SUMMARY:Podstawy analiz Big Data (L): 2 SOC-SP 24/25
CATEGORIES:L
LOCATION:17 A-16
END:VEVENT
BEGIN:VEVENT
UID:UZ_PLZ_20251218_1330_485046
DTSTAMP:20251218T133000
DTSTART:20251218T133000
DTEND:20251218T150000
SUMMARY:Języki programowania I (L): 11IB-SP
CATEGORIES:L
LOCATION:B219 A-11
END:VEVENT
BEGIN:VEVENT
UID:UZ_PLZ_20251218_1510_485063
DTSTAMP:20251218T151000
DTSTART:20251218T151000
DTEND:20251218T164000
SUMMARY:Technologia informacyjna (L): 11IB-SP
CATEGORIES:L
LOCATION:B219 A-11
END:VEVENT
BEGIN:VEVENT
UID:UZ_PLZ_20260108_1130_488691
DTSTAMP:20260108T113000
DTSTART:20260108T113000
DTEND:20260108T130000
SUMMARY:Podstawy analiz Big Data (L): 2 SOC-SP 24/25
CATEGORIES:L
LOCATION:17 A-16
END:VEVENT
BEGIN:VEVENT
UID:UZ_PLZ_20260108_1330_485046
DTSTAMP:20260108T133000
DTSTART:20260108T133000
DTEND:20260108T150000
SUMMARY:Języki programowania I (L): 11IB-SP
CATEGORIES:L
LOCATION:B219 A-11
END:VEVENT
BEGIN:VEVENT
UID:UZ_PLZ_20260108_1510_485063
DTSTAMP:20260108T151000
DTSTART:20260108T151000
DTEND:20260108T164000
SUMMARY:Technologia informacyjna (L): 11IB-SP
CATEGORIES:L
LOCATION:B219 A-11
END:VEVENT
BEGIN:VEVENT
UID:UZ_PLZ_20260114_1100_485882
DTSTAMP:20260114T110000
DTSTART:20260114T110000
DTEND:20260114T140000
SUMMARY:REZERWACJA (R)
CATEGORIES:R
END:VEVENT
BEGIN:VEVENT
UID:UZ_PLZ_20260115_1130_488691
DTSTAMP:20260115T113000
DTSTART:20260115T113000
DTEND:20260115T130000
SUMMARY:Podstawy analiz Big Data (L): 2 SOC-SP 24/25
CATEGORIES:L
LOCATION:17 A-16
END:VEVENT
BEGIN:VEVENT
UID:UZ_PLZ_20260115_1330_485046
DTSTAMP:20260115T133000
DTSTART:20260115T133000
DTEND:20260115T150000
SUMMARY:Języki programowania I (L): 11IB-SP
CATEGORIES:L
LOCATION:B219 A-11
END:VEVENT
BEGIN:VEVENT
UID:UZ_PLZ_20260115_1510_485063
DTSTAMP:20260115T151000
DTSTART:20260115T151000
DTEND:20260115T164000
SUMMARY:Technologia informacyjna (L): 11IB-SP
CATEGORIES:L
LOCATION:B219 A-11
END:VEVENT
BEGIN:VEVENT
UID:UZ_PLZ_20260115_1650_485083
DTSTAMP:20260115T165000
DTSTART:20260115T165000
DTEND:20260115T182500
SUMMARY:Praca w zespole interdyscyplinarnym (L): 15IB-BiBwM-SD
CATEGORIES:L
LOCATION:B108 A-11
END:VEVENT
BEGIN:VEVENT
UID:UZ_PLZ_20260121_1100_485882
DTSTAMP:20260121T110000
DTSTART:20260121T110000
DTEND:20260121T140000
SUMMARY:REZERWACJA (R)
CATEGORIES:R
END:VEVENT
BEGIN:VEVENT
UID:UZ_PLZ_20260122_1130_488691
DTSTAMP:20260122T113000
DTSTART:20260122T113000
DTEND:20260122T130000
SUMMARY:Podstawy analiz Big Data (L): 2 SOC-SP 24/25
CATEGORIES:L
LOCATION:17 A-16
END:VEVENT
BEGIN:VEVENT
UID:UZ_PLZ_20260122_1330_485046
DTSTAMP:20260122T133000
DTSTART:20260122T133000
DTEND:20260122T150000
SUMMARY:Języki programowania I (L): 11IB-SP
CATEGORIES:L
LOCATION:B219 A-11
END:VEVENT
BEGIN:VEVENT
UID:UZ_PLZ_20260122_1510_485063
DTSTAMP:20260122T151000
DTSTART:20260122T151000
DTEND:20260122T164000
SUMMARY:Technologia informacyjna (L): 11IB-SP
CATEGORIES:L
LOCATION:B219 A-11
END:VEVENT
BEGIN:VEVENT
UID:UZ_PLZ_20260122_1650_485035
DTSTAMP:20260122T165000
DTSTART:20260122T165000
DTEND:20260122T181500
SUMMARY:Praca w zespole interdyscyplinarnym (W): 15IB-BiBwM-SD
CATEGORIES:W
LOCATION:B108 A-11
END:VEVENT
BEGIN:VEVENT
UID:UZ_PLZ_20260128_1100_485882
DTSTAMP:20260128T110000
DTSTART:20260128T110000
DTEND:20260128T140000
SUMMARY:REZERWACJA (R)
CATEGORIES:R
END:VEVENT
BEGIN:VEVENT
UID:UZ_PLZ_20260129_1130_488691
DTSTAMP:20260129T113000
DTSTART:20260129T113000
DTEND:20260129T130000
SUMMARY:Podstawy analiz Big Data (L): 2 SOC-SP 24/25
CATEGORIES:L
LOCATION:17 A-16
END:VEVENT
BEGIN:VEVENT
UID:UZ_PLZ_20260129_1330_485046
DTSTAMP:20260129T133000
DTSTART:20260129T133000
DTEND:20260129T150000
SUMMARY:Języki programowania I (L): 11IB-SP
CATEGORIES:L
LOCATION:B219 A-11
END:VEVENT
BEGIN:VEVENT
UID:UZ_PLZ_20260129_1510_485063
DTSTAMP:20260129T151000
DTSTART:20260129T151000
DTEND:20260129T164000
SUMMARY:Technologia informacyjna (L): 11IB-SP
CATEGORIES:L
LOCATION:B219 A-11
END:VEVENT
END:VCALENDAR
