BEGIN:VCALENDAR
TZID:Europe/Warsaw
X-WR-TIMEZONE:Europe/Warsaw
VERSION:2.0
PRODID:-//Uniwersytet Zielonogórski//NONSGML Plan zajęć v1.0//EN
NAME:Plan zajęć - semestr letni 2025/2026
X-WR-CALNAME:Plan zajęć - semestr letni 2025/2026
COLOR:green
CALSCALE:GREGORIAN
BEGIN:VEVENT
UID:UZ_PLZ_20260302_1430_497703
DTSTAMP:20260302T143000
DTSTART:20260302T143000
DTEND:20260302T160000
SUMMARY:Przedsiębiorczość i zarządzanie jakością (P): 21IB-SP
CATEGORIES:P
LOCATION:B219 A-11
END:VEVENT
BEGIN:VEVENT
UID:UZ_PLZ_20260302_1615_497710
DTSTAMP:20260302T161500
DTSTART:20260302T161500
DTEND:20260302T174500
SUMMARY:Technika w medycynie (W): 25IB-BiBwM-SD
CATEGORIES:W
LOCATION:B311 A-11
END:VEVENT
BEGIN:VEVENT
UID:UZ_PLZ_20260304_0730_504526
DTSTAMP:20260304T073000
DTSTART:20260304T073000
DTEND:20260304T150000
SUMMARY:Dzień Otwarty WNIT (R)
CATEGORIES:R
LOCATION:H203 A-10
END:VEVENT
BEGIN:VEVENT
UID:UZ_PLZ_20260304_1100_497752
DTSTAMP:20260304T110000
DTSTART:20260304T110000
DTEND:20260304T140000
SUMMARY:Rezerwacja (R)
CATEGORIES:R
END:VEVENT
BEGIN:VEVENT
UID:UZ_PLZ_20260305_1245_497702
DTSTAMP:20260305T124500
DTSTART:20260305T124500
DTEND:20260305T141500
SUMMARY:Języki programowania II (L): 11IB-SP
CATEGORIES:L
LOCATION:B219 A-11
END:VEVENT
BEGIN:VEVENT
UID:UZ_PLZ_20260308_1245_500589
DTSTAMP:20260308T124500
DTSTART:20260308T124500
DTEND:20260308T141500
SUMMARY:Ergonomia (L): 11BHP-NP/A
CATEGORIES:L
LOCATION:B119 A-11
END:VEVENT
BEGIN:VEVENT
UID:UZ_PLZ_20260309_1430_497703
DTSTAMP:20260309T143000
DTSTART:20260309T143000
DTEND:20260309T160000
SUMMARY:Przedsiębiorczość i zarządzanie jakością (P): 21IB-SP
CATEGORIES:P
LOCATION:B219 A-11
END:VEVENT
BEGIN:VEVENT
UID:UZ_PLZ_20260309_1615_497710
DTSTAMP:20260309T161500
DTSTART:20260309T161500
DTEND:20260309T174500
SUMMARY:Technika w medycynie (W): 25IB-BiBwM-SD
CATEGORIES:W
LOCATION:B311 A-11
END:VEVENT
BEGIN:VEVENT
UID:UZ_PLZ_20260310_1430_497645
DTSTAMP:20260310T143000
DTSTART:20260310T143000
DTEND:20260310T160500
SUMMARY:Ergonomia i bezpieczeństwo pracy (W): 21IB-SP
CATEGORIES:W
LOCATION:B311 A-11
END:VEVENT
BEGIN:VEVENT
UID:UZ_PLZ_20260311_1100_497752
DTSTAMP:20260311T110000
DTSTART:20260311T110000
DTEND:20260311T140000
SUMMARY:Rezerwacja (R)
CATEGORIES:R
END:VEVENT
BEGIN:VEVENT
UID:UZ_PLZ_20260312_1245_497702
DTSTAMP:20260312T124500
DTSTART:20260312T124500
DTEND:20260312T141500
SUMMARY:Języki programowania II (L): 11IB-SP
CATEGORIES:L
LOCATION:B219 A-11
END:VEVENT
BEGIN:VEVENT
UID:UZ_PLZ_20260316_1615_497710
DTSTAMP:20260316T161500
DTSTART:20260316T161500
DTEND:20260316T174500
SUMMARY:Technika w medycynie (W): 25IB-BiBwM-SD
CATEGORIES:W
LOCATION:B311 A-11
END:VEVENT
BEGIN:VEVENT
UID:UZ_PLZ_20260318_1100_497752
DTSTAMP:20260318T110000
DTSTART:20260318T110000
DTEND:20260318T140000
SUMMARY:Rezerwacja (R)
CATEGORIES:R
END:VEVENT
BEGIN:VEVENT
UID:UZ_PLZ_20260319_1245_497702
DTSTAMP:20260319T124500
DTSTART:20260319T124500
DTEND:20260319T141500
SUMMARY:Języki programowania II (L): 11IB-SP
CATEGORIES:L
LOCATION:B219 A-11
END:VEVENT
BEGIN:VEVENT
UID:UZ_PLZ_20260322_1245_500589
DTSTAMP:20260322T124500
DTSTART:20260322T124500
DTEND:20260322T141500
SUMMARY:Ergonomia (L): 11BHP-NP/A
CATEGORIES:L
LOCATION:B108 A-11
END:VEVENT
BEGIN:VEVENT
UID:UZ_PLZ_20260322_1430_507617
DTSTAMP:20260322T143000
DTSTART:20260322T143000
DTEND:20260322T160000
SUMMARY:Ergonomia (L): 11BHP-NP/B
CATEGORIES:L
LOCATION:B108 A-11
END:VEVENT
BEGIN:VEVENT
UID:UZ_PLZ_20260323_1615_497710
DTSTAMP:20260323T161500
DTSTART:20260323T161500
DTEND:20260323T174500
SUMMARY:Technika w medycynie (W): 25IB-BiBwM-SD
CATEGORIES:W
LOCATION:B311 A-11
END:VEVENT
BEGIN:VEVENT
UID:UZ_PLZ_20260324_1430_497645
DTSTAMP:20260324T143000
DTSTART:20260324T143000
DTEND:20260324T160500
SUMMARY:Ergonomia i bezpieczeństwo pracy (W): 21IB-SP
CATEGORIES:W
LOCATION:B311 A-11
END:VEVENT
BEGIN:VEVENT
UID:UZ_PLZ_20260325_1100_497752
DTSTAMP:20260325T110000
DTSTART:20260325T110000
DTEND:20260325T140000
SUMMARY:Rezerwacja (R)
CATEGORIES:R
END:VEVENT
BEGIN:VEVENT
UID:UZ_PLZ_20260326_1245_497702
DTSTAMP:20260326T124500
DTSTART:20260326T124500
DTEND:20260326T141500
SUMMARY:Języki programowania II (L): 11IB-SP
CATEGORIES:L
LOCATION:B219 A-11
END:VEVENT
BEGIN:VEVENT
UID:UZ_PLZ_20260329_1245_500589
DTSTAMP:20260329T124500
DTSTART:20260329T124500
DTEND:20260329T141500
SUMMARY:Ergonomia (L): 11BHP-NP/A
CATEGORIES:L
LOCATION:B108 A-11
END:VEVENT
BEGIN:VEVENT
UID:UZ_PLZ_20260329_1430_507617
DTSTAMP:20260329T143000
DTSTART:20260329T143000
DTEND:20260329T160000
SUMMARY:Ergonomia (L): 11BHP-NP/B
CATEGORIES:L
LOCATION:B108 A-11
END:VEVENT
BEGIN:VEVENT
UID:UZ_PLZ_20260330_1615_497710
DTSTAMP:20260330T161500
DTSTART:20260330T161500
DTEND:20260330T174500
SUMMARY:Technika w medycynie (W): 25IB-BiBwM-SD
CATEGORIES:W
LOCATION:B311 A-11
END:VEVENT
BEGIN:VEVENT
UID:UZ_PLZ_20260401_1100_497752
DTSTAMP:20260401T110000
DTSTART:20260401T110000
DTEND:20260401T140000
SUMMARY:Rezerwacja (R)
CATEGORIES:R
END:VEVENT
BEGIN:VEVENT
UID:UZ_PLZ_20260402_1245_497702
DTSTAMP:20260402T124500
DTSTART:20260402T124500
DTEND:20260402T141500
SUMMARY:Języki programowania II (L): 11IB-SP
CATEGORIES:L
LOCATION:B219 A-11
END:VEVENT
BEGIN:VEVENT
UID:UZ_PLZ_20260408_1100_497752
DTSTAMP:20260408T110000
DTSTART:20260408T110000
DTEND:20260408T140000
SUMMARY:Rezerwacja (R)
CATEGORIES:R
END:VEVENT
BEGIN:VEVENT
UID:UZ_PLZ_20260409_1245_497702
DTSTAMP:20260409T124500
DTSTART:20260409T124500
DTEND:20260409T141500
SUMMARY:Języki programowania II (L): 11IB-SP
CATEGORIES:L
LOCATION:B219 A-11
END:VEVENT
BEGIN:VEVENT
UID:UZ_PLZ_20260412_1245_500589
DTSTAMP:20260412T124500
DTSTART:20260412T124500
DTEND:20260412T141500
SUMMARY:Ergonomia (L): 11BHP-NP/A
CATEGORIES:L
LOCATION:B108 A-11
END:VEVENT
BEGIN:VEVENT
UID:UZ_PLZ_20260412_1430_507617
DTSTAMP:20260412T143000
DTSTART:20260412T143000
DTEND:20260412T160000
SUMMARY:Ergonomia (L): 11BHP-NP/B
CATEGORIES:L
LOCATION:B108 A-11
END:VEVENT
BEGIN:VEVENT
UID:UZ_PLZ_20260413_1615_497710
DTSTAMP:20260413T161500
DTSTART:20260413T161500
DTEND:20260413T174500
SUMMARY:Technika w medycynie (W): 25IB-BiBwM-SD
CATEGORIES:W
LOCATION:B311 A-11
END:VEVENT
BEGIN:VEVENT
UID:UZ_PLZ_20260415_1100_497752
DTSTAMP:20260415T110000
DTSTART:20260415T110000
DTEND:20260415T140000
SUMMARY:Rezerwacja (R)
CATEGORIES:R
END:VEVENT
BEGIN:VEVENT
UID:UZ_PLZ_20260416_1245_497702
DTSTAMP:20260416T124500
DTSTART:20260416T124500
DTEND:20260416T141500
SUMMARY:Języki programowania II (L): 11IB-SP
CATEGORIES:L
LOCATION:B219 A-11
END:VEVENT
BEGIN:VEVENT
UID:UZ_PLZ_20260420_1430_497645
DTSTAMP:20260420T143000
DTSTART:20260420T143000
DTEND:20260420T160500
SUMMARY:Ergonomia i bezpieczeństwo pracy (W): 21IB-SP
CATEGORIES:W
LOCATION:B411 A-11
END:VEVENT
BEGIN:VEVENT
UID:UZ_PLZ_20260420_1615_497710
DTSTAMP:20260420T161500
DTSTART:20260420T161500
DTEND:20260420T174500
SUMMARY:Technika w medycynie (W): 25IB-BiBwM-SD
CATEGORIES:W
LOCATION:B311 A-11
END:VEVENT
BEGIN:VEVENT
UID:UZ_PLZ_20260422_1100_497752
DTSTAMP:20260422T110000
DTSTART:20260422T110000
DTEND:20260422T140000
SUMMARY:Rezerwacja (R)
CATEGORIES:R
END:VEVENT
BEGIN:VEVENT
UID:UZ_PLZ_20260423_1245_497702
DTSTAMP:20260423T124500
DTSTART:20260423T124500
DTEND:20260423T141500
SUMMARY:Języki programowania II (L): 11IB-SP
CATEGORIES:L
LOCATION:B219 A-11
END:VEVENT
BEGIN:VEVENT
UID:UZ_PLZ_20260426_1245_500589
DTSTAMP:20260426T124500
DTSTART:20260426T124500
DTEND:20260426T141500
SUMMARY:Ergonomia (L): 11BHP-NP/A
CATEGORIES:L
LOCATION:B411 A-11
END:VEVENT
BEGIN:VEVENT
UID:UZ_PLZ_20260426_1430_507617
DTSTAMP:20260426T143000
DTSTART:20260426T143000
DTEND:20260426T160000
SUMMARY:Ergonomia (L): 11BHP-NP/B
CATEGORIES:L
LOCATION:B411 A-11
END:VEVENT
BEGIN:VEVENT
UID:UZ_PLZ_20260427_1615_497710
DTSTAMP:20260427T161500
DTSTART:20260427T161500
DTEND:20260427T174500
SUMMARY:Technika w medycynie (W): 25IB-BiBwM-SD
CATEGORIES:W
LOCATION:B311 A-11
END:VEVENT
BEGIN:VEVENT
UID:UZ_PLZ_20260430_1245_497702
DTSTAMP:20260430T124500
DTSTART:20260430T124500
DTEND:20260430T141500
SUMMARY:Języki programowania II (L): 11IB-SP
CATEGORIES:L
LOCATION:B219 A-11
END:VEVENT
BEGIN:VEVENT
UID:UZ_PLZ_20260504_1430_497645
DTSTAMP:20260504T143000
DTSTART:20260504T143000
DTEND:20260504T160500
SUMMARY:Ergonomia i bezpieczeństwo pracy (W): 21IB-SP
CATEGORIES:W
LOCATION:B411 A-11
END:VEVENT
BEGIN:VEVENT
UID:UZ_PLZ_20260504_1615_497710
DTSTAMP:20260504T161500
DTSTART:20260504T161500
DTEND:20260504T174500
SUMMARY:Technika w medycynie (W): 25IB-BiBwM-SD
CATEGORIES:W
LOCATION:B311 A-11
END:VEVENT
BEGIN:VEVENT
UID:UZ_PLZ_20260506_1100_497752
DTSTAMP:20260506T110000
DTSTART:20260506T110000
DTEND:20260506T140000
SUMMARY:Rezerwacja (R)
CATEGORIES:R
END:VEVENT
BEGIN:VEVENT
UID:UZ_PLZ_20260507_1245_497702
DTSTAMP:20260507T124500
DTSTART:20260507T124500
DTEND:20260507T141500
SUMMARY:Języki programowania II (L): 11IB-SP
CATEGORIES:L
LOCATION:B219 A-11
END:VEVENT
BEGIN:VEVENT
UID:UZ_PLZ_20260510_1245_500589
DTSTAMP:20260510T124500
DTSTART:20260510T124500
DTEND:20260510T141500
SUMMARY:Ergonomia (L): 11BHP-NP/A
CATEGORIES:L
LOCATION:B411 A-11
END:VEVENT
BEGIN:VEVENT
UID:UZ_PLZ_20260510_1430_507617
DTSTAMP:20260510T143000
DTSTART:20260510T143000
DTEND:20260510T160000
SUMMARY:Ergonomia (L): 11BHP-NP/B
CATEGORIES:L
LOCATION:B411 A-11
END:VEVENT
BEGIN:VEVENT
UID:UZ_PLZ_20260511_1615_497710
DTSTAMP:20260511T161500
DTSTART:20260511T161500
DTEND:20260511T174500
SUMMARY:Technika w medycynie (W): 25IB-BiBwM-SD
CATEGORIES:W
LOCATION:B311 A-11
END:VEVENT
BEGIN:VEVENT
UID:UZ_PLZ_20260513_1100_497752
DTSTAMP:20260513T110000
DTSTART:20260513T110000
DTEND:20260513T140000
SUMMARY:Rezerwacja (R)
CATEGORIES:R
END:VEVENT
BEGIN:VEVENT
UID:UZ_PLZ_20260514_1245_497702
DTSTAMP:20260514T124500
DTSTART:20260514T124500
DTEND:20260514T141500
SUMMARY:Języki programowania II (L): 11IB-SP
CATEGORIES:L
LOCATION:B219 A-11
END:VEVENT
BEGIN:VEVENT
UID:UZ_PLZ_20260517_1245_500589
DTSTAMP:20260517T124500
DTSTART:20260517T124500
DTEND:20260517T141500
SUMMARY:Ergonomia (L): 11BHP-NP/A
CATEGORIES:L
LOCATION:B411 A-11
END:VEVENT
BEGIN:VEVENT
UID:UZ_PLZ_20260517_1430_507617
DTSTAMP:20260517T143000
DTSTART:20260517T143000
DTEND:20260517T160000
SUMMARY:Ergonomia (L): 11BHP-NP/B
CATEGORIES:L
LOCATION:B411 A-11
END:VEVENT
BEGIN:VEVENT
UID:UZ_PLZ_20260518_1430_497645
DTSTAMP:20260518T143000
DTSTART:20260518T143000
DTEND:20260518T160500
SUMMARY:Ergonomia i bezpieczeństwo pracy (W): 21IB-SP
CATEGORIES:W
LOCATION:B411 A-11
END:VEVENT
BEGIN:VEVENT
UID:UZ_PLZ_20260518_1615_497710
DTSTAMP:20260518T161500
DTSTART:20260518T161500
DTEND:20260518T174500
SUMMARY:Technika w medycynie (W): 25IB-BiBwM-SD
CATEGORIES:W
LOCATION:B311 A-11
END:VEVENT
BEGIN:VEVENT
UID:UZ_PLZ_20260520_1100_497752
DTSTAMP:20260520T110000
DTSTART:20260520T110000
DTEND:20260520T140000
SUMMARY:Rezerwacja (R)
CATEGORIES:R
END:VEVENT
BEGIN:VEVENT
UID:UZ_PLZ_20260521_1245_497702
DTSTAMP:20260521T124500
DTSTART:20260521T124500
DTEND:20260521T141500
SUMMARY:Języki programowania II (L): 11IB-SP
CATEGORIES:L
LOCATION:B219 A-11
END:VEVENT
BEGIN:VEVENT
UID:UZ_PLZ_20260525_1615_497710
DTSTAMP:20260525T161500
DTSTART:20260525T161500
DTEND:20260525T174500
SUMMARY:Technika w medycynie (W): 25IB-BiBwM-SD
CATEGORIES:W
LOCATION:B311 A-11
END:VEVENT
BEGIN:VEVENT
UID:UZ_PLZ_20260527_1100_497752
DTSTAMP:20260527T110000
DTSTART:20260527T110000
DTEND:20260527T140000
SUMMARY:Rezerwacja (R)
CATEGORIES:R
END:VEVENT
BEGIN:VEVENT
UID:UZ_PLZ_20260528_1245_497702
DTSTAMP:20260528T124500
DTSTART:20260528T124500
DTEND:20260528T141500
SUMMARY:Języki programowania II (L): 11IB-SP
CATEGORIES:L
LOCATION:B219 A-11
END:VEVENT
BEGIN:VEVENT
UID:UZ_PLZ_20260531_1245_500589
DTSTAMP:20260531T124500
DTSTART:20260531T124500
DTEND:20260531T141500
SUMMARY:Ergonomia (L): 11BHP-NP/A
CATEGORIES:L
LOCATION:B411 A-11
END:VEVENT
BEGIN:VEVENT
UID:UZ_PLZ_20260531_1430_507617
DTSTAMP:20260531T143000
DTSTART:20260531T143000
DTEND:20260531T160000
SUMMARY:Ergonomia (L): 11BHP-NP/B
CATEGORIES:L
LOCATION:B411 A-11
END:VEVENT
BEGIN:VEVENT
UID:UZ_PLZ_20260601_1430_497645
DTSTAMP:20260601T143000
DTSTART:20260601T143000
DTEND:20260601T160500
SUMMARY:Ergonomia i bezpieczeństwo pracy (W): 21IB-SP
CATEGORIES:W
LOCATION:B411 A-11
END:VEVENT
BEGIN:VEVENT
UID:UZ_PLZ_20260601_1615_497710
DTSTAMP:20260601T161500
DTSTART:20260601T161500
DTEND:20260601T174500
SUMMARY:Technika w medycynie (W): 25IB-BiBwM-SD
CATEGORIES:W
LOCATION:B311 A-11
END:VEVENT
BEGIN:VEVENT
UID:UZ_PLZ_20260603_1100_497752
DTSTAMP:20260603T110000
DTSTART:20260603T110000
DTEND:20260603T140000
SUMMARY:Rezerwacja (R)
CATEGORIES:R
END:VEVENT
BEGIN:VEVENT
UID:UZ_PLZ_20260608_1615_497710
DTSTAMP:20260608T161500
DTSTART:20260608T161500
DTEND:20260608T174500
SUMMARY:Technika w medycynie (W): 25IB-BiBwM-SD
CATEGORIES:W
LOCATION:B311 A-11
END:VEVENT
BEGIN:VEVENT
UID:UZ_PLZ_20260610_1100_497752
DTSTAMP:20260610T110000
DTSTART:20260610T110000
DTEND:20260610T140000
SUMMARY:Rezerwacja (R)
CATEGORIES:R
END:VEVENT
BEGIN:VEVENT
UID:UZ_PLZ_20260611_1245_497702
DTSTAMP:20260611T124500
DTSTART:20260611T124500
DTEND:20260611T141500
SUMMARY:Języki programowania II (L): 11IB-SP
CATEGORIES:L
LOCATION:B219 A-11
END:VEVENT
BEGIN:VEVENT
UID:UZ_PLZ_20260614_1245_500589
DTSTAMP:20260614T124500
DTSTART:20260614T124500
DTEND:20260614T141500
SUMMARY:Ergonomia (L): 11BHP-NP/A
CATEGORIES:L
LOCATION:B411 A-11
END:VEVENT
BEGIN:VEVENT
UID:UZ_PLZ_20260614_1430_507617
DTSTAMP:20260614T143000
DTSTART:20260614T143000
DTEND:20260614T160000
SUMMARY:Ergonomia (L): 11BHP-NP/B
CATEGORIES:L
LOCATION:B411 A-11
END:VEVENT
BEGIN:VEVENT
UID:UZ_PLZ_20260615_1430_497645
DTSTAMP:20260615T143000
DTSTART:20260615T143000
DTEND:20260615T160500
SUMMARY:Ergonomia i bezpieczeństwo pracy (W): 21IB-SP
CATEGORIES:W
LOCATION:B411 A-11
END:VEVENT
BEGIN:VEVENT
UID:UZ_PLZ_20260615_1615_497710
DTSTAMP:20260615T161500
DTSTART:20260615T161500
DTEND:20260615T174500
SUMMARY:Technika w medycynie (W): 25IB-BiBwM-SD
CATEGORIES:W
LOCATION:B311 A-11
END:VEVENT
BEGIN:VEVENT
UID:UZ_PLZ_20260617_1100_497752
DTSTAMP:20260617T110000
DTSTART:20260617T110000
DTEND:20260617T140000
SUMMARY:Rezerwacja (R)
CATEGORIES:R
END:VEVENT
BEGIN:VEVENT
UID:UZ_PLZ_20260618_1245_497702
DTSTAMP:20260618T124500
DTSTART:20260618T124500
DTEND:20260618T141500
SUMMARY:Języki programowania II (L): 11IB-SP
CATEGORIES:L
LOCATION:B219 A-11
END:VEVENT
END:VCALENDAR
