BEGIN:VCALENDAR
TZID:Europe/Warsaw
X-WR-TIMEZONE:Europe/Warsaw
VERSION:2.0
PRODID:-//Uniwersytet Zielonogórski//NONSGML Plan zajęć v1.0//EN
NAME:Plan zajęć - semestr letni 2025/2026
X-WR-CALNAME:Plan zajęć - semestr letni 2025/2026
COLOR:green
CALSCALE:GREGORIAN
BEGIN:VEVENT
UID:UZ_PLZ_20260302_1300_503644
DTSTAMP:20260302T130000
DTSTART:20260302T130000
DTEND:20260302T142500
SUMMARY:Podstawy prawa żywnościowego (W): 21ŻCiD-SP 24/25
CATEGORIES:W
LOCATION:118 A-8
END:VEVENT
BEGIN:VEVENT
UID:UZ_PLZ_20260304_1245_494951
DTSTAMP:20260304T124500
DTSTART:20260304T124500
DTEND:20260304T141500
SUMMARY:Systemy usług prawniczych (Legal management) (K): 12PR-SM 25/26
CATEGORIES:K
LOCATION:104 A-41
END:VEVENT
BEGIN:VEVENT
UID:UZ_PLZ_20260305_0915_494907
DTSTAMP:20260305T091500
DTSTART:20260305T091500
DTEND:20260305T104500
SUMMARY:Systemy usług prawniczych (Legal management) (K): 11PR-SM 25/26
CATEGORIES:K
LOCATION:010 A-41
END:VEVENT
BEGIN:VEVENT
UID:UZ_PLZ_20260305_1100_494864
DTSTAMP:20260305T110000
DTSTART:20260305T110000
DTEND:20260305T123000
SUMMARY:Systemy usług prawniczych (Legal management) (K): 14PR-SM 25/26
CATEGORIES:K
LOCATION:203 A-41
END:VEVENT
BEGIN:VEVENT
UID:UZ_PLZ_20260305_1245_494935
DTSTAMP:20260305T124500
DTSTART:20260305T124500
DTEND:20260305T141500
SUMMARY:Systemy usług prawniczych (Legal management) (K): 13PR-SM 25/26
CATEGORIES:K
LOCATION:203 A-41
END:VEVENT
BEGIN:VEVENT
UID:UZ_PLZ_20260311_1115_507266
DTSTAMP:20260311T111500
DTSTART:20260311T111500
DTEND:20260311T120000
SUMMARY:Konsultacje (I)
CATEGORIES:I
LOCATION:17 A-20
END:VEVENT
BEGIN:VEVENT
UID:UZ_PLZ_20260311_1245_494951
DTSTAMP:20260311T124500
DTSTART:20260311T124500
DTEND:20260311T141500
SUMMARY:Systemy usług prawniczych (Legal management) (K): 12PR-SM 25/26
CATEGORIES:K
LOCATION:104 A-41
END:VEVENT
BEGIN:VEVENT
UID:UZ_PLZ_20260312_0915_494907
DTSTAMP:20260312T091500
DTSTART:20260312T091500
DTEND:20260312T104500
SUMMARY:Systemy usług prawniczych (Legal management) (K): 11PR-SM 25/26
CATEGORIES:K
LOCATION:010 A-41
END:VEVENT
BEGIN:VEVENT
UID:UZ_PLZ_20260312_1100_494864
DTSTAMP:20260312T110000
DTSTART:20260312T110000
DTEND:20260312T123000
SUMMARY:Systemy usług prawniczych (Legal management) (K): 14PR-SM 25/26
CATEGORIES:K
LOCATION:203 A-41
END:VEVENT
BEGIN:VEVENT
UID:UZ_PLZ_20260312_1245_494935
DTSTAMP:20260312T124500
DTSTART:20260312T124500
DTEND:20260312T141500
SUMMARY:Systemy usług prawniczych (Legal management) (K): 13PR-SM 25/26
CATEGORIES:K
LOCATION:203 A-41
END:VEVENT
BEGIN:VEVENT
UID:UZ_PLZ_20260314_1100_494665
DTSTAMP:20260314T110000
DTSTART:20260314T110000
DTEND:20260314T123000
SUMMARY:Europejskie standardy państwa prawa (W): 11ADM-NP 25/26
CATEGORIES:W
LOCATION:104 A-41
END:VEVENT
BEGIN:VEVENT
UID:UZ_PLZ_20260314_1245_494734
DTSTAMP:20260314T124500
DTSTART:20260314T124500
DTEND:20260314T141500
SUMMARY:Systemy usług prawniczych (Legal management) (K): 11PR-NM 25/26
CATEGORIES:K
LOCATION:202 A-41
END:VEVENT
BEGIN:VEVENT
UID:UZ_PLZ_20260316_1300_503644
DTSTAMP:20260316T130000
DTSTART:20260316T130000
DTEND:20260316T142500
SUMMARY:Podstawy prawa żywnościowego (W): 21ŻCiD-SP 24/25
CATEGORIES:W
LOCATION:118 A-8
END:VEVENT
BEGIN:VEVENT
UID:UZ_PLZ_20260318_1115_507266
DTSTAMP:20260318T111500
DTSTART:20260318T111500
DTEND:20260318T120000
SUMMARY:Konsultacje (I)
CATEGORIES:I
LOCATION:17 A-20
END:VEVENT
BEGIN:VEVENT
UID:UZ_PLZ_20260318_1245_494951
DTSTAMP:20260318T124500
DTSTART:20260318T124500
DTEND:20260318T141500
SUMMARY:Systemy usług prawniczych (Legal management) (K): 12PR-SM 25/26
CATEGORIES:K
LOCATION:104 A-41
END:VEVENT
BEGIN:VEVENT
UID:UZ_PLZ_20260319_0915_494907
DTSTAMP:20260319T091500
DTSTART:20260319T091500
DTEND:20260319T104500
SUMMARY:Systemy usług prawniczych (Legal management) (K): 11PR-SM 25/26
CATEGORIES:K
LOCATION:010 A-41
END:VEVENT
BEGIN:VEVENT
UID:UZ_PLZ_20260319_1100_494864
DTSTAMP:20260319T110000
DTSTART:20260319T110000
DTEND:20260319T123000
SUMMARY:Systemy usług prawniczych (Legal management) (K): 14PR-SM 25/26
CATEGORIES:K
LOCATION:203 A-41
END:VEVENT
BEGIN:VEVENT
UID:UZ_PLZ_20260319_1245_494935
DTSTAMP:20260319T124500
DTSTART:20260319T124500
DTEND:20260319T141500
SUMMARY:Systemy usług prawniczych (Legal management) (K): 13PR-SM 25/26
CATEGORIES:K
LOCATION:203 A-41
END:VEVENT
BEGIN:VEVENT
UID:UZ_PLZ_20260325_1115_507266
DTSTAMP:20260325T111500
DTSTART:20260325T111500
DTEND:20260325T120000
SUMMARY:Konsultacje (I)
CATEGORIES:I
LOCATION:17 A-20
END:VEVENT
BEGIN:VEVENT
UID:UZ_PLZ_20260325_1245_494951
DTSTAMP:20260325T124500
DTSTART:20260325T124500
DTEND:20260325T141500
SUMMARY:Systemy usług prawniczych (Legal management) (K): 12PR-SM 25/26
CATEGORIES:K
LOCATION:104 A-41
END:VEVENT
BEGIN:VEVENT
UID:UZ_PLZ_20260326_0915_494907
DTSTAMP:20260326T091500
DTSTART:20260326T091500
DTEND:20260326T104500
SUMMARY:Systemy usług prawniczych (Legal management) (K): 11PR-SM 25/26
CATEGORIES:K
LOCATION:010 A-41
END:VEVENT
BEGIN:VEVENT
UID:UZ_PLZ_20260326_1100_494864
DTSTAMP:20260326T110000
DTSTART:20260326T110000
DTEND:20260326T123000
SUMMARY:Systemy usług prawniczych (Legal management) (K): 14PR-SM 25/26
CATEGORIES:K
LOCATION:203 A-41
END:VEVENT
BEGIN:VEVENT
UID:UZ_PLZ_20260326_1245_494935
DTSTAMP:20260326T124500
DTSTART:20260326T124500
DTEND:20260326T141500
SUMMARY:Systemy usług prawniczych (Legal management) (K): 13PR-SM 25/26
CATEGORIES:K
LOCATION:203 A-41
END:VEVENT
BEGIN:VEVENT
UID:UZ_PLZ_20260328_0800_503691
DTSTAMP:20260328T080000
DTSTART:20260328T080000
DTEND:20260328T101500
SUMMARY:Podstawy prawa żywnościowego (W): 21ŻCiD-NP 24/25
CATEGORIES:W
LOCATION:118 A-8
END:VEVENT
BEGIN:VEVENT
UID:UZ_PLZ_20260328_1100_494665
DTSTAMP:20260328T110000
DTSTART:20260328T110000
DTEND:20260328T123000
SUMMARY:Europejskie standardy państwa prawa (W): 11ADM-NP 25/26
CATEGORIES:W
LOCATION:104 A-41
END:VEVENT
BEGIN:VEVENT
UID:UZ_PLZ_20260328_1245_494734
DTSTAMP:20260328T124500
DTSTART:20260328T124500
DTEND:20260328T141500
SUMMARY:Systemy usług prawniczych (Legal management) (K): 11PR-NM 25/26
CATEGORIES:K
LOCATION:202 A-41
END:VEVENT
BEGIN:VEVENT
UID:UZ_PLZ_20260328_1430_507518
DTSTAMP:20260328T143000
DTSTART:20260328T143000
DTEND:20260328T151500
SUMMARY:Konsultacje (I)
CATEGORIES:I
LOCATION:17 A-20
END:VEVENT
BEGIN:VEVENT
UID:UZ_PLZ_20260330_1300_503644
DTSTAMP:20260330T130000
DTSTART:20260330T130000
DTEND:20260330T142500
SUMMARY:Podstawy prawa żywnościowego (W): 21ŻCiD-SP 24/25
CATEGORIES:W
LOCATION:118 A-8
END:VEVENT
BEGIN:VEVENT
UID:UZ_PLZ_20260331_1430_494951
DTSTAMP:20260331T143000
DTSTART:20260331T143000
DTEND:20260331T160000
SUMMARY:Systemy usług prawniczych (Legal management) (K): 12PR-SM 25/26
CATEGORIES:K
LOCATION:105 A-41
END:VEVENT
BEGIN:VEVENT
UID:UZ_PLZ_20260401_1115_507266
DTSTAMP:20260401T111500
DTSTART:20260401T111500
DTEND:20260401T120000
SUMMARY:Konsultacje (I)
CATEGORIES:I
LOCATION:17 A-20
END:VEVENT
BEGIN:VEVENT
UID:UZ_PLZ_20260402_0915_494907
DTSTAMP:20260402T091500
DTSTART:20260402T091500
DTEND:20260402T104500
SUMMARY:Systemy usług prawniczych (Legal management) (K): 11PR-SM 25/26
CATEGORIES:K
LOCATION:010 A-41
END:VEVENT
BEGIN:VEVENT
UID:UZ_PLZ_20260402_1100_494864
DTSTAMP:20260402T110000
DTSTART:20260402T110000
DTEND:20260402T123000
SUMMARY:Systemy usług prawniczych (Legal management) (K): 14PR-SM 25/26
CATEGORIES:K
LOCATION:203 A-41
END:VEVENT
BEGIN:VEVENT
UID:UZ_PLZ_20260402_1245_494935
DTSTAMP:20260402T124500
DTSTART:20260402T124500
DTEND:20260402T141500
SUMMARY:Systemy usług prawniczych (Legal management) (K): 13PR-SM 25/26
CATEGORIES:K
LOCATION:203 A-41
END:VEVENT
BEGIN:VEVENT
UID:UZ_PLZ_20260408_1115_507266
DTSTAMP:20260408T111500
DTSTART:20260408T111500
DTEND:20260408T120000
SUMMARY:Konsultacje (I)
CATEGORIES:I
LOCATION:17 A-20
END:VEVENT
BEGIN:VEVENT
UID:UZ_PLZ_20260408_1245_494951
DTSTAMP:20260408T124500
DTSTART:20260408T124500
DTEND:20260408T141500
SUMMARY:Systemy usług prawniczych (Legal management) (K): 12PR-SM 25/26
CATEGORIES:K
LOCATION:104 A-41
END:VEVENT
BEGIN:VEVENT
UID:UZ_PLZ_20260409_0915_494907
DTSTAMP:20260409T091500
DTSTART:20260409T091500
DTEND:20260409T104500
SUMMARY:Systemy usług prawniczych (Legal management) (K): 11PR-SM 25/26
CATEGORIES:K
LOCATION:010 A-41
END:VEVENT
BEGIN:VEVENT
UID:UZ_PLZ_20260409_1100_494864
DTSTAMP:20260409T110000
DTSTART:20260409T110000
DTEND:20260409T123000
SUMMARY:Systemy usług prawniczych (Legal management) (K): 14PR-SM 25/26
CATEGORIES:K
LOCATION:203 A-41
END:VEVENT
BEGIN:VEVENT
UID:UZ_PLZ_20260409_1245_494935
DTSTAMP:20260409T124500
DTSTART:20260409T124500
DTEND:20260409T141500
SUMMARY:Systemy usług prawniczych (Legal management) (K): 13PR-SM 25/26
CATEGORIES:K
LOCATION:203 A-41
END:VEVENT
BEGIN:VEVENT
UID:UZ_PLZ_20260411_1100_494665
DTSTAMP:20260411T110000
DTSTART:20260411T110000
DTEND:20260411T123000
SUMMARY:Europejskie standardy państwa prawa (W): 11ADM-NP 25/26
CATEGORIES:W
LOCATION:104 A-41
END:VEVENT
BEGIN:VEVENT
UID:UZ_PLZ_20260411_1245_494734
DTSTAMP:20260411T124500
DTSTART:20260411T124500
DTEND:20260411T141500
SUMMARY:Systemy usług prawniczych (Legal management) (K): 11PR-NM 25/26
CATEGORIES:K
LOCATION:202 A-41
END:VEVENT
BEGIN:VEVENT
UID:UZ_PLZ_20260411_1430_494734
DTSTAMP:20260411T143000
DTSTART:20260411T143000
DTEND:20260411T160000
SUMMARY:Systemy usług prawniczych (Legal management) (K): 11PR-NM 25/26
CATEGORIES:K
LOCATION:104 A-41
END:VEVENT
BEGIN:VEVENT
UID:UZ_PLZ_20260411_1615_494665
DTSTAMP:20260411T161500
DTSTART:20260411T161500
DTEND:20260411T174500
SUMMARY:Europejskie standardy państwa prawa (W): 11ADM-NP 25/26
CATEGORIES:W
LOCATION:104 A-41
END:VEVENT
BEGIN:VEVENT
UID:UZ_PLZ_20260411_1800_507518
DTSTAMP:20260411T180000
DTSTART:20260411T180000
DTEND:20260411T184500
SUMMARY:Konsultacje (I)
CATEGORIES:I
LOCATION:17 A-20
END:VEVENT
BEGIN:VEVENT
UID:UZ_PLZ_20260413_1300_503644
DTSTAMP:20260413T130000
DTSTART:20260413T130000
DTEND:20260413T142500
SUMMARY:Podstawy prawa żywnościowego (W): 21ŻCiD-SP 24/25
CATEGORIES:W
LOCATION:118 A-8
END:VEVENT
BEGIN:VEVENT
UID:UZ_PLZ_20260415_1115_507266
DTSTAMP:20260415T111500
DTSTART:20260415T111500
DTEND:20260415T120000
SUMMARY:Konsultacje (I)
CATEGORIES:I
LOCATION:17 A-20
END:VEVENT
BEGIN:VEVENT
UID:UZ_PLZ_20260415_1245_494951
DTSTAMP:20260415T124500
DTSTART:20260415T124500
DTEND:20260415T141500
SUMMARY:Systemy usług prawniczych (Legal management) (K): 12PR-SM 25/26
CATEGORIES:K
LOCATION:104 A-41
END:VEVENT
BEGIN:VEVENT
UID:UZ_PLZ_20260416_0915_494907
DTSTAMP:20260416T091500
DTSTART:20260416T091500
DTEND:20260416T104500
SUMMARY:Systemy usług prawniczych (Legal management) (K): 11PR-SM 25/26
CATEGORIES:K
LOCATION:010 A-41
END:VEVENT
BEGIN:VEVENT
UID:UZ_PLZ_20260416_1100_494864
DTSTAMP:20260416T110000
DTSTART:20260416T110000
DTEND:20260416T123000
SUMMARY:Systemy usług prawniczych (Legal management) (K): 14PR-SM 25/26
CATEGORIES:K
LOCATION:203 A-41
END:VEVENT
BEGIN:VEVENT
UID:UZ_PLZ_20260416_1245_494935
DTSTAMP:20260416T124500
DTSTART:20260416T124500
DTEND:20260416T141500
SUMMARY:Systemy usług prawniczych (Legal management) (K): 13PR-SM 25/26
CATEGORIES:K
LOCATION:203 A-41
END:VEVENT
BEGIN:VEVENT
UID:UZ_PLZ_20260422_1115_507266
DTSTAMP:20260422T111500
DTSTART:20260422T111500
DTEND:20260422T120000
SUMMARY:Konsultacje (I)
CATEGORIES:I
LOCATION:17 A-20
END:VEVENT
BEGIN:VEVENT
UID:UZ_PLZ_20260422_1245_494951
DTSTAMP:20260422T124500
DTSTART:20260422T124500
DTEND:20260422T141500
SUMMARY:Systemy usług prawniczych (Legal management) (K): 12PR-SM 25/26
CATEGORIES:K
LOCATION:104 A-41
END:VEVENT
BEGIN:VEVENT
UID:UZ_PLZ_20260423_0915_494907
DTSTAMP:20260423T091500
DTSTART:20260423T091500
DTEND:20260423T104500
SUMMARY:Systemy usług prawniczych (Legal management) (K): 11PR-SM 25/26
CATEGORIES:K
LOCATION:010 A-41
END:VEVENT
BEGIN:VEVENT
UID:UZ_PLZ_20260423_1100_494864
DTSTAMP:20260423T110000
DTSTART:20260423T110000
DTEND:20260423T123000
SUMMARY:Systemy usług prawniczych (Legal management) (K): 14PR-SM 25/26
CATEGORIES:K
LOCATION:203 A-41
END:VEVENT
BEGIN:VEVENT
UID:UZ_PLZ_20260423_1245_494935
DTSTAMP:20260423T124500
DTSTART:20260423T124500
DTEND:20260423T141500
SUMMARY:Systemy usług prawniczych (Legal management) (K): 13PR-SM 25/26
CATEGORIES:K
LOCATION:203 A-41
END:VEVENT
BEGIN:VEVENT
UID:UZ_PLZ_20260425_0800_503691
DTSTAMP:20260425T080000
DTSTART:20260425T080000
DTEND:20260425T101500
SUMMARY:Podstawy prawa żywnościowego (W): 21ŻCiD-NP 24/25
CATEGORIES:W
LOCATION:118 A-8
END:VEVENT
BEGIN:VEVENT
UID:UZ_PLZ_20260425_1100_494665
DTSTAMP:20260425T110000
DTSTART:20260425T110000
DTEND:20260425T123000
SUMMARY:Europejskie standardy państwa prawa (W): 11ADM-NP 25/26
CATEGORIES:W
LOCATION:104 A-41
END:VEVENT
BEGIN:VEVENT
UID:UZ_PLZ_20260425_1245_494734
DTSTAMP:20260425T124500
DTSTART:20260425T124500
DTEND:20260425T141500
SUMMARY:Systemy usług prawniczych (Legal management) (K): 11PR-NM 25/26
CATEGORIES:K
LOCATION:202 A-41
END:VEVENT
BEGIN:VEVENT
UID:UZ_PLZ_20260425_1430_507518
DTSTAMP:20260425T143000
DTSTART:20260425T143000
DTEND:20260425T151500
SUMMARY:Konsultacje (I)
CATEGORIES:I
LOCATION:17 A-20
END:VEVENT
BEGIN:VEVENT
UID:UZ_PLZ_20260427_1300_503644
DTSTAMP:20260427T130000
DTSTART:20260427T130000
DTEND:20260427T142500
SUMMARY:Podstawy prawa żywnościowego (W): 21ŻCiD-SP 24/25
CATEGORIES:W
LOCATION:118 A-8
END:VEVENT
BEGIN:VEVENT
UID:UZ_PLZ_20260430_0915_494907
DTSTAMP:20260430T091500
DTSTART:20260430T091500
DTEND:20260430T104500
SUMMARY:Systemy usług prawniczych (Legal management) (K): 11PR-SM 25/26
CATEGORIES:K
LOCATION:010 A-41
END:VEVENT
BEGIN:VEVENT
UID:UZ_PLZ_20260430_1100_494864
DTSTAMP:20260430T110000
DTSTART:20260430T110000
DTEND:20260430T123000
SUMMARY:Systemy usług prawniczych (Legal management) (K): 14PR-SM 25/26
CATEGORIES:K
LOCATION:203 A-41
END:VEVENT
BEGIN:VEVENT
UID:UZ_PLZ_20260430_1245_494935
DTSTAMP:20260430T124500
DTSTART:20260430T124500
DTEND:20260430T141500
SUMMARY:Systemy usług prawniczych (Legal management) (K): 13PR-SM 25/26
CATEGORIES:K
LOCATION:203 A-41
END:VEVENT
BEGIN:VEVENT
UID:UZ_PLZ_20260506_1115_507266
DTSTAMP:20260506T111500
DTSTART:20260506T111500
DTEND:20260506T120000
SUMMARY:Konsultacje (I)
CATEGORIES:I
LOCATION:17 A-20
END:VEVENT
BEGIN:VEVENT
UID:UZ_PLZ_20260506_1245_494951
DTSTAMP:20260506T124500
DTSTART:20260506T124500
DTEND:20260506T141500
SUMMARY:Systemy usług prawniczych (Legal management) (K): 12PR-SM 25/26
CATEGORIES:K
LOCATION:104 A-41
END:VEVENT
BEGIN:VEVENT
UID:UZ_PLZ_20260507_0915_494907
DTSTAMP:20260507T091500
DTSTART:20260507T091500
DTEND:20260507T104500
SUMMARY:Systemy usług prawniczych (Legal management) (K): 11PR-SM 25/26
CATEGORIES:K
LOCATION:010 A-41
END:VEVENT
BEGIN:VEVENT
UID:UZ_PLZ_20260507_1100_494864
DTSTAMP:20260507T110000
DTSTART:20260507T110000
DTEND:20260507T123000
SUMMARY:Systemy usług prawniczych (Legal management) (K): 14PR-SM 25/26
CATEGORIES:K
LOCATION:203 A-41
END:VEVENT
BEGIN:VEVENT
UID:UZ_PLZ_20260507_1245_494935
DTSTAMP:20260507T124500
DTSTART:20260507T124500
DTEND:20260507T141500
SUMMARY:Systemy usług prawniczych (Legal management) (K): 13PR-SM 25/26
CATEGORIES:K
LOCATION:203 A-41
END:VEVENT
BEGIN:VEVENT
UID:UZ_PLZ_20260509_0800_503691
DTSTAMP:20260509T080000
DTSTART:20260509T080000
DTEND:20260509T101500
SUMMARY:Podstawy prawa żywnościowego (W): 21ŻCiD-NP 24/25
CATEGORIES:W
LOCATION:118 A-8
END:VEVENT
BEGIN:VEVENT
UID:UZ_PLZ_20260509_1100_494665
DTSTAMP:20260509T110000
DTSTART:20260509T110000
DTEND:20260509T123000
SUMMARY:Europejskie standardy państwa prawa (W): 11ADM-NP 25/26
CATEGORIES:W
LOCATION:104 A-41
END:VEVENT
BEGIN:VEVENT
UID:UZ_PLZ_20260509_1245_494734
DTSTAMP:20260509T124500
DTSTART:20260509T124500
DTEND:20260509T141500
SUMMARY:Systemy usług prawniczych (Legal management) (K): 11PR-NM 25/26
CATEGORIES:K
LOCATION:202 A-41
END:VEVENT
BEGIN:VEVENT
UID:UZ_PLZ_20260509_1430_507518
DTSTAMP:20260509T143000
DTSTART:20260509T143000
DTEND:20260509T151500
SUMMARY:Konsultacje (I)
CATEGORIES:I
LOCATION:17 A-20
END:VEVENT
BEGIN:VEVENT
UID:UZ_PLZ_20260511_1300_503644
DTSTAMP:20260511T130000
DTSTART:20260511T130000
DTEND:20260511T142500
SUMMARY:Podstawy prawa żywnościowego (W): 21ŻCiD-SP 24/25
CATEGORIES:W
LOCATION:118 A-8
END:VEVENT
BEGIN:VEVENT
UID:UZ_PLZ_20260513_1115_507266
DTSTAMP:20260513T111500
DTSTART:20260513T111500
DTEND:20260513T120000
SUMMARY:Konsultacje (I)
CATEGORIES:I
LOCATION:17 A-20
END:VEVENT
BEGIN:VEVENT
UID:UZ_PLZ_20260513_1245_494951
DTSTAMP:20260513T124500
DTSTART:20260513T124500
DTEND:20260513T141500
SUMMARY:Systemy usług prawniczych (Legal management) (K): 12PR-SM 25/26
CATEGORIES:K
LOCATION:104 A-41
END:VEVENT
BEGIN:VEVENT
UID:UZ_PLZ_20260514_0915_494907
DTSTAMP:20260514T091500
DTSTART:20260514T091500
DTEND:20260514T104500
SUMMARY:Systemy usług prawniczych (Legal management) (K): 11PR-SM 25/26
CATEGORIES:K
LOCATION:010 A-41
END:VEVENT
BEGIN:VEVENT
UID:UZ_PLZ_20260514_1100_494864
DTSTAMP:20260514T110000
DTSTART:20260514T110000
DTEND:20260514T123000
SUMMARY:Systemy usług prawniczych (Legal management) (K): 14PR-SM 25/26
CATEGORIES:K
LOCATION:203 A-41
END:VEVENT
BEGIN:VEVENT
UID:UZ_PLZ_20260514_1245_494935
DTSTAMP:20260514T124500
DTSTART:20260514T124500
DTEND:20260514T141500
SUMMARY:Systemy usług prawniczych (Legal management) (K): 13PR-SM 25/26
CATEGORIES:K
LOCATION:203 A-41
END:VEVENT
BEGIN:VEVENT
UID:UZ_PLZ_20260516_1100_494665
DTSTAMP:20260516T110000
DTSTART:20260516T110000
DTEND:20260516T123000
SUMMARY:Europejskie standardy państwa prawa (W): 11ADM-NP 25/26
CATEGORIES:W
LOCATION:104 A-41
END:VEVENT
BEGIN:VEVENT
UID:UZ_PLZ_20260516_1245_494734
DTSTAMP:20260516T124500
DTSTART:20260516T124500
DTEND:20260516T141500
SUMMARY:Systemy usług prawniczych (Legal management) (K): 11PR-NM 25/26
CATEGORIES:K
LOCATION:202 A-41
END:VEVENT
BEGIN:VEVENT
UID:UZ_PLZ_20260516_1430_507518
DTSTAMP:20260516T143000
DTSTART:20260516T143000
DTEND:20260516T151500
SUMMARY:Konsultacje (I)
CATEGORIES:I
LOCATION:17 A-20
END:VEVENT
BEGIN:VEVENT
UID:UZ_PLZ_20260520_1115_507266
DTSTAMP:20260520T111500
DTSTART:20260520T111500
DTEND:20260520T120000
SUMMARY:Konsultacje (I)
CATEGORIES:I
LOCATION:17 A-20
END:VEVENT
BEGIN:VEVENT
UID:UZ_PLZ_20260520_1245_494951
DTSTAMP:20260520T124500
DTSTART:20260520T124500
DTEND:20260520T141500
SUMMARY:Systemy usług prawniczych (Legal management) (K): 12PR-SM 25/26
CATEGORIES:K
LOCATION:104 A-41
END:VEVENT
BEGIN:VEVENT
UID:UZ_PLZ_20260521_0915_494907
DTSTAMP:20260521T091500
DTSTART:20260521T091500
DTEND:20260521T104500
SUMMARY:Systemy usług prawniczych (Legal management) (K): 11PR-SM 25/26
CATEGORIES:K
LOCATION:010 A-41
END:VEVENT
BEGIN:VEVENT
UID:UZ_PLZ_20260521_1100_494864
DTSTAMP:20260521T110000
DTSTART:20260521T110000
DTEND:20260521T123000
SUMMARY:Systemy usług prawniczych (Legal management) (K): 14PR-SM 25/26
CATEGORIES:K
LOCATION:203 A-41
END:VEVENT
BEGIN:VEVENT
UID:UZ_PLZ_20260521_1245_494935
DTSTAMP:20260521T124500
DTSTART:20260521T124500
DTEND:20260521T141500
SUMMARY:Systemy usług prawniczych (Legal management) (K): 13PR-SM 25/26
CATEGORIES:K
LOCATION:203 A-41
END:VEVENT
BEGIN:VEVENT
UID:UZ_PLZ_20260525_1300_503644
DTSTAMP:20260525T130000
DTSTART:20260525T130000
DTEND:20260525T142500
SUMMARY:Podstawy prawa żywnościowego (W): 21ŻCiD-SP 24/25
CATEGORIES:W
LOCATION:118 A-8
END:VEVENT
BEGIN:VEVENT
UID:UZ_PLZ_20260527_1115_507266
DTSTAMP:20260527T111500
DTSTART:20260527T111500
DTEND:20260527T120000
SUMMARY:Konsultacje (I)
CATEGORIES:I
LOCATION:17 A-20
END:VEVENT
BEGIN:VEVENT
UID:UZ_PLZ_20260527_1245_494951
DTSTAMP:20260527T124500
DTSTART:20260527T124500
DTEND:20260527T141500
SUMMARY:Systemy usług prawniczych (Legal management) (K): 12PR-SM 25/26
CATEGORIES:K
LOCATION:104 A-41
END:VEVENT
BEGIN:VEVENT
UID:UZ_PLZ_20260528_0915_494907
DTSTAMP:20260528T091500
DTSTART:20260528T091500
DTEND:20260528T104500
SUMMARY:Systemy usług prawniczych (Legal management) (K): 11PR-SM 25/26
CATEGORIES:K
LOCATION:010 A-41
END:VEVENT
BEGIN:VEVENT
UID:UZ_PLZ_20260528_1100_494864
DTSTAMP:20260528T110000
DTSTART:20260528T110000
DTEND:20260528T123000
SUMMARY:Systemy usług prawniczych (Legal management) (K): 14PR-SM 25/26
CATEGORIES:K
LOCATION:203 A-41
END:VEVENT
BEGIN:VEVENT
UID:UZ_PLZ_20260528_1245_494935
DTSTAMP:20260528T124500
DTSTART:20260528T124500
DTEND:20260528T141500
SUMMARY:Systemy usług prawniczych (Legal management) (K): 13PR-SM 25/26
CATEGORIES:K
LOCATION:203 A-41
END:VEVENT
BEGIN:VEVENT
UID:UZ_PLZ_20260530_1100_494665
DTSTAMP:20260530T110000
DTSTART:20260530T110000
DTEND:20260530T123000
SUMMARY:Europejskie standardy państwa prawa (W): 11ADM-NP 25/26
CATEGORIES:W
LOCATION:104 A-41
END:VEVENT
BEGIN:VEVENT
UID:UZ_PLZ_20260530_1245_494734
DTSTAMP:20260530T124500
DTSTART:20260530T124500
DTEND:20260530T141500
SUMMARY:Systemy usług prawniczych (Legal management) (K): 11PR-NM 25/26
CATEGORIES:K
LOCATION:202 A-41
END:VEVENT
BEGIN:VEVENT
UID:UZ_PLZ_20260530_1430_507518
DTSTAMP:20260530T143000
DTSTART:20260530T143000
DTEND:20260530T151500
SUMMARY:Konsultacje (I)
CATEGORIES:I
LOCATION:17 A-20
END:VEVENT
BEGIN:VEVENT
UID:UZ_PLZ_20260603_1115_507266
DTSTAMP:20260603T111500
DTSTART:20260603T111500
DTEND:20260603T120000
SUMMARY:Konsultacje (I)
CATEGORIES:I
LOCATION:17 A-20
END:VEVENT
BEGIN:VEVENT
UID:UZ_PLZ_20260603_1245_494951
DTSTAMP:20260603T124500
DTSTART:20260603T124500
DTEND:20260603T141500
SUMMARY:Systemy usług prawniczych (Legal management) (K): 12PR-SM 25/26
CATEGORIES:K
LOCATION:104 A-41
END:VEVENT
BEGIN:VEVENT
UID:UZ_PLZ_20260608_1300_503644
DTSTAMP:20260608T130000
DTSTART:20260608T130000
DTEND:20260608T142500
SUMMARY:Podstawy prawa żywnościowego (W): 21ŻCiD-SP 24/25
CATEGORIES:W
LOCATION:118 A-8
END:VEVENT
BEGIN:VEVENT
UID:UZ_PLZ_20260610_1115_507266
DTSTAMP:20260610T111500
DTSTART:20260610T111500
DTEND:20260610T120000
SUMMARY:Konsultacje (I)
CATEGORIES:I
LOCATION:17 A-20
END:VEVENT
BEGIN:VEVENT
UID:UZ_PLZ_20260610_1245_494951
DTSTAMP:20260610T124500
DTSTART:20260610T124500
DTEND:20260610T141500
SUMMARY:Systemy usług prawniczych (Legal management) (K): 12PR-SM 25/26
CATEGORIES:K
LOCATION:104 A-41
END:VEVENT
BEGIN:VEVENT
UID:UZ_PLZ_20260611_0915_494907
DTSTAMP:20260611T091500
DTSTART:20260611T091500
DTEND:20260611T104500
SUMMARY:Systemy usług prawniczych (Legal management) (K): 11PR-SM 25/26
CATEGORIES:K
LOCATION:010 A-41
END:VEVENT
BEGIN:VEVENT
UID:UZ_PLZ_20260611_1100_494864
DTSTAMP:20260611T110000
DTSTART:20260611T110000
DTEND:20260611T123000
SUMMARY:Systemy usług prawniczych (Legal management) (K): 14PR-SM 25/26
CATEGORIES:K
LOCATION:203 A-41
END:VEVENT
BEGIN:VEVENT
UID:UZ_PLZ_20260611_1245_494935
DTSTAMP:20260611T124500
DTSTART:20260611T124500
DTEND:20260611T141500
SUMMARY:Systemy usług prawniczych (Legal management) (K): 13PR-SM 25/26
CATEGORIES:K
LOCATION:203 A-41
END:VEVENT
BEGIN:VEVENT
UID:UZ_PLZ_20260613_1100_494665
DTSTAMP:20260613T110000
DTSTART:20260613T110000
DTEND:20260613T123000
SUMMARY:Europejskie standardy państwa prawa (W): 11ADM-NP 25/26
CATEGORIES:W
LOCATION:104 A-41
END:VEVENT
BEGIN:VEVENT
UID:UZ_PLZ_20260613_1245_494734
DTSTAMP:20260613T124500
DTSTART:20260613T124500
DTEND:20260613T141500
SUMMARY:Systemy usług prawniczych (Legal management) (K): 11PR-NM 25/26
CATEGORIES:K
LOCATION:202 A-41
END:VEVENT
BEGIN:VEVENT
UID:UZ_PLZ_20260613_1430_507518
DTSTAMP:20260613T143000
DTSTART:20260613T143000
DTEND:20260613T151500
SUMMARY:Konsultacje (I)
CATEGORIES:I
LOCATION:17 A-20
END:VEVENT
BEGIN:VEVENT
UID:UZ_PLZ_20260617_1115_507266
DTSTAMP:20260617T111500
DTSTART:20260617T111500
DTEND:20260617T120000
SUMMARY:Konsultacje (I)
CATEGORIES:I
LOCATION:17 A-20
END:VEVENT
BEGIN:VEVENT
UID:UZ_PLZ_20260617_1245_494951
DTSTAMP:20260617T124500
DTSTART:20260617T124500
DTEND:20260617T141500
SUMMARY:Systemy usług prawniczych (Legal management) (K): 12PR-SM 25/26
CATEGORIES:K
LOCATION:104 A-41
END:VEVENT
BEGIN:VEVENT
UID:UZ_PLZ_20260618_0915_494907
DTSTAMP:20260618T091500
DTSTART:20260618T091500
DTEND:20260618T104500
SUMMARY:Systemy usług prawniczych (Legal management) (K): 11PR-SM 25/26
CATEGORIES:K
LOCATION:010 A-41
END:VEVENT
BEGIN:VEVENT
UID:UZ_PLZ_20260618_1100_494864
DTSTAMP:20260618T110000
DTSTART:20260618T110000
DTEND:20260618T123000
SUMMARY:Systemy usług prawniczych (Legal management) (K): 14PR-SM 25/26
CATEGORIES:K
LOCATION:203 A-41
END:VEVENT
BEGIN:VEVENT
UID:UZ_PLZ_20260618_1245_494935
DTSTAMP:20260618T124500
DTSTART:20260618T124500
DTEND:20260618T141500
SUMMARY:Systemy usług prawniczych (Legal management) (K): 13PR-SM 25/26
CATEGORIES:K
LOCATION:203 A-41
END:VEVENT
END:VCALENDAR
