BEGIN:VCALENDAR
TZID:Europe/Warsaw
X-WR-TIMEZONE:Europe/Warsaw
VERSION:2.0
PRODID:-//Uniwersytet Zielonogórski//NONSGML Plan zajęć v1.0//EN
NAME:Plan zajęć - semestr zimowy 2025/2026
X-WR-CALNAME:Plan zajęć - semestr zimowy 2025/2026
COLOR:green
CALSCALE:GREGORIAN
BEGIN:VEVENT
UID:UZ_PLZ_20251003_0730_484066
DTSTAMP:20251003T073000
DTSTART:20251003T073000
DTEND:20251003T091000
SUMMARY:E-biznes a prawo (W): 11E-B-SP
CATEGORIES:W
LOCATION:109 A-2
END:VEVENT
BEGIN:VEVENT
UID:UZ_PLZ_20251003_0915_484114
DTSTAMP:20251003T091500
DTSTART:20251003T091500
DTEND:20251003T105500
SUMMARY:E-biznes a prawo (Ć): 11E-B-SP
CATEGORIES:Ć
LOCATION:109 A-2
END:VEVENT
BEGIN:VEVENT
UID:UZ_PLZ_20251004_1245_482383
DTSTAMP:20251004T124500
DTSTART:20251004T124500
DTEND:20251004T141500
SUMMARY:Systemy informacji prawnej (L): 11PR-NM 25/26/B
CATEGORIES:L
LOCATION:417 A-16
END:VEVENT
BEGIN:VEVENT
UID:UZ_PLZ_20251004_1430_482383
DTSTAMP:20251004T143000
DTSTART:20251004T143000
DTEND:20251004T160000
SUMMARY:Systemy informacji prawnej (L): 11PR-NM 25/26/B
CATEGORIES:L
LOCATION:417 A-16
END:VEVENT
BEGIN:VEVENT
UID:UZ_PLZ_20251006_1130_482448
DTSTAMP:20251006T113000
DTSTART:20251006T113000
DTEND:20251006T130000
SUMMARY:Systemy informacji prawnej (L): 11PR-SM 25/26/A
CATEGORIES:L
LOCATION:417 A-16
END:VEVENT
BEGIN:VEVENT
UID:UZ_PLZ_20251007_0915_482239
DTSTAMP:20251007T091500
DTSTART:20251007T091500
DTEND:20251007T104500
SUMMARY:Kontrola konstytucyjności i legalności prawa (W): 11ADM-SD 25/26
CATEGORIES:W
LOCATION:103 A-41
END:VEVENT
BEGIN:VEVENT
UID:UZ_PLZ_20251007_1100_482241
DTSTAMP:20251007T110000
DTSTART:20251007T110000
DTEND:20251007T123000
SUMMARY:Kontrola konstytucyjności i legalności prawa (Ć): 11ADM-SD 25/26
CATEGORIES:Ć
LOCATION:103 A-41
END:VEVENT
BEGIN:VEVENT
UID:UZ_PLZ_20251010_1300_493255
DTSTAMP:20251010T130000
DTSTART:20251010T130000
DTEND:20251010T134500
SUMMARY:Konsultacje (I)
CATEGORIES:I
LOCATION:17 A-20
END:VEVENT
BEGIN:VEVENT
UID:UZ_PLZ_20251014_0915_482239
DTSTAMP:20251014T091500
DTSTART:20251014T091500
DTEND:20251014T104500
SUMMARY:Kontrola konstytucyjności i legalności prawa (W): 11ADM-SD 25/26
CATEGORIES:W
LOCATION:103 A-41
END:VEVENT
BEGIN:VEVENT
UID:UZ_PLZ_20251014_1100_482241
DTSTAMP:20251014T110000
DTSTART:20251014T110000
DTEND:20251014T123000
SUMMARY:Kontrola konstytucyjności i legalności prawa (Ć): 11ADM-SD 25/26
CATEGORIES:Ć
LOCATION:103 A-41
END:VEVENT
BEGIN:VEVENT
UID:UZ_PLZ_20251017_1300_493255
DTSTAMP:20251017T130000
DTSTART:20251017T130000
DTEND:20251017T134500
SUMMARY:Konsultacje (I)
CATEGORIES:I
LOCATION:17 A-20
END:VEVENT
BEGIN:VEVENT
UID:UZ_PLZ_20251020_0945_482448
DTSTAMP:20251020T094500
DTSTART:20251020T094500
DTEND:20251020T111500
SUMMARY:Systemy informacji prawnej (L): 11PR-SM 25/26/A
CATEGORIES:L
LOCATION:417 A-16
END:VEVENT
BEGIN:VEVENT
UID:UZ_PLZ_20251020_1130_482448
DTSTAMP:20251020T113000
DTSTART:20251020T113000
DTEND:20251020T130000
SUMMARY:Systemy informacji prawnej (L): 11PR-SM 25/26/A
CATEGORIES:L
LOCATION:417 A-16
END:VEVENT
BEGIN:VEVENT
UID:UZ_PLZ_20251021_0915_482239
DTSTAMP:20251021T091500
DTSTART:20251021T091500
DTEND:20251021T104500
SUMMARY:Kontrola konstytucyjności i legalności prawa (W): 11ADM-SD 25/26
CATEGORIES:W
LOCATION:103 A-41
END:VEVENT
BEGIN:VEVENT
UID:UZ_PLZ_20251021_1100_482241
DTSTAMP:20251021T110000
DTSTART:20251021T110000
DTEND:20251021T123000
SUMMARY:Kontrola konstytucyjności i legalności prawa (Ć): 11ADM-SD 25/26
CATEGORIES:Ć
LOCATION:103 A-41
END:VEVENT
BEGIN:VEVENT
UID:UZ_PLZ_20251024_0915_484066
DTSTAMP:20251024T091500
DTSTART:20251024T091500
DTEND:20251024T105000
SUMMARY:E-biznes a prawo (W): 11E-B-SP
CATEGORIES:W
LOCATION:109 A-2
END:VEVENT
BEGIN:VEVENT
UID:UZ_PLZ_20251024_1100_484114
DTSTAMP:20251024T110000
DTSTART:20251024T110000
DTEND:20251024T123500
SUMMARY:E-biznes a prawo (Ć): 11E-B-SP
CATEGORIES:Ć
LOCATION:109 A-2
END:VEVENT
BEGIN:VEVENT
UID:UZ_PLZ_20251024_1300_493255
DTSTAMP:20251024T130000
DTSTART:20251024T130000
DTEND:20251024T134500
SUMMARY:Konsultacje (I)
CATEGORIES:I
LOCATION:17 A-20
END:VEVENT
BEGIN:VEVENT
UID:UZ_PLZ_20251025_1130_493256
DTSTAMP:20251025T113000
DTSTART:20251025T113000
DTEND:20251025T121500
SUMMARY:Konsultacje (I)
CATEGORIES:I
LOCATION:17 A-20
END:VEVENT
BEGIN:VEVENT
UID:UZ_PLZ_20251025_1245_482383
DTSTAMP:20251025T124500
DTSTART:20251025T124500
DTEND:20251025T141500
SUMMARY:Systemy informacji prawnej (L): 11PR-NM 25/26/B
CATEGORIES:L
LOCATION:417 A-16
END:VEVENT
BEGIN:VEVENT
UID:UZ_PLZ_20251027_1130_482448
DTSTAMP:20251027T113000
DTSTART:20251027T113000
DTEND:20251027T130000
SUMMARY:Systemy informacji prawnej (L): 11PR-SM 25/26/A
CATEGORIES:L
LOCATION:417 A-16
END:VEVENT
BEGIN:VEVENT
UID:UZ_PLZ_20251028_0915_482239
DTSTAMP:20251028T091500
DTSTART:20251028T091500
DTEND:20251028T104500
SUMMARY:Kontrola konstytucyjności i legalności prawa (W): 11ADM-SD 25/26
CATEGORIES:W
LOCATION:103 A-41
END:VEVENT
BEGIN:VEVENT
UID:UZ_PLZ_20251028_1100_482241
DTSTAMP:20251028T110000
DTSTART:20251028T110000
DTEND:20251028T123000
SUMMARY:Kontrola konstytucyjności i legalności prawa (Ć): 11ADM-SD 25/26
CATEGORIES:Ć
LOCATION:103 A-41
END:VEVENT
BEGIN:VEVENT
UID:UZ_PLZ_20251031_1300_493255
DTSTAMP:20251031T130000
DTSTART:20251031T130000
DTEND:20251031T134500
SUMMARY:Konsultacje (I)
CATEGORIES:I
LOCATION:17 A-20
END:VEVENT
BEGIN:VEVENT
UID:UZ_PLZ_20251103_1130_482448
DTSTAMP:20251103T113000
DTSTART:20251103T113000
DTEND:20251103T130000
SUMMARY:Systemy informacji prawnej (L): 11PR-SM 25/26/A
CATEGORIES:L
LOCATION:417 A-16
END:VEVENT
BEGIN:VEVENT
UID:UZ_PLZ_20251104_0915_482239
DTSTAMP:20251104T091500
DTSTART:20251104T091500
DTEND:20251104T104500
SUMMARY:Kontrola konstytucyjności i legalności prawa (W): 11ADM-SD 25/26
CATEGORIES:W
LOCATION:103 A-41
END:VEVENT
BEGIN:VEVENT
UID:UZ_PLZ_20251104_1100_482241
DTSTAMP:20251104T110000
DTSTART:20251104T110000
DTEND:20251104T123000
SUMMARY:Kontrola konstytucyjności i legalności prawa (Ć): 11ADM-SD 25/26
CATEGORIES:Ć
LOCATION:103 A-41
END:VEVENT
BEGIN:VEVENT
UID:UZ_PLZ_20251107_0915_484066
DTSTAMP:20251107T091500
DTSTART:20251107T091500
DTEND:20251107T105000
SUMMARY:E-biznes a prawo (W): 11E-B-SP
CATEGORIES:W
LOCATION:109 A-2
END:VEVENT
BEGIN:VEVENT
UID:UZ_PLZ_20251107_1100_484114
DTSTAMP:20251107T110000
DTSTART:20251107T110000
DTEND:20251107T123500
SUMMARY:E-biznes a prawo (Ć): 11E-B-SP
CATEGORIES:Ć
LOCATION:109 A-2
END:VEVENT
BEGIN:VEVENT
UID:UZ_PLZ_20251107_1300_493255
DTSTAMP:20251107T130000
DTSTART:20251107T130000
DTEND:20251107T134500
SUMMARY:Konsultacje (I)
CATEGORIES:I
LOCATION:17 A-20
END:VEVENT
BEGIN:VEVENT
UID:UZ_PLZ_20251113_1130_482448
DTSTAMP:20251113T113000
DTSTART:20251113T113000
DTEND:20251113T130000
SUMMARY:Systemy informacji prawnej (L): 11PR-SM 25/26/A
CATEGORIES:L
LOCATION:417 A-16
END:VEVENT
BEGIN:VEVENT
UID:UZ_PLZ_20251114_0915_482239
DTSTAMP:20251114T091500
DTSTART:20251114T091500
DTEND:20251114T104500
SUMMARY:Kontrola konstytucyjności i legalności prawa (W): 11ADM-SD 25/26
CATEGORIES:W
LOCATION:103 A-41
END:VEVENT
BEGIN:VEVENT
UID:UZ_PLZ_20251114_1100_482241
DTSTAMP:20251114T110000
DTSTART:20251114T110000
DTEND:20251114T123000
SUMMARY:Kontrola konstytucyjności i legalności prawa (Ć): 11ADM-SD 25/26
CATEGORIES:Ć
LOCATION:103 A-41
END:VEVENT
BEGIN:VEVENT
UID:UZ_PLZ_20251115_1130_493256
DTSTAMP:20251115T113000
DTSTART:20251115T113000
DTEND:20251115T121500
SUMMARY:Konsultacje (I)
CATEGORIES:I
LOCATION:17 A-20
END:VEVENT
BEGIN:VEVENT
UID:UZ_PLZ_20251115_1245_482383
DTSTAMP:20251115T124500
DTSTART:20251115T124500
DTEND:20251115T141500
SUMMARY:Systemy informacji prawnej (L): 11PR-NM 25/26/B
CATEGORIES:L
LOCATION:417 A-16
END:VEVENT
BEGIN:VEVENT
UID:UZ_PLZ_20251118_0915_482239
DTSTAMP:20251118T091500
DTSTART:20251118T091500
DTEND:20251118T104500
SUMMARY:Kontrola konstytucyjności i legalności prawa (W): 11ADM-SD 25/26
CATEGORIES:W
LOCATION:103 A-41
END:VEVENT
BEGIN:VEVENT
UID:UZ_PLZ_20251118_1100_482241
DTSTAMP:20251118T110000
DTSTART:20251118T110000
DTEND:20251118T123000
SUMMARY:Kontrola konstytucyjności i legalności prawa (Ć): 11ADM-SD 25/26
CATEGORIES:Ć
LOCATION:103 A-41
END:VEVENT
BEGIN:VEVENT
UID:UZ_PLZ_20251121_0915_484066
DTSTAMP:20251121T091500
DTSTART:20251121T091500
DTEND:20251121T105000
SUMMARY:E-biznes a prawo (W): 11E-B-SP
CATEGORIES:W
LOCATION:109 A-2
END:VEVENT
BEGIN:VEVENT
UID:UZ_PLZ_20251121_1100_484114
DTSTAMP:20251121T110000
DTSTART:20251121T110000
DTEND:20251121T123500
SUMMARY:E-biznes a prawo (Ć): 11E-B-SP
CATEGORIES:Ć
LOCATION:109 A-2
END:VEVENT
BEGIN:VEVENT
UID:UZ_PLZ_20251121_1300_493255
DTSTAMP:20251121T130000
DTSTART:20251121T130000
DTEND:20251121T134500
SUMMARY:Konsultacje (I)
CATEGORIES:I
LOCATION:17 A-20
END:VEVENT
BEGIN:VEVENT
UID:UZ_PLZ_20251122_1130_493256
DTSTAMP:20251122T113000
DTSTART:20251122T113000
DTEND:20251122T121500
SUMMARY:Konsultacje (I)
CATEGORIES:I
LOCATION:17 A-20
END:VEVENT
BEGIN:VEVENT
UID:UZ_PLZ_20251122_1245_482383
DTSTAMP:20251122T124500
DTSTART:20251122T124500
DTEND:20251122T141500
SUMMARY:Systemy informacji prawnej (L): 11PR-NM 25/26/B
CATEGORIES:L
LOCATION:417 A-16
END:VEVENT
BEGIN:VEVENT
UID:UZ_PLZ_20251124_1130_482448
DTSTAMP:20251124T113000
DTSTART:20251124T113000
DTEND:20251124T130000
SUMMARY:Systemy informacji prawnej (L): 11PR-SM 25/26/A
CATEGORIES:L
LOCATION:417 A-16
END:VEVENT
BEGIN:VEVENT
UID:UZ_PLZ_20251125_0915_482239
DTSTAMP:20251125T091500
DTSTART:20251125T091500
DTEND:20251125T104500
SUMMARY:Kontrola konstytucyjności i legalności prawa (W): 11ADM-SD 25/26
CATEGORIES:W
LOCATION:103 A-41
END:VEVENT
BEGIN:VEVENT
UID:UZ_PLZ_20251125_1100_482241
DTSTAMP:20251125T110000
DTSTART:20251125T110000
DTEND:20251125T123000
SUMMARY:Kontrola konstytucyjności i legalności prawa (Ć): 11ADM-SD 25/26
CATEGORIES:Ć
LOCATION:103 A-41
END:VEVENT
BEGIN:VEVENT
UID:UZ_PLZ_20251128_1300_493255
DTSTAMP:20251128T130000
DTSTART:20251128T130000
DTEND:20251128T134500
SUMMARY:Konsultacje (I)
CATEGORIES:I
LOCATION:17 A-20
END:VEVENT
BEGIN:VEVENT
UID:UZ_PLZ_20251201_0945_482448
DTSTAMP:20251201T094500
DTSTART:20251201T094500
DTEND:20251201T111500
SUMMARY:Systemy informacji prawnej (L): 11PR-SM 25/26/A
CATEGORIES:L
LOCATION:417 A-16
END:VEVENT
BEGIN:VEVENT
UID:UZ_PLZ_20251201_1130_482448
DTSTAMP:20251201T113000
DTSTART:20251201T113000
DTEND:20251201T130000
SUMMARY:Systemy informacji prawnej (L): 11PR-SM 25/26/A
CATEGORIES:L
LOCATION:417 A-16
END:VEVENT
BEGIN:VEVENT
UID:UZ_PLZ_20251202_0915_482239
DTSTAMP:20251202T091500
DTSTART:20251202T091500
DTEND:20251202T104500
SUMMARY:Kontrola konstytucyjności i legalności prawa (W): 11ADM-SD 25/26
CATEGORIES:W
LOCATION:103 A-41
END:VEVENT
BEGIN:VEVENT
UID:UZ_PLZ_20251202_1100_482241
DTSTAMP:20251202T110000
DTSTART:20251202T110000
DTEND:20251202T123000
SUMMARY:Kontrola konstytucyjności i legalności prawa (Ć): 11ADM-SD 25/26
CATEGORIES:Ć
LOCATION:103 A-41
END:VEVENT
BEGIN:VEVENT
UID:UZ_PLZ_20251205_0915_484066
DTSTAMP:20251205T091500
DTSTART:20251205T091500
DTEND:20251205T105000
SUMMARY:E-biznes a prawo (W): 11E-B-SP
CATEGORIES:W
LOCATION:109 A-2
END:VEVENT
BEGIN:VEVENT
UID:UZ_PLZ_20251205_1100_484114
DTSTAMP:20251205T110000
DTSTART:20251205T110000
DTEND:20251205T123500
SUMMARY:E-biznes a prawo (Ć): 11E-B-SP
CATEGORIES:Ć
LOCATION:109 A-2
END:VEVENT
BEGIN:VEVENT
UID:UZ_PLZ_20251205_1300_493255
DTSTAMP:20251205T130000
DTSTART:20251205T130000
DTEND:20251205T134500
SUMMARY:Konsultacje (I)
CATEGORIES:I
LOCATION:17 A-20
END:VEVENT
BEGIN:VEVENT
UID:UZ_PLZ_20251206_1130_493256
DTSTAMP:20251206T113000
DTSTART:20251206T113000
DTEND:20251206T121500
SUMMARY:Konsultacje (I)
CATEGORIES:I
LOCATION:17 A-20
END:VEVENT
BEGIN:VEVENT
UID:UZ_PLZ_20251206_1245_482383
DTSTAMP:20251206T124500
DTSTART:20251206T124500
DTEND:20251206T141500
SUMMARY:Systemy informacji prawnej (L): 11PR-NM 25/26/B
CATEGORIES:L
LOCATION:417 A-16
END:VEVENT
BEGIN:VEVENT
UID:UZ_PLZ_20251208_1130_482448
DTSTAMP:20251208T113000
DTSTART:20251208T113000
DTEND:20251208T130000
SUMMARY:Systemy informacji prawnej (L): 11PR-SM 25/26/A
CATEGORIES:L
LOCATION:417 A-16
END:VEVENT
BEGIN:VEVENT
UID:UZ_PLZ_20251209_0915_482239
DTSTAMP:20251209T091500
DTSTART:20251209T091500
DTEND:20251209T104500
SUMMARY:Kontrola konstytucyjności i legalności prawa (W): 11ADM-SD 25/26
CATEGORIES:W
LOCATION:103 A-41
END:VEVENT
BEGIN:VEVENT
UID:UZ_PLZ_20251209_1100_482241
DTSTAMP:20251209T110000
DTSTART:20251209T110000
DTEND:20251209T123000
SUMMARY:Kontrola konstytucyjności i legalności prawa (Ć): 11ADM-SD 25/26
CATEGORIES:Ć
LOCATION:103 A-41
END:VEVENT
BEGIN:VEVENT
UID:UZ_PLZ_20251212_1300_493255
DTSTAMP:20251212T130000
DTSTART:20251212T130000
DTEND:20251212T134500
SUMMARY:Konsultacje (I)
CATEGORIES:I
LOCATION:17 A-20
END:VEVENT
BEGIN:VEVENT
UID:UZ_PLZ_20251213_1130_493256
DTSTAMP:20251213T113000
DTSTART:20251213T113000
DTEND:20251213T121500
SUMMARY:Konsultacje (I)
CATEGORIES:I
LOCATION:17 A-20
END:VEVENT
BEGIN:VEVENT
UID:UZ_PLZ_20251213_1245_482383
DTSTAMP:20251213T124500
DTSTART:20251213T124500
DTEND:20251213T141500
SUMMARY:Systemy informacji prawnej (L): 11PR-NM 25/26/B
CATEGORIES:L
LOCATION:417 A-16
END:VEVENT
BEGIN:VEVENT
UID:UZ_PLZ_20251215_1130_482448
DTSTAMP:20251215T113000
DTSTART:20251215T113000
DTEND:20251215T130000
SUMMARY:Systemy informacji prawnej (L): 11PR-SM 25/26/A
CATEGORIES:L
LOCATION:417 A-16
END:VEVENT
BEGIN:VEVENT
UID:UZ_PLZ_20251216_0915_482239
DTSTAMP:20251216T091500
DTSTART:20251216T091500
DTEND:20251216T104500
SUMMARY:Kontrola konstytucyjności i legalności prawa (W): 11ADM-SD 25/26
CATEGORIES:W
LOCATION:103 A-41
END:VEVENT
BEGIN:VEVENT
UID:UZ_PLZ_20251216_1100_482241
DTSTAMP:20251216T110000
DTSTART:20251216T110000
DTEND:20251216T123000
SUMMARY:Kontrola konstytucyjności i legalności prawa (Ć): 11ADM-SD 25/26
CATEGORIES:Ć
LOCATION:103 A-41
END:VEVENT
BEGIN:VEVENT
UID:UZ_PLZ_20251219_0915_484066
DTSTAMP:20251219T091500
DTSTART:20251219T091500
DTEND:20251219T105000
SUMMARY:E-biznes a prawo (W): 11E-B-SP
CATEGORIES:W
LOCATION:109 A-2
END:VEVENT
BEGIN:VEVENT
UID:UZ_PLZ_20251219_1100_484114
DTSTAMP:20251219T110000
DTSTART:20251219T110000
DTEND:20251219T123500
SUMMARY:E-biznes a prawo (Ć): 11E-B-SP
CATEGORIES:Ć
LOCATION:109 A-2
END:VEVENT
BEGIN:VEVENT
UID:UZ_PLZ_20251219_1300_493255
DTSTAMP:20251219T130000
DTSTART:20251219T130000
DTEND:20251219T134500
SUMMARY:Konsultacje (I)
CATEGORIES:I
LOCATION:17 A-20
END:VEVENT
BEGIN:VEVENT
UID:UZ_PLZ_20260107_0915_482239
DTSTAMP:20260107T091500
DTSTART:20260107T091500
DTEND:20260107T104500
SUMMARY:Kontrola konstytucyjności i legalności prawa (W): 11ADM-SD 25/26
CATEGORIES:W
LOCATION:103 A-41
END:VEVENT
BEGIN:VEVENT
UID:UZ_PLZ_20260107_1100_482241
DTSTAMP:20260107T110000
DTSTART:20260107T110000
DTEND:20260107T123000
SUMMARY:Kontrola konstytucyjności i legalności prawa (Ć): 11ADM-SD 25/26
CATEGORIES:Ć
LOCATION:103 A-41
END:VEVENT
BEGIN:VEVENT
UID:UZ_PLZ_20260109_1300_493255
DTSTAMP:20260109T130000
DTSTART:20260109T130000
DTEND:20260109T134500
SUMMARY:Konsultacje (I)
CATEGORIES:I
LOCATION:17 A-20
END:VEVENT
BEGIN:VEVENT
UID:UZ_PLZ_20260112_1130_482448
DTSTAMP:20260112T113000
DTSTART:20260112T113000
DTEND:20260112T130000
SUMMARY:Systemy informacji prawnej (L): 11PR-SM 25/26/A
CATEGORIES:L
LOCATION:417 A-16
END:VEVENT
BEGIN:VEVENT
UID:UZ_PLZ_20260113_0915_482239
DTSTAMP:20260113T091500
DTSTART:20260113T091500
DTEND:20260113T104500
SUMMARY:Kontrola konstytucyjności i legalności prawa (W): 11ADM-SD 25/26
CATEGORIES:W
LOCATION:103 A-41
END:VEVENT
BEGIN:VEVENT
UID:UZ_PLZ_20260113_1100_482241
DTSTAMP:20260113T110000
DTSTART:20260113T110000
DTEND:20260113T123000
SUMMARY:Kontrola konstytucyjności i legalności prawa (Ć): 11ADM-SD 25/26
CATEGORIES:Ć
LOCATION:103 A-41
END:VEVENT
BEGIN:VEVENT
UID:UZ_PLZ_20260116_0915_484066
DTSTAMP:20260116T091500
DTSTART:20260116T091500
DTEND:20260116T105000
SUMMARY:E-biznes a prawo (W): 11E-B-SP
CATEGORIES:W
LOCATION:109 A-2
END:VEVENT
BEGIN:VEVENT
UID:UZ_PLZ_20260116_1100_484114
DTSTAMP:20260116T110000
DTSTART:20260116T110000
DTEND:20260116T123500
SUMMARY:E-biznes a prawo (Ć): 11E-B-SP
CATEGORIES:Ć
LOCATION:109 A-2
END:VEVENT
BEGIN:VEVENT
UID:UZ_PLZ_20260116_1300_493255
DTSTAMP:20260116T130000
DTSTART:20260116T130000
DTEND:20260116T134500
SUMMARY:Konsultacje (I)
CATEGORIES:I
LOCATION:17 A-20
END:VEVENT
BEGIN:VEVENT
UID:UZ_PLZ_20260117_1130_493256
DTSTAMP:20260117T113000
DTSTART:20260117T113000
DTEND:20260117T121500
SUMMARY:Konsultacje (I)
CATEGORIES:I
LOCATION:17 A-20
END:VEVENT
BEGIN:VEVENT
UID:UZ_PLZ_20260117_1245_482383
DTSTAMP:20260117T124500
DTSTART:20260117T124500
DTEND:20260117T141500
SUMMARY:Systemy informacji prawnej (L): 11PR-NM 25/26/B
CATEGORIES:L
LOCATION:417 A-16
END:VEVENT
BEGIN:VEVENT
UID:UZ_PLZ_20260119_1130_482448
DTSTAMP:20260119T113000
DTSTART:20260119T113000
DTEND:20260119T130000
SUMMARY:Systemy informacji prawnej (L): 11PR-SM 25/26/A
CATEGORIES:L
LOCATION:417 A-16
END:VEVENT
BEGIN:VEVENT
UID:UZ_PLZ_20260120_0915_482239
DTSTAMP:20260120T091500
DTSTART:20260120T091500
DTEND:20260120T104500
SUMMARY:Kontrola konstytucyjności i legalności prawa (W): 11ADM-SD 25/26
CATEGORIES:W
LOCATION:103 A-41
END:VEVENT
BEGIN:VEVENT
UID:UZ_PLZ_20260120_1100_482241
DTSTAMP:20260120T110000
DTSTART:20260120T110000
DTEND:20260120T123000
SUMMARY:Kontrola konstytucyjności i legalności prawa (Ć): 11ADM-SD 25/26
CATEGORIES:Ć
LOCATION:103 A-41
END:VEVENT
BEGIN:VEVENT
UID:UZ_PLZ_20260123_1300_493255
DTSTAMP:20260123T130000
DTSTART:20260123T130000
DTEND:20260123T134500
SUMMARY:Konsultacje (I)
CATEGORIES:I
LOCATION:17 A-20
END:VEVENT
BEGIN:VEVENT
UID:UZ_PLZ_20260126_1130_482448
DTSTAMP:20260126T113000
DTSTART:20260126T113000
DTEND:20260126T130000
SUMMARY:Systemy informacji prawnej (L): 11PR-SM 25/26/A
CATEGORIES:L
LOCATION:417 A-16
END:VEVENT
BEGIN:VEVENT
UID:UZ_PLZ_20260127_0915_482239
DTSTAMP:20260127T091500
DTSTART:20260127T091500
DTEND:20260127T104500
SUMMARY:Kontrola konstytucyjności i legalności prawa (W): 11ADM-SD 25/26
CATEGORIES:W
LOCATION:103 A-41
END:VEVENT
BEGIN:VEVENT
UID:UZ_PLZ_20260127_1100_482241
DTSTAMP:20260127T110000
DTSTART:20260127T110000
DTEND:20260127T123000
SUMMARY:Kontrola konstytucyjności i legalności prawa (Ć): 11ADM-SD 25/26
CATEGORIES:Ć
LOCATION:103 A-41
END:VEVENT
BEGIN:VEVENT
UID:UZ_PLZ_20260130_1300_493255
DTSTAMP:20260130T130000
DTSTART:20260130T130000
DTEND:20260130T134500
SUMMARY:Konsultacje (I)
CATEGORIES:I
LOCATION:17 A-20
END:VEVENT
BEGIN:VEVENT
UID:UZ_PLZ_20260131_1130_493256
DTSTAMP:20260131T113000
DTSTART:20260131T113000
DTEND:20260131T121500
SUMMARY:Konsultacje (I)
CATEGORIES:I
LOCATION:17 A-20
END:VEVENT
BEGIN:VEVENT
UID:UZ_PLZ_20260131_1245_482383
DTSTAMP:20260131T124500
DTSTART:20260131T124500
DTEND:20260131T141500
SUMMARY:Systemy informacji prawnej (L): 11PR-NM 25/26/B
CATEGORIES:L
LOCATION:417 A-16
END:VEVENT
BEGIN:VEVENT
UID:UZ_PLZ_20260202_1130_482448
DTSTAMP:20260202T113000
DTSTART:20260202T113000
DTEND:20260202T130000
SUMMARY:Systemy informacji prawnej (L): 11PR-SM 25/26/A
CATEGORIES:L
LOCATION:417 A-16
END:VEVENT
BEGIN:VEVENT
UID:UZ_PLZ_20260203_0900_494250
DTSTAMP:20260203T090000
DTSTART:20260203T090000
DTEND:20260203T103000
SUMMARY:Kontrola konstytucyjności i legalności prawa (E): 11ADM-SD 25/26
CATEGORIES:E
LOCATION:105 A-41
END:VEVENT
BEGIN:VEVENT
UID:UZ_PLZ_20260217_0900_494250
DTSTAMP:20260217T090000
DTSTART:20260217T090000
DTEND:20260217T103000
SUMMARY:Kontrola konstytucyjności i legalności prawa (E): 11ADM-SD 25/26
CATEGORIES:E
LOCATION:105 A-41
END:VEVENT
END:VCALENDAR
