BEGIN:VCALENDAR
TZID:Europe/Warsaw
X-WR-TIMEZONE:Europe/Warsaw
VERSION:2.0
PRODID:-//Uniwersytet Zielonogórski//NONSGML Plan zajęć v1.0//EN
NAME:Plan zajęć - semestr zimowy 2025/2026
X-WR-CALNAME:Plan zajęć - semestr zimowy 2025/2026
COLOR:green
CALSCALE:GREGORIAN
BEGIN:VEVENT
UID:UZ_PLZ_20251002_0900_488878
DTSTAMP:20251002T090000
DTSTART:20251002T090000
DTEND:20251002T100000
SUMMARY:Rezerwacja (R)
CATEGORIES:R
LOCATION:12 A-0
END:VEVENT
BEGIN:VEVENT
UID:UZ_PLZ_20251005_1245_489599
DTSTAMP:20251005T124500
DTSTART:20251005T124500
DTEND:20251005T140500
SUMMARY:Sieci logistyczne (W): 31LOG-ZLP-NP
CATEGORIES:W
LOCATION:F5 A-0
X-ALT-DESC;FMTTYPE=text/html:<html><body><a href="https://classroom.google.com/c/ODExMDIxOTAwMzc5">Google Classroom</a> </body></html>
END:VEVENT
BEGIN:VEVENT
UID:UZ_PLZ_20251008_1100_491873
DTSTAMP:20251008T110000
DTSTART:20251008T110000
DTEND:20251008T123500
SUMMARY:Sieciowe formy współpracy (W): 22ZARZ-SRB-SD
CATEGORIES:W
LOCATION:1 C-2
X-ALT-DESC;FMTTYPE=text/html:<html><body><a href="https://classroom.google.com/c/ODE1NTYxNDk4OTMw">Google Classroom</a> </body></html>
END:VEVENT
BEGIN:VEVENT
UID:UZ_PLZ_20251008_1245_491643
DTSTAMP:20251008T124500
DTSTART:20251008T124500
DTEND:20251008T142000
SUMMARY:Społeczna odpowiedzialność biznesu w logistyce (W): 11LOG-LB-SD(L)\; 12LOG-ML-SD(L)
CATEGORIES:W
LOCATION:1 A-29
X-ALT-DESC;FMTTYPE=text/html:<html><body><a href="https://classroom.google.com/c/ODExNDYxNjYyMDkz">Google Classroom</a> </body></html>
END:VEVENT
BEGIN:VEVENT
UID:UZ_PLZ_20251012_1245_489735
DTSTAMP:20251012T124500
DTSTART:20251012T124500
DTEND:20251012T142500
SUMMARY:Sieci logistyczne (P): 31LOG-ZLP-NP
CATEGORIES:P
LOCATION:005 A-0
X-ALT-DESC;FMTTYPE=text/html:<html><body><a href="https://classroom.google.com/c/ODExMDIxOTAwMzc5">Google Classroom</a> </body></html>
END:VEVENT
BEGIN:VEVENT
UID:UZ_PLZ_20251012_1430_489663
DTSTAMP:20251012T143000
DTSTART:20251012T143000
DTEND:20251012T161000
SUMMARY:Wykład monograficzny specjalnościowy: Ekonomia przedsiębiorstwa (W): 11LOG-LB-ND(L)
CATEGORIES:W
LOCATION:005 A-0
X-ALT-DESC;FMTTYPE=text/html:<html><body><a href="https://classroom.google.com/c/ODA0MjM1ODY4MzYz">Google Classroom</a> </body></html>
END:VEVENT
BEGIN:VEVENT
UID:UZ_PLZ_20251012_1615_489656
DTSTAMP:20251012T161500
DTSTART:20251012T161500
DTEND:20251012T175500
SUMMARY:Społeczna odpowiedzialność biznesu w logistyce (W): 11LOG-LB-ND(L)
CATEGORIES:W
LOCATION:005 A-0
X-ALT-DESC;FMTTYPE=text/html:<html><body><a href="https://classroom.google.com/c/ODA0MjM1NDgzMjI3">Google Classroom</a> </body></html>
END:VEVENT
BEGIN:VEVENT
UID:UZ_PLZ_20251013_1000_493490
DTSTAMP:20251013T100000
DTSTART:20251013T100000
DTEND:20251013T104500
SUMMARY:Konsultacje (I)
CATEGORIES:I
LOCATION:5 A-5
END:VEVENT
BEGIN:VEVENT
UID:UZ_PLZ_20251013_1100_491874
DTSTAMP:20251013T110000
DTSTART:20251013T110000
DTEND:20251013T122500
SUMMARY:Sieciowe formy współpracy (P): 22ZARZ-SRB-SD
CATEGORIES:P
LOCATION:9 A-5
X-ALT-DESC;FMTTYPE=text/html:<html><body><a href="https://classroom.google.com/c/ODE1NTYxNDk4OTMw">Google Classroom</a> </body></html>
END:VEVENT
BEGIN:VEVENT
UID:UZ_PLZ_20251013_1245_491641
DTSTAMP:20251013T124500
DTSTART:20251013T124500
DTEND:20251013T141000
SUMMARY:Sieci logistyczne (W): 31LOG-ZLP-SP
CATEGORIES:W
LOCATION:9 A-5
X-ALT-DESC;FMTTYPE=text/html:<html><body><a href="https://classroom.google.com/c/ODExNDYyMjk5NTMy">Google Classroom</a> </body></html>
END:VEVENT
BEGIN:VEVENT
UID:UZ_PLZ_20251013_1430_491787
DTSTAMP:20251013T143000
DTSTART:20251013T143000
DTEND:20251013T155500
SUMMARY:Sieci logistyczne (P): 31LOG-ZLP-SP
CATEGORIES:P
LOCATION:02b C-2
X-ALT-DESC;FMTTYPE=text/html:<html><body><a href="https://classroom.google.com/c/ODExNDYyMjk5NTMy">Google Classroom</a> </body></html>
END:VEVENT
BEGIN:VEVENT
UID:UZ_PLZ_20251022_1000_493490
DTSTAMP:20251022T100000
DTSTART:20251022T100000
DTEND:20251022T104500
SUMMARY:Konsultacje (I)
CATEGORIES:I
LOCATION:5 A-5
END:VEVENT
BEGIN:VEVENT
UID:UZ_PLZ_20251022_1100_491873
DTSTAMP:20251022T110000
DTSTART:20251022T110000
DTEND:20251022T123500
SUMMARY:Sieciowe formy współpracy (W): 22ZARZ-SRB-SD
CATEGORIES:W
LOCATION:1 C-2
X-ALT-DESC;FMTTYPE=text/html:<html><body><a href="https://classroom.google.com/c/ODE1NTYxNDk4OTMw">Google Classroom</a> </body></html>
END:VEVENT
BEGIN:VEVENT
UID:UZ_PLZ_20251022_1245_491643
DTSTAMP:20251022T124500
DTSTART:20251022T124500
DTEND:20251022T142000
SUMMARY:Społeczna odpowiedzialność biznesu w logistyce (W): 11LOG-LB-SD(L)\; 12LOG-ML-SD(L)
CATEGORIES:W
LOCATION:1 A-29
X-ALT-DESC;FMTTYPE=text/html:<html><body><a href="https://classroom.google.com/c/ODExNDYxNjYyMDkz">Google Classroom</a> </body></html>
END:VEVENT
BEGIN:VEVENT
UID:UZ_PLZ_20251026_1145_493491
DTSTAMP:20251026T114500
DTSTART:20251026T114500
DTEND:20251026T123000
SUMMARY:Konsultacje (I)
CATEGORIES:I
LOCATION:5 A-5
END:VEVENT
BEGIN:VEVENT
UID:UZ_PLZ_20251026_1245_489599
DTSTAMP:20251026T124500
DTSTART:20251026T124500
DTEND:20251026T140500
SUMMARY:Sieci logistyczne (W): 31LOG-ZLP-NP
CATEGORIES:W
LOCATION:F5 A-0
X-ALT-DESC;FMTTYPE=text/html:<html><body><a href="https://classroom.google.com/c/ODExMDIxOTAwMzc5">Google Classroom</a> </body></html>
END:VEVENT
BEGIN:VEVENT
UID:UZ_PLZ_20251026_1935_489599
DTSTAMP:20251026T193500
DTSTART:20251026T193500
DTEND:20251026T205500
SUMMARY:Sieci logistyczne (W): 31LOG-ZLP-NP
CATEGORIES:W
LOCATION:F5 A-0
X-ALT-DESC;FMTTYPE=text/html:<html><body><a href="https://classroom.google.com/c/ODExMDIxOTAwMzc5">Google Classroom</a> </body></html>
END:VEVENT
BEGIN:VEVENT
UID:UZ_PLZ_20251027_1000_493490
DTSTAMP:20251027T100000
DTSTART:20251027T100000
DTEND:20251027T104500
SUMMARY:Konsultacje (I)
CATEGORIES:I
LOCATION:5 A-5
END:VEVENT
BEGIN:VEVENT
UID:UZ_PLZ_20251027_1100_491874
DTSTAMP:20251027T110000
DTSTART:20251027T110000
DTEND:20251027T122500
SUMMARY:Sieciowe formy współpracy (P): 22ZARZ-SRB-SD
CATEGORIES:P
LOCATION:9 A-5
X-ALT-DESC;FMTTYPE=text/html:<html><body><a href="https://classroom.google.com/c/ODE1NTYxNDk4OTMw">Google Classroom</a> </body></html>
END:VEVENT
BEGIN:VEVENT
UID:UZ_PLZ_20251027_1245_491641
DTSTAMP:20251027T124500
DTSTART:20251027T124500
DTEND:20251027T141000
SUMMARY:Sieci logistyczne (W): 31LOG-ZLP-SP
CATEGORIES:W
LOCATION:9 A-5
X-ALT-DESC;FMTTYPE=text/html:<html><body><a href="https://classroom.google.com/c/ODExNDYyMjk5NTMy">Google Classroom</a> </body></html>
END:VEVENT
BEGIN:VEVENT
UID:UZ_PLZ_20251027_1430_491787
DTSTAMP:20251027T143000
DTSTART:20251027T143000
DTEND:20251027T155500
SUMMARY:Sieci logistyczne (P): 31LOG-ZLP-SP
CATEGORIES:P
LOCATION:02b C-2
X-ALT-DESC;FMTTYPE=text/html:<html><body><a href="https://classroom.google.com/c/ODExNDYyMjk5NTMy">Google Classroom</a> </body></html>
END:VEVENT
BEGIN:VEVENT
UID:UZ_PLZ_20251105_1000_493490
DTSTAMP:20251105T100000
DTSTART:20251105T100000
DTEND:20251105T104500
SUMMARY:Konsultacje (I)
CATEGORIES:I
LOCATION:5 A-5
END:VEVENT
BEGIN:VEVENT
UID:UZ_PLZ_20251105_1100_491873
DTSTAMP:20251105T110000
DTSTART:20251105T110000
DTEND:20251105T123500
SUMMARY:Sieciowe formy współpracy (W): 22ZARZ-SRB-SD
CATEGORIES:W
LOCATION:1 C-2
X-ALT-DESC;FMTTYPE=text/html:<html><body><a href="https://classroom.google.com/c/ODE1NTYxNDk4OTMw">Google Classroom</a> </body></html>
END:VEVENT
BEGIN:VEVENT
UID:UZ_PLZ_20251105_1245_491643
DTSTAMP:20251105T124500
DTSTART:20251105T124500
DTEND:20251105T142000
SUMMARY:Społeczna odpowiedzialność biznesu w logistyce (W): 11LOG-LB-SD(L)\; 12LOG-ML-SD(L)
CATEGORIES:W
LOCATION:1 A-29
X-ALT-DESC;FMTTYPE=text/html:<html><body><a href="https://classroom.google.com/c/ODExNDYxNjYyMDkz">Google Classroom</a> </body></html>
END:VEVENT
BEGIN:VEVENT
UID:UZ_PLZ_20251113_1000_493490
DTSTAMP:20251113T100000
DTSTART:20251113T100000
DTEND:20251113T104500
SUMMARY:Konsultacje (I)
CATEGORIES:I
LOCATION:5 A-5
END:VEVENT
BEGIN:VEVENT
UID:UZ_PLZ_20251113_1100_491874
DTSTAMP:20251113T110000
DTSTART:20251113T110000
DTEND:20251113T122500
SUMMARY:Sieciowe formy współpracy (P): 22ZARZ-SRB-SD
CATEGORIES:P
LOCATION:9 A-5
X-ALT-DESC;FMTTYPE=text/html:<html><body><a href="https://classroom.google.com/c/ODE1NTYxNDk4OTMw">Google Classroom</a> </body></html>
END:VEVENT
BEGIN:VEVENT
UID:UZ_PLZ_20251113_1245_491641
DTSTAMP:20251113T124500
DTSTART:20251113T124500
DTEND:20251113T141000
SUMMARY:Sieci logistyczne (W): 31LOG-ZLP-SP
CATEGORIES:W
LOCATION:9 A-5
X-ALT-DESC;FMTTYPE=text/html:<html><body><a href="https://classroom.google.com/c/ODExNDYyMjk5NTMy">Google Classroom</a> </body></html>
END:VEVENT
BEGIN:VEVENT
UID:UZ_PLZ_20251113_1430_491787
DTSTAMP:20251113T143000
DTSTART:20251113T143000
DTEND:20251113T155500
SUMMARY:Sieci logistyczne (P): 31LOG-ZLP-SP
CATEGORIES:P
LOCATION:02b C-2
X-ALT-DESC;FMTTYPE=text/html:<html><body><a href="https://classroom.google.com/c/ODExNDYyMjk5NTMy">Google Classroom</a> </body></html>
END:VEVENT
BEGIN:VEVENT
UID:UZ_PLZ_20251116_1145_493491
DTSTAMP:20251116T114500
DTSTART:20251116T114500
DTEND:20251116T123000
SUMMARY:Konsultacje (I)
CATEGORIES:I
LOCATION:5 A-5
END:VEVENT
BEGIN:VEVENT
UID:UZ_PLZ_20251116_1245_489735
DTSTAMP:20251116T124500
DTSTART:20251116T124500
DTEND:20251116T142500
SUMMARY:Sieci logistyczne (P): 31LOG-ZLP-NP
CATEGORIES:P
LOCATION:005 A-0
X-ALT-DESC;FMTTYPE=text/html:<html><body><a href="https://classroom.google.com/c/ODExMDIxOTAwMzc5">Google Classroom</a> </body></html>
END:VEVENT
BEGIN:VEVENT
UID:UZ_PLZ_20251116_1430_489663
DTSTAMP:20251116T143000
DTSTART:20251116T143000
DTEND:20251116T161000
SUMMARY:Wykład monograficzny specjalnościowy: Ekonomia przedsiębiorstwa (W): 11LOG-LB-ND(L)
CATEGORIES:W
LOCATION:005 A-0
X-ALT-DESC;FMTTYPE=text/html:<html><body><a href="https://classroom.google.com/c/ODA0MjM1ODY4MzYz">Google Classroom</a> </body></html>
END:VEVENT
BEGIN:VEVENT
UID:UZ_PLZ_20251116_1615_489656
DTSTAMP:20251116T161500
DTSTART:20251116T161500
DTEND:20251116T175500
SUMMARY:Społeczna odpowiedzialność biznesu w logistyce (W): 11LOG-LB-ND(L)
CATEGORIES:W
LOCATION:005 A-0
X-ALT-DESC;FMTTYPE=text/html:<html><body><a href="https://classroom.google.com/c/ODA0MjM1NDgzMjI3">Google Classroom</a> </body></html>
END:VEVENT
BEGIN:VEVENT
UID:UZ_PLZ_20251119_1000_493490
DTSTAMP:20251119T100000
DTSTART:20251119T100000
DTEND:20251119T104500
SUMMARY:Konsultacje (I)
CATEGORIES:I
LOCATION:5 A-5
END:VEVENT
BEGIN:VEVENT
UID:UZ_PLZ_20251119_1100_491873
DTSTAMP:20251119T110000
DTSTART:20251119T110000
DTEND:20251119T123500
SUMMARY:Sieciowe formy współpracy (W): 22ZARZ-SRB-SD
CATEGORIES:W
LOCATION:1 C-2
X-ALT-DESC;FMTTYPE=text/html:<html><body><a href="https://classroom.google.com/c/ODE1NTYxNDk4OTMw">Google Classroom</a> </body></html>
END:VEVENT
BEGIN:VEVENT
UID:UZ_PLZ_20251119_1245_491643
DTSTAMP:20251119T124500
DTSTART:20251119T124500
DTEND:20251119T142000
SUMMARY:Społeczna odpowiedzialność biznesu w logistyce (W): 11LOG-LB-SD(L)\; 12LOG-ML-SD(L)
CATEGORIES:W
LOCATION:1 A-29
X-ALT-DESC;FMTTYPE=text/html:<html><body><a href="https://classroom.google.com/c/ODExNDYxNjYyMDkz">Google Classroom</a> </body></html>
END:VEVENT
BEGIN:VEVENT
UID:UZ_PLZ_20251124_1000_493490
DTSTAMP:20251124T100000
DTSTART:20251124T100000
DTEND:20251124T104500
SUMMARY:Konsultacje (I)
CATEGORIES:I
LOCATION:5 A-5
END:VEVENT
BEGIN:VEVENT
UID:UZ_PLZ_20251124_1100_491874
DTSTAMP:20251124T110000
DTSTART:20251124T110000
DTEND:20251124T122500
SUMMARY:Sieciowe formy współpracy (P): 22ZARZ-SRB-SD
CATEGORIES:P
LOCATION:9 A-5
X-ALT-DESC;FMTTYPE=text/html:<html><body><a href="https://classroom.google.com/c/ODE1NTYxNDk4OTMw">Google Classroom</a> </body></html>
END:VEVENT
BEGIN:VEVENT
UID:UZ_PLZ_20251124_1245_491641
DTSTAMP:20251124T124500
DTSTART:20251124T124500
DTEND:20251124T141000
SUMMARY:Sieci logistyczne (W): 31LOG-ZLP-SP
CATEGORIES:W
LOCATION:9 A-5
X-ALT-DESC;FMTTYPE=text/html:<html><body><a href="https://classroom.google.com/c/ODExNDYyMjk5NTMy">Google Classroom</a> </body></html>
END:VEVENT
BEGIN:VEVENT
UID:UZ_PLZ_20251124_1430_491787
DTSTAMP:20251124T143000
DTSTART:20251124T143000
DTEND:20251124T155500
SUMMARY:Sieci logistyczne (P): 31LOG-ZLP-SP
CATEGORIES:P
LOCATION:02b C-2
X-ALT-DESC;FMTTYPE=text/html:<html><body><a href="https://classroom.google.com/c/ODExNDYyMjk5NTMy">Google Classroom</a> </body></html>
END:VEVENT
BEGIN:VEVENT
UID:UZ_PLZ_20251203_1000_493490
DTSTAMP:20251203T100000
DTSTART:20251203T100000
DTEND:20251203T104500
SUMMARY:Konsultacje (I)
CATEGORIES:I
LOCATION:5 A-5
END:VEVENT
BEGIN:VEVENT
UID:UZ_PLZ_20251203_1100_491873
DTSTAMP:20251203T110000
DTSTART:20251203T110000
DTEND:20251203T123500
SUMMARY:Sieciowe formy współpracy (W): 22ZARZ-SRB-SD
CATEGORIES:W
LOCATION:1 C-2
X-ALT-DESC;FMTTYPE=text/html:<html><body><a href="https://classroom.google.com/c/ODE1NTYxNDk4OTMw">Google Classroom</a> </body></html>
END:VEVENT
BEGIN:VEVENT
UID:UZ_PLZ_20251203_1245_491643
DTSTAMP:20251203T124500
DTSTART:20251203T124500
DTEND:20251203T142000
SUMMARY:Społeczna odpowiedzialność biznesu w logistyce (W): 11LOG-LB-SD(L)\; 12LOG-ML-SD(L)
CATEGORIES:W
LOCATION:1 A-29
X-ALT-DESC;FMTTYPE=text/html:<html><body><a href="https://classroom.google.com/c/ODExNDYxNjYyMDkz">Google Classroom</a> </body></html>
END:VEVENT
BEGIN:VEVENT
UID:UZ_PLZ_20251207_1145_493491
DTSTAMP:20251207T114500
DTSTART:20251207T114500
DTEND:20251207T123000
SUMMARY:Konsultacje (I)
CATEGORIES:I
LOCATION:5 A-5
END:VEVENT
BEGIN:VEVENT
UID:UZ_PLZ_20251207_1245_489735
DTSTAMP:20251207T124500
DTSTART:20251207T124500
DTEND:20251207T142500
SUMMARY:Sieci logistyczne (P): 31LOG-ZLP-NP
CATEGORIES:P
LOCATION:005 A-0
X-ALT-DESC;FMTTYPE=text/html:<html><body><a href="https://classroom.google.com/c/ODExMDIxOTAwMzc5">Google Classroom</a> </body></html>
END:VEVENT
BEGIN:VEVENT
UID:UZ_PLZ_20251207_1430_489663
DTSTAMP:20251207T143000
DTSTART:20251207T143000
DTEND:20251207T161000
SUMMARY:Wykład monograficzny specjalnościowy: Ekonomia przedsiębiorstwa (W): 11LOG-LB-ND(L)
CATEGORIES:W
LOCATION:005 A-0
X-ALT-DESC;FMTTYPE=text/html:<html><body><a href="https://classroom.google.com/c/ODA0MjM1ODY4MzYz">Google Classroom</a> </body></html>
END:VEVENT
BEGIN:VEVENT
UID:UZ_PLZ_20251207_1615_489656
DTSTAMP:20251207T161500
DTSTART:20251207T161500
DTEND:20251207T175500
SUMMARY:Społeczna odpowiedzialność biznesu w logistyce (W): 11LOG-LB-ND(L)
CATEGORIES:W
LOCATION:005 A-0
X-ALT-DESC;FMTTYPE=text/html:<html><body><a href="https://classroom.google.com/c/ODA0MjM1NDgzMjI3">Google Classroom</a> </body></html>
END:VEVENT
BEGIN:VEVENT
UID:UZ_PLZ_20251208_1000_493490
DTSTAMP:20251208T100000
DTSTART:20251208T100000
DTEND:20251208T104500
SUMMARY:Konsultacje (I)
CATEGORIES:I
LOCATION:5 A-5
END:VEVENT
BEGIN:VEVENT
UID:UZ_PLZ_20251208_1100_491874
DTSTAMP:20251208T110000
DTSTART:20251208T110000
DTEND:20251208T122500
SUMMARY:Sieciowe formy współpracy (P): 22ZARZ-SRB-SD
CATEGORIES:P
LOCATION:9 A-5
X-ALT-DESC;FMTTYPE=text/html:<html><body><a href="https://classroom.google.com/c/ODE1NTYxNDk4OTMw">Google Classroom</a> </body></html>
END:VEVENT
BEGIN:VEVENT
UID:UZ_PLZ_20251208_1245_491641
DTSTAMP:20251208T124500
DTSTART:20251208T124500
DTEND:20251208T141000
SUMMARY:Sieci logistyczne (W): 31LOG-ZLP-SP
CATEGORIES:W
LOCATION:9 A-5
X-ALT-DESC;FMTTYPE=text/html:<html><body><a href="https://classroom.google.com/c/ODExNDYyMjk5NTMy">Google Classroom</a> </body></html>
END:VEVENT
BEGIN:VEVENT
UID:UZ_PLZ_20251208_1430_491787
DTSTAMP:20251208T143000
DTSTART:20251208T143000
DTEND:20251208T155500
SUMMARY:Sieci logistyczne (P): 31LOG-ZLP-SP
CATEGORIES:P
LOCATION:02b C-2
X-ALT-DESC;FMTTYPE=text/html:<html><body><a href="https://classroom.google.com/c/ODExNDYyMjk5NTMy">Google Classroom</a> </body></html>
END:VEVENT
BEGIN:VEVENT
UID:UZ_PLZ_20251214_1145_493491
DTSTAMP:20251214T114500
DTSTART:20251214T114500
DTEND:20251214T123000
SUMMARY:Konsultacje (I)
CATEGORIES:I
LOCATION:5 A-5
END:VEVENT
BEGIN:VEVENT
UID:UZ_PLZ_20251214_1245_489599
DTSTAMP:20251214T124500
DTSTART:20251214T124500
DTEND:20251214T140500
SUMMARY:Sieci logistyczne (W): 31LOG-ZLP-NP
CATEGORIES:W
LOCATION:F5 A-0
X-ALT-DESC;FMTTYPE=text/html:<html><body><a href="https://classroom.google.com/c/ODExMDIxOTAwMzc5">Google Classroom</a> </body></html>
END:VEVENT
BEGIN:VEVENT
UID:UZ_PLZ_20251217_1000_493490
DTSTAMP:20251217T100000
DTSTART:20251217T100000
DTEND:20251217T104500
SUMMARY:Konsultacje (I)
CATEGORIES:I
LOCATION:5 A-5
END:VEVENT
BEGIN:VEVENT
UID:UZ_PLZ_20251217_1100_491873
DTSTAMP:20251217T110000
DTSTART:20251217T110000
DTEND:20251217T123500
SUMMARY:Sieciowe formy współpracy (W): 22ZARZ-SRB-SD
CATEGORIES:W
LOCATION:1 C-2
X-ALT-DESC;FMTTYPE=text/html:<html><body><a href="https://classroom.google.com/c/ODE1NTYxNDk4OTMw">Google Classroom</a> </body></html>
END:VEVENT
BEGIN:VEVENT
UID:UZ_PLZ_20251217_1245_491643
DTSTAMP:20251217T124500
DTSTART:20251217T124500
DTEND:20251217T142000
SUMMARY:Społeczna odpowiedzialność biznesu w logistyce (W): 11LOG-LB-SD(L)\; 12LOG-ML-SD(L)
CATEGORIES:W
LOCATION:1 A-29
X-ALT-DESC;FMTTYPE=text/html:<html><body><a href="https://classroom.google.com/c/ODExNDYxNjYyMDkz">Google Classroom</a> </body></html>
END:VEVENT
BEGIN:VEVENT
UID:UZ_PLZ_20260114_1000_493490
DTSTAMP:20260114T100000
DTSTART:20260114T100000
DTEND:20260114T104500
SUMMARY:Konsultacje (I)
CATEGORIES:I
LOCATION:5 A-5
END:VEVENT
BEGIN:VEVENT
UID:UZ_PLZ_20260114_1100_491873
DTSTAMP:20260114T110000
DTSTART:20260114T110000
DTEND:20260114T123500
SUMMARY:Sieciowe formy współpracy (W): 22ZARZ-SRB-SD
CATEGORIES:W
LOCATION:1 C-2
X-ALT-DESC;FMTTYPE=text/html:<html><body><a href="https://classroom.google.com/c/ODE1NTYxNDk4OTMw">Google Classroom</a> </body></html>
END:VEVENT
BEGIN:VEVENT
UID:UZ_PLZ_20260114_1245_491643
DTSTAMP:20260114T124500
DTSTART:20260114T124500
DTEND:20260114T142000
SUMMARY:Społeczna odpowiedzialność biznesu w logistyce (W): 11LOG-LB-SD(L)\; 12LOG-ML-SD(L)
CATEGORIES:W
LOCATION:1 A-29
X-ALT-DESC;FMTTYPE=text/html:<html><body><a href="https://classroom.google.com/c/ODExNDYxNjYyMDkz">Google Classroom</a> </body></html>
END:VEVENT
BEGIN:VEVENT
UID:UZ_PLZ_20260118_1145_493491
DTSTAMP:20260118T114500
DTSTART:20260118T114500
DTEND:20260118T123000
SUMMARY:Konsultacje (I)
CATEGORIES:I
LOCATION:5 A-5
END:VEVENT
BEGIN:VEVENT
UID:UZ_PLZ_20260118_1245_489735
DTSTAMP:20260118T124500
DTSTART:20260118T124500
DTEND:20260118T142500
SUMMARY:Sieci logistyczne (P): 31LOG-ZLP-NP
CATEGORIES:P
LOCATION:005 A-0
X-ALT-DESC;FMTTYPE=text/html:<html><body><a href="https://classroom.google.com/c/ODExMDIxOTAwMzc5">Google Classroom</a> </body></html>
END:VEVENT
BEGIN:VEVENT
UID:UZ_PLZ_20260118_1430_489663
DTSTAMP:20260118T143000
DTSTART:20260118T143000
DTEND:20260118T161000
SUMMARY:Wykład monograficzny specjalnościowy: Ekonomia przedsiębiorstwa (W): 11LOG-LB-ND(L)
CATEGORIES:W
LOCATION:005 A-0
X-ALT-DESC;FMTTYPE=text/html:<html><body><a href="https://classroom.google.com/c/ODA0MjM1ODY4MzYz">Google Classroom</a> </body></html>
END:VEVENT
BEGIN:VEVENT
UID:UZ_PLZ_20260118_1615_489656
DTSTAMP:20260118T161500
DTSTART:20260118T161500
DTEND:20260118T175500
SUMMARY:Społeczna odpowiedzialność biznesu w logistyce (W): 11LOG-LB-ND(L)
CATEGORIES:W
LOCATION:005 A-0
X-ALT-DESC;FMTTYPE=text/html:<html><body><a href="https://classroom.google.com/c/ODA0MjM1NDgzMjI3">Google Classroom</a> </body></html>
END:VEVENT
BEGIN:VEVENT
UID:UZ_PLZ_20260119_1000_493490
DTSTAMP:20260119T100000
DTSTART:20260119T100000
DTEND:20260119T104500
SUMMARY:Konsultacje (I)
CATEGORIES:I
LOCATION:5 A-5
END:VEVENT
BEGIN:VEVENT
UID:UZ_PLZ_20260119_1100_491874
DTSTAMP:20260119T110000
DTSTART:20260119T110000
DTEND:20260119T122500
SUMMARY:Sieciowe formy współpracy (P): 22ZARZ-SRB-SD
CATEGORIES:P
LOCATION:9 A-5
X-ALT-DESC;FMTTYPE=text/html:<html><body><a href="https://classroom.google.com/c/ODE1NTYxNDk4OTMw">Google Classroom</a> </body></html>
END:VEVENT
BEGIN:VEVENT
UID:UZ_PLZ_20260119_1245_491641
DTSTAMP:20260119T124500
DTSTART:20260119T124500
DTEND:20260119T141000
SUMMARY:Sieci logistyczne (W): 31LOG-ZLP-SP
CATEGORIES:W
LOCATION:9 A-5
X-ALT-DESC;FMTTYPE=text/html:<html><body><a href="https://classroom.google.com/c/ODExNDYyMjk5NTMy">Google Classroom</a> </body></html>
END:VEVENT
BEGIN:VEVENT
UID:UZ_PLZ_20260119_1430_491787
DTSTAMP:20260119T143000
DTSTART:20260119T143000
DTEND:20260119T155500
SUMMARY:Sieci logistyczne (P): 31LOG-ZLP-SP
CATEGORIES:P
LOCATION:02b C-2
X-ALT-DESC;FMTTYPE=text/html:<html><body><a href="https://classroom.google.com/c/ODExNDYyMjk5NTMy">Google Classroom</a> </body></html>
END:VEVENT
BEGIN:VEVENT
UID:UZ_PLZ_20260126_1000_493490
DTSTAMP:20260126T100000
DTSTART:20260126T100000
DTEND:20260126T104500
SUMMARY:Konsultacje (I)
CATEGORIES:I
LOCATION:5 A-5
END:VEVENT
BEGIN:VEVENT
UID:UZ_PLZ_20260126_1100_491874
DTSTAMP:20260126T110000
DTSTART:20260126T110000
DTEND:20260126T122500
SUMMARY:Sieciowe formy współpracy (P): 22ZARZ-SRB-SD
CATEGORIES:P
LOCATION:9 A-5
X-ALT-DESC;FMTTYPE=text/html:<html><body><a href="https://classroom.google.com/c/ODE1NTYxNDk4OTMw">Google Classroom</a> </body></html>
END:VEVENT
BEGIN:VEVENT
UID:UZ_PLZ_20260126_1245_491641
DTSTAMP:20260126T124500
DTSTART:20260126T124500
DTEND:20260126T141000
SUMMARY:Sieci logistyczne (W): 31LOG-ZLP-SP
CATEGORIES:W
LOCATION:9 A-5
X-ALT-DESC;FMTTYPE=text/html:<html><body><a href="https://classroom.google.com/c/ODExNDYyMjk5NTMy">Google Classroom</a> </body></html>
END:VEVENT
BEGIN:VEVENT
UID:UZ_PLZ_20260126_1430_491787
DTSTAMP:20260126T143000
DTSTART:20260126T143000
DTEND:20260126T155500
SUMMARY:Sieci logistyczne (P): 31LOG-ZLP-SP
CATEGORIES:P
LOCATION:02b C-2
X-ALT-DESC;FMTTYPE=text/html:<html><body><a href="https://classroom.google.com/c/ODExNDYyMjk5NTMy">Google Classroom</a> </body></html>
END:VEVENT
BEGIN:VEVENT
UID:UZ_PLZ_20260201_1145_493491
DTSTAMP:20260201T114500
DTSTART:20260201T114500
DTEND:20260201T123000
SUMMARY:Konsultacje (I)
CATEGORIES:I
LOCATION:5 A-5
END:VEVENT
BEGIN:VEVENT
UID:UZ_PLZ_20260201_1245_489599
DTSTAMP:20260201T124500
DTSTART:20260201T124500
DTEND:20260201T140500
SUMMARY:Sieci logistyczne (W): 31LOG-ZLP-NP
CATEGORIES:W
LOCATION:F5 A-0
X-ALT-DESC;FMTTYPE=text/html:<html><body><a href="https://classroom.google.com/c/ODExMDIxOTAwMzc5">Google Classroom</a> </body></html>
END:VEVENT
BEGIN:VEVENT
UID:UZ_PLZ_20260202_1000_493490
DTSTAMP:20260202T100000
DTSTART:20260202T100000
DTEND:20260202T104500
SUMMARY:Konsultacje (I)
CATEGORIES:I
LOCATION:5 A-5
END:VEVENT
BEGIN:VEVENT
UID:UZ_PLZ_20260202_1100_491874
DTSTAMP:20260202T110000
DTSTART:20260202T110000
DTEND:20260202T122500
SUMMARY:Sieciowe formy współpracy (P): 22ZARZ-SRB-SD
CATEGORIES:P
LOCATION:9 A-5
X-ALT-DESC;FMTTYPE=text/html:<html><body><a href="https://classroom.google.com/c/ODE1NTYxNDk4OTMw">Google Classroom</a> </body></html>
END:VEVENT
BEGIN:VEVENT
UID:UZ_PLZ_20260202_1245_491641
DTSTAMP:20260202T124500
DTSTART:20260202T124500
DTEND:20260202T141000
SUMMARY:Sieci logistyczne (W): 31LOG-ZLP-SP
CATEGORIES:W
LOCATION:9 A-5
X-ALT-DESC;FMTTYPE=text/html:<html><body><a href="https://classroom.google.com/c/ODExNDYyMjk5NTMy">Google Classroom</a> </body></html>
END:VEVENT
BEGIN:VEVENT
UID:UZ_PLZ_20260202_1430_491787
DTSTAMP:20260202T143000
DTSTART:20260202T143000
DTEND:20260202T155500
SUMMARY:Sieci logistyczne (P): 31LOG-ZLP-SP
CATEGORIES:P
LOCATION:02b C-2
X-ALT-DESC;FMTTYPE=text/html:<html><body><a href="https://classroom.google.com/c/ODExNDYyMjk5NTMy">Google Classroom</a> </body></html>
END:VEVENT
BEGIN:VEVENT
UID:UZ_PLZ_20260203_1000_496116
DTSTAMP:20260203T100000
DTSTART:20260203T100000
DTEND:20260203T105900
SUMMARY:Społeczna odpowiedzialność biznesu w logistyce (E): 11LOG-LB-SD(L)\; 12LOG-ML-SD(L)
CATEGORIES:E
LOCATION:3 A-29
END:VEVENT
BEGIN:VEVENT
UID:UZ_PLZ_20260207_1000_496117
DTSTAMP:20260207T100000
DTSTART:20260207T100000
DTEND:20260207T105900
SUMMARY:Społeczna odpowiedzialność biznesu w logistyce (E): 11LOG-LB-ND(L)
CATEGORIES:E
LOCATION:3 A-29
END:VEVENT
BEGIN:VEVENT
UID:UZ_PLZ_20260209_0900_496569
DTSTAMP:20260209T090000
DTSTART:20260209T090000
DTEND:20260209T140000
SUMMARY:Rezerwacja (R)
CATEGORIES:R
LOCATION:110/110a A-0
END:VEVENT
BEGIN:VEVENT
UID:UZ_PLZ_20260211_0900_506503
DTSTAMP:20260211T090000
DTSTART:20260211T090000
DTEND:20260211T100000
SUMMARY:Konsultacje (I)
CATEGORIES:I
LOCATION:5 A-5
END:VEVENT
BEGIN:VEVENT
UID:UZ_PLZ_20260217_1000_496116
DTSTAMP:20260217T100000
DTSTART:20260217T100000
DTEND:20260217T105900
SUMMARY:Społeczna odpowiedzialność biznesu w logistyce (E): 11LOG-LB-SD(L)\; 12LOG-ML-SD(L)
CATEGORIES:E
LOCATION:3 A-29
END:VEVENT
BEGIN:VEVENT
UID:UZ_PLZ_20260218_0900_506503
DTSTAMP:20260218T090000
DTSTART:20260218T090000
DTEND:20260218T100000
SUMMARY:Konsultacje (I)
CATEGORIES:I
LOCATION:5 A-5
END:VEVENT
BEGIN:VEVENT
UID:UZ_PLZ_20260221_1000_496117
DTSTAMP:20260221T100000
DTSTART:20260221T100000
DTEND:20260221T105900
SUMMARY:Społeczna odpowiedzialność biznesu w logistyce (E): 11LOG-LB-ND(L)
CATEGORIES:E
LOCATION:F5 A-0
END:VEVENT
END:VCALENDAR
