BEGIN:VCALENDAR
TZID:Europe/Warsaw
X-WR-TIMEZONE:Europe/Warsaw
VERSION:2.0
PRODID:-//Uniwersytet Zielonogórski//NONSGML Plan zajęć v1.0//EN
NAME:Plan zajęć - semestr letni 2025/2026
X-WR-CALNAME:Plan zajęć - semestr letni 2025/2026
COLOR:green
CALSCALE:GREGORIAN
BEGIN:VEVENT
UID:UZ_PLZ_20260423_0815_503527
DTSTAMP:20260423T081500
DTSTART:20260423T081500
DTEND:20260423T095000
SUMMARY:Metody numeryczne w biotechnologii PW1b (W): 11BT-SP 25/26
CATEGORIES:W
LOCATION:115 A-8
END:VEVENT
BEGIN:VEVENT
UID:UZ_PLZ_20260423_1000_503452
DTSTAMP:20260423T100000
DTSTART:20260423T100000
DTEND:20260423T131500
SUMMARY:Metody numeryczne w biotechnologii PW1b (L): 11BT-SP 25/26/B
CATEGORIES:L
LOCATION:01 C-2
END:VEVENT
BEGIN:VEVENT
UID:UZ_PLZ_20260423_1330_503451
DTSTAMP:20260423T133000
DTSTART:20260423T133000
DTEND:20260423T164500
SUMMARY:Metody numeryczne w biotechnologii PW1b (L): 11BT-SP 25/26/A
CATEGORIES:L
LOCATION:01 C-2
END:VEVENT
BEGIN:VEVENT
UID:UZ_PLZ_20260430_1104_506962
DTSTAMP:20260430T110400
DTSTART:20260430T110400
DTEND:20260430T133400
SUMMARY:General enzymology (W)
CATEGORIES:W
LOCATION:01 C-2
END:VEVENT
BEGIN:VEVENT
UID:UZ_PLZ_20260430_1335_506963
DTSTAMP:20260430T133500
DTSTART:20260430T133500
DTEND:20260430T172000
SUMMARY:General enzymology (L)
CATEGORIES:L
LOCATION:01 C-2
END:VEVENT
BEGIN:VEVENT
UID:UZ_PLZ_20260504_1000_503524
DTSTAMP:20260504T100000
DTSTART:20260504T100000
DTEND:20260504T131000
SUMMARY:Enzymologia ogólna (L): 21BT-SP 24/25/B
CATEGORIES:L
LOCATION:01 C-2
END:VEVENT
BEGIN:VEVENT
UID:UZ_PLZ_20260505_0730_503432
DTSTAMP:20260505T073000
DTSTART:20260505T073000
DTEND:20260505T095000
SUMMARY:Enzymologia ogólna (W): 21BT-SP 24/25
CATEGORIES:W
LOCATION:221/221a A-8
END:VEVENT
BEGIN:VEVENT
UID:UZ_PLZ_20260505_1000_503512
DTSTAMP:20260505T100000
DTSTART:20260505T100000
DTEND:20260505T131500
SUMMARY:Enzymologia ogólna (L): 21BT-SP 24/25/C
CATEGORIES:L
LOCATION:01 C-2
END:VEVENT
BEGIN:VEVENT
UID:UZ_PLZ_20260505_1340_503497
DTSTAMP:20260505T134000
DTSTART:20260505T134000
DTEND:20260505T165500
SUMMARY:Enzymologia ogólna (L): 21BT-SP 24/25/A
CATEGORIES:L
LOCATION:01 C-2
END:VEVENT
BEGIN:VEVENT
UID:UZ_PLZ_20260506_0959_507974
DTSTAMP:20260506T095900
DTSTART:20260506T095900
DTEND:20260506T105900
SUMMARY:Konsultacje (I)
CATEGORIES:I
LOCATION:01 C-2
END:VEVENT
BEGIN:VEVENT
UID:UZ_PLZ_20260506_1100_503369
DTSTAMP:20260506T110000
DTSTART:20260506T110000
DTEND:20260506T130000
SUMMARY:Dyżur pracowniczy (I)
CATEGORIES:I
LOCATION:115 A-8
END:VEVENT
BEGIN:VEVENT
UID:UZ_PLZ_20260507_0815_503527
DTSTAMP:20260507T081500
DTSTART:20260507T081500
DTEND:20260507T095000
SUMMARY:Metody numeryczne w biotechnologii PW1b (W): 11BT-SP 25/26
CATEGORIES:W
LOCATION:115 A-8
END:VEVENT
BEGIN:VEVENT
UID:UZ_PLZ_20260507_1000_503452
DTSTAMP:20260507T100000
DTSTART:20260507T100000
DTEND:20260507T131000
SUMMARY:Metody numeryczne w biotechnologii PW1b (L): 11BT-SP 25/26/B
CATEGORIES:L
LOCATION:01 C-2
END:VEVENT
BEGIN:VEVENT
UID:UZ_PLZ_20260507_1330_503451
DTSTAMP:20260507T133000
DTSTART:20260507T133000
DTEND:20260507T164000
SUMMARY:Metody numeryczne w biotechnologii PW1b (L): 11BT-SP 25/26/A
CATEGORIES:L
LOCATION:01 C-2
END:VEVENT
BEGIN:VEVENT
UID:UZ_PLZ_20260513_0959_507974
DTSTAMP:20260513T095900
DTSTART:20260513T095900
DTEND:20260513T105900
SUMMARY:Konsultacje (I)
CATEGORIES:I
LOCATION:01 C-2
END:VEVENT
BEGIN:VEVENT
UID:UZ_PLZ_20260513_1100_503369
DTSTAMP:20260513T110000
DTSTART:20260513T110000
DTEND:20260513T130000
SUMMARY:Dyżur pracowniczy (I)
CATEGORIES:I
LOCATION:115 A-8
END:VEVENT
BEGIN:VEVENT
UID:UZ_PLZ_20260514_1104_506962
DTSTAMP:20260514T110400
DTSTART:20260514T110400
DTEND:20260514T133400
SUMMARY:General enzymology (W)
CATEGORIES:W
LOCATION:01 C-2
END:VEVENT
BEGIN:VEVENT
UID:UZ_PLZ_20260514_1335_506963
DTSTAMP:20260514T133500
DTSTART:20260514T133500
DTEND:20260514T172000
SUMMARY:General enzymology (L)
CATEGORIES:L
LOCATION:01 C-2
END:VEVENT
BEGIN:VEVENT
UID:UZ_PLZ_20260515_1104_506964
DTSTAMP:20260515T110400
DTSTART:20260515T110400
DTEND:20260515T125400
SUMMARY:Techniques ofphylogenesis reconstruction (W)
CATEGORIES:W
LOCATION:01 C-2
END:VEVENT
BEGIN:VEVENT
UID:UZ_PLZ_20260515_1255_506965
DTSTAMP:20260515T125500
DTSTART:20260515T125500
DTEND:20260515T145000
SUMMARY:Techniques ofphylogenesis reconstruction (L)
CATEGORIES:L
LOCATION:01 C-2
END:VEVENT
BEGIN:VEVENT
UID:UZ_PLZ_20260518_1000_503524
DTSTAMP:20260518T100000
DTSTART:20260518T100000
DTEND:20260518T131000
SUMMARY:Enzymologia ogólna (L): 21BT-SP 24/25/B
CATEGORIES:L
LOCATION:01 C-2
END:VEVENT
BEGIN:VEVENT
UID:UZ_PLZ_20260519_0730_503432
DTSTAMP:20260519T073000
DTSTART:20260519T073000
DTEND:20260519T095000
SUMMARY:Enzymologia ogólna (W): 21BT-SP 24/25
CATEGORIES:W
LOCATION:221/221a A-8
END:VEVENT
BEGIN:VEVENT
UID:UZ_PLZ_20260519_1000_503512
DTSTAMP:20260519T100000
DTSTART:20260519T100000
DTEND:20260519T131500
SUMMARY:Enzymologia ogólna (L): 21BT-SP 24/25/C
CATEGORIES:L
LOCATION:01 C-2
END:VEVENT
BEGIN:VEVENT
UID:UZ_PLZ_20260519_1340_503497
DTSTAMP:20260519T134000
DTSTART:20260519T134000
DTEND:20260519T165500
SUMMARY:Enzymologia ogólna (L): 21BT-SP 24/25/A
CATEGORIES:L
LOCATION:01 C-2
END:VEVENT
BEGIN:VEVENT
UID:UZ_PLZ_20260520_0959_507974
DTSTAMP:20260520T095900
DTSTART:20260520T095900
DTEND:20260520T105900
SUMMARY:Konsultacje (I)
CATEGORIES:I
LOCATION:01 C-2
END:VEVENT
BEGIN:VEVENT
UID:UZ_PLZ_20260520_1100_503369
DTSTAMP:20260520T110000
DTSTART:20260520T110000
DTEND:20260520T130000
SUMMARY:Dyżur pracowniczy (I)
CATEGORIES:I
LOCATION:115 A-8
END:VEVENT
BEGIN:VEVENT
UID:UZ_PLZ_20260521_0815_503527
DTSTAMP:20260521T081500
DTSTART:20260521T081500
DTEND:20260521T095000
SUMMARY:Metody numeryczne w biotechnologii PW1b (W): 11BT-SP 25/26
CATEGORIES:W
LOCATION:115 A-8
END:VEVENT
BEGIN:VEVENT
UID:UZ_PLZ_20260521_1000_503452
DTSTAMP:20260521T100000
DTSTART:20260521T100000
DTEND:20260521T131000
SUMMARY:Metody numeryczne w biotechnologii PW1b (L): 11BT-SP 25/26/B
CATEGORIES:L
LOCATION:01 C-2
END:VEVENT
BEGIN:VEVENT
UID:UZ_PLZ_20260521_1330_503451
DTSTAMP:20260521T133000
DTSTART:20260521T133000
DTEND:20260521T164000
SUMMARY:Metody numeryczne w biotechnologii PW1b (L): 11BT-SP 25/26/A
CATEGORIES:L
LOCATION:01 C-2
END:VEVENT
BEGIN:VEVENT
UID:UZ_PLZ_20260527_0959_507974
DTSTAMP:20260527T095900
DTSTART:20260527T095900
DTEND:20260527T105900
SUMMARY:Konsultacje (I)
CATEGORIES:I
LOCATION:01 C-2
END:VEVENT
BEGIN:VEVENT
UID:UZ_PLZ_20260527_1100_503369
DTSTAMP:20260527T110000
DTSTART:20260527T110000
DTEND:20260527T130000
SUMMARY:Dyżur pracowniczy (I)
CATEGORIES:I
LOCATION:115 A-8
END:VEVENT
BEGIN:VEVENT
UID:UZ_PLZ_20260528_1104_506962
DTSTAMP:20260528T110400
DTSTART:20260528T110400
DTEND:20260528T133400
SUMMARY:General enzymology (W)
CATEGORIES:W
LOCATION:01 C-2
END:VEVENT
BEGIN:VEVENT
UID:UZ_PLZ_20260528_1335_506963
DTSTAMP:20260528T133500
DTSTART:20260528T133500
DTEND:20260528T172000
SUMMARY:General enzymology (L)
CATEGORIES:L
LOCATION:01 C-2
END:VEVENT
BEGIN:VEVENT
UID:UZ_PLZ_20260529_1104_506964
DTSTAMP:20260529T110400
DTSTART:20260529T110400
DTEND:20260529T125400
SUMMARY:Techniques ofphylogenesis reconstruction (W)
CATEGORIES:W
LOCATION:01 C-2
END:VEVENT
BEGIN:VEVENT
UID:UZ_PLZ_20260529_1255_506965
DTSTAMP:20260529T125500
DTSTART:20260529T125500
DTEND:20260529T145000
SUMMARY:Techniques ofphylogenesis reconstruction (L)
CATEGORIES:L
LOCATION:01 C-2
END:VEVENT
BEGIN:VEVENT
UID:UZ_PLZ_20260601_1000_503524
DTSTAMP:20260601T100000
DTSTART:20260601T100000
DTEND:20260601T131000
SUMMARY:Enzymologia ogólna (L): 21BT-SP 24/25/B
CATEGORIES:L
LOCATION:01 C-2
END:VEVENT
BEGIN:VEVENT
UID:UZ_PLZ_20260602_0730_503432
DTSTAMP:20260602T073000
DTSTART:20260602T073000
DTEND:20260602T095000
SUMMARY:Enzymologia ogólna (W): 21BT-SP 24/25
CATEGORIES:W
LOCATION:221/221a A-8
END:VEVENT
BEGIN:VEVENT
UID:UZ_PLZ_20260602_1000_503512
DTSTAMP:20260602T100000
DTSTART:20260602T100000
DTEND:20260602T131500
SUMMARY:Enzymologia ogólna (L): 21BT-SP 24/25/C
CATEGORIES:L
LOCATION:01 C-2
END:VEVENT
BEGIN:VEVENT
UID:UZ_PLZ_20260602_1340_503497
DTSTAMP:20260602T134000
DTSTART:20260602T134000
DTEND:20260602T165500
SUMMARY:Enzymologia ogólna (L): 21BT-SP 24/25/A
CATEGORIES:L
LOCATION:01 C-2
END:VEVENT
BEGIN:VEVENT
UID:UZ_PLZ_20260603_0959_507974
DTSTAMP:20260603T095900
DTSTART:20260603T095900
DTEND:20260603T105900
SUMMARY:Konsultacje (I)
CATEGORIES:I
LOCATION:01 C-2
END:VEVENT
BEGIN:VEVENT
UID:UZ_PLZ_20260603_1100_503369
DTSTAMP:20260603T110000
DTSTART:20260603T110000
DTEND:20260603T130000
SUMMARY:Dyżur pracowniczy (I)
CATEGORIES:I
LOCATION:115 A-8
END:VEVENT
BEGIN:VEVENT
UID:UZ_PLZ_20260609_1000_503512
DTSTAMP:20260609T100000
DTSTART:20260609T100000
DTEND:20260609T131500
SUMMARY:Enzymologia ogólna (L): 21BT-SP 24/25/C
CATEGORIES:L
LOCATION:01 C-2
END:VEVENT
BEGIN:VEVENT
UID:UZ_PLZ_20260609_1340_503497
DTSTAMP:20260609T134000
DTSTART:20260609T134000
DTEND:20260609T165500
SUMMARY:Enzymologia ogólna (L): 21BT-SP 24/25/A
CATEGORIES:L
LOCATION:01 C-2
END:VEVENT
BEGIN:VEVENT
UID:UZ_PLZ_20260609_1730_503524
DTSTAMP:20260609T173000
DTSTART:20260609T173000
DTEND:20260609T204500
SUMMARY:Enzymologia ogólna (L): 21BT-SP 24/25/B
CATEGORIES:L
LOCATION:01 C-2
END:VEVENT
BEGIN:VEVENT
UID:UZ_PLZ_20260610_0959_507974
DTSTAMP:20260610T095900
DTSTART:20260610T095900
DTEND:20260610T105900
SUMMARY:Konsultacje (I)
CATEGORIES:I
LOCATION:01 C-2
END:VEVENT
BEGIN:VEVENT
UID:UZ_PLZ_20260610_1100_503369
DTSTAMP:20260610T110000
DTSTART:20260610T110000
DTEND:20260610T130000
SUMMARY:Dyżur pracowniczy (I)
CATEGORIES:I
LOCATION:115 A-8
END:VEVENT
BEGIN:VEVENT
UID:UZ_PLZ_20260617_0959_507974
DTSTAMP:20260617T095900
DTSTART:20260617T095900
DTEND:20260617T105900
SUMMARY:Konsultacje (I)
CATEGORIES:I
LOCATION:01 C-2
END:VEVENT
BEGIN:VEVENT
UID:UZ_PLZ_20260617_1100_503369
DTSTAMP:20260617T110000
DTSTART:20260617T110000
DTEND:20260617T130000
SUMMARY:Dyżur pracowniczy (I)
CATEGORIES:I
LOCATION:115 A-8
END:VEVENT
BEGIN:VEVENT
UID:UZ_PLZ_20260618_0815_503527
DTSTAMP:20260618T081500
DTSTART:20260618T081500
DTEND:20260618T095000
SUMMARY:Metody numeryczne w biotechnologii PW1b (W): 11BT-SP 25/26
CATEGORIES:W
LOCATION:115 A-8
END:VEVENT
BEGIN:VEVENT
UID:UZ_PLZ_20260618_1000_503452
DTSTAMP:20260618T100000
DTSTART:20260618T100000
DTEND:20260618T131000
SUMMARY:Metody numeryczne w biotechnologii PW1b (L): 11BT-SP 25/26/B
CATEGORIES:L
LOCATION:01 C-2
END:VEVENT
BEGIN:VEVENT
UID:UZ_PLZ_20260618_1330_503451
DTSTAMP:20260618T133000
DTSTART:20260618T133000
DTEND:20260618T164000
SUMMARY:Metody numeryczne w biotechnologii PW1b (L): 11BT-SP 25/26/A
CATEGORIES:L
LOCATION:01 C-2
END:VEVENT
END:VCALENDAR
