BEGIN:VCALENDAR
TZID:Europe/Warsaw
X-WR-TIMEZONE:Europe/Warsaw
VERSION:2.0
PRODID:-//Uniwersytet Zielonogórski//NONSGML Plan zajęć v1.0//EN
NAME:Plan zajęć - semestr letni 2025/2026
X-WR-CALNAME:Plan zajęć - semestr letni 2025/2026
COLOR:green
CALSCALE:GREGORIAN
BEGIN:VEVENT
UID:UZ_PLZ_20260423_0730_498861
DTSTAMP:20260423T073000
DTSTART:20260423T073000
DTEND:20260423T090000
SUMMARY:Analiza finansowa (L): 22FiR-RPG-SP/A
CATEGORIES:L
LOCATION:121 A-29
END:VEVENT
BEGIN:VEVENT
UID:UZ_PLZ_20260423_0915_498992
DTSTAMP:20260423T091500
DTSTART:20260423T091500
DTEND:20260423T105000
SUMMARY:Analiza finansowa (W): 21FiR-FB-SP\; 22FiR-RPG-SP
CATEGORIES:W
LOCATION:216 A-29
END:VEVENT
BEGIN:VEVENT
UID:UZ_PLZ_20260423_1100_498822
DTSTAMP:20260423T110000
DTSTART:20260423T110000
DTEND:20260423T123000
SUMMARY:Analiza finansowa (L): 21FiR-FB-SP/A
CATEGORIES:L
LOCATION:121 A-29
END:VEVENT
BEGIN:VEVENT
UID:UZ_PLZ_20260423_1245_499012
DTSTAMP:20260423T124500
DTSTART:20260423T124500
DTEND:20260423T141500
SUMMARY:Prawo gospodarcze i prawo pracy (Ć): 11FiR-SP
CATEGORIES:Ć
LOCATION:223 A-29
END:VEVENT
BEGIN:VEVENT
UID:UZ_PLZ_20260423_1430_498927
DTSTAMP:20260423T143000
DTSTART:20260423T143000
DTEND:20260423T160000
SUMMARY:Prawo gospodarcze i prawo pracy (Ć): 12FiR-SP
CATEGORIES:Ć
LOCATION:223 A-29
END:VEVENT
BEGIN:VEVENT
UID:UZ_PLZ_20260423_1615_498886
DTSTAMP:20260423T161500
DTSTART:20260423T161500
DTEND:20260423T175000
SUMMARY:Sprawozdawczość  finansowa (Ć): 11EK-RDF-SD
CATEGORIES:Ć
LOCATION:223 A-29
END:VEVENT
BEGIN:VEVENT
UID:UZ_PLZ_20260423_1800_498921
DTSTAMP:20260423T180000
DTSTART:20260423T180000
DTEND:20260423T193000
SUMMARY:Finansowanie przedsiębiorczości (P): 21EK-EP-SD
CATEGORIES:P
LOCATION:223 A-29
END:VEVENT
BEGIN:VEVENT
UID:UZ_PLZ_20260423_1945_498942
DTSTAMP:20260423T194500
DTSTART:20260423T194500
DTEND:20260423T211500
SUMMARY:Finansowanie przedsiębiorczości (P): 22EK-RDF-SD
CATEGORIES:P
LOCATION:223 A-29
END:VEVENT
BEGIN:VEVENT
UID:UZ_PLZ_20260425_0915_499122
DTSTAMP:20260425T091500
DTSTART:20260425T091500
DTEND:20260425T104500
SUMMARY:Analiza finansowa (L): 21FiR-FB-NP/A
CATEGORIES:L
LOCATION:121 A-29
END:VEVENT
BEGIN:VEVENT
UID:UZ_PLZ_20260425_1100_499144
DTSTAMP:20260425T110000
DTSTART:20260425T110000
DTEND:20260425T122000
SUMMARY:Analiza i raportowanie wyników finansowych (W): 12FiR-FP-ND
CATEGORIES:W
LOCATION:2 A-29
X-ALT-DESC;FMTTYPE=text/html:<html><body><a href="https://classroom.google.com/c/ODUxNjc1NDc3MTQw">Google Classroom</a> </body></html>
END:VEVENT
BEGIN:VEVENT
UID:UZ_PLZ_20260425_1245_499263
DTSTAMP:20260425T124500
DTSTART:20260425T124500
DTEND:20260425T131000
SUMMARY:Seminarium  III (S): 22FiR-FP-ND
CATEGORIES:S
LOCATION:118 A-29
END:VEVENT
BEGIN:VEVENT
UID:UZ_PLZ_20260425_1245_499251
DTSTAMP:20260425T124500
DTSTART:20260425T124500
DTEND:20260425T131500
SUMMARY:Seminarium  III (S): 21FiR-ARF-ND
CATEGORIES:S
LOCATION:118 A-29
END:VEVENT
BEGIN:VEVENT
UID:UZ_PLZ_20260425_1245_499300
DTSTAMP:20260425T124500
DTSTART:20260425T124500
DTEND:20260425T132000
SUMMARY:Proseminarium (Pro): 21FiR-FB-NP\; 22FiR-RPG-NP
CATEGORIES:Pro
LOCATION:118 A-29
END:VEVENT
BEGIN:VEVENT
UID:UZ_PLZ_20260425_1430_499158
DTSTAMP:20260425T143000
DTSTART:20260425T143000
DTEND:20260425T160000
SUMMARY:Prawo gospodarcze i prawo pracy (Ć): 11FiR-NP
CATEGORIES:Ć
LOCATION:202 A-29
END:VEVENT
BEGIN:VEVENT
UID:UZ_PLZ_20260425_1615_498391
DTSTAMP:20260425T161500
DTSTART:20260425T161500
DTEND:20260425T173500
SUMMARY:Prawo cywilne (Ć): 11LOG-ND(L)
CATEGORIES:Ć
LOCATION:202 A-29
END:VEVENT
BEGIN:VEVENT
UID:UZ_PLZ_20260426_0730_499098
DTSTAMP:20260426T073000
DTSTART:20260426T073000
DTEND:20260426T090000
SUMMARY:Analiza finansowa (L): 22FiR-RPG-NP/A
CATEGORIES:L
LOCATION:121 A-29
END:VEVENT
BEGIN:VEVENT
UID:UZ_PLZ_20260426_0915_499078
DTSTAMP:20260426T091500
DTSTART:20260426T091500
DTEND:20260426T104500
SUMMARY:Analiza finansowa (L): 22FiR-RPG-NP/B
CATEGORIES:L
LOCATION:121 A-29
END:VEVENT
BEGIN:VEVENT
UID:UZ_PLZ_20260426_1100_499021
DTSTAMP:20260426T110000
DTSTART:20260426T110000
DTEND:20260426T123000
SUMMARY:Analiza i raportowanie wyników finansowych (L): 12FiR-FP-ND/A
CATEGORIES:L
LOCATION:121 A-29
END:VEVENT
BEGIN:VEVENT
UID:UZ_PLZ_20260426_1245_499079
DTSTAMP:20260426T124500
DTSTART:20260426T124500
DTEND:20260426T141500
SUMMARY:Analiza i raportowanie wyników finansowych (L): 12FiR-FP-ND/B
CATEGORIES:L
LOCATION:121 A-29
END:VEVENT
BEGIN:VEVENT
UID:UZ_PLZ_20260426_1615_499143
DTSTAMP:20260426T161500
DTSTART:20260426T161500
DTEND:20260426T173500
SUMMARY:Analiza finansowa (W): 21FiR-FB-NP\; 22FiR-RPG-NP
CATEGORIES:W
LOCATION:3 A-29
END:VEVENT
BEGIN:VEVENT
UID:UZ_PLZ_20260430_0730_498861
DTSTAMP:20260430T073000
DTSTART:20260430T073000
DTEND:20260430T090000
SUMMARY:Analiza finansowa (L): 22FiR-RPG-SP/A
CATEGORIES:L
LOCATION:121 A-29
END:VEVENT
BEGIN:VEVENT
UID:UZ_PLZ_20260430_0915_498877
DTSTAMP:20260430T091500
DTSTART:20260430T091500
DTEND:20260430T104000
SUMMARY:Prawo gospodarcze i prawo pracy (W): 11FiR-SP\; 12FiR-SP\; 13FiR-SP
CATEGORIES:W
LOCATION:216 A-29
END:VEVENT
BEGIN:VEVENT
UID:UZ_PLZ_20260430_1100_498822
DTSTAMP:20260430T110000
DTSTART:20260430T110000
DTEND:20260430T123000
SUMMARY:Analiza finansowa (L): 21FiR-FB-SP/A
CATEGORIES:L
LOCATION:121 A-29
END:VEVENT
BEGIN:VEVENT
UID:UZ_PLZ_20260430_1245_499012
DTSTAMP:20260430T124500
DTSTART:20260430T124500
DTEND:20260430T141500
SUMMARY:Prawo gospodarcze i prawo pracy (Ć): 11FiR-SP
CATEGORIES:Ć
LOCATION:223 A-29
END:VEVENT
BEGIN:VEVENT
UID:UZ_PLZ_20260430_1430_498927
DTSTAMP:20260430T143000
DTSTART:20260430T143000
DTEND:20260430T160000
SUMMARY:Prawo gospodarcze i prawo pracy (Ć): 12FiR-SP
CATEGORIES:Ć
LOCATION:223 A-29
END:VEVENT
BEGIN:VEVENT
UID:UZ_PLZ_20260430_1615_498060
DTSTAMP:20260430T161500
DTSTART:20260430T161500
DTEND:20260430T174000
SUMMARY:Prawo cywilne (Ć): 11LOG-SD(L)
CATEGORIES:Ć
LOCATION:223 A-29
END:VEVENT
BEGIN:VEVENT
UID:UZ_PLZ_20260430_1800_498921
DTSTAMP:20260430T180000
DTSTART:20260430T180000
DTEND:20260430T193000
SUMMARY:Finansowanie przedsiębiorczości (P): 21EK-EP-SD
CATEGORIES:P
LOCATION:223 A-29
END:VEVENT
BEGIN:VEVENT
UID:UZ_PLZ_20260430_1945_498942
DTSTAMP:20260430T194500
DTSTART:20260430T194500
DTEND:20260430T211500
SUMMARY:Finansowanie przedsiębiorczości (P): 22EK-RDF-SD
CATEGORIES:P
LOCATION:223 A-29
END:VEVENT
BEGIN:VEVENT
UID:UZ_PLZ_20260506_1100_507491
DTSTAMP:20260506T110000
DTSTART:20260506T110000
DTEND:20260506T123000
SUMMARY:Konsultacje (I)
CATEGORIES:I
LOCATION:118 A-0
END:VEVENT
BEGIN:VEVENT
UID:UZ_PLZ_20260507_0730_498861
DTSTAMP:20260507T073000
DTSTART:20260507T073000
DTEND:20260507T090000
SUMMARY:Analiza finansowa (L): 22FiR-RPG-SP/A
CATEGORIES:L
LOCATION:121 A-29
END:VEVENT
BEGIN:VEVENT
UID:UZ_PLZ_20260507_0915_498992
DTSTAMP:20260507T091500
DTSTART:20260507T091500
DTEND:20260507T105000
SUMMARY:Analiza finansowa (W): 21FiR-FB-SP\; 22FiR-RPG-SP
CATEGORIES:W
LOCATION:216 A-29
END:VEVENT
BEGIN:VEVENT
UID:UZ_PLZ_20260507_1100_498822
DTSTAMP:20260507T110000
DTSTART:20260507T110000
DTEND:20260507T123000
SUMMARY:Analiza finansowa (L): 21FiR-FB-SP/A
CATEGORIES:L
LOCATION:121 A-29
END:VEVENT
BEGIN:VEVENT
UID:UZ_PLZ_20260507_1245_499012
DTSTAMP:20260507T124500
DTSTART:20260507T124500
DTEND:20260507T141500
SUMMARY:Prawo gospodarcze i prawo pracy (Ć): 11FiR-SP
CATEGORIES:Ć
LOCATION:223 A-29
END:VEVENT
BEGIN:VEVENT
UID:UZ_PLZ_20260507_1430_498927
DTSTAMP:20260507T143000
DTSTART:20260507T143000
DTEND:20260507T160000
SUMMARY:Prawo gospodarcze i prawo pracy (Ć): 12FiR-SP
CATEGORIES:Ć
LOCATION:223 A-29
END:VEVENT
BEGIN:VEVENT
UID:UZ_PLZ_20260507_1615_498886
DTSTAMP:20260507T161500
DTSTART:20260507T161500
DTEND:20260507T175000
SUMMARY:Sprawozdawczość  finansowa (Ć): 11EK-RDF-SD
CATEGORIES:Ć
LOCATION:223 A-29
END:VEVENT
BEGIN:VEVENT
UID:UZ_PLZ_20260507_1800_498921
DTSTAMP:20260507T180000
DTSTART:20260507T180000
DTEND:20260507T193000
SUMMARY:Finansowanie przedsiębiorczości (P): 21EK-EP-SD
CATEGORIES:P
LOCATION:223 A-29
END:VEVENT
BEGIN:VEVENT
UID:UZ_PLZ_20260507_1945_498942
DTSTAMP:20260507T194500
DTSTART:20260507T194500
DTEND:20260507T211500
SUMMARY:Finansowanie przedsiębiorczości (P): 22EK-RDF-SD
CATEGORIES:P
LOCATION:223 A-29
END:VEVENT
BEGIN:VEVENT
UID:UZ_PLZ_20260509_0915_499122
DTSTAMP:20260509T091500
DTSTART:20260509T091500
DTEND:20260509T104500
SUMMARY:Analiza finansowa (L): 21FiR-FB-NP/A
CATEGORIES:L
LOCATION:121 A-29
END:VEVENT
BEGIN:VEVENT
UID:UZ_PLZ_20260509_1100_507492
DTSTAMP:20260509T110000
DTSTART:20260509T110000
DTEND:20260509T123000
SUMMARY:Konsultacje (I)
CATEGORIES:I
LOCATION:118 A-0
END:VEVENT
BEGIN:VEVENT
UID:UZ_PLZ_20260509_1245_499263
DTSTAMP:20260509T124500
DTSTART:20260509T124500
DTEND:20260509T131000
SUMMARY:Seminarium  III (S): 22FiR-FP-ND
CATEGORIES:S
LOCATION:118 A-29
END:VEVENT
BEGIN:VEVENT
UID:UZ_PLZ_20260509_1245_499251
DTSTAMP:20260509T124500
DTSTART:20260509T124500
DTEND:20260509T131500
SUMMARY:Seminarium  III (S): 21FiR-ARF-ND
CATEGORIES:S
LOCATION:118 A-29
END:VEVENT
BEGIN:VEVENT
UID:UZ_PLZ_20260509_1245_499300
DTSTAMP:20260509T124500
DTSTART:20260509T124500
DTEND:20260509T132000
SUMMARY:Proseminarium (Pro): 21FiR-FB-NP\; 22FiR-RPG-NP
CATEGORIES:Pro
LOCATION:118 A-29
END:VEVENT
BEGIN:VEVENT
UID:UZ_PLZ_20260509_1430_499158
DTSTAMP:20260509T143000
DTSTART:20260509T143000
DTEND:20260509T160000
SUMMARY:Prawo gospodarcze i prawo pracy (Ć): 11FiR-NP
CATEGORIES:Ć
LOCATION:202 A-29
END:VEVENT
BEGIN:VEVENT
UID:UZ_PLZ_20260510_0730_499098
DTSTAMP:20260510T073000
DTSTART:20260510T073000
DTEND:20260510T090000
SUMMARY:Analiza finansowa (L): 22FiR-RPG-NP/A
CATEGORIES:L
LOCATION:121 A-29
END:VEVENT
BEGIN:VEVENT
UID:UZ_PLZ_20260510_0915_499078
DTSTAMP:20260510T091500
DTSTART:20260510T091500
DTEND:20260510T104500
SUMMARY:Analiza finansowa (L): 22FiR-RPG-NP/B
CATEGORIES:L
LOCATION:121 A-29
END:VEVENT
BEGIN:VEVENT
UID:UZ_PLZ_20260510_1100_499021
DTSTAMP:20260510T110000
DTSTART:20260510T110000
DTEND:20260510T123000
SUMMARY:Analiza i raportowanie wyników finansowych (L): 12FiR-FP-ND/A
CATEGORIES:L
LOCATION:121 A-29
END:VEVENT
BEGIN:VEVENT
UID:UZ_PLZ_20260510_1245_499079
DTSTAMP:20260510T124500
DTSTART:20260510T124500
DTEND:20260510T141500
SUMMARY:Analiza i raportowanie wyników finansowych (L): 12FiR-FP-ND/B
CATEGORIES:L
LOCATION:121 A-29
END:VEVENT
BEGIN:VEVENT
UID:UZ_PLZ_20260510_1615_499178
DTSTAMP:20260510T161500
DTSTART:20260510T161500
DTEND:20260510T175500
SUMMARY:Prawo gospodarcze i prawo pracy (W): 11FiR-NP
CATEGORIES:W
LOCATION:3 A-29
END:VEVENT
BEGIN:VEVENT
UID:UZ_PLZ_20260513_1100_507491
DTSTAMP:20260513T110000
DTSTART:20260513T110000
DTEND:20260513T123000
SUMMARY:Konsultacje (I)
CATEGORIES:I
LOCATION:118 A-0
END:VEVENT
BEGIN:VEVENT
UID:UZ_PLZ_20260514_0730_498861
DTSTAMP:20260514T073000
DTSTART:20260514T073000
DTEND:20260514T090000
SUMMARY:Analiza finansowa (L): 22FiR-RPG-SP/A
CATEGORIES:L
LOCATION:121 A-29
END:VEVENT
BEGIN:VEVENT
UID:UZ_PLZ_20260514_0915_498877
DTSTAMP:20260514T091500
DTSTART:20260514T091500
DTEND:20260514T104000
SUMMARY:Prawo gospodarcze i prawo pracy (W): 11FiR-SP\; 12FiR-SP\; 13FiR-SP
CATEGORIES:W
LOCATION:216 A-29
END:VEVENT
BEGIN:VEVENT
UID:UZ_PLZ_20260514_1100_498822
DTSTAMP:20260514T110000
DTSTART:20260514T110000
DTEND:20260514T123000
SUMMARY:Analiza finansowa (L): 21FiR-FB-SP/A
CATEGORIES:L
LOCATION:121 A-29
END:VEVENT
BEGIN:VEVENT
UID:UZ_PLZ_20260514_1245_499012
DTSTAMP:20260514T124500
DTSTART:20260514T124500
DTEND:20260514T141500
SUMMARY:Prawo gospodarcze i prawo pracy (Ć): 11FiR-SP
CATEGORIES:Ć
LOCATION:223 A-29
END:VEVENT
BEGIN:VEVENT
UID:UZ_PLZ_20260514_1430_498927
DTSTAMP:20260514T143000
DTSTART:20260514T143000
DTEND:20260514T160000
SUMMARY:Prawo gospodarcze i prawo pracy (Ć): 12FiR-SP
CATEGORIES:Ć
LOCATION:223 A-29
END:VEVENT
BEGIN:VEVENT
UID:UZ_PLZ_20260514_1615_498060
DTSTAMP:20260514T161500
DTSTART:20260514T161500
DTEND:20260514T174000
SUMMARY:Prawo cywilne (Ć): 11LOG-SD(L)
CATEGORIES:Ć
LOCATION:223 A-29
END:VEVENT
BEGIN:VEVENT
UID:UZ_PLZ_20260514_1800_498921
DTSTAMP:20260514T180000
DTSTART:20260514T180000
DTEND:20260514T193000
SUMMARY:Finansowanie przedsiębiorczości (P): 21EK-EP-SD
CATEGORIES:P
LOCATION:223 A-29
END:VEVENT
BEGIN:VEVENT
UID:UZ_PLZ_20260514_1945_498942
DTSTAMP:20260514T194500
DTSTART:20260514T194500
DTEND:20260514T211500
SUMMARY:Finansowanie przedsiębiorczości (P): 22EK-RDF-SD
CATEGORIES:P
LOCATION:223 A-29
END:VEVENT
BEGIN:VEVENT
UID:UZ_PLZ_20260516_0915_499122
DTSTAMP:20260516T091500
DTSTART:20260516T091500
DTEND:20260516T104500
SUMMARY:Analiza finansowa (L): 21FiR-FB-NP/A
CATEGORIES:L
LOCATION:121 A-29
END:VEVENT
BEGIN:VEVENT
UID:UZ_PLZ_20260516_1100_499144
DTSTAMP:20260516T110000
DTSTART:20260516T110000
DTEND:20260516T122000
SUMMARY:Analiza i raportowanie wyników finansowych (W): 12FiR-FP-ND
CATEGORIES:W
LOCATION:2 A-29
X-ALT-DESC;FMTTYPE=text/html:<html><body><a href="https://classroom.google.com/c/ODUxNjc1NDc3MTQw">Google Classroom</a> </body></html>
END:VEVENT
BEGIN:VEVENT
UID:UZ_PLZ_20260516_1245_499263
DTSTAMP:20260516T124500
DTSTART:20260516T124500
DTEND:20260516T131000
SUMMARY:Seminarium  III (S): 22FiR-FP-ND
CATEGORIES:S
LOCATION:118 A-29
END:VEVENT
BEGIN:VEVENT
UID:UZ_PLZ_20260516_1245_499251
DTSTAMP:20260516T124500
DTSTART:20260516T124500
DTEND:20260516T131500
SUMMARY:Seminarium  III (S): 21FiR-ARF-ND
CATEGORIES:S
LOCATION:118 A-29
END:VEVENT
BEGIN:VEVENT
UID:UZ_PLZ_20260516_1245_499300
DTSTAMP:20260516T124500
DTSTART:20260516T124500
DTEND:20260516T132000
SUMMARY:Proseminarium (Pro): 21FiR-FB-NP\; 22FiR-RPG-NP
CATEGORIES:Pro
LOCATION:118 A-29
END:VEVENT
BEGIN:VEVENT
UID:UZ_PLZ_20260516_1430_499158
DTSTAMP:20260516T143000
DTSTART:20260516T143000
DTEND:20260516T160000
SUMMARY:Prawo gospodarcze i prawo pracy (Ć): 11FiR-NP
CATEGORIES:Ć
LOCATION:202 A-29
END:VEVENT
BEGIN:VEVENT
UID:UZ_PLZ_20260516_1615_498391
DTSTAMP:20260516T161500
DTSTART:20260516T161500
DTEND:20260516T173500
SUMMARY:Prawo cywilne (Ć): 11LOG-ND(L)
CATEGORIES:Ć
LOCATION:202 A-29
END:VEVENT
BEGIN:VEVENT
UID:UZ_PLZ_20260517_0730_499098
DTSTAMP:20260517T073000
DTSTART:20260517T073000
DTEND:20260517T090000
SUMMARY:Analiza finansowa (L): 22FiR-RPG-NP/A
CATEGORIES:L
LOCATION:121 A-29
END:VEVENT
BEGIN:VEVENT
UID:UZ_PLZ_20260517_0915_499078
DTSTAMP:20260517T091500
DTSTART:20260517T091500
DTEND:20260517T104500
SUMMARY:Analiza finansowa (L): 22FiR-RPG-NP/B
CATEGORIES:L
LOCATION:121 A-29
END:VEVENT
BEGIN:VEVENT
UID:UZ_PLZ_20260517_1100_499021
DTSTAMP:20260517T110000
DTSTART:20260517T110000
DTEND:20260517T123000
SUMMARY:Analiza i raportowanie wyników finansowych (L): 12FiR-FP-ND/A
CATEGORIES:L
LOCATION:121 A-29
END:VEVENT
BEGIN:VEVENT
UID:UZ_PLZ_20260517_1245_499079
DTSTAMP:20260517T124500
DTSTART:20260517T124500
DTEND:20260517T141500
SUMMARY:Analiza i raportowanie wyników finansowych (L): 12FiR-FP-ND/B
CATEGORIES:L
LOCATION:121 A-29
END:VEVENT
BEGIN:VEVENT
UID:UZ_PLZ_20260517_1615_499143
DTSTAMP:20260517T161500
DTSTART:20260517T161500
DTEND:20260517T173500
SUMMARY:Analiza finansowa (W): 21FiR-FB-NP\; 22FiR-RPG-NP
CATEGORIES:W
LOCATION:3 A-29
END:VEVENT
BEGIN:VEVENT
UID:UZ_PLZ_20260520_1100_507491
DTSTAMP:20260520T110000
DTSTART:20260520T110000
DTEND:20260520T123000
SUMMARY:Konsultacje (I)
CATEGORIES:I
LOCATION:118 A-0
END:VEVENT
BEGIN:VEVENT
UID:UZ_PLZ_20260521_0730_498861
DTSTAMP:20260521T073000
DTSTART:20260521T073000
DTEND:20260521T090000
SUMMARY:Analiza finansowa (L): 22FiR-RPG-SP/A
CATEGORIES:L
LOCATION:121 A-29
END:VEVENT
BEGIN:VEVENT
UID:UZ_PLZ_20260521_0915_498992
DTSTAMP:20260521T091500
DTSTART:20260521T091500
DTEND:20260521T105000
SUMMARY:Analiza finansowa (W): 21FiR-FB-SP\; 22FiR-RPG-SP
CATEGORIES:W
LOCATION:216 A-29
END:VEVENT
BEGIN:VEVENT
UID:UZ_PLZ_20260521_1100_498822
DTSTAMP:20260521T110000
DTSTART:20260521T110000
DTEND:20260521T123000
SUMMARY:Analiza finansowa (L): 21FiR-FB-SP/A
CATEGORIES:L
LOCATION:121 A-29
END:VEVENT
BEGIN:VEVENT
UID:UZ_PLZ_20260521_1245_499012
DTSTAMP:20260521T124500
DTSTART:20260521T124500
DTEND:20260521T141500
SUMMARY:Prawo gospodarcze i prawo pracy (Ć): 11FiR-SP
CATEGORIES:Ć
LOCATION:223 A-29
END:VEVENT
BEGIN:VEVENT
UID:UZ_PLZ_20260521_1430_498927
DTSTAMP:20260521T143000
DTSTART:20260521T143000
DTEND:20260521T160000
SUMMARY:Prawo gospodarcze i prawo pracy (Ć): 12FiR-SP
CATEGORIES:Ć
LOCATION:223 A-29
END:VEVENT
BEGIN:VEVENT
UID:UZ_PLZ_20260521_1615_498886
DTSTAMP:20260521T161500
DTSTART:20260521T161500
DTEND:20260521T175000
SUMMARY:Sprawozdawczość  finansowa (Ć): 11EK-RDF-SD
CATEGORIES:Ć
LOCATION:223 A-29
END:VEVENT
BEGIN:VEVENT
UID:UZ_PLZ_20260521_1800_498921
DTSTAMP:20260521T180000
DTSTART:20260521T180000
DTEND:20260521T193000
SUMMARY:Finansowanie przedsiębiorczości (P): 21EK-EP-SD
CATEGORIES:P
LOCATION:223 A-29
END:VEVENT
BEGIN:VEVENT
UID:UZ_PLZ_20260521_1945_498942
DTSTAMP:20260521T194500
DTSTART:20260521T194500
DTEND:20260521T211500
SUMMARY:Finansowanie przedsiębiorczości (P): 22EK-RDF-SD
CATEGORIES:P
LOCATION:223 A-29
END:VEVENT
BEGIN:VEVENT
UID:UZ_PLZ_20260527_1100_507491
DTSTAMP:20260527T110000
DTSTART:20260527T110000
DTEND:20260527T123000
SUMMARY:Konsultacje (I)
CATEGORIES:I
LOCATION:118 A-0
END:VEVENT
BEGIN:VEVENT
UID:UZ_PLZ_20260528_0730_498861
DTSTAMP:20260528T073000
DTSTART:20260528T073000
DTEND:20260528T090000
SUMMARY:Analiza finansowa (L): 22FiR-RPG-SP/A
CATEGORIES:L
LOCATION:121 A-29
END:VEVENT
BEGIN:VEVENT
UID:UZ_PLZ_20260528_0915_498877
DTSTAMP:20260528T091500
DTSTART:20260528T091500
DTEND:20260528T104000
SUMMARY:Prawo gospodarcze i prawo pracy (W): 11FiR-SP\; 12FiR-SP\; 13FiR-SP
CATEGORIES:W
LOCATION:216 A-29
END:VEVENT
BEGIN:VEVENT
UID:UZ_PLZ_20260528_1100_498822
DTSTAMP:20260528T110000
DTSTART:20260528T110000
DTEND:20260528T123000
SUMMARY:Analiza finansowa (L): 21FiR-FB-SP/A
CATEGORIES:L
LOCATION:121 A-29
END:VEVENT
BEGIN:VEVENT
UID:UZ_PLZ_20260528_1245_499012
DTSTAMP:20260528T124500
DTSTART:20260528T124500
DTEND:20260528T141500
SUMMARY:Prawo gospodarcze i prawo pracy (Ć): 11FiR-SP
CATEGORIES:Ć
LOCATION:223 A-29
END:VEVENT
BEGIN:VEVENT
UID:UZ_PLZ_20260528_1430_498927
DTSTAMP:20260528T143000
DTSTART:20260528T143000
DTEND:20260528T160000
SUMMARY:Prawo gospodarcze i prawo pracy (Ć): 12FiR-SP
CATEGORIES:Ć
LOCATION:223 A-29
END:VEVENT
BEGIN:VEVENT
UID:UZ_PLZ_20260528_1615_498060
DTSTAMP:20260528T161500
DTSTART:20260528T161500
DTEND:20260528T174000
SUMMARY:Prawo cywilne (Ć): 11LOG-SD(L)
CATEGORIES:Ć
LOCATION:223 A-29
END:VEVENT
BEGIN:VEVENT
UID:UZ_PLZ_20260528_1800_498921
DTSTAMP:20260528T180000
DTSTART:20260528T180000
DTEND:20260528T193000
SUMMARY:Finansowanie przedsiębiorczości (P): 21EK-EP-SD
CATEGORIES:P
LOCATION:223 A-29
END:VEVENT
BEGIN:VEVENT
UID:UZ_PLZ_20260528_1945_498942
DTSTAMP:20260528T194500
DTSTART:20260528T194500
DTEND:20260528T211500
SUMMARY:Finansowanie przedsiębiorczości (P): 22EK-RDF-SD
CATEGORIES:P
LOCATION:223 A-29
END:VEVENT
BEGIN:VEVENT
UID:UZ_PLZ_20260530_0915_499122
DTSTAMP:20260530T091500
DTSTART:20260530T091500
DTEND:20260530T104500
SUMMARY:Analiza finansowa (L): 21FiR-FB-NP/A
CATEGORIES:L
LOCATION:121 A-29
END:VEVENT
BEGIN:VEVENT
UID:UZ_PLZ_20260530_1100_507492
DTSTAMP:20260530T110000
DTSTART:20260530T110000
DTEND:20260530T123000
SUMMARY:Konsultacje (I)
CATEGORIES:I
LOCATION:118 A-0
END:VEVENT
BEGIN:VEVENT
UID:UZ_PLZ_20260530_1245_499263
DTSTAMP:20260530T124500
DTSTART:20260530T124500
DTEND:20260530T131000
SUMMARY:Seminarium  III (S): 22FiR-FP-ND
CATEGORIES:S
LOCATION:118 A-29
END:VEVENT
BEGIN:VEVENT
UID:UZ_PLZ_20260530_1245_499251
DTSTAMP:20260530T124500
DTSTART:20260530T124500
DTEND:20260530T131500
SUMMARY:Seminarium  III (S): 21FiR-ARF-ND
CATEGORIES:S
LOCATION:118 A-29
END:VEVENT
BEGIN:VEVENT
UID:UZ_PLZ_20260530_1245_499300
DTSTAMP:20260530T124500
DTSTART:20260530T124500
DTEND:20260530T132000
SUMMARY:Proseminarium (Pro): 21FiR-FB-NP\; 22FiR-RPG-NP
CATEGORIES:Pro
LOCATION:118 A-29
END:VEVENT
BEGIN:VEVENT
UID:UZ_PLZ_20260530_1430_499158
DTSTAMP:20260530T143000
DTSTART:20260530T143000
DTEND:20260530T160000
SUMMARY:Prawo gospodarcze i prawo pracy (Ć): 11FiR-NP
CATEGORIES:Ć
LOCATION:202 A-29
END:VEVENT
BEGIN:VEVENT
UID:UZ_PLZ_20260531_0730_499098
DTSTAMP:20260531T073000
DTSTART:20260531T073000
DTEND:20260531T090000
SUMMARY:Analiza finansowa (L): 22FiR-RPG-NP/A
CATEGORIES:L
LOCATION:121 A-29
END:VEVENT
BEGIN:VEVENT
UID:UZ_PLZ_20260531_0915_499078
DTSTAMP:20260531T091500
DTSTART:20260531T091500
DTEND:20260531T104500
SUMMARY:Analiza finansowa (L): 22FiR-RPG-NP/B
CATEGORIES:L
LOCATION:121 A-29
END:VEVENT
BEGIN:VEVENT
UID:UZ_PLZ_20260531_1100_499021
DTSTAMP:20260531T110000
DTSTART:20260531T110000
DTEND:20260531T123000
SUMMARY:Analiza i raportowanie wyników finansowych (L): 12FiR-FP-ND/A
CATEGORIES:L
LOCATION:121 A-29
END:VEVENT
BEGIN:VEVENT
UID:UZ_PLZ_20260531_1245_499079
DTSTAMP:20260531T124500
DTSTART:20260531T124500
DTEND:20260531T141500
SUMMARY:Analiza i raportowanie wyników finansowych (L): 12FiR-FP-ND/B
CATEGORIES:L
LOCATION:121 A-29
END:VEVENT
BEGIN:VEVENT
UID:UZ_PLZ_20260531_1615_499178
DTSTAMP:20260531T161500
DTSTART:20260531T161500
DTEND:20260531T175500
SUMMARY:Prawo gospodarcze i prawo pracy (W): 11FiR-NP
CATEGORIES:W
LOCATION:3 A-29
END:VEVENT
BEGIN:VEVENT
UID:UZ_PLZ_20260603_1100_507491
DTSTAMP:20260603T110000
DTSTART:20260603T110000
DTEND:20260603T123000
SUMMARY:Konsultacje (I)
CATEGORIES:I
LOCATION:118 A-0
END:VEVENT
BEGIN:VEVENT
UID:UZ_PLZ_20260610_1100_507491
DTSTAMP:20260610T110000
DTSTART:20260610T110000
DTEND:20260610T123000
SUMMARY:Konsultacje (I)
CATEGORIES:I
LOCATION:118 A-0
END:VEVENT
BEGIN:VEVENT
UID:UZ_PLZ_20260611_0730_498861
DTSTAMP:20260611T073000
DTSTART:20260611T073000
DTEND:20260611T090000
SUMMARY:Analiza finansowa (L): 22FiR-RPG-SP/A
CATEGORIES:L
LOCATION:121 A-29
END:VEVENT
BEGIN:VEVENT
UID:UZ_PLZ_20260611_0915_498877
DTSTAMP:20260611T091500
DTSTART:20260611T091500
DTEND:20260611T104000
SUMMARY:Prawo gospodarcze i prawo pracy (W): 11FiR-SP\; 12FiR-SP\; 13FiR-SP
CATEGORIES:W
LOCATION:216 A-29
END:VEVENT
BEGIN:VEVENT
UID:UZ_PLZ_20260611_1100_498822
DTSTAMP:20260611T110000
DTSTART:20260611T110000
DTEND:20260611T123000
SUMMARY:Analiza finansowa (L): 21FiR-FB-SP/A
CATEGORIES:L
LOCATION:121 A-29
END:VEVENT
BEGIN:VEVENT
UID:UZ_PLZ_20260611_1245_499012
DTSTAMP:20260611T124500
DTSTART:20260611T124500
DTEND:20260611T141500
SUMMARY:Prawo gospodarcze i prawo pracy (Ć): 11FiR-SP
CATEGORIES:Ć
LOCATION:223 A-29
END:VEVENT
BEGIN:VEVENT
UID:UZ_PLZ_20260611_1430_498927
DTSTAMP:20260611T143000
DTSTART:20260611T143000
DTEND:20260611T160000
SUMMARY:Prawo gospodarcze i prawo pracy (Ć): 12FiR-SP
CATEGORIES:Ć
LOCATION:223 A-29
END:VEVENT
BEGIN:VEVENT
UID:UZ_PLZ_20260611_1615_498060
DTSTAMP:20260611T161500
DTSTART:20260611T161500
DTEND:20260611T174000
SUMMARY:Prawo cywilne (Ć): 11LOG-SD(L)
CATEGORIES:Ć
LOCATION:223 A-29
END:VEVENT
BEGIN:VEVENT
UID:UZ_PLZ_20260611_1800_498921
DTSTAMP:20260611T180000
DTSTART:20260611T180000
DTEND:20260611T193000
SUMMARY:Finansowanie przedsiębiorczości (P): 21EK-EP-SD
CATEGORIES:P
LOCATION:223 A-29
END:VEVENT
BEGIN:VEVENT
UID:UZ_PLZ_20260611_1945_498942
DTSTAMP:20260611T194500
DTSTART:20260611T194500
DTEND:20260611T211500
SUMMARY:Finansowanie przedsiębiorczości (P): 22EK-RDF-SD
CATEGORIES:P
LOCATION:223 A-29
END:VEVENT
BEGIN:VEVENT
UID:UZ_PLZ_20260613_0915_499122
DTSTAMP:20260613T091500
DTSTART:20260613T091500
DTEND:20260613T104500
SUMMARY:Analiza finansowa (L): 21FiR-FB-NP/A
CATEGORIES:L
LOCATION:121 A-29
END:VEVENT
BEGIN:VEVENT
UID:UZ_PLZ_20260613_1100_499144
DTSTAMP:20260613T110000
DTSTART:20260613T110000
DTEND:20260613T122000
SUMMARY:Analiza i raportowanie wyników finansowych (W): 12FiR-FP-ND
CATEGORIES:W
LOCATION:2 A-29
X-ALT-DESC;FMTTYPE=text/html:<html><body><a href="https://classroom.google.com/c/ODUxNjc1NDc3MTQw">Google Classroom</a> </body></html>
END:VEVENT
BEGIN:VEVENT
UID:UZ_PLZ_20260613_1245_499263
DTSTAMP:20260613T124500
DTSTART:20260613T124500
DTEND:20260613T131000
SUMMARY:Seminarium  III (S): 22FiR-FP-ND
CATEGORIES:S
LOCATION:118 A-29
END:VEVENT
BEGIN:VEVENT
UID:UZ_PLZ_20260613_1245_499251
DTSTAMP:20260613T124500
DTSTART:20260613T124500
DTEND:20260613T131500
SUMMARY:Seminarium  III (S): 21FiR-ARF-ND
CATEGORIES:S
LOCATION:118 A-29
END:VEVENT
BEGIN:VEVENT
UID:UZ_PLZ_20260613_1245_499300
DTSTAMP:20260613T124500
DTSTART:20260613T124500
DTEND:20260613T132000
SUMMARY:Proseminarium (Pro): 21FiR-FB-NP\; 22FiR-RPG-NP
CATEGORIES:Pro
LOCATION:118 A-29
END:VEVENT
BEGIN:VEVENT
UID:UZ_PLZ_20260613_1430_499158
DTSTAMP:20260613T143000
DTSTART:20260613T143000
DTEND:20260613T160000
SUMMARY:Prawo gospodarcze i prawo pracy (Ć): 11FiR-NP
CATEGORIES:Ć
LOCATION:202 A-29
END:VEVENT
BEGIN:VEVENT
UID:UZ_PLZ_20260613_1615_498391
DTSTAMP:20260613T161500
DTSTART:20260613T161500
DTEND:20260613T173500
SUMMARY:Prawo cywilne (Ć): 11LOG-ND(L)
CATEGORIES:Ć
LOCATION:202 A-29
END:VEVENT
BEGIN:VEVENT
UID:UZ_PLZ_20260614_0730_499098
DTSTAMP:20260614T073000
DTSTART:20260614T073000
DTEND:20260614T090000
SUMMARY:Analiza finansowa (L): 22FiR-RPG-NP/A
CATEGORIES:L
LOCATION:121 A-29
END:VEVENT
BEGIN:VEVENT
UID:UZ_PLZ_20260614_0915_499078
DTSTAMP:20260614T091500
DTSTART:20260614T091500
DTEND:20260614T104500
SUMMARY:Analiza finansowa (L): 22FiR-RPG-NP/B
CATEGORIES:L
LOCATION:121 A-29
END:VEVENT
BEGIN:VEVENT
UID:UZ_PLZ_20260614_1100_499021
DTSTAMP:20260614T110000
DTSTART:20260614T110000
DTEND:20260614T123000
SUMMARY:Analiza i raportowanie wyników finansowych (L): 12FiR-FP-ND/A
CATEGORIES:L
LOCATION:121 A-29
END:VEVENT
BEGIN:VEVENT
UID:UZ_PLZ_20260614_1245_499079
DTSTAMP:20260614T124500
DTSTART:20260614T124500
DTEND:20260614T141500
SUMMARY:Analiza i raportowanie wyników finansowych (L): 12FiR-FP-ND/B
CATEGORIES:L
LOCATION:121 A-29
END:VEVENT
BEGIN:VEVENT
UID:UZ_PLZ_20260614_1615_499143
DTSTAMP:20260614T161500
DTSTART:20260614T161500
DTEND:20260614T173500
SUMMARY:Analiza finansowa (W): 21FiR-FB-NP\; 22FiR-RPG-NP
CATEGORIES:W
LOCATION:3 A-29
END:VEVENT
BEGIN:VEVENT
UID:UZ_PLZ_20260617_1100_507491
DTSTAMP:20260617T110000
DTSTART:20260617T110000
DTEND:20260617T123000
SUMMARY:Konsultacje (I)
CATEGORIES:I
LOCATION:118 A-0
END:VEVENT
BEGIN:VEVENT
UID:UZ_PLZ_20260618_0730_498861
DTSTAMP:20260618T073000
DTSTART:20260618T073000
DTEND:20260618T090000
SUMMARY:Analiza finansowa (L): 22FiR-RPG-SP/A
CATEGORIES:L
LOCATION:121 A-29
END:VEVENT
BEGIN:VEVENT
UID:UZ_PLZ_20260618_0915_498992
DTSTAMP:20260618T091500
DTSTART:20260618T091500
DTEND:20260618T105000
SUMMARY:Analiza finansowa (W): 21FiR-FB-SP\; 22FiR-RPG-SP
CATEGORIES:W
LOCATION:216 A-29
END:VEVENT
BEGIN:VEVENT
UID:UZ_PLZ_20260618_1100_498822
DTSTAMP:20260618T110000
DTSTART:20260618T110000
DTEND:20260618T123000
SUMMARY:Analiza finansowa (L): 21FiR-FB-SP/A
CATEGORIES:L
LOCATION:121 A-29
END:VEVENT
BEGIN:VEVENT
UID:UZ_PLZ_20260618_1245_499012
DTSTAMP:20260618T124500
DTSTART:20260618T124500
DTEND:20260618T141500
SUMMARY:Prawo gospodarcze i prawo pracy (Ć): 11FiR-SP
CATEGORIES:Ć
LOCATION:223 A-29
END:VEVENT
BEGIN:VEVENT
UID:UZ_PLZ_20260618_1430_498927
DTSTAMP:20260618T143000
DTSTART:20260618T143000
DTEND:20260618T160000
SUMMARY:Prawo gospodarcze i prawo pracy (Ć): 12FiR-SP
CATEGORIES:Ć
LOCATION:223 A-29
END:VEVENT
BEGIN:VEVENT
UID:UZ_PLZ_20260618_1615_498886
DTSTAMP:20260618T161500
DTSTART:20260618T161500
DTEND:20260618T175000
SUMMARY:Sprawozdawczość  finansowa (Ć): 11EK-RDF-SD
CATEGORIES:Ć
LOCATION:223 A-29
END:VEVENT
BEGIN:VEVENT
UID:UZ_PLZ_20260618_1800_498921
DTSTAMP:20260618T180000
DTSTART:20260618T180000
DTEND:20260618T193000
SUMMARY:Finansowanie przedsiębiorczości (P): 21EK-EP-SD
CATEGORIES:P
LOCATION:223 A-29
END:VEVENT
BEGIN:VEVENT
UID:UZ_PLZ_20260618_1945_498942
DTSTAMP:20260618T194500
DTSTART:20260618T194500
DTEND:20260618T211500
SUMMARY:Finansowanie przedsiębiorczości (P): 22EK-RDF-SD
CATEGORIES:P
LOCATION:223 A-29
END:VEVENT
END:VCALENDAR
