BEGIN:VCALENDAR
TZID:Europe/Warsaw
X-WR-TIMEZONE:Europe/Warsaw
VERSION:2.0
PRODID:-//Uniwersytet Zielonogórski//NONSGML Plan zajęć v1.0//EN
NAME:Plan zajęć - semestr letni 2025/2026
X-WR-CALNAME:Plan zajęć - semestr letni 2025/2026
COLOR:green
CALSCALE:GREGORIAN
BEGIN:VEVENT
UID:UZ_PLZ_20260427_0945_507302
DTSTAMP:20260427T094500
DTSTART:20260427T094500
DTEND:20260427T111500
SUMMARY:Język obcy nowożytny - język włoski (Ć): 11F-ANG-SP25\; 12F-ANG-SP25\; 13F-ANG-SP25
CATEGORIES:Ć
LOCATION:109 A-20
END:VEVENT
BEGIN:VEVENT
UID:UZ_PLZ_20260427_1130_499355
DTSTAMP:20260427T113000
DTSTART:20260427T113000
DTEND:20260427T130000
SUMMARY:Foreign language - French II/Język obcy specjalistyczny - język francuski (Ć): 11F-ANG-SD25
CATEGORIES:Ć
LOCATION:109 A-20
END:VEVENT
BEGIN:VEVENT
UID:UZ_PLZ_20260427_1330_507252
DTSTAMP:20260427T133000
DTSTART:20260427T133000
DTEND:20260427T143000
SUMMARY:Konsultacje (R)
CATEGORIES:R
LOCATION:103 A-20
END:VEVENT
BEGIN:VEVENT
UID:UZ_PLZ_20260427_1500_499356
DTSTAMP:20260427T150000
DTSTART:20260427T150000
DTEND:20260427T163000
SUMMARY:Foreign language - French I/Język obcy nowożytny - język francuski (Ć): 11F-ANG-SP25\; 12F-ANG-SP25\; 13F-ANG-SP25
CATEGORIES:Ć
LOCATION:105 A-20
END:VEVENT
BEGIN:VEVENT
UID:UZ_PLZ_20260428_0800_504446
DTSTAMP:20260428T080000
DTSTART:20260428T080000
DTEND:20260428T093000
SUMMARY:Język obcy nowożytny- język francuski (Ć): 21MSP-SP
CATEGORIES:Ć
LOCATION:105 A-20
END:VEVENT
BEGIN:VEVENT
UID:UZ_PLZ_20260428_0945_499363
DTSTAMP:20260428T094500
DTSTART:20260428T094500
DTEND:20260428T111500
SUMMARY:Język obcy nowożytny - język francuski (Ć): 21F-ANG-SP24\; 22F-ANG-SP24\; 23F-ANG-SP24
CATEGORIES:Ć
LOCATION:105 A-20
END:VEVENT
BEGIN:VEVENT
UID:UZ_PLZ_20260428_1130_504454
DTSTAMP:20260428T113000
DTSTART:20260428T113000
DTEND:20260428T130000
SUMMARY:Język obcy nowożytny- język włoski (Ć): 21MSP-SP
CATEGORIES:Ć
LOCATION:105 A-20
END:VEVENT
BEGIN:VEVENT
UID:UZ_PLZ_20260504_0945_507302
DTSTAMP:20260504T094500
DTSTART:20260504T094500
DTEND:20260504T111500
SUMMARY:Język obcy nowożytny - język włoski (Ć): 11F-ANG-SP25\; 12F-ANG-SP25\; 13F-ANG-SP25
CATEGORIES:Ć
LOCATION:109 A-20
END:VEVENT
BEGIN:VEVENT
UID:UZ_PLZ_20260504_1130_499355
DTSTAMP:20260504T113000
DTSTART:20260504T113000
DTEND:20260504T130000
SUMMARY:Foreign language - French II/Język obcy specjalistyczny - język francuski (Ć): 11F-ANG-SD25
CATEGORIES:Ć
LOCATION:109 A-20
END:VEVENT
BEGIN:VEVENT
UID:UZ_PLZ_20260504_1330_507252
DTSTAMP:20260504T133000
DTSTART:20260504T133000
DTEND:20260504T143000
SUMMARY:Konsultacje (R)
CATEGORIES:R
LOCATION:103 A-20
END:VEVENT
BEGIN:VEVENT
UID:UZ_PLZ_20260504_1500_499356
DTSTAMP:20260504T150000
DTSTART:20260504T150000
DTEND:20260504T163000
SUMMARY:Foreign language - French I/Język obcy nowożytny - język francuski (Ć): 11F-ANG-SP25\; 12F-ANG-SP25\; 13F-ANG-SP25
CATEGORIES:Ć
LOCATION:105 A-20
END:VEVENT
BEGIN:VEVENT
UID:UZ_PLZ_20260505_0800_504446
DTSTAMP:20260505T080000
DTSTART:20260505T080000
DTEND:20260505T093000
SUMMARY:Język obcy nowożytny- język francuski (Ć): 21MSP-SP
CATEGORIES:Ć
LOCATION:105 A-20
END:VEVENT
BEGIN:VEVENT
UID:UZ_PLZ_20260505_0945_499363
DTSTAMP:20260505T094500
DTSTART:20260505T094500
DTEND:20260505T111500
SUMMARY:Język obcy nowożytny - język francuski (Ć): 21F-ANG-SP24\; 22F-ANG-SP24\; 23F-ANG-SP24
CATEGORIES:Ć
LOCATION:105 A-20
END:VEVENT
BEGIN:VEVENT
UID:UZ_PLZ_20260505_1130_504454
DTSTAMP:20260505T113000
DTSTART:20260505T113000
DTEND:20260505T130000
SUMMARY:Język obcy nowożytny- język włoski (Ć): 21MSP-SP
CATEGORIES:Ć
LOCATION:105 A-20
END:VEVENT
BEGIN:VEVENT
UID:UZ_PLZ_20260511_0945_507302
DTSTAMP:20260511T094500
DTSTART:20260511T094500
DTEND:20260511T111500
SUMMARY:Język obcy nowożytny - język włoski (Ć): 11F-ANG-SP25\; 12F-ANG-SP25\; 13F-ANG-SP25
CATEGORIES:Ć
LOCATION:109 A-20
END:VEVENT
BEGIN:VEVENT
UID:UZ_PLZ_20260511_1130_499355
DTSTAMP:20260511T113000
DTSTART:20260511T113000
DTEND:20260511T130000
SUMMARY:Foreign language - French II/Język obcy specjalistyczny - język francuski (Ć): 11F-ANG-SD25
CATEGORIES:Ć
LOCATION:109 A-20
END:VEVENT
BEGIN:VEVENT
UID:UZ_PLZ_20260511_1330_507252
DTSTAMP:20260511T133000
DTSTART:20260511T133000
DTEND:20260511T143000
SUMMARY:Konsultacje (R)
CATEGORIES:R
LOCATION:103 A-20
END:VEVENT
BEGIN:VEVENT
UID:UZ_PLZ_20260511_1500_499356
DTSTAMP:20260511T150000
DTSTART:20260511T150000
DTEND:20260511T163000
SUMMARY:Foreign language - French I/Język obcy nowożytny - język francuski (Ć): 11F-ANG-SP25\; 12F-ANG-SP25\; 13F-ANG-SP25
CATEGORIES:Ć
LOCATION:105 A-20
END:VEVENT
BEGIN:VEVENT
UID:UZ_PLZ_20260512_0800_504446
DTSTAMP:20260512T080000
DTSTART:20260512T080000
DTEND:20260512T093000
SUMMARY:Język obcy nowożytny- język francuski (Ć): 21MSP-SP
CATEGORIES:Ć
LOCATION:105 A-20
END:VEVENT
BEGIN:VEVENT
UID:UZ_PLZ_20260512_0945_499363
DTSTAMP:20260512T094500
DTSTART:20260512T094500
DTEND:20260512T111500
SUMMARY:Język obcy nowożytny - język francuski (Ć): 21F-ANG-SP24\; 22F-ANG-SP24\; 23F-ANG-SP24
CATEGORIES:Ć
LOCATION:105 A-20
END:VEVENT
BEGIN:VEVENT
UID:UZ_PLZ_20260512_1130_504454
DTSTAMP:20260512T113000
DTSTART:20260512T113000
DTEND:20260512T130000
SUMMARY:Język obcy nowożytny- język włoski (Ć): 21MSP-SP
CATEGORIES:Ć
LOCATION:105 A-20
END:VEVENT
BEGIN:VEVENT
UID:UZ_PLZ_20260518_0945_507302
DTSTAMP:20260518T094500
DTSTART:20260518T094500
DTEND:20260518T111500
SUMMARY:Język obcy nowożytny - język włoski (Ć): 11F-ANG-SP25\; 12F-ANG-SP25\; 13F-ANG-SP25
CATEGORIES:Ć
LOCATION:109 A-20
END:VEVENT
BEGIN:VEVENT
UID:UZ_PLZ_20260518_1130_499355
DTSTAMP:20260518T113000
DTSTART:20260518T113000
DTEND:20260518T130000
SUMMARY:Foreign language - French II/Język obcy specjalistyczny - język francuski (Ć): 11F-ANG-SD25
CATEGORIES:Ć
LOCATION:109 A-20
END:VEVENT
BEGIN:VEVENT
UID:UZ_PLZ_20260518_1330_507252
DTSTAMP:20260518T133000
DTSTART:20260518T133000
DTEND:20260518T143000
SUMMARY:Konsultacje (R)
CATEGORIES:R
LOCATION:103 A-20
END:VEVENT
BEGIN:VEVENT
UID:UZ_PLZ_20260518_1500_499356
DTSTAMP:20260518T150000
DTSTART:20260518T150000
DTEND:20260518T163000
SUMMARY:Foreign language - French I/Język obcy nowożytny - język francuski (Ć): 11F-ANG-SP25\; 12F-ANG-SP25\; 13F-ANG-SP25
CATEGORIES:Ć
LOCATION:105 A-20
END:VEVENT
BEGIN:VEVENT
UID:UZ_PLZ_20260519_0800_504446
DTSTAMP:20260519T080000
DTSTART:20260519T080000
DTEND:20260519T093000
SUMMARY:Język obcy nowożytny- język francuski (Ć): 21MSP-SP
CATEGORIES:Ć
LOCATION:105 A-20
END:VEVENT
BEGIN:VEVENT
UID:UZ_PLZ_20260519_0945_499363
DTSTAMP:20260519T094500
DTSTART:20260519T094500
DTEND:20260519T111500
SUMMARY:Język obcy nowożytny - język francuski (Ć): 21F-ANG-SP24\; 22F-ANG-SP24\; 23F-ANG-SP24
CATEGORIES:Ć
LOCATION:105 A-20
END:VEVENT
BEGIN:VEVENT
UID:UZ_PLZ_20260519_1130_504454
DTSTAMP:20260519T113000
DTSTART:20260519T113000
DTEND:20260519T130000
SUMMARY:Język obcy nowożytny- język włoski (Ć): 21MSP-SP
CATEGORIES:Ć
LOCATION:105 A-20
END:VEVENT
BEGIN:VEVENT
UID:UZ_PLZ_20260525_0945_507302
DTSTAMP:20260525T094500
DTSTART:20260525T094500
DTEND:20260525T111500
SUMMARY:Język obcy nowożytny - język włoski (Ć): 11F-ANG-SP25\; 12F-ANG-SP25\; 13F-ANG-SP25
CATEGORIES:Ć
LOCATION:109 A-20
END:VEVENT
BEGIN:VEVENT
UID:UZ_PLZ_20260525_1130_499355
DTSTAMP:20260525T113000
DTSTART:20260525T113000
DTEND:20260525T130000
SUMMARY:Foreign language - French II/Język obcy specjalistyczny - język francuski (Ć): 11F-ANG-SD25
CATEGORIES:Ć
LOCATION:109 A-20
END:VEVENT
BEGIN:VEVENT
UID:UZ_PLZ_20260525_1330_507252
DTSTAMP:20260525T133000
DTSTART:20260525T133000
DTEND:20260525T143000
SUMMARY:Konsultacje (R)
CATEGORIES:R
LOCATION:103 A-20
END:VEVENT
BEGIN:VEVENT
UID:UZ_PLZ_20260525_1500_499356
DTSTAMP:20260525T150000
DTSTART:20260525T150000
DTEND:20260525T163000
SUMMARY:Foreign language - French I/Język obcy nowożytny - język francuski (Ć): 11F-ANG-SP25\; 12F-ANG-SP25\; 13F-ANG-SP25
CATEGORIES:Ć
LOCATION:105 A-20
END:VEVENT
BEGIN:VEVENT
UID:UZ_PLZ_20260526_0800_504446
DTSTAMP:20260526T080000
DTSTART:20260526T080000
DTEND:20260526T093000
SUMMARY:Język obcy nowożytny- język francuski (Ć): 21MSP-SP
CATEGORIES:Ć
LOCATION:105 A-20
END:VEVENT
BEGIN:VEVENT
UID:UZ_PLZ_20260526_0945_499363
DTSTAMP:20260526T094500
DTSTART:20260526T094500
DTEND:20260526T111500
SUMMARY:Język obcy nowożytny - język francuski (Ć): 21F-ANG-SP24\; 22F-ANG-SP24\; 23F-ANG-SP24
CATEGORIES:Ć
LOCATION:105 A-20
END:VEVENT
BEGIN:VEVENT
UID:UZ_PLZ_20260526_1130_504454
DTSTAMP:20260526T113000
DTSTART:20260526T113000
DTEND:20260526T130000
SUMMARY:Język obcy nowożytny- język włoski (Ć): 21MSP-SP
CATEGORIES:Ć
LOCATION:105 A-20
END:VEVENT
BEGIN:VEVENT
UID:UZ_PLZ_20260601_0945_507302
DTSTAMP:20260601T094500
DTSTART:20260601T094500
DTEND:20260601T111500
SUMMARY:Język obcy nowożytny - język włoski (Ć): 11F-ANG-SP25\; 12F-ANG-SP25\; 13F-ANG-SP25
CATEGORIES:Ć
LOCATION:109 A-20
END:VEVENT
BEGIN:VEVENT
UID:UZ_PLZ_20260601_1130_499355
DTSTAMP:20260601T113000
DTSTART:20260601T113000
DTEND:20260601T130000
SUMMARY:Foreign language - French II/Język obcy specjalistyczny - język francuski (Ć): 11F-ANG-SD25
CATEGORIES:Ć
LOCATION:109 A-20
END:VEVENT
BEGIN:VEVENT
UID:UZ_PLZ_20260601_1330_507252
DTSTAMP:20260601T133000
DTSTART:20260601T133000
DTEND:20260601T143000
SUMMARY:Konsultacje (R)
CATEGORIES:R
LOCATION:103 A-20
END:VEVENT
BEGIN:VEVENT
UID:UZ_PLZ_20260601_1500_499356
DTSTAMP:20260601T150000
DTSTART:20260601T150000
DTEND:20260601T163000
SUMMARY:Foreign language - French I/Język obcy nowożytny - język francuski (Ć): 11F-ANG-SP25\; 12F-ANG-SP25\; 13F-ANG-SP25
CATEGORIES:Ć
LOCATION:105 A-20
END:VEVENT
BEGIN:VEVENT
UID:UZ_PLZ_20260602_0800_504446
DTSTAMP:20260602T080000
DTSTART:20260602T080000
DTEND:20260602T093000
SUMMARY:Język obcy nowożytny- język francuski (Ć): 21MSP-SP
CATEGORIES:Ć
LOCATION:105 A-20
END:VEVENT
BEGIN:VEVENT
UID:UZ_PLZ_20260602_0945_499363
DTSTAMP:20260602T094500
DTSTART:20260602T094500
DTEND:20260602T111500
SUMMARY:Język obcy nowożytny - język francuski (Ć): 21F-ANG-SP24\; 22F-ANG-SP24\; 23F-ANG-SP24
CATEGORIES:Ć
LOCATION:105 A-20
END:VEVENT
BEGIN:VEVENT
UID:UZ_PLZ_20260602_1130_504454
DTSTAMP:20260602T113000
DTSTART:20260602T113000
DTEND:20260602T130000
SUMMARY:Język obcy nowożytny- język włoski (Ć): 21MSP-SP
CATEGORIES:Ć
LOCATION:105 A-20
END:VEVENT
BEGIN:VEVENT
UID:UZ_PLZ_20260608_0945_507302
DTSTAMP:20260608T094500
DTSTART:20260608T094500
DTEND:20260608T111500
SUMMARY:Język obcy nowożytny - język włoski (Ć): 11F-ANG-SP25\; 12F-ANG-SP25\; 13F-ANG-SP25
CATEGORIES:Ć
LOCATION:109 A-20
END:VEVENT
BEGIN:VEVENT
UID:UZ_PLZ_20260608_1130_499355
DTSTAMP:20260608T113000
DTSTART:20260608T113000
DTEND:20260608T130000
SUMMARY:Foreign language - French II/Język obcy specjalistyczny - język francuski (Ć): 11F-ANG-SD25
CATEGORIES:Ć
LOCATION:109 A-20
END:VEVENT
BEGIN:VEVENT
UID:UZ_PLZ_20260608_1330_507252
DTSTAMP:20260608T133000
DTSTART:20260608T133000
DTEND:20260608T143000
SUMMARY:Konsultacje (R)
CATEGORIES:R
LOCATION:103 A-20
END:VEVENT
BEGIN:VEVENT
UID:UZ_PLZ_20260608_1500_499356
DTSTAMP:20260608T150000
DTSTART:20260608T150000
DTEND:20260608T163000
SUMMARY:Foreign language - French I/Język obcy nowożytny - język francuski (Ć): 11F-ANG-SP25\; 12F-ANG-SP25\; 13F-ANG-SP25
CATEGORIES:Ć
LOCATION:105 A-20
END:VEVENT
BEGIN:VEVENT
UID:UZ_PLZ_20260609_0800_504446
DTSTAMP:20260609T080000
DTSTART:20260609T080000
DTEND:20260609T093000
SUMMARY:Język obcy nowożytny- język francuski (Ć): 21MSP-SP
CATEGORIES:Ć
LOCATION:105 A-20
END:VEVENT
BEGIN:VEVENT
UID:UZ_PLZ_20260609_0945_499363
DTSTAMP:20260609T094500
DTSTART:20260609T094500
DTEND:20260609T111500
SUMMARY:Język obcy nowożytny - język francuski (Ć): 21F-ANG-SP24\; 22F-ANG-SP24\; 23F-ANG-SP24
CATEGORIES:Ć
LOCATION:105 A-20
END:VEVENT
BEGIN:VEVENT
UID:UZ_PLZ_20260609_1130_504454
DTSTAMP:20260609T113000
DTSTART:20260609T113000
DTEND:20260609T130000
SUMMARY:Język obcy nowożytny- język włoski (Ć): 21MSP-SP
CATEGORIES:Ć
LOCATION:105 A-20
END:VEVENT
BEGIN:VEVENT
UID:UZ_PLZ_20260615_0945_507302
DTSTAMP:20260615T094500
DTSTART:20260615T094500
DTEND:20260615T111500
SUMMARY:Język obcy nowożytny - język włoski (Ć): 11F-ANG-SP25\; 12F-ANG-SP25\; 13F-ANG-SP25
CATEGORIES:Ć
LOCATION:109 A-20
END:VEVENT
BEGIN:VEVENT
UID:UZ_PLZ_20260615_1130_499355
DTSTAMP:20260615T113000
DTSTART:20260615T113000
DTEND:20260615T130000
SUMMARY:Foreign language - French II/Język obcy specjalistyczny - język francuski (Ć): 11F-ANG-SD25
CATEGORIES:Ć
LOCATION:109 A-20
END:VEVENT
BEGIN:VEVENT
UID:UZ_PLZ_20260615_1330_507252
DTSTAMP:20260615T133000
DTSTART:20260615T133000
DTEND:20260615T143000
SUMMARY:Konsultacje (R)
CATEGORIES:R
LOCATION:103 A-20
END:VEVENT
BEGIN:VEVENT
UID:UZ_PLZ_20260615_1500_499356
DTSTAMP:20260615T150000
DTSTART:20260615T150000
DTEND:20260615T163000
SUMMARY:Foreign language - French I/Język obcy nowożytny - język francuski (Ć): 11F-ANG-SP25\; 12F-ANG-SP25\; 13F-ANG-SP25
CATEGORIES:Ć
LOCATION:105 A-20
END:VEVENT
BEGIN:VEVENT
UID:UZ_PLZ_20260616_0800_504446
DTSTAMP:20260616T080000
DTSTART:20260616T080000
DTEND:20260616T093000
SUMMARY:Język obcy nowożytny- język francuski (Ć): 21MSP-SP
CATEGORIES:Ć
LOCATION:105 A-20
END:VEVENT
BEGIN:VEVENT
UID:UZ_PLZ_20260616_0945_499363
DTSTAMP:20260616T094500
DTSTART:20260616T094500
DTEND:20260616T111500
SUMMARY:Język obcy nowożytny - język francuski (Ć): 21F-ANG-SP24\; 22F-ANG-SP24\; 23F-ANG-SP24
CATEGORIES:Ć
LOCATION:105 A-20
END:VEVENT
BEGIN:VEVENT
UID:UZ_PLZ_20260616_1130_504454
DTSTAMP:20260616T113000
DTSTART:20260616T113000
DTEND:20260616T130000
SUMMARY:Język obcy nowożytny- język włoski (Ć): 21MSP-SP
CATEGORIES:Ć
LOCATION:105 A-20
END:VEVENT
END:VCALENDAR
