BEGIN:VCALENDAR
TZID:Europe/Warsaw
X-WR-TIMEZONE:Europe/Warsaw
VERSION:2.0
PRODID:-//Uniwersytet Zielonogórski//NONSGML Plan zajęć v1.0//EN
NAME:Plan zajęć - semestr letni 2025/2026
X-WR-CALNAME:Plan zajęć - semestr letni 2025/2026
COLOR:green
CALSCALE:GREGORIAN
BEGIN:VEVENT
UID:UZ_PLZ_20260428_0900_505522
DTSTAMP:20260428T090000
DTSTART:20260428T090000
DTEND:20260428T103000
SUMMARY:Seminarium doktoranckie (w dyscyplinie) (S): 41SDNSiT-22/Mech
CATEGORIES:S
END:VEVENT
BEGIN:VEVENT
UID:UZ_PLZ_20260428_1100_497678
DTSTAMP:20260428T110000
DTSTART:20260428T110000
DTEND:20260428T123500
SUMMARY:Seminarium dyplomowe I (S): 31IB-SP
CATEGORIES:S
LOCATION:B002 A-11
END:VEVENT
BEGIN:VEVENT
UID:UZ_PLZ_20260505_1100_497678
DTSTAMP:20260505T110000
DTSTART:20260505T110000
DTEND:20260505T123500
SUMMARY:Seminarium dyplomowe I (S): 31IB-SP
CATEGORIES:S
LOCATION:B002 A-11
END:VEVENT
BEGIN:VEVENT
UID:UZ_PLZ_20260506_0730_505648
DTSTAMP:20260506T073000
DTSTART:20260506T073000
DTEND:20260506T150000
SUMMARY:Rezerwacja (R)
CATEGORIES:R
END:VEVENT
BEGIN:VEVENT
UID:UZ_PLZ_20260506_1105_500367
DTSTAMP:20260506T110500
DTSTART:20260506T110500
DTEND:20260506T150000
SUMMARY:Rezerwacja RDN (R)
CATEGORIES:R
END:VEVENT
BEGIN:VEVENT
UID:UZ_PLZ_20260512_0900_505522
DTSTAMP:20260512T090000
DTSTART:20260512T090000
DTEND:20260512T103000
SUMMARY:Seminarium doktoranckie (w dyscyplinie) (S): 41SDNSiT-22/Mech
CATEGORIES:S
END:VEVENT
BEGIN:VEVENT
UID:UZ_PLZ_20260512_1100_497678
DTSTAMP:20260512T110000
DTSTART:20260512T110000
DTEND:20260512T123500
SUMMARY:Seminarium dyplomowe I (S): 31IB-SP
CATEGORIES:S
LOCATION:B002 A-11
END:VEVENT
BEGIN:VEVENT
UID:UZ_PLZ_20260513_0730_505648
DTSTAMP:20260513T073000
DTSTART:20260513T073000
DTEND:20260513T150000
SUMMARY:Rezerwacja (R)
CATEGORIES:R
END:VEVENT
BEGIN:VEVENT
UID:UZ_PLZ_20260513_1105_500367
DTSTAMP:20260513T110500
DTSTART:20260513T110500
DTEND:20260513T150000
SUMMARY:Rezerwacja RDN (R)
CATEGORIES:R
END:VEVENT
BEGIN:VEVENT
UID:UZ_PLZ_20260519_1100_497678
DTSTAMP:20260519T110000
DTSTART:20260519T110000
DTEND:20260519T124000
SUMMARY:Seminarium dyplomowe I (S): 31IB-SP
CATEGORIES:S
LOCATION:B002 A-11
END:VEVENT
BEGIN:VEVENT
UID:UZ_PLZ_20260520_0730_505648
DTSTAMP:20260520T073000
DTSTART:20260520T073000
DTEND:20260520T150000
SUMMARY:Rezerwacja (R)
CATEGORIES:R
END:VEVENT
BEGIN:VEVENT
UID:UZ_PLZ_20260520_1105_500367
DTSTAMP:20260520T110500
DTSTART:20260520T110500
DTEND:20260520T150000
SUMMARY:Rezerwacja RDN (R)
CATEGORIES:R
END:VEVENT
BEGIN:VEVENT
UID:UZ_PLZ_20260526_0900_505522
DTSTAMP:20260526T090000
DTSTART:20260526T090000
DTEND:20260526T103000
SUMMARY:Seminarium doktoranckie (w dyscyplinie) (S): 41SDNSiT-22/Mech
CATEGORIES:S
END:VEVENT
BEGIN:VEVENT
UID:UZ_PLZ_20260526_1100_497678
DTSTAMP:20260526T110000
DTSTART:20260526T110000
DTEND:20260526T124000
SUMMARY:Seminarium dyplomowe I (S): 31IB-SP
CATEGORIES:S
LOCATION:B002 A-11
END:VEVENT
BEGIN:VEVENT
UID:UZ_PLZ_20260527_0730_505648
DTSTAMP:20260527T073000
DTSTART:20260527T073000
DTEND:20260527T150000
SUMMARY:Rezerwacja (R)
CATEGORIES:R
END:VEVENT
BEGIN:VEVENT
UID:UZ_PLZ_20260527_1105_500367
DTSTAMP:20260527T110500
DTSTART:20260527T110500
DTEND:20260527T150000
SUMMARY:Rezerwacja RDN (R)
CATEGORIES:R
END:VEVENT
BEGIN:VEVENT
UID:UZ_PLZ_20260602_1100_497678
DTSTAMP:20260602T110000
DTSTART:20260602T110000
DTEND:20260602T124000
SUMMARY:Seminarium dyplomowe I (S): 31IB-SP
CATEGORIES:S
LOCATION:B002 A-11
END:VEVENT
BEGIN:VEVENT
UID:UZ_PLZ_20260603_0730_505648
DTSTAMP:20260603T073000
DTSTART:20260603T073000
DTEND:20260603T150000
SUMMARY:Rezerwacja (R)
CATEGORIES:R
END:VEVENT
BEGIN:VEVENT
UID:UZ_PLZ_20260603_1105_500367
DTSTAMP:20260603T110500
DTSTART:20260603T110500
DTEND:20260603T150000
SUMMARY:Rezerwacja RDN (R)
CATEGORIES:R
END:VEVENT
BEGIN:VEVENT
UID:UZ_PLZ_20260609_0900_505522
DTSTAMP:20260609T090000
DTSTART:20260609T090000
DTEND:20260609T094500
SUMMARY:Seminarium doktoranckie (w dyscyplinie) (S): 41SDNSiT-22/Mech
CATEGORIES:S
END:VEVENT
BEGIN:VEVENT
UID:UZ_PLZ_20260609_1100_497678
DTSTAMP:20260609T110000
DTSTART:20260609T110000
DTEND:20260609T124000
SUMMARY:Seminarium dyplomowe I (S): 31IB-SP
CATEGORIES:S
LOCATION:B002 A-11
END:VEVENT
BEGIN:VEVENT
UID:UZ_PLZ_20260610_0730_505648
DTSTAMP:20260610T073000
DTSTART:20260610T073000
DTEND:20260610T150000
SUMMARY:Rezerwacja (R)
CATEGORIES:R
END:VEVENT
BEGIN:VEVENT
UID:UZ_PLZ_20260610_1105_500367
DTSTAMP:20260610T110500
DTSTART:20260610T110500
DTEND:20260610T150000
SUMMARY:Rezerwacja RDN (R)
CATEGORIES:R
END:VEVENT
BEGIN:VEVENT
UID:UZ_PLZ_20260617_0730_505648
DTSTAMP:20260617T073000
DTSTART:20260617T073000
DTEND:20260617T150000
SUMMARY:Rezerwacja (R)
CATEGORIES:R
END:VEVENT
BEGIN:VEVENT
UID:UZ_PLZ_20260617_1105_500367
DTSTAMP:20260617T110500
DTSTART:20260617T110500
DTEND:20260617T150000
SUMMARY:Rezerwacja RDN (R)
CATEGORIES:R
END:VEVENT
END:VCALENDAR
