BEGIN:VCALENDAR
TZID:Europe/Warsaw
X-WR-TIMEZONE:Europe/Warsaw
VERSION:2.0
PRODID:-//Uniwersytet Zielonogórski//NONSGML Plan zajęć v1.0//EN
NAME:Plan zajęć - semestr letni 2025/2026
X-WR-CALNAME:Plan zajęć - semestr letni 2025/2026
COLOR:green
CALSCALE:GREGORIAN
BEGIN:VEVENT
UID:UZ_PLZ_20260424_0900_500401
DTSTAMP:20260424T090000
DTSTART:20260424T090000
DTEND:20260424T103000
SUMMARY:Wewnątrzzakładowe systemy transportowe (P): 31ZiIP-ZPU-SP
CATEGORIES:P
LOCATION:B312 A-11
X-ALT-DESC;FMTTYPE=text/html:<html><body><a href="https://classroom.google.com/c/ODUxMjYwMjk3MTYz">Google Classroom</a> </body></html>
END:VEVENT
BEGIN:VEVENT
UID:UZ_PLZ_20260424_1040_500401
DTSTAMP:20260424T104000
DTSTART:20260424T104000
DTEND:20260424T121000
SUMMARY:Wewnątrzzakładowe systemy transportowe (P): 31ZiIP-ZPU-SP
CATEGORIES:P
LOCATION:B312 A-11
X-ALT-DESC;FMTTYPE=text/html:<html><body><a href="https://classroom.google.com/c/ODUxMjYwMjk3MTYz">Google Classroom</a> </body></html>
END:VEVENT
BEGIN:VEVENT
UID:UZ_PLZ_20260424_1220_500401
DTSTAMP:20260424T122000
DTSTART:20260424T122000
DTEND:20260424T135000
SUMMARY:Wewnątrzzakładowe systemy transportowe (P): 31ZiIP-ZPU-SP
CATEGORIES:P
LOCATION:B312 A-11
X-ALT-DESC;FMTTYPE=text/html:<html><body><a href="https://classroom.google.com/c/ODUxMjYwMjk3MTYz">Google Classroom</a> </body></html>
END:VEVENT
BEGIN:VEVENT
UID:UZ_PLZ_20260515_0900_500401
DTSTAMP:20260515T090000
DTSTART:20260515T090000
DTEND:20260515T103000
SUMMARY:Wewnątrzzakładowe systemy transportowe (P): 31ZiIP-ZPU-SP
CATEGORIES:P
LOCATION:B312 A-11
X-ALT-DESC;FMTTYPE=text/html:<html><body><a href="https://classroom.google.com/c/ODUxMjYwMjk3MTYz">Google Classroom</a> </body></html>
END:VEVENT
BEGIN:VEVENT
UID:UZ_PLZ_20260515_1040_500401
DTSTAMP:20260515T104000
DTSTART:20260515T104000
DTEND:20260515T121000
SUMMARY:Wewnątrzzakładowe systemy transportowe (P): 31ZiIP-ZPU-SP
CATEGORIES:P
LOCATION:B312 A-11
X-ALT-DESC;FMTTYPE=text/html:<html><body><a href="https://classroom.google.com/c/ODUxMjYwMjk3MTYz">Google Classroom</a> </body></html>
END:VEVENT
BEGIN:VEVENT
UID:UZ_PLZ_20260515_1220_500401
DTSTAMP:20260515T122000
DTSTART:20260515T122000
DTEND:20260515T135000
SUMMARY:Wewnątrzzakładowe systemy transportowe (P): 31ZiIP-ZPU-SP
CATEGORIES:P
LOCATION:B312 A-11
X-ALT-DESC;FMTTYPE=text/html:<html><body><a href="https://classroom.google.com/c/ODUxMjYwMjk3MTYz">Google Classroom</a> </body></html>
END:VEVENT
BEGIN:VEVENT
UID:UZ_PLZ_20260529_0900_500401
DTSTAMP:20260529T090000
DTSTART:20260529T090000
DTEND:20260529T103000
SUMMARY:Wewnątrzzakładowe systemy transportowe (P): 31ZiIP-ZPU-SP
CATEGORIES:P
LOCATION:B312 A-11
X-ALT-DESC;FMTTYPE=text/html:<html><body><a href="https://classroom.google.com/c/ODUxMjYwMjk3MTYz">Google Classroom</a> </body></html>
END:VEVENT
BEGIN:VEVENT
UID:UZ_PLZ_20260529_1040_500401
DTSTAMP:20260529T104000
DTSTART:20260529T104000
DTEND:20260529T121000
SUMMARY:Wewnątrzzakładowe systemy transportowe (P): 31ZiIP-ZPU-SP
CATEGORIES:P
LOCATION:B312 A-11
X-ALT-DESC;FMTTYPE=text/html:<html><body><a href="https://classroom.google.com/c/ODUxMjYwMjk3MTYz">Google Classroom</a> </body></html>
END:VEVENT
BEGIN:VEVENT
UID:UZ_PLZ_20260529_1220_500401
DTSTAMP:20260529T122000
DTSTART:20260529T122000
DTEND:20260529T135000
SUMMARY:Wewnątrzzakładowe systemy transportowe (P): 31ZiIP-ZPU-SP
CATEGORIES:P
LOCATION:B312 A-11
X-ALT-DESC;FMTTYPE=text/html:<html><body><a href="https://classroom.google.com/c/ODUxMjYwMjk3MTYz">Google Classroom</a> </body></html>
END:VEVENT
BEGIN:VEVENT
UID:UZ_PLZ_20260619_0900_500401
DTSTAMP:20260619T090000
DTSTART:20260619T090000
DTEND:20260619T103000
SUMMARY:Wewnątrzzakładowe systemy transportowe (P): 31ZiIP-ZPU-SP
CATEGORIES:P
LOCATION:B312 A-11
X-ALT-DESC;FMTTYPE=text/html:<html><body><a href="https://classroom.google.com/c/ODUxMjYwMjk3MTYz">Google Classroom</a> </body></html>
END:VEVENT
BEGIN:VEVENT
UID:UZ_PLZ_20260619_1040_500379
DTSTAMP:20260619T104000
DTSTART:20260619T104000
DTEND:20260619T121500
SUMMARY:Podstawy harmonogramowania produkcji (W): 31ZiIP-ZPU-SP
CATEGORIES:W
LOCATION:B312 A-11
X-ALT-DESC;FMTTYPE=text/html:<html><body><a href="https://classroom.google.com/c/ODQ2NjA1NTA5NTky">Google Classroom</a> </body></html>
END:VEVENT
BEGIN:VEVENT
UID:UZ_PLZ_20260619_1220_500429
DTSTAMP:20260619T122000
DTSTART:20260619T122000
DTEND:20260619T135000
SUMMARY:Podstawy harmonogramowania produkcji (P): 31ZiIP-ZPU-SP
CATEGORIES:P
LOCATION:B312 A-11
END:VEVENT
END:VCALENDAR
