BEGIN:VCALENDAR
TZID:Europe/Warsaw
X-WR-TIMEZONE:Europe/Warsaw
VERSION:2.0
PRODID:-//Uniwersytet Zielonogórski//NONSGML Plan zajęć v1.0//EN
NAME:Plan zajęć - semestr letni 2025/2026
X-WR-CALNAME:Plan zajęć - semestr letni 2025/2026
COLOR:green
CALSCALE:GREGORIAN
BEGIN:VEVENT
UID:UZ_PLZ_20260425_1430_504828
DTSTAMP:20260425T143000
DTSTART:20260425T143000
DTEND:20260425T160000
SUMMARY:Konsultacje (I)
CATEGORIES:I
LOCATION:144 A-0
X-ALT-DESC;FMTTYPE=text/html:<html><body><a href="https://classroom.google.com/c/ODUwNTE1NzAyNDI5">Google Classroom</a> </body></html>
END:VEVENT
BEGIN:VEVENT
UID:UZ_PLZ_20260504_1615_498705
DTSTAMP:20260504T161500
DTSTART:20260504T161500
DTEND:20260504T170600
SUMMARY:Seminarium dyplomowe 3 (S): 22BN-ZK-SD
CATEGORIES:S
LOCATION:144 A-0
X-ALT-DESC;FMTTYPE=text/html:<html><body><a href="https://classroom.google.com/c/ODUwNTEzNDQzNTk3">Google Classroom</a> </body></html>
END:VEVENT
BEGIN:VEVENT
UID:UZ_PLZ_20260504_1615_498656
DTSTAMP:20260504T161500
DTSTART:20260504T161500
DTEND:20260504T175100
SUMMARY:Seminarium dyplomowe 3 (S): 21BN-BP-SD
CATEGORIES:S
LOCATION:144 A-0
X-ALT-DESC;FMTTYPE=text/html:<html><body><a href="https://classroom.google.com/c/ODUwNTE0MTY4ODU5">Google Classroom</a> </body></html>
END:VEVENT
BEGIN:VEVENT
UID:UZ_PLZ_20260506_1245_497919
DTSTAMP:20260506T124500
DTSTART:20260506T124500
DTEND:20260506T142000
SUMMARY:Wspomaganie procesów decyzyjnych (P): 11ZARZ-SRB-SD
CATEGORIES:P
LOCATION:110/110a A-0
X-ALT-DESC;FMTTYPE=text/html:<html><body><a href="https://classroom.google.com/c/ODUwNTE0MTkwMjM2">Google Classroom</a> </body></html>
END:VEVENT
BEGIN:VEVENT
UID:UZ_PLZ_20260506_1430_497823
DTSTAMP:20260506T143000
DTSTART:20260506T143000
DTEND:20260506T160500
SUMMARY:Wykład monograficzny specjalnościowy - Zarządzanie kryzysowe (W): 22BN-ZK-SD
CATEGORIES:W
LOCATION:110/110a A-0
X-ALT-DESC;FMTTYPE=text/html:<html><body><a href="https://classroom.google.com/c/ODUwNTEzMjExMDc1">Google Classroom</a> </body></html>
END:VEVENT
BEGIN:VEVENT
UID:UZ_PLZ_20260506_1615_498075
DTSTAMP:20260506T161500
DTSTART:20260506T161500
DTEND:20260506T175000
SUMMARY:Wspomaganie procesów decyzyjnych (P): 12ZARZ-MP-SD
CATEGORIES:P
LOCATION:110/110a A-0
X-ALT-DESC;FMTTYPE=text/html:<html><body><a href="https://classroom.google.com/c/ODUwNTE0NzMwNTE1">Google Classroom</a> </body></html>
END:VEVENT
BEGIN:VEVENT
UID:UZ_PLZ_20260506_1800_507251
DTSTAMP:20260506T180000
DTSTART:20260506T180000
DTEND:20260506T193000
SUMMARY:Konsultacje (I)
CATEGORIES:I
LOCATION:144 A-0
END:VEVENT
BEGIN:VEVENT
UID:UZ_PLZ_20260507_0915_497813
DTSTAMP:20260507T091500
DTSTART:20260507T091500
DTEND:20260507T105000
SUMMARY:Strategie bezpieczeństwa (W): 11BN-SP\; 12BN-SP
CATEGORIES:W
LOCATION:005 A-0
X-ALT-DESC;FMTTYPE=text/html:<html><body><a href="https://classroom.google.com/c/ODUwNTE0NzQ0NzIw">Google Classroom</a> </body></html>
END:VEVENT
BEGIN:VEVENT
UID:UZ_PLZ_20260507_1100_498175
DTSTAMP:20260507T110000
DTSTART:20260507T110000
DTEND:20260507T123500
SUMMARY:Strategie bezpieczeństwa (Ć): 11BN-SP
CATEGORIES:Ć
LOCATION:110/110a A-0
X-ALT-DESC;FMTTYPE=text/html:<html><body><a href="https://classroom.google.com/c/ODUwNTEzNzIxNDUx">Google Classroom</a> </body></html>
END:VEVENT
BEGIN:VEVENT
UID:UZ_PLZ_20260507_1245_498066
DTSTAMP:20260507T124500
DTSTART:20260507T124500
DTEND:20260507T142000
SUMMARY:Strategie bezpieczeństwa (Ć): 12BN-SP
CATEGORIES:Ć
LOCATION:110/110a A-0
X-ALT-DESC;FMTTYPE=text/html:<html><body><a href="https://classroom.google.com/c/Nzk2NDgxMzM4MDk5">Google Classroom</a> </body></html>
END:VEVENT
BEGIN:VEVENT
UID:UZ_PLZ_20260507_1800_498010
DTSTAMP:20260507T180000
DTSTART:20260507T180000
DTEND:20260507T193500
SUMMARY:Strategie bezpieczeństwa (P): 11BN-SP
CATEGORIES:P
LOCATION:110/110a A-0
X-ALT-DESC;FMTTYPE=text/html:<html><body><a href="https://classroom.google.com/c/ODUwNTE1NzgzMDEx">Google Classroom</a> </body></html>
END:VEVENT
BEGIN:VEVENT
UID:UZ_PLZ_20260507_1945_497814
DTSTAMP:20260507T194500
DTSTART:20260507T194500
DTEND:20260507T212000
SUMMARY:Strategie bezpieczeństwa (P): 12BN-SP
CATEGORIES:P
LOCATION:110/110a A-0
X-ALT-DESC;FMTTYPE=text/html:<html><body><a href="https://classroom.google.com/c/Nzk2NDgxMzMzMzUx">Google Classroom</a> </body></html>
END:VEVENT
BEGIN:VEVENT
UID:UZ_PLZ_20260508_0730_497958
DTSTAMP:20260508T073000
DTSTART:20260508T073000
DTEND:20260508T090500
SUMMARY:Siły zbrojne w systemie bezpieczeństwa narodowego (L): 21BN-SP/A
CATEGORIES:L
LOCATION:102 A-0
X-ALT-DESC;FMTTYPE=text/html:<html><body><a href="https://classroom.google.com/c/ODUwNTE1NTQyODU1">Google Classroom</a> </body></html>
END:VEVENT
BEGIN:VEVENT
UID:UZ_PLZ_20260508_0915_497872
DTSTAMP:20260508T091500
DTSTART:20260508T091500
DTEND:20260508T105000
SUMMARY:Siły zbrojne w systemie bezpieczeństwa narodowego (W): 21BN-SP
CATEGORIES:W
LOCATION:02a C-2
X-ALT-DESC;FMTTYPE=text/html:<html><body><a href="https://classroom.google.com/c/Nzk2NDgxMzY2Mzgz">Google Classroom</a> </body></html>
END:VEVENT
BEGIN:VEVENT
UID:UZ_PLZ_20260508_1100_497871
DTSTAMP:20260508T110000
DTSTART:20260508T110000
DTEND:20260508T123500
SUMMARY:Siły zbrojne w systemie bezpieczeństwa narodowego (Ć): 21BN-SP
CATEGORIES:Ć
LOCATION:02a C-2
X-ALT-DESC;FMTTYPE=text/html:<html><body><a href="https://classroom.google.com/c/ODUwNTE1MDExNTg4">Google Classroom</a> </body></html>
END:VEVENT
BEGIN:VEVENT
UID:UZ_PLZ_20260508_1245_498065
DTSTAMP:20260508T124500
DTSTART:20260508T124500
DTEND:20260508T142000
SUMMARY:Siły zbrojne w systemie bezpieczeństwa narodowego (L): 21BN-SP/B
CATEGORIES:L
LOCATION:102 A-0
X-ALT-DESC;FMTTYPE=text/html:<html><body><a href="https://classroom.google.com/c/ODUwNTEyODA0NTA5">Google Classroom</a> </body></html>
END:VEVENT
BEGIN:VEVENT
UID:UZ_PLZ_20260509_0730_498513
DTSTAMP:20260509T073000
DTSTART:20260509T073000
DTEND:20260509T091000
SUMMARY:Strategie bezpieczeństwa (W): 11BN-NP
CATEGORIES:W
LOCATION:1 C-2
X-ALT-DESC;FMTTYPE=text/html:<html><body><a href="https://classroom.google.com/c/ODUwNTE0OTY2OTU1">Google Classroom</a> </body></html>
END:VEVENT
BEGIN:VEVENT
UID:UZ_PLZ_20260509_0915_498435
DTSTAMP:20260509T091500
DTSTART:20260509T091500
DTEND:20260509T105500
SUMMARY:Strategie bezpieczeństwa (P): 11BN-NP
CATEGORIES:P
LOCATION:1 C-2
X-ALT-DESC;FMTTYPE=text/html:<html><body><a href="https://classroom.google.com/c/ODUwNTE1ODA3NTc1">Google Classroom</a> </body></html>
END:VEVENT
BEGIN:VEVENT
UID:UZ_PLZ_20260509_1100_498308
DTSTAMP:20260509T110000
DTSTART:20260509T110000
DTEND:20260509T124000
SUMMARY:Strategie bezpieczeństwa (Ć): 11BN-NP
CATEGORIES:Ć
LOCATION:1 C-2
X-ALT-DESC;FMTTYPE=text/html:<html><body><a href="https://classroom.google.com/c/ODUwNTE1MDIzODc1">Google Classroom</a> </body></html>
END:VEVENT
BEGIN:VEVENT
UID:UZ_PLZ_20260509_1245_498217
DTSTAMP:20260509T124500
DTSTART:20260509T124500
DTEND:20260509T142500
SUMMARY:Wspomaganie procesów decyzyjnych (P): 11ZARZ-SRB-ND
CATEGORIES:P
LOCATION:1 C-2
X-ALT-DESC;FMTTYPE=text/html:<html><body><a href="https://classroom.google.com/c/ODUwNTEzNjk5OTAz">Google Classroom</a> </body></html>
END:VEVENT
BEGIN:VEVENT
UID:UZ_PLZ_20260509_1430_504828
DTSTAMP:20260509T143000
DTSTART:20260509T143000
DTEND:20260509T160000
SUMMARY:Konsultacje (I)
CATEGORIES:I
LOCATION:144 A-0
X-ALT-DESC;FMTTYPE=text/html:<html><body><a href="https://classroom.google.com/c/ODUwNTE1NzAyNDI5">Google Classroom</a> </body></html>
END:VEVENT
BEGIN:VEVENT
UID:UZ_PLZ_20260509_1615_498433
DTSTAMP:20260509T161500
DTSTART:20260509T161500
DTEND:20260509T175500
SUMMARY:Siły zbrojne w systemie bezpieczeństwa narodowego (W): 21BN-NP
CATEGORIES:W
LOCATION:1 C-2
X-ALT-DESC;FMTTYPE=text/html:<html><body><a href="https://classroom.google.com/c/Nzk2NDgxMDI3OTU4">Google Classroom</a> </body></html>
END:VEVENT
BEGIN:VEVENT
UID:UZ_PLZ_20260509_1800_498394
DTSTAMP:20260509T180000
DTSTART:20260509T180000
DTEND:20260509T194000
SUMMARY:Siły zbrojne w systemie bezpieczeństwa narodowego (Ć): 21BN-NP
CATEGORIES:Ć
LOCATION:F7 A-0
X-ALT-DESC;FMTTYPE=text/html:<html><body><a href="https://classroom.google.com/c/ODUwNTE1MDc3MzY1">Google Classroom</a> </body></html>
END:VEVENT
BEGIN:VEVENT
UID:UZ_PLZ_20260510_0730_498352
DTSTAMP:20260510T073000
DTSTART:20260510T073000
DTEND:20260510T091000
SUMMARY:Siły zbrojne w systemie bezpieczeństwa narodowego (L): 21BN-NP/A
CATEGORIES:L
LOCATION:F5 A-0
X-ALT-DESC;FMTTYPE=text/html:<html><body><a href="https://classroom.google.com/c/ODUwNTE0NTk4NDkz">Google Classroom</a> </body></html>
END:VEVENT
BEGIN:VEVENT
UID:UZ_PLZ_20260516_1430_504828
DTSTAMP:20260516T143000
DTSTART:20260516T143000
DTEND:20260516T160000
SUMMARY:Konsultacje (I)
CATEGORIES:I
LOCATION:144 A-0
X-ALT-DESC;FMTTYPE=text/html:<html><body><a href="https://classroom.google.com/c/ODUwNTE1NzAyNDI5">Google Classroom</a> </body></html>
END:VEVENT
BEGIN:VEVENT
UID:UZ_PLZ_20260518_1615_498705
DTSTAMP:20260518T161500
DTSTART:20260518T161500
DTEND:20260518T170600
SUMMARY:Seminarium dyplomowe 3 (S): 22BN-ZK-SD
CATEGORIES:S
LOCATION:144 A-0
X-ALT-DESC;FMTTYPE=text/html:<html><body><a href="https://classroom.google.com/c/ODUwNTEzNDQzNTk3">Google Classroom</a> </body></html>
END:VEVENT
BEGIN:VEVENT
UID:UZ_PLZ_20260518_1615_498656
DTSTAMP:20260518T161500
DTSTART:20260518T161500
DTEND:20260518T175100
SUMMARY:Seminarium dyplomowe 3 (S): 21BN-BP-SD
CATEGORIES:S
LOCATION:144 A-0
X-ALT-DESC;FMTTYPE=text/html:<html><body><a href="https://classroom.google.com/c/ODUwNTE0MTY4ODU5">Google Classroom</a> </body></html>
END:VEVENT
BEGIN:VEVENT
UID:UZ_PLZ_20260520_1245_497919
DTSTAMP:20260520T124500
DTSTART:20260520T124500
DTEND:20260520T142000
SUMMARY:Wspomaganie procesów decyzyjnych (P): 11ZARZ-SRB-SD
CATEGORIES:P
LOCATION:110/110a A-0
X-ALT-DESC;FMTTYPE=text/html:<html><body><a href="https://classroom.google.com/c/ODUwNTE0MTkwMjM2">Google Classroom</a> </body></html>
END:VEVENT
BEGIN:VEVENT
UID:UZ_PLZ_20260520_1430_497823
DTSTAMP:20260520T143000
DTSTART:20260520T143000
DTEND:20260520T160500
SUMMARY:Wykład monograficzny specjalnościowy - Zarządzanie kryzysowe (W): 22BN-ZK-SD
CATEGORIES:W
LOCATION:110/110a A-0
X-ALT-DESC;FMTTYPE=text/html:<html><body><a href="https://classroom.google.com/c/ODUwNTEzMjExMDc1">Google Classroom</a> </body></html>
END:VEVENT
BEGIN:VEVENT
UID:UZ_PLZ_20260520_1615_498075
DTSTAMP:20260520T161500
DTSTART:20260520T161500
DTEND:20260520T175000
SUMMARY:Wspomaganie procesów decyzyjnych (P): 12ZARZ-MP-SD
CATEGORIES:P
LOCATION:110/110a A-0
X-ALT-DESC;FMTTYPE=text/html:<html><body><a href="https://classroom.google.com/c/ODUwNTE0NzMwNTE1">Google Classroom</a> </body></html>
END:VEVENT
BEGIN:VEVENT
UID:UZ_PLZ_20260520_1800_507251
DTSTAMP:20260520T180000
DTSTART:20260520T180000
DTEND:20260520T193000
SUMMARY:Konsultacje (I)
CATEGORIES:I
LOCATION:144 A-0
END:VEVENT
BEGIN:VEVENT
UID:UZ_PLZ_20260521_0915_497813
DTSTAMP:20260521T091500
DTSTART:20260521T091500
DTEND:20260521T105000
SUMMARY:Strategie bezpieczeństwa (W): 11BN-SP\; 12BN-SP
CATEGORIES:W
LOCATION:005 A-0
X-ALT-DESC;FMTTYPE=text/html:<html><body><a href="https://classroom.google.com/c/ODUwNTE0NzQ0NzIw">Google Classroom</a> </body></html>
END:VEVENT
BEGIN:VEVENT
UID:UZ_PLZ_20260521_1100_498175
DTSTAMP:20260521T110000
DTSTART:20260521T110000
DTEND:20260521T123500
SUMMARY:Strategie bezpieczeństwa (Ć): 11BN-SP
CATEGORIES:Ć
LOCATION:110/110a A-0
X-ALT-DESC;FMTTYPE=text/html:<html><body><a href="https://classroom.google.com/c/ODUwNTEzNzIxNDUx">Google Classroom</a> </body></html>
END:VEVENT
BEGIN:VEVENT
UID:UZ_PLZ_20260521_1245_498066
DTSTAMP:20260521T124500
DTSTART:20260521T124500
DTEND:20260521T142000
SUMMARY:Strategie bezpieczeństwa (Ć): 12BN-SP
CATEGORIES:Ć
LOCATION:110/110a A-0
X-ALT-DESC;FMTTYPE=text/html:<html><body><a href="https://classroom.google.com/c/Nzk2NDgxMzM4MDk5">Google Classroom</a> </body></html>
END:VEVENT
BEGIN:VEVENT
UID:UZ_PLZ_20260521_1800_498010
DTSTAMP:20260521T180000
DTSTART:20260521T180000
DTEND:20260521T193500
SUMMARY:Strategie bezpieczeństwa (P): 11BN-SP
CATEGORIES:P
LOCATION:110/110a A-0
X-ALT-DESC;FMTTYPE=text/html:<html><body><a href="https://classroom.google.com/c/ODUwNTE1NzgzMDEx">Google Classroom</a> </body></html>
END:VEVENT
BEGIN:VEVENT
UID:UZ_PLZ_20260521_1945_497814
DTSTAMP:20260521T194500
DTSTART:20260521T194500
DTEND:20260521T212000
SUMMARY:Strategie bezpieczeństwa (P): 12BN-SP
CATEGORIES:P
LOCATION:110/110a A-0
X-ALT-DESC;FMTTYPE=text/html:<html><body><a href="https://classroom.google.com/c/Nzk2NDgxMzMzMzUx">Google Classroom</a> </body></html>
END:VEVENT
BEGIN:VEVENT
UID:UZ_PLZ_20260522_0730_497958
DTSTAMP:20260522T073000
DTSTART:20260522T073000
DTEND:20260522T090500
SUMMARY:Siły zbrojne w systemie bezpieczeństwa narodowego (L): 21BN-SP/A
CATEGORIES:L
LOCATION:102 A-0
X-ALT-DESC;FMTTYPE=text/html:<html><body><a href="https://classroom.google.com/c/ODUwNTE1NTQyODU1">Google Classroom</a> </body></html>
END:VEVENT
BEGIN:VEVENT
UID:UZ_PLZ_20260522_0915_497872
DTSTAMP:20260522T091500
DTSTART:20260522T091500
DTEND:20260522T105000
SUMMARY:Siły zbrojne w systemie bezpieczeństwa narodowego (W): 21BN-SP
CATEGORIES:W
LOCATION:02a C-2
X-ALT-DESC;FMTTYPE=text/html:<html><body><a href="https://classroom.google.com/c/Nzk2NDgxMzY2Mzgz">Google Classroom</a> </body></html>
END:VEVENT
BEGIN:VEVENT
UID:UZ_PLZ_20260522_1100_497871
DTSTAMP:20260522T110000
DTSTART:20260522T110000
DTEND:20260522T123500
SUMMARY:Siły zbrojne w systemie bezpieczeństwa narodowego (Ć): 21BN-SP
CATEGORIES:Ć
LOCATION:02a C-2
X-ALT-DESC;FMTTYPE=text/html:<html><body><a href="https://classroom.google.com/c/ODUwNTE1MDExNTg4">Google Classroom</a> </body></html>
END:VEVENT
BEGIN:VEVENT
UID:UZ_PLZ_20260522_1245_498065
DTSTAMP:20260522T124500
DTSTART:20260522T124500
DTEND:20260522T142000
SUMMARY:Siły zbrojne w systemie bezpieczeństwa narodowego (L): 21BN-SP/B
CATEGORIES:L
LOCATION:102 A-0
X-ALT-DESC;FMTTYPE=text/html:<html><body><a href="https://classroom.google.com/c/ODUwNTEyODA0NTA5">Google Classroom</a> </body></html>
END:VEVENT
BEGIN:VEVENT
UID:UZ_PLZ_20260530_0730_498513
DTSTAMP:20260530T073000
DTSTART:20260530T073000
DTEND:20260530T091000
SUMMARY:Strategie bezpieczeństwa (W): 11BN-NP
CATEGORIES:W
LOCATION:1 C-2
X-ALT-DESC;FMTTYPE=text/html:<html><body><a href="https://classroom.google.com/c/ODUwNTE0OTY2OTU1">Google Classroom</a> </body></html>
END:VEVENT
BEGIN:VEVENT
UID:UZ_PLZ_20260530_0915_498435
DTSTAMP:20260530T091500
DTSTART:20260530T091500
DTEND:20260530T105500
SUMMARY:Strategie bezpieczeństwa (P): 11BN-NP
CATEGORIES:P
LOCATION:1 C-2
X-ALT-DESC;FMTTYPE=text/html:<html><body><a href="https://classroom.google.com/c/ODUwNTE1ODA3NTc1">Google Classroom</a> </body></html>
END:VEVENT
BEGIN:VEVENT
UID:UZ_PLZ_20260530_1100_498308
DTSTAMP:20260530T110000
DTSTART:20260530T110000
DTEND:20260530T124000
SUMMARY:Strategie bezpieczeństwa (Ć): 11BN-NP
CATEGORIES:Ć
LOCATION:1 C-2
X-ALT-DESC;FMTTYPE=text/html:<html><body><a href="https://classroom.google.com/c/ODUwNTE1MDIzODc1">Google Classroom</a> </body></html>
END:VEVENT
BEGIN:VEVENT
UID:UZ_PLZ_20260530_1245_498217
DTSTAMP:20260530T124500
DTSTART:20260530T124500
DTEND:20260530T142500
SUMMARY:Wspomaganie procesów decyzyjnych (P): 11ZARZ-SRB-ND
CATEGORIES:P
LOCATION:1 C-2
X-ALT-DESC;FMTTYPE=text/html:<html><body><a href="https://classroom.google.com/c/ODUwNTEzNjk5OTAz">Google Classroom</a> </body></html>
END:VEVENT
BEGIN:VEVENT
UID:UZ_PLZ_20260530_1430_504828
DTSTAMP:20260530T143000
DTSTART:20260530T143000
DTEND:20260530T160000
SUMMARY:Konsultacje (I)
CATEGORIES:I
LOCATION:144 A-0
X-ALT-DESC;FMTTYPE=text/html:<html><body><a href="https://classroom.google.com/c/ODUwNTE1NzAyNDI5">Google Classroom</a> </body></html>
END:VEVENT
BEGIN:VEVENT
UID:UZ_PLZ_20260530_1615_498433
DTSTAMP:20260530T161500
DTSTART:20260530T161500
DTEND:20260530T175500
SUMMARY:Siły zbrojne w systemie bezpieczeństwa narodowego (W): 21BN-NP
CATEGORIES:W
LOCATION:1 C-2
X-ALT-DESC;FMTTYPE=text/html:<html><body><a href="https://classroom.google.com/c/Nzk2NDgxMDI3OTU4">Google Classroom</a> </body></html>
END:VEVENT
BEGIN:VEVENT
UID:UZ_PLZ_20260530_1800_498394
DTSTAMP:20260530T180000
DTSTART:20260530T180000
DTEND:20260530T194000
SUMMARY:Siły zbrojne w systemie bezpieczeństwa narodowego (Ć): 21BN-NP
CATEGORIES:Ć
LOCATION:F7 A-0
X-ALT-DESC;FMTTYPE=text/html:<html><body><a href="https://classroom.google.com/c/ODUwNTE1MDc3MzY1">Google Classroom</a> </body></html>
END:VEVENT
BEGIN:VEVENT
UID:UZ_PLZ_20260531_0730_498352
DTSTAMP:20260531T073000
DTSTART:20260531T073000
DTEND:20260531T091000
SUMMARY:Siły zbrojne w systemie bezpieczeństwa narodowego (L): 21BN-NP/A
CATEGORIES:L
LOCATION:F5 A-0
X-ALT-DESC;FMTTYPE=text/html:<html><body><a href="https://classroom.google.com/c/ODUwNTE0NTk4NDkz">Google Classroom</a> </body></html>
END:VEVENT
BEGIN:VEVENT
UID:UZ_PLZ_20260601_1615_498705
DTSTAMP:20260601T161500
DTSTART:20260601T161500
DTEND:20260601T170600
SUMMARY:Seminarium dyplomowe 3 (S): 22BN-ZK-SD
CATEGORIES:S
LOCATION:144 A-0
X-ALT-DESC;FMTTYPE=text/html:<html><body><a href="https://classroom.google.com/c/ODUwNTEzNDQzNTk3">Google Classroom</a> </body></html>
END:VEVENT
BEGIN:VEVENT
UID:UZ_PLZ_20260601_1615_498656
DTSTAMP:20260601T161500
DTSTART:20260601T161500
DTEND:20260601T175100
SUMMARY:Seminarium dyplomowe 3 (S): 21BN-BP-SD
CATEGORIES:S
LOCATION:144 A-0
X-ALT-DESC;FMTTYPE=text/html:<html><body><a href="https://classroom.google.com/c/ODUwNTE0MTY4ODU5">Google Classroom</a> </body></html>
END:VEVENT
BEGIN:VEVENT
UID:UZ_PLZ_20260603_1245_497919
DTSTAMP:20260603T124500
DTSTART:20260603T124500
DTEND:20260603T142000
SUMMARY:Wspomaganie procesów decyzyjnych (P): 11ZARZ-SRB-SD
CATEGORIES:P
LOCATION:110/110a A-0
X-ALT-DESC;FMTTYPE=text/html:<html><body><a href="https://classroom.google.com/c/ODUwNTE0MTkwMjM2">Google Classroom</a> </body></html>
END:VEVENT
BEGIN:VEVENT
UID:UZ_PLZ_20260603_1430_497823
DTSTAMP:20260603T143000
DTSTART:20260603T143000
DTEND:20260603T160500
SUMMARY:Wykład monograficzny specjalnościowy - Zarządzanie kryzysowe (W): 22BN-ZK-SD
CATEGORIES:W
LOCATION:110/110a A-0
X-ALT-DESC;FMTTYPE=text/html:<html><body><a href="https://classroom.google.com/c/ODUwNTEzMjExMDc1">Google Classroom</a> </body></html>
END:VEVENT
BEGIN:VEVENT
UID:UZ_PLZ_20260603_1615_498075
DTSTAMP:20260603T161500
DTSTART:20260603T161500
DTEND:20260603T175000
SUMMARY:Wspomaganie procesów decyzyjnych (P): 12ZARZ-MP-SD
CATEGORIES:P
LOCATION:110/110a A-0
X-ALT-DESC;FMTTYPE=text/html:<html><body><a href="https://classroom.google.com/c/ODUwNTE0NzMwNTE1">Google Classroom</a> </body></html>
END:VEVENT
BEGIN:VEVENT
UID:UZ_PLZ_20260603_1800_507251
DTSTAMP:20260603T180000
DTSTART:20260603T180000
DTEND:20260603T193000
SUMMARY:Konsultacje (I)
CATEGORIES:I
LOCATION:144 A-0
END:VEVENT
BEGIN:VEVENT
UID:UZ_PLZ_20260613_1430_504828
DTSTAMP:20260613T143000
DTSTART:20260613T143000
DTEND:20260613T160000
SUMMARY:Konsultacje (I)
CATEGORIES:I
LOCATION:144 A-0
X-ALT-DESC;FMTTYPE=text/html:<html><body><a href="https://classroom.google.com/c/ODUwNTE1NzAyNDI5">Google Classroom</a> </body></html>
END:VEVENT
BEGIN:VEVENT
UID:UZ_PLZ_20260615_1615_498705
DTSTAMP:20260615T161500
DTSTART:20260615T161500
DTEND:20260615T170600
SUMMARY:Seminarium dyplomowe 3 (S): 22BN-ZK-SD
CATEGORIES:S
LOCATION:144 A-0
X-ALT-DESC;FMTTYPE=text/html:<html><body><a href="https://classroom.google.com/c/ODUwNTEzNDQzNTk3">Google Classroom</a> </body></html>
END:VEVENT
BEGIN:VEVENT
UID:UZ_PLZ_20260615_1615_498656
DTSTAMP:20260615T161500
DTSTART:20260615T161500
DTEND:20260615T175100
SUMMARY:Seminarium dyplomowe 3 (S): 21BN-BP-SD
CATEGORIES:S
LOCATION:144 A-0
X-ALT-DESC;FMTTYPE=text/html:<html><body><a href="https://classroom.google.com/c/ODUwNTE0MTY4ODU5">Google Classroom</a> </body></html>
END:VEVENT
BEGIN:VEVENT
UID:UZ_PLZ_20260618_0915_497813
DTSTAMP:20260618T091500
DTSTART:20260618T091500
DTEND:20260618T105000
SUMMARY:Strategie bezpieczeństwa (W): 11BN-SP\; 12BN-SP
CATEGORIES:W
LOCATION:005 A-0
X-ALT-DESC;FMTTYPE=text/html:<html><body><a href="https://classroom.google.com/c/ODUwNTE0NzQ0NzIw">Google Classroom</a> </body></html>
END:VEVENT
BEGIN:VEVENT
UID:UZ_PLZ_20260618_1100_498175
DTSTAMP:20260618T110000
DTSTART:20260618T110000
DTEND:20260618T123500
SUMMARY:Strategie bezpieczeństwa (Ć): 11BN-SP
CATEGORIES:Ć
LOCATION:110/110a A-0
X-ALT-DESC;FMTTYPE=text/html:<html><body><a href="https://classroom.google.com/c/ODUwNTEzNzIxNDUx">Google Classroom</a> </body></html>
END:VEVENT
BEGIN:VEVENT
UID:UZ_PLZ_20260618_1245_498066
DTSTAMP:20260618T124500
DTSTART:20260618T124500
DTEND:20260618T142000
SUMMARY:Strategie bezpieczeństwa (Ć): 12BN-SP
CATEGORIES:Ć
LOCATION:110/110a A-0
X-ALT-DESC;FMTTYPE=text/html:<html><body><a href="https://classroom.google.com/c/Nzk2NDgxMzM4MDk5">Google Classroom</a> </body></html>
END:VEVENT
BEGIN:VEVENT
UID:UZ_PLZ_20260618_1800_498010
DTSTAMP:20260618T180000
DTSTART:20260618T180000
DTEND:20260618T193500
SUMMARY:Strategie bezpieczeństwa (P): 11BN-SP
CATEGORIES:P
LOCATION:110/110a A-0
X-ALT-DESC;FMTTYPE=text/html:<html><body><a href="https://classroom.google.com/c/ODUwNTE1NzgzMDEx">Google Classroom</a> </body></html>
END:VEVENT
BEGIN:VEVENT
UID:UZ_PLZ_20260618_1945_497814
DTSTAMP:20260618T194500
DTSTART:20260618T194500
DTEND:20260618T212000
SUMMARY:Strategie bezpieczeństwa (P): 12BN-SP
CATEGORIES:P
LOCATION:110/110a A-0
X-ALT-DESC;FMTTYPE=text/html:<html><body><a href="https://classroom.google.com/c/Nzk2NDgxMzMzMzUx">Google Classroom</a> </body></html>
END:VEVENT
BEGIN:VEVENT
UID:UZ_PLZ_20260619_0730_497958
DTSTAMP:20260619T073000
DTSTART:20260619T073000
DTEND:20260619T090500
SUMMARY:Siły zbrojne w systemie bezpieczeństwa narodowego (L): 21BN-SP/A
CATEGORIES:L
LOCATION:102 A-0
X-ALT-DESC;FMTTYPE=text/html:<html><body><a href="https://classroom.google.com/c/ODUwNTE1NTQyODU1">Google Classroom</a> </body></html>
END:VEVENT
BEGIN:VEVENT
UID:UZ_PLZ_20260619_0915_497872
DTSTAMP:20260619T091500
DTSTART:20260619T091500
DTEND:20260619T105000
SUMMARY:Siły zbrojne w systemie bezpieczeństwa narodowego (W): 21BN-SP
CATEGORIES:W
LOCATION:02a C-2
X-ALT-DESC;FMTTYPE=text/html:<html><body><a href="https://classroom.google.com/c/Nzk2NDgxMzY2Mzgz">Google Classroom</a> </body></html>
END:VEVENT
BEGIN:VEVENT
UID:UZ_PLZ_20260619_1100_497871
DTSTAMP:20260619T110000
DTSTART:20260619T110000
DTEND:20260619T123500
SUMMARY:Siły zbrojne w systemie bezpieczeństwa narodowego (Ć): 21BN-SP
CATEGORIES:Ć
LOCATION:02a C-2
X-ALT-DESC;FMTTYPE=text/html:<html><body><a href="https://classroom.google.com/c/ODUwNTE1MDExNTg4">Google Classroom</a> </body></html>
END:VEVENT
BEGIN:VEVENT
UID:UZ_PLZ_20260619_1245_498065
DTSTAMP:20260619T124500
DTSTART:20260619T124500
DTEND:20260619T142000
SUMMARY:Siły zbrojne w systemie bezpieczeństwa narodowego (L): 21BN-SP/B
CATEGORIES:L
LOCATION:102 A-0
X-ALT-DESC;FMTTYPE=text/html:<html><body><a href="https://classroom.google.com/c/ODUwNTEyODA0NTA5">Google Classroom</a> </body></html>
END:VEVENT
BEGIN:VEVENT
UID:UZ_PLZ_20260621_0900_508546
DTSTAMP:20260621T090000
DTSTART:20260621T090000
DTEND:20260621T100000
SUMMARY:Strategie bezpieczeństwa (E): 11BN-NP
CATEGORIES:E
LOCATION:F5 A-0
END:VEVENT
BEGIN:VEVENT
UID:UZ_PLZ_20260623_0900_508547
DTSTAMP:20260623T090000
DTSTART:20260623T090000
DTEND:20260623T100000
SUMMARY:Strategie bezpieczeństwa (E): 11BN-SP\; 12BN-SP
CATEGORIES:E
LOCATION:F5 A-0
END:VEVENT
BEGIN:VEVENT
UID:UZ_PLZ_20260901_0900_508546
DTSTAMP:20260901T090000
DTSTART:20260901T090000
DTEND:20260901T100000
SUMMARY:Strategie bezpieczeństwa (E): 11BN-NP
CATEGORIES:E
LOCATION:F5 A-0
END:VEVENT
BEGIN:VEVENT
UID:UZ_PLZ_20260902_1030_508547
DTSTAMP:20260902T103000
DTSTART:20260902T103000
DTEND:20260902T113000
SUMMARY:Strategie bezpieczeństwa (E): 11BN-SP\; 12BN-SP
CATEGORIES:E
LOCATION:F5 A-0
END:VEVENT
END:VCALENDAR
