BEGIN:VCALENDAR
TZID:Europe/Warsaw
X-WR-TIMEZONE:Europe/Warsaw
VERSION:2.0
PRODID:-//Uniwersytet Zielonogórski//NONSGML Plan zajęć v1.0//EN
NAME:Plan zajęć - semestr letni 2025/2026
X-WR-CALNAME:Plan zajęć - semestr letni 2025/2026
COLOR:green
CALSCALE:GREGORIAN
BEGIN:VEVENT
UID:UZ_PLZ_20260425_1100_499197
DTSTAMP:20260425T110000
DTSTART:20260425T110000
DTEND:20260425T115000
SUMMARY:Proseminarium (Pro): 21EK-NP
CATEGORIES:Pro
LOCATION:151 A-0
END:VEVENT
BEGIN:VEVENT
UID:UZ_PLZ_20260425_1155_499269
DTSTAMP:20260425T115500
DTSTART:20260425T115500
DTEND:20260425T124000
SUMMARY:Seminarium dyplomowe 2 (S): 31EK-NP
CATEGORIES:S
LOCATION:151 A-0
END:VEVENT
BEGIN:VEVENT
UID:UZ_PLZ_20260425_1245_499237
DTSTAMP:20260425T124500
DTSTART:20260425T124500
DTEND:20260425T135000
SUMMARY:Seminarium  I (S): 11FiR-ARF-ND\; 12FiR-FP-ND
CATEGORIES:S
LOCATION:151 A-0
END:VEVENT
BEGIN:VEVENT
UID:UZ_PLZ_20260426_1255_499188
DTSTAMP:20260426T125500
DTSTART:20260426T125500
DTEND:20260426T141500
SUMMARY:Zarządzanie ryzykiem (Ć): 11FiR-ARF-ND
CATEGORIES:Ć
LOCATION:223 A-29
END:VEVENT
BEGIN:VEVENT
UID:UZ_PLZ_20260426_1430_499043
DTSTAMP:20260426T143000
DTSTART:20260426T143000
DTEND:20260426T155000
SUMMARY:Zarządzanie ryzykiem (W): 11FiR-ARF-ND\; 12FiR-FP-ND
CATEGORIES:W
LOCATION:108 A-29
END:VEVENT
BEGIN:VEVENT
UID:UZ_PLZ_20260426_1615_499055
DTSTAMP:20260426T161500
DTSTART:20260426T161500
DTEND:20260426T173500
SUMMARY:Ocena projektów inwestycyjnych (Ć): 12FiR-FP-ND
CATEGORIES:Ć
LOCATION:108 A-29
END:VEVENT
BEGIN:VEVENT
UID:UZ_PLZ_20260426_1800_499055
DTSTAMP:20260426T180000
DTSTART:20260426T180000
DTEND:20260426T192000
SUMMARY:Ocena projektów inwestycyjnych (Ć): 12FiR-FP-ND
CATEGORIES:Ć
LOCATION:108 A-29
END:VEVENT
BEGIN:VEVENT
UID:UZ_PLZ_20260426_1935_499097
DTSTAMP:20260426T193500
DTSTART:20260426T193500
DTEND:20260426T205500
SUMMARY:Zarządzanie ryzykiem (Ć): 12FiR-FP-ND
CATEGORIES:Ć
LOCATION:108 A-29
END:VEVENT
BEGIN:VEVENT
UID:UZ_PLZ_20260427_1100_507321
DTSTAMP:20260427T110000
DTSTART:20260427T110000
DTEND:20260427T123000
SUMMARY:Konsultacje (I)
CATEGORIES:I
LOCATION:151 A-0
END:VEVENT
BEGIN:VEVENT
UID:UZ_PLZ_20260427_1245_505417
DTSTAMP:20260427T124500
DTSTART:20260427T124500
DTEND:20260427T141000
SUMMARY:Procesy innowacyjne (Ć): 11BN-SP
CATEGORIES:Ć
LOCATION:209 A-29
END:VEVENT
BEGIN:VEVENT
UID:UZ_PLZ_20260427_1430_505419
DTSTAMP:20260427T143000
DTSTART:20260427T143000
DTEND:20260427T155500
SUMMARY:Procesy innowacyjne (P): 11BN-SP
CATEGORIES:P
LOCATION:209 A-29
END:VEVENT
BEGIN:VEVENT
UID:UZ_PLZ_20260427_1630_499274
DTSTAMP:20260427T163000
DTSTART:20260427T163000
DTEND:20260427T184300
SUMMARY:Seminarium dyplomowe 2 (S): 31EK-SP\; 32EK-SP
CATEGORIES:S
LOCATION:110/110a A-0
END:VEVENT
BEGIN:VEVENT
UID:UZ_PLZ_20260427_1850_499217
DTSTAMP:20260427T185000
DTSTART:20260427T185000
DTEND:20260427T192300
SUMMARY:Seminarium dyplomowe 3 (S): 21EK-EP-SD\; 22EK-RDF-SD
CATEGORIES:S
LOCATION:151 A-0
END:VEVENT
BEGIN:VEVENT
UID:UZ_PLZ_20260504_1100_505416
DTSTAMP:20260504T110000
DTSTART:20260504T110000
DTEND:20260504T123500
SUMMARY:Procesy innowacyjne (W): 11BN-SP\; 12BN-SP
CATEGORIES:W
LOCATION:209 A-29
END:VEVENT
BEGIN:VEVENT
UID:UZ_PLZ_20260504_1245_505418
DTSTAMP:20260504T124500
DTSTART:20260504T124500
DTEND:20260504T142000
SUMMARY:Procesy innowacyjne (Ć): 12BN-SP
CATEGORIES:Ć
LOCATION:209 A-29
END:VEVENT
BEGIN:VEVENT
UID:UZ_PLZ_20260504_1430_505415
DTSTAMP:20260504T143000
DTSTART:20260504T143000
DTEND:20260504T160500
SUMMARY:Procesy innowacyjne (P): 12BN-SP
CATEGORIES:P
LOCATION:209 A-29
END:VEVENT
BEGIN:VEVENT
UID:UZ_PLZ_20260504_1630_499274
DTSTAMP:20260504T163000
DTSTART:20260504T163000
DTEND:20260504T184300
SUMMARY:Seminarium dyplomowe 2 (S): 31EK-SP\; 32EK-SP
CATEGORIES:S
LOCATION:110/110a A-0
END:VEVENT
BEGIN:VEVENT
UID:UZ_PLZ_20260504_1850_499217
DTSTAMP:20260504T185000
DTSTART:20260504T185000
DTEND:20260504T192300
SUMMARY:Seminarium dyplomowe 3 (S): 21EK-EP-SD\; 22EK-RDF-SD
CATEGORIES:S
LOCATION:151 A-0
END:VEVENT
BEGIN:VEVENT
UID:UZ_PLZ_20260509_1100_499197
DTSTAMP:20260509T110000
DTSTART:20260509T110000
DTEND:20260509T115000
SUMMARY:Proseminarium (Pro): 21EK-NP
CATEGORIES:Pro
LOCATION:151 A-0
END:VEVENT
BEGIN:VEVENT
UID:UZ_PLZ_20260509_1155_499269
DTSTAMP:20260509T115500
DTSTART:20260509T115500
DTEND:20260509T124000
SUMMARY:Seminarium dyplomowe 2 (S): 31EK-NP
CATEGORIES:S
LOCATION:151 A-0
END:VEVENT
BEGIN:VEVENT
UID:UZ_PLZ_20260509_1245_499237
DTSTAMP:20260509T124500
DTSTART:20260509T124500
DTEND:20260509T135000
SUMMARY:Seminarium  I (S): 11FiR-ARF-ND\; 12FiR-FP-ND
CATEGORIES:S
LOCATION:151 A-0
END:VEVENT
BEGIN:VEVENT
UID:UZ_PLZ_20260510_1245_499130
DTSTAMP:20260510T124500
DTSTART:20260510T124500
DTEND:20260510T142500
SUMMARY:Ocena projektów inwestycyjnych (Ć): 11FiR-ARF-ND
CATEGORIES:Ć
LOCATION:108 A-29
END:VEVENT
BEGIN:VEVENT
UID:UZ_PLZ_20260510_1430_499174
DTSTAMP:20260510T143000
DTSTART:20260510T143000
DTEND:20260510T161000
SUMMARY:Ocena projektów inwestycyjnych (W): 11FiR-ARF-ND\; 12FiR-FP-ND
CATEGORIES:W
LOCATION:108 A-29
END:VEVENT
BEGIN:VEVENT
UID:UZ_PLZ_20260510_1615_499130
DTSTAMP:20260510T161500
DTSTART:20260510T161500
DTEND:20260510T175500
SUMMARY:Ocena projektów inwestycyjnych (Ć): 11FiR-ARF-ND
CATEGORIES:Ć
LOCATION:108 A-29
END:VEVENT
BEGIN:VEVENT
UID:UZ_PLZ_20260511_1100_507321
DTSTAMP:20260511T110000
DTSTART:20260511T110000
DTEND:20260511T123000
SUMMARY:Konsultacje (I)
CATEGORIES:I
LOCATION:151 A-0
END:VEVENT
BEGIN:VEVENT
UID:UZ_PLZ_20260511_1245_505417
DTSTAMP:20260511T124500
DTSTART:20260511T124500
DTEND:20260511T141000
SUMMARY:Procesy innowacyjne (Ć): 11BN-SP
CATEGORIES:Ć
LOCATION:209 A-29
END:VEVENT
BEGIN:VEVENT
UID:UZ_PLZ_20260511_1430_505419
DTSTAMP:20260511T143000
DTSTART:20260511T143000
DTEND:20260511T155500
SUMMARY:Procesy innowacyjne (P): 11BN-SP
CATEGORIES:P
LOCATION:209 A-29
END:VEVENT
BEGIN:VEVENT
UID:UZ_PLZ_20260511_1630_499274
DTSTAMP:20260511T163000
DTSTART:20260511T163000
DTEND:20260511T184300
SUMMARY:Seminarium dyplomowe 2 (S): 31EK-SP\; 32EK-SP
CATEGORIES:S
LOCATION:110/110a A-0
END:VEVENT
BEGIN:VEVENT
UID:UZ_PLZ_20260511_1850_499217
DTSTAMP:20260511T185000
DTSTART:20260511T185000
DTEND:20260511T192300
SUMMARY:Seminarium dyplomowe 3 (S): 21EK-EP-SD\; 22EK-RDF-SD
CATEGORIES:S
LOCATION:151 A-0
END:VEVENT
BEGIN:VEVENT
UID:UZ_PLZ_20260516_1100_499197
DTSTAMP:20260516T110000
DTSTART:20260516T110000
DTEND:20260516T115000
SUMMARY:Proseminarium (Pro): 21EK-NP
CATEGORIES:Pro
LOCATION:151 A-0
END:VEVENT
BEGIN:VEVENT
UID:UZ_PLZ_20260516_1155_499269
DTSTAMP:20260516T115500
DTSTART:20260516T115500
DTEND:20260516T124000
SUMMARY:Seminarium dyplomowe 2 (S): 31EK-NP
CATEGORIES:S
LOCATION:151 A-0
END:VEVENT
BEGIN:VEVENT
UID:UZ_PLZ_20260516_1245_499237
DTSTAMP:20260516T124500
DTSTART:20260516T124500
DTEND:20260516T135000
SUMMARY:Seminarium  I (S): 11FiR-ARF-ND\; 12FiR-FP-ND
CATEGORIES:S
LOCATION:151 A-0
END:VEVENT
BEGIN:VEVENT
UID:UZ_PLZ_20260517_1255_499188
DTSTAMP:20260517T125500
DTSTART:20260517T125500
DTEND:20260517T141500
SUMMARY:Zarządzanie ryzykiem (Ć): 11FiR-ARF-ND
CATEGORIES:Ć
LOCATION:223 A-29
END:VEVENT
BEGIN:VEVENT
UID:UZ_PLZ_20260517_1430_499043
DTSTAMP:20260517T143000
DTSTART:20260517T143000
DTEND:20260517T155000
SUMMARY:Zarządzanie ryzykiem (W): 11FiR-ARF-ND\; 12FiR-FP-ND
CATEGORIES:W
LOCATION:108 A-29
END:VEVENT
BEGIN:VEVENT
UID:UZ_PLZ_20260517_1615_499055
DTSTAMP:20260517T161500
DTSTART:20260517T161500
DTEND:20260517T173500
SUMMARY:Ocena projektów inwestycyjnych (Ć): 12FiR-FP-ND
CATEGORIES:Ć
LOCATION:108 A-29
END:VEVENT
BEGIN:VEVENT
UID:UZ_PLZ_20260517_1800_499055
DTSTAMP:20260517T180000
DTSTART:20260517T180000
DTEND:20260517T192000
SUMMARY:Ocena projektów inwestycyjnych (Ć): 12FiR-FP-ND
CATEGORIES:Ć
LOCATION:108 A-29
END:VEVENT
BEGIN:VEVENT
UID:UZ_PLZ_20260517_1935_499097
DTSTAMP:20260517T193500
DTSTART:20260517T193500
DTEND:20260517T205500
SUMMARY:Zarządzanie ryzykiem (Ć): 12FiR-FP-ND
CATEGORIES:Ć
LOCATION:108 A-29
END:VEVENT
BEGIN:VEVENT
UID:UZ_PLZ_20260518_1100_505416
DTSTAMP:20260518T110000
DTSTART:20260518T110000
DTEND:20260518T123500
SUMMARY:Procesy innowacyjne (W): 11BN-SP\; 12BN-SP
CATEGORIES:W
LOCATION:209 A-29
END:VEVENT
BEGIN:VEVENT
UID:UZ_PLZ_20260518_1245_505418
DTSTAMP:20260518T124500
DTSTART:20260518T124500
DTEND:20260518T142000
SUMMARY:Procesy innowacyjne (Ć): 12BN-SP
CATEGORIES:Ć
LOCATION:209 A-29
END:VEVENT
BEGIN:VEVENT
UID:UZ_PLZ_20260518_1430_505415
DTSTAMP:20260518T143000
DTSTART:20260518T143000
DTEND:20260518T160500
SUMMARY:Procesy innowacyjne (P): 12BN-SP
CATEGORIES:P
LOCATION:209 A-29
END:VEVENT
BEGIN:VEVENT
UID:UZ_PLZ_20260518_1630_499274
DTSTAMP:20260518T163000
DTSTART:20260518T163000
DTEND:20260518T184300
SUMMARY:Seminarium dyplomowe 2 (S): 31EK-SP\; 32EK-SP
CATEGORIES:S
LOCATION:110/110a A-0
END:VEVENT
BEGIN:VEVENT
UID:UZ_PLZ_20260518_1850_499217
DTSTAMP:20260518T185000
DTSTART:20260518T185000
DTEND:20260518T192300
SUMMARY:Seminarium dyplomowe 3 (S): 21EK-EP-SD\; 22EK-RDF-SD
CATEGORIES:S
LOCATION:151 A-0
END:VEVENT
BEGIN:VEVENT
UID:UZ_PLZ_20260525_1100_507321
DTSTAMP:20260525T110000
DTSTART:20260525T110000
DTEND:20260525T123000
SUMMARY:Konsultacje (I)
CATEGORIES:I
LOCATION:151 A-0
END:VEVENT
BEGIN:VEVENT
UID:UZ_PLZ_20260525_1245_505417
DTSTAMP:20260525T124500
DTSTART:20260525T124500
DTEND:20260525T141000
SUMMARY:Procesy innowacyjne (Ć): 11BN-SP
CATEGORIES:Ć
LOCATION:209 A-29
END:VEVENT
BEGIN:VEVENT
UID:UZ_PLZ_20260525_1430_505419
DTSTAMP:20260525T143000
DTSTART:20260525T143000
DTEND:20260525T155500
SUMMARY:Procesy innowacyjne (P): 11BN-SP
CATEGORIES:P
LOCATION:209 A-29
END:VEVENT
BEGIN:VEVENT
UID:UZ_PLZ_20260525_1630_499274
DTSTAMP:20260525T163000
DTSTART:20260525T163000
DTEND:20260525T184300
SUMMARY:Seminarium dyplomowe 2 (S): 31EK-SP\; 32EK-SP
CATEGORIES:S
LOCATION:110/110a A-0
END:VEVENT
BEGIN:VEVENT
UID:UZ_PLZ_20260525_1850_499217
DTSTAMP:20260525T185000
DTSTART:20260525T185000
DTEND:20260525T192300
SUMMARY:Seminarium dyplomowe 3 (S): 21EK-EP-SD\; 22EK-RDF-SD
CATEGORIES:S
LOCATION:151 A-0
END:VEVENT
BEGIN:VEVENT
UID:UZ_PLZ_20260530_1100_499197
DTSTAMP:20260530T110000
DTSTART:20260530T110000
DTEND:20260530T115000
SUMMARY:Proseminarium (Pro): 21EK-NP
CATEGORIES:Pro
LOCATION:151 A-0
END:VEVENT
BEGIN:VEVENT
UID:UZ_PLZ_20260530_1155_499269
DTSTAMP:20260530T115500
DTSTART:20260530T115500
DTEND:20260530T124000
SUMMARY:Seminarium dyplomowe 2 (S): 31EK-NP
CATEGORIES:S
LOCATION:151 A-0
END:VEVENT
BEGIN:VEVENT
UID:UZ_PLZ_20260530_1245_499237
DTSTAMP:20260530T124500
DTSTART:20260530T124500
DTEND:20260530T135000
SUMMARY:Seminarium  I (S): 11FiR-ARF-ND\; 12FiR-FP-ND
CATEGORIES:S
LOCATION:151 A-0
END:VEVENT
BEGIN:VEVENT
UID:UZ_PLZ_20260531_1245_499130
DTSTAMP:20260531T124500
DTSTART:20260531T124500
DTEND:20260531T142500
SUMMARY:Ocena projektów inwestycyjnych (Ć): 11FiR-ARF-ND
CATEGORIES:Ć
LOCATION:108 A-29
END:VEVENT
BEGIN:VEVENT
UID:UZ_PLZ_20260531_1430_499174
DTSTAMP:20260531T143000
DTSTART:20260531T143000
DTEND:20260531T161000
SUMMARY:Ocena projektów inwestycyjnych (W): 11FiR-ARF-ND\; 12FiR-FP-ND
CATEGORIES:W
LOCATION:108 A-29
END:VEVENT
BEGIN:VEVENT
UID:UZ_PLZ_20260531_1615_499130
DTSTAMP:20260531T161500
DTSTART:20260531T161500
DTEND:20260531T175500
SUMMARY:Ocena projektów inwestycyjnych (Ć): 11FiR-ARF-ND
CATEGORIES:Ć
LOCATION:108 A-29
END:VEVENT
BEGIN:VEVENT
UID:UZ_PLZ_20260601_1100_505416
DTSTAMP:20260601T110000
DTSTART:20260601T110000
DTEND:20260601T123500
SUMMARY:Procesy innowacyjne (W): 11BN-SP\; 12BN-SP
CATEGORIES:W
LOCATION:209 A-29
END:VEVENT
BEGIN:VEVENT
UID:UZ_PLZ_20260601_1245_505418
DTSTAMP:20260601T124500
DTSTART:20260601T124500
DTEND:20260601T142000
SUMMARY:Procesy innowacyjne (Ć): 12BN-SP
CATEGORIES:Ć
LOCATION:209 A-29
END:VEVENT
BEGIN:VEVENT
UID:UZ_PLZ_20260601_1430_505415
DTSTAMP:20260601T143000
DTSTART:20260601T143000
DTEND:20260601T160500
SUMMARY:Procesy innowacyjne (P): 12BN-SP
CATEGORIES:P
LOCATION:209 A-29
END:VEVENT
BEGIN:VEVENT
UID:UZ_PLZ_20260601_1630_499274
DTSTAMP:20260601T163000
DTSTART:20260601T163000
DTEND:20260601T184300
SUMMARY:Seminarium dyplomowe 2 (S): 31EK-SP\; 32EK-SP
CATEGORIES:S
LOCATION:110/110a A-0
END:VEVENT
BEGIN:VEVENT
UID:UZ_PLZ_20260601_1850_499217
DTSTAMP:20260601T185000
DTSTART:20260601T185000
DTEND:20260601T192300
SUMMARY:Seminarium dyplomowe 3 (S): 21EK-EP-SD\; 22EK-RDF-SD
CATEGORIES:S
LOCATION:151 A-0
END:VEVENT
BEGIN:VEVENT
UID:UZ_PLZ_20260608_1100_507321
DTSTAMP:20260608T110000
DTSTART:20260608T110000
DTEND:20260608T123000
SUMMARY:Konsultacje (I)
CATEGORIES:I
LOCATION:151 A-0
END:VEVENT
BEGIN:VEVENT
UID:UZ_PLZ_20260608_1245_505417
DTSTAMP:20260608T124500
DTSTART:20260608T124500
DTEND:20260608T141000
SUMMARY:Procesy innowacyjne (Ć): 11BN-SP
CATEGORIES:Ć
LOCATION:209 A-29
END:VEVENT
BEGIN:VEVENT
UID:UZ_PLZ_20260608_1430_505419
DTSTAMP:20260608T143000
DTSTART:20260608T143000
DTEND:20260608T155500
SUMMARY:Procesy innowacyjne (P): 11BN-SP
CATEGORIES:P
LOCATION:209 A-29
END:VEVENT
BEGIN:VEVENT
UID:UZ_PLZ_20260608_1630_499274
DTSTAMP:20260608T163000
DTSTART:20260608T163000
DTEND:20260608T184300
SUMMARY:Seminarium dyplomowe 2 (S): 31EK-SP\; 32EK-SP
CATEGORIES:S
LOCATION:110/110a A-0
END:VEVENT
BEGIN:VEVENT
UID:UZ_PLZ_20260608_1850_499217
DTSTAMP:20260608T185000
DTSTART:20260608T185000
DTEND:20260608T192300
SUMMARY:Seminarium dyplomowe 3 (S): 21EK-EP-SD\; 22EK-RDF-SD
CATEGORIES:S
LOCATION:151 A-0
END:VEVENT
BEGIN:VEVENT
UID:UZ_PLZ_20260613_1100_499197
DTSTAMP:20260613T110000
DTSTART:20260613T110000
DTEND:20260613T115000
SUMMARY:Proseminarium (Pro): 21EK-NP
CATEGORIES:Pro
LOCATION:151 A-0
END:VEVENT
BEGIN:VEVENT
UID:UZ_PLZ_20260613_1155_499269
DTSTAMP:20260613T115500
DTSTART:20260613T115500
DTEND:20260613T124000
SUMMARY:Seminarium dyplomowe 2 (S): 31EK-NP
CATEGORIES:S
LOCATION:151 A-0
END:VEVENT
BEGIN:VEVENT
UID:UZ_PLZ_20260613_1245_499237
DTSTAMP:20260613T124500
DTSTART:20260613T124500
DTEND:20260613T135000
SUMMARY:Seminarium  I (S): 11FiR-ARF-ND\; 12FiR-FP-ND
CATEGORIES:S
LOCATION:151 A-0
END:VEVENT
BEGIN:VEVENT
UID:UZ_PLZ_20260614_1255_499188
DTSTAMP:20260614T125500
DTSTART:20260614T125500
DTEND:20260614T141500
SUMMARY:Zarządzanie ryzykiem (Ć): 11FiR-ARF-ND
CATEGORIES:Ć
LOCATION:223 A-29
END:VEVENT
BEGIN:VEVENT
UID:UZ_PLZ_20260614_1430_499043
DTSTAMP:20260614T143000
DTSTART:20260614T143000
DTEND:20260614T155000
SUMMARY:Zarządzanie ryzykiem (W): 11FiR-ARF-ND\; 12FiR-FP-ND
CATEGORIES:W
LOCATION:108 A-29
END:VEVENT
BEGIN:VEVENT
UID:UZ_PLZ_20260614_1615_499055
DTSTAMP:20260614T161500
DTSTART:20260614T161500
DTEND:20260614T173500
SUMMARY:Ocena projektów inwestycyjnych (Ć): 12FiR-FP-ND
CATEGORIES:Ć
LOCATION:108 A-29
END:VEVENT
BEGIN:VEVENT
UID:UZ_PLZ_20260614_1800_499055
DTSTAMP:20260614T180000
DTSTART:20260614T180000
DTEND:20260614T192000
SUMMARY:Ocena projektów inwestycyjnych (Ć): 12FiR-FP-ND
CATEGORIES:Ć
LOCATION:108 A-29
END:VEVENT
BEGIN:VEVENT
UID:UZ_PLZ_20260614_1935_499097
DTSTAMP:20260614T193500
DTSTART:20260614T193500
DTEND:20260614T205500
SUMMARY:Zarządzanie ryzykiem (Ć): 12FiR-FP-ND
CATEGORIES:Ć
LOCATION:108 A-29
END:VEVENT
BEGIN:VEVENT
UID:UZ_PLZ_20260615_1100_505416
DTSTAMP:20260615T110000
DTSTART:20260615T110000
DTEND:20260615T123500
SUMMARY:Procesy innowacyjne (W): 11BN-SP\; 12BN-SP
CATEGORIES:W
LOCATION:209 A-29
END:VEVENT
BEGIN:VEVENT
UID:UZ_PLZ_20260615_1245_505418
DTSTAMP:20260615T124500
DTSTART:20260615T124500
DTEND:20260615T142000
SUMMARY:Procesy innowacyjne (Ć): 12BN-SP
CATEGORIES:Ć
LOCATION:209 A-29
END:VEVENT
BEGIN:VEVENT
UID:UZ_PLZ_20260615_1430_505415
DTSTAMP:20260615T143000
DTSTART:20260615T143000
DTEND:20260615T160500
SUMMARY:Procesy innowacyjne (P): 12BN-SP
CATEGORIES:P
LOCATION:209 A-29
END:VEVENT
BEGIN:VEVENT
UID:UZ_PLZ_20260615_1630_499274
DTSTAMP:20260615T163000
DTSTART:20260615T163000
DTEND:20260615T184300
SUMMARY:Seminarium dyplomowe 2 (S): 31EK-SP\; 32EK-SP
CATEGORIES:S
LOCATION:110/110a A-0
END:VEVENT
BEGIN:VEVENT
UID:UZ_PLZ_20260615_1850_499217
DTSTAMP:20260615T185000
DTSTART:20260615T185000
DTEND:20260615T192300
SUMMARY:Seminarium dyplomowe 3 (S): 21EK-EP-SD\; 22EK-RDF-SD
CATEGORIES:S
LOCATION:151 A-0
END:VEVENT
BEGIN:VEVENT
UID:UZ_PLZ_20260708_1000_508251
DTSTAMP:20260708T100000
DTSTART:20260708T100000
DTEND:20260708T160000
SUMMARY:Rezerwacja (R)
CATEGORIES:R
LOCATION:12 A-0
END:VEVENT
END:VCALENDAR
