BEGIN:VCALENDAR
TZID:Europe/Warsaw
X-WR-TIMEZONE:Europe/Warsaw
VERSION:2.0
PRODID:-//Uniwersytet Zielonogórski//NONSGML Plan zajęć v1.0//EN
NAME:Plan zajęć - semestr letni 2025/2026
X-WR-CALNAME:Plan zajęć - semestr letni 2025/2026
COLOR:green
CALSCALE:GREGORIAN
BEGIN:VEVENT
UID:UZ_PLZ_20260422_1100_503369
DTSTAMP:20260422T110000
DTSTART:20260422T110000
DTEND:20260422T130000
SUMMARY:Dyżur pracowniczy (I)
CATEGORIES:I
LOCATION:115 A-8
END:VEVENT
BEGIN:VEVENT
UID:UZ_PLZ_20260427_0920_503486
DTSTAMP:20260427T092000
DTSTART:20260427T092000
DTEND:20260427T104500
SUMMARY:Metodologia pracy doświadczalnej (W): 11BT-SP 25/26
CATEGORIES:W
LOCATION:221/221a A-8
END:VEVENT
BEGIN:VEVENT
UID:UZ_PLZ_20260427_1100_503449
DTSTAMP:20260427T110000
DTSTART:20260427T110000
DTEND:20260427T122500
SUMMARY:Metodologia pracy doświadczalnej (Ć): 11BT-SP 25/26
CATEGORIES:Ć
LOCATION:221/221a A-8
END:VEVENT
BEGIN:VEVENT
UID:UZ_PLZ_20260427_1245_503426
DTSTAMP:20260427T124500
DTSTART:20260427T124500
DTEND:20260427T141000
SUMMARY:Anatomia funkcjonalna człowieka (W): 21B-SP 24/25
CATEGORIES:W
LOCATION:18 A-8
END:VEVENT
BEGIN:VEVENT
UID:UZ_PLZ_20260428_0800_507959
DTSTAMP:20260428T080000
DTSTART:20260428T080000
DTEND:20260428T100000
SUMMARY:Konsultacje (I)
CATEGORIES:I
LOCATION:520 A-8
END:VEVENT
BEGIN:VEVENT
UID:UZ_PLZ_20260428_1100_505395
DTSTAMP:20260428T110000
DTSTART:20260428T110000
DTEND:20260428T123000
SUMMARY:Seminarium dyplomowe (S): 31BT-SP 23/24/B
CATEGORIES:S
LOCATION:221/221a A-8
END:VEVENT
BEGIN:VEVENT
UID:UZ_PLZ_20260428_1245_503458
DTSTAMP:20260428T124500
DTSTART:20260428T124500
DTEND:20260428T141000
SUMMARY:Biotechnologia w badaniach biologicznych i medycznych (W): 31BT-SP 23/24
CATEGORIES:W
LOCATION:115 A-8
END:VEVENT
BEGIN:VEVENT
UID:UZ_PLZ_20260428_1430_503404
DTSTAMP:20260428T143000
DTSTART:20260428T143000
DTEND:20260428T172000
SUMMARY:Anatomia funkcjonalna człowieka (L): 21B-SP 24/25
CATEGORIES:L
LOCATION:18 A-8
END:VEVENT
BEGIN:VEVENT
UID:UZ_PLZ_20260428_1735_503404
DTSTAMP:20260428T173500
DTSTART:20260428T173500
DTEND:20260428T202500
SUMMARY:Anatomia funkcjonalna człowieka (L): 21B-SP 24/25
CATEGORIES:L
LOCATION:18 A-8
END:VEVENT
BEGIN:VEVENT
UID:UZ_PLZ_20260506_1100_503369
DTSTAMP:20260506T110000
DTSTART:20260506T110000
DTEND:20260506T130000
SUMMARY:Dyżur pracowniczy (I)
CATEGORIES:I
LOCATION:115 A-8
END:VEVENT
BEGIN:VEVENT
UID:UZ_PLZ_20260511_0920_503486
DTSTAMP:20260511T092000
DTSTART:20260511T092000
DTEND:20260511T104500
SUMMARY:Metodologia pracy doświadczalnej (W): 11BT-SP 25/26
CATEGORIES:W
LOCATION:221/221a A-8
END:VEVENT
BEGIN:VEVENT
UID:UZ_PLZ_20260511_1100_503449
DTSTAMP:20260511T110000
DTSTART:20260511T110000
DTEND:20260511T122500
SUMMARY:Metodologia pracy doświadczalnej (Ć): 11BT-SP 25/26
CATEGORIES:Ć
LOCATION:221/221a A-8
END:VEVENT
BEGIN:VEVENT
UID:UZ_PLZ_20260511_1245_503426
DTSTAMP:20260511T124500
DTSTART:20260511T124500
DTEND:20260511T141000
SUMMARY:Anatomia funkcjonalna człowieka (W): 21B-SP 24/25
CATEGORIES:W
LOCATION:18 A-8
END:VEVENT
BEGIN:VEVENT
UID:UZ_PLZ_20260511_1615_505385
DTSTAMP:20260511T161500
DTSTART:20260511T161500
DTEND:20260511T174500
SUMMARY:Seminarium dyplomowe (S): 31BT-SP 23/24/A
CATEGORIES:S
LOCATION:18 A-8
END:VEVENT
BEGIN:VEVENT
UID:UZ_PLZ_20260512_0800_507959
DTSTAMP:20260512T080000
DTSTART:20260512T080000
DTEND:20260512T100000
SUMMARY:Konsultacje (I)
CATEGORIES:I
LOCATION:520 A-8
END:VEVENT
BEGIN:VEVENT
UID:UZ_PLZ_20260512_1430_503404
DTSTAMP:20260512T143000
DTSTART:20260512T143000
DTEND:20260512T172000
SUMMARY:Anatomia funkcjonalna człowieka (L): 21B-SP 24/25
CATEGORIES:L
LOCATION:18 A-8
END:VEVENT
BEGIN:VEVENT
UID:UZ_PLZ_20260512_1735_503458
DTSTAMP:20260512T173500
DTSTART:20260512T173500
DTEND:20260512T190000
SUMMARY:Biotechnologia w badaniach biologicznych i medycznych (W): 31BT-SP 23/24
CATEGORIES:W
LOCATION:18 A-8
END:VEVENT
BEGIN:VEVENT
UID:UZ_PLZ_20260513_1100_503369
DTSTAMP:20260513T110000
DTSTART:20260513T110000
DTEND:20260513T130000
SUMMARY:Dyżur pracowniczy (I)
CATEGORIES:I
LOCATION:115 A-8
END:VEVENT
BEGIN:VEVENT
UID:UZ_PLZ_20260520_1100_503369
DTSTAMP:20260520T110000
DTSTART:20260520T110000
DTEND:20260520T130000
SUMMARY:Dyżur pracowniczy (I)
CATEGORIES:I
LOCATION:115 A-8
END:VEVENT
BEGIN:VEVENT
UID:UZ_PLZ_20260525_0920_503486
DTSTAMP:20260525T092000
DTSTART:20260525T092000
DTEND:20260525T104500
SUMMARY:Metodologia pracy doświadczalnej (W): 11BT-SP 25/26
CATEGORIES:W
LOCATION:221/221a A-8
END:VEVENT
BEGIN:VEVENT
UID:UZ_PLZ_20260525_1100_503449
DTSTAMP:20260525T110000
DTSTART:20260525T110000
DTEND:20260525T122500
SUMMARY:Metodologia pracy doświadczalnej (Ć): 11BT-SP 25/26
CATEGORIES:Ć
LOCATION:221/221a A-8
END:VEVENT
BEGIN:VEVENT
UID:UZ_PLZ_20260525_1245_503426
DTSTAMP:20260525T124500
DTSTART:20260525T124500
DTEND:20260525T141000
SUMMARY:Anatomia funkcjonalna człowieka (W): 21B-SP 24/25
CATEGORIES:W
LOCATION:18 A-8
END:VEVENT
BEGIN:VEVENT
UID:UZ_PLZ_20260525_1615_505395
DTSTAMP:20260525T161500
DTSTART:20260525T161500
DTEND:20260525T174500
SUMMARY:Seminarium dyplomowe (S): 31BT-SP 23/24/B
CATEGORIES:S
LOCATION:18 A-8
END:VEVENT
BEGIN:VEVENT
UID:UZ_PLZ_20260526_0800_507959
DTSTAMP:20260526T080000
DTSTART:20260526T080000
DTEND:20260526T100000
SUMMARY:Konsultacje (I)
CATEGORIES:I
LOCATION:520 A-8
END:VEVENT
BEGIN:VEVENT
UID:UZ_PLZ_20260526_1430_503404
DTSTAMP:20260526T143000
DTSTART:20260526T143000
DTEND:20260526T172000
SUMMARY:Anatomia funkcjonalna człowieka (L): 21B-SP 24/25
CATEGORIES:L
LOCATION:18 A-8
END:VEVENT
BEGIN:VEVENT
UID:UZ_PLZ_20260526_1735_503458
DTSTAMP:20260526T173500
DTSTART:20260526T173500
DTEND:20260526T190000
SUMMARY:Biotechnologia w badaniach biologicznych i medycznych (W): 31BT-SP 23/24
CATEGORIES:W
LOCATION:18 A-8
END:VEVENT
BEGIN:VEVENT
UID:UZ_PLZ_20260527_1100_503369
DTSTAMP:20260527T110000
DTSTART:20260527T110000
DTEND:20260527T130000
SUMMARY:Dyżur pracowniczy (I)
CATEGORIES:I
LOCATION:115 A-8
END:VEVENT
BEGIN:VEVENT
UID:UZ_PLZ_20260603_1100_503369
DTSTAMP:20260603T110000
DTSTART:20260603T110000
DTEND:20260603T130000
SUMMARY:Dyżur pracowniczy (I)
CATEGORIES:I
LOCATION:115 A-8
END:VEVENT
BEGIN:VEVENT
UID:UZ_PLZ_20260608_0920_503486
DTSTAMP:20260608T092000
DTSTART:20260608T092000
DTEND:20260608T104500
SUMMARY:Metodologia pracy doświadczalnej (W): 11BT-SP 25/26
CATEGORIES:W
LOCATION:221/221a A-8
END:VEVENT
BEGIN:VEVENT
UID:UZ_PLZ_20260608_1100_503449
DTSTAMP:20260608T110000
DTSTART:20260608T110000
DTEND:20260608T122500
SUMMARY:Metodologia pracy doświadczalnej (Ć): 11BT-SP 25/26
CATEGORIES:Ć
LOCATION:221/221a A-8
END:VEVENT
BEGIN:VEVENT
UID:UZ_PLZ_20260608_1245_503426
DTSTAMP:20260608T124500
DTSTART:20260608T124500
DTEND:20260608T141000
SUMMARY:Anatomia funkcjonalna człowieka (W): 21B-SP 24/25
CATEGORIES:W
LOCATION:18 A-8
END:VEVENT
BEGIN:VEVENT
UID:UZ_PLZ_20260609_0800_507959
DTSTAMP:20260609T080000
DTSTART:20260609T080000
DTEND:20260609T100000
SUMMARY:Konsultacje (I)
CATEGORIES:I
LOCATION:520 A-8
END:VEVENT
BEGIN:VEVENT
UID:UZ_PLZ_20260609_1430_503404
DTSTAMP:20260609T143000
DTSTART:20260609T143000
DTEND:20260609T172000
SUMMARY:Anatomia funkcjonalna człowieka (L): 21B-SP 24/25
CATEGORIES:L
LOCATION:18 A-8
END:VEVENT
BEGIN:VEVENT
UID:UZ_PLZ_20260609_1735_503458
DTSTAMP:20260609T173500
DTSTART:20260609T173500
DTEND:20260609T190000
SUMMARY:Biotechnologia w badaniach biologicznych i medycznych (W): 31BT-SP 23/24
CATEGORIES:W
LOCATION:18 A-8
END:VEVENT
BEGIN:VEVENT
UID:UZ_PLZ_20260610_1100_503369
DTSTAMP:20260610T110000
DTSTART:20260610T110000
DTEND:20260610T130000
SUMMARY:Dyżur pracowniczy (I)
CATEGORIES:I
LOCATION:115 A-8
END:VEVENT
BEGIN:VEVENT
UID:UZ_PLZ_20260617_1100_503369
DTSTAMP:20260617T110000
DTSTART:20260617T110000
DTEND:20260617T130000
SUMMARY:Dyżur pracowniczy (I)
CATEGORIES:I
LOCATION:115 A-8
END:VEVENT
END:VCALENDAR
