BEGIN:VCALENDAR
TZID:Europe/Warsaw
X-WR-TIMEZONE:Europe/Warsaw
VERSION:2.0
PRODID:-//Uniwersytet Zielonogórski//NONSGML Plan zajęć v1.0//EN
NAME:Plan zajęć - semestr zimowy 2025/2026
X-WR-CALNAME:Plan zajęć - semestr zimowy 2025/2026
COLOR:green
CALSCALE:GREGORIAN
BEGIN:VEVENT
UID:UZ_PLZ_20251001_1100_487088
DTSTAMP:20251001T110000
DTSTART:20251001T110000
DTEND:20251001T130000
SUMMARY:Dyżur pracowniczy (I)
CATEGORIES:I
LOCATION:115 A-8
END:VEVENT
BEGIN:VEVENT
UID:UZ_PLZ_20251006_0910_486162
DTSTAMP:20251006T091000
DTSTART:20251006T091000
DTEND:20251006T104500
SUMMARY:Ekofizjologia (W): 31B-SP 23/24
CATEGORIES:W
LOCATION:18 A-8
END:VEVENT
BEGIN:VEVENT
UID:UZ_PLZ_20251006_1055_486137
DTSTAMP:20251006T105500
DTSTART:20251006T105500
DTEND:20251006T123000
SUMMARY:Ekofizjologia (Ć): 31B-SP 23/24
CATEGORIES:Ć
LOCATION:18 A-8
END:VEVENT
BEGIN:VEVENT
UID:UZ_PLZ_20251006_1430_486854
DTSTAMP:20251006T143000
DTSTART:20251006T143000
DTEND:20251006T171000
SUMMARY:Biokatalizatory w procesach biotechnologicznych - PW9b (L): 31BT-SP 23/24/A
CATEGORIES:L
LOCATION:18 A-8
END:VEVENT
BEGIN:VEVENT
UID:UZ_PLZ_20251006_1730_486845
DTSTAMP:20251006T173000
DTSTART:20251006T173000
DTEND:20251006T201000
SUMMARY:Biokatalizatory w procesach biotechnologicznych - PW9b (L): 31BT-SP 23/24/B
CATEGORIES:L
LOCATION:18 A-8
END:VEVENT
BEGIN:VEVENT
UID:UZ_PLZ_20251007_0915_492981
DTSTAMP:20251007T091500
DTSTART:20251007T091500
DTEND:20251007T104500
SUMMARY:Erasmus + Ecophysiology (W+C)
CATEGORIES:W+C
LOCATION:109 A-2
END:VEVENT
BEGIN:VEVENT
UID:UZ_PLZ_20251007_1100_492981
DTSTAMP:20251007T110000
DTSTART:20251007T110000
DTEND:20251007T123000
SUMMARY:Erasmus + Ecophysiology (W+C)
CATEGORIES:W+C
LOCATION:123 A-2
END:VEVENT
BEGIN:VEVENT
UID:UZ_PLZ_20251008_1100_487088
DTSTAMP:20251008T110000
DTSTART:20251008T110000
DTEND:20251008T130000
SUMMARY:Dyżur pracowniczy (I)
CATEGORIES:I
LOCATION:115 A-8
END:VEVENT
BEGIN:VEVENT
UID:UZ_PLZ_20251014_1530_493561
DTSTAMP:20251014T153000
DTSTART:20251014T153000
DTEND:20251014T173000
SUMMARY:Konsultacje (I)
CATEGORIES:I
LOCATION:520 A-8
END:VEVENT
BEGIN:VEVENT
UID:UZ_PLZ_20251015_1100_487088
DTSTAMP:20251015T110000
DTSTART:20251015T110000
DTEND:20251015T130000
SUMMARY:Dyżur pracowniczy (I)
CATEGORIES:I
LOCATION:115 A-8
END:VEVENT
BEGIN:VEVENT
UID:UZ_PLZ_20251020_0910_486162
DTSTAMP:20251020T091000
DTSTART:20251020T091000
DTEND:20251020T104500
SUMMARY:Ekofizjologia (W): 31B-SP 23/24
CATEGORIES:W
LOCATION:18 A-8
END:VEVENT
BEGIN:VEVENT
UID:UZ_PLZ_20251020_1055_486137
DTSTAMP:20251020T105500
DTSTART:20251020T105500
DTEND:20251020T123000
SUMMARY:Ekofizjologia (Ć): 31B-SP 23/24
CATEGORIES:Ć
LOCATION:18 A-8
END:VEVENT
BEGIN:VEVENT
UID:UZ_PLZ_20251020_1430_486854
DTSTAMP:20251020T143000
DTSTART:20251020T143000
DTEND:20251020T171000
SUMMARY:Biokatalizatory w procesach biotechnologicznych - PW9b (L): 31BT-SP 23/24/A
CATEGORIES:L
LOCATION:18 A-8
END:VEVENT
BEGIN:VEVENT
UID:UZ_PLZ_20251020_1730_486845
DTSTAMP:20251020T173000
DTSTART:20251020T173000
DTEND:20251020T201000
SUMMARY:Biokatalizatory w procesach biotechnologicznych - PW9b (L): 31BT-SP 23/24/B
CATEGORIES:L
LOCATION:18 A-8
END:VEVENT
BEGIN:VEVENT
UID:UZ_PLZ_20251021_0915_492981
DTSTAMP:20251021T091500
DTSTART:20251021T091500
DTEND:20251021T104500
SUMMARY:Erasmus + Ecophysiology (W+C): WNB-Erasmus
CATEGORIES:W+C
LOCATION:109 A-2
END:VEVENT
BEGIN:VEVENT
UID:UZ_PLZ_20251021_1100_492981
DTSTAMP:20251021T110000
DTSTART:20251021T110000
DTEND:20251021T123000
SUMMARY:Erasmus + Ecophysiology (W+C): WNB-Erasmus
CATEGORIES:W+C
LOCATION:123 A-2
END:VEVENT
BEGIN:VEVENT
UID:UZ_PLZ_20251021_1530_493561
DTSTAMP:20251021T153000
DTSTART:20251021T153000
DTEND:20251021T173000
SUMMARY:Konsultacje (I)
CATEGORIES:I
LOCATION:520 A-8
END:VEVENT
BEGIN:VEVENT
UID:UZ_PLZ_20251022_1100_487088
DTSTAMP:20251022T110000
DTSTART:20251022T110000
DTEND:20251022T130000
SUMMARY:Dyżur pracowniczy (I)
CATEGORIES:I
LOCATION:115 A-8
END:VEVENT
BEGIN:VEVENT
UID:UZ_PLZ_20251028_1530_493561
DTSTAMP:20251028T153000
DTSTART:20251028T153000
DTEND:20251028T173000
SUMMARY:Konsultacje (I)
CATEGORIES:I
LOCATION:520 A-8
END:VEVENT
BEGIN:VEVENT
UID:UZ_PLZ_20251029_1100_487088
DTSTAMP:20251029T110000
DTSTART:20251029T110000
DTEND:20251029T130000
SUMMARY:Dyżur pracowniczy (I)
CATEGORIES:I
LOCATION:115 A-8
END:VEVENT
BEGIN:VEVENT
UID:UZ_PLZ_20251103_0910_486162
DTSTAMP:20251103T091000
DTSTART:20251103T091000
DTEND:20251103T104500
SUMMARY:Ekofizjologia (W): 31B-SP 23/24
CATEGORIES:W
LOCATION:18 A-8
END:VEVENT
BEGIN:VEVENT
UID:UZ_PLZ_20251103_1055_486137
DTSTAMP:20251103T105500
DTSTART:20251103T105500
DTEND:20251103T123000
SUMMARY:Ekofizjologia (Ć): 31B-SP 23/24
CATEGORIES:Ć
LOCATION:18 A-8
END:VEVENT
BEGIN:VEVENT
UID:UZ_PLZ_20251103_1430_486854
DTSTAMP:20251103T143000
DTSTART:20251103T143000
DTEND:20251103T171000
SUMMARY:Biokatalizatory w procesach biotechnologicznych - PW9b (L): 31BT-SP 23/24/A
CATEGORIES:L
LOCATION:18 A-8
END:VEVENT
BEGIN:VEVENT
UID:UZ_PLZ_20251103_1730_486845
DTSTAMP:20251103T173000
DTSTART:20251103T173000
DTEND:20251103T201000
SUMMARY:Biokatalizatory w procesach biotechnologicznych - PW9b (L): 31BT-SP 23/24/B
CATEGORIES:L
LOCATION:18 A-8
END:VEVENT
BEGIN:VEVENT
UID:UZ_PLZ_20251104_0915_492981
DTSTAMP:20251104T091500
DTSTART:20251104T091500
DTEND:20251104T104500
SUMMARY:Erasmus + Ecophysiology (W+C): WNB-Erasmus
CATEGORIES:W+C
LOCATION:109 A-2
END:VEVENT
BEGIN:VEVENT
UID:UZ_PLZ_20251104_1100_492981
DTSTAMP:20251104T110000
DTSTART:20251104T110000
DTEND:20251104T123000
SUMMARY:Erasmus + Ecophysiology (W+C): WNB-Erasmus
CATEGORIES:W+C
LOCATION:123 A-2
END:VEVENT
BEGIN:VEVENT
UID:UZ_PLZ_20251104_1530_493561
DTSTAMP:20251104T153000
DTSTART:20251104T153000
DTEND:20251104T173000
SUMMARY:Konsultacje (I)
CATEGORIES:I
LOCATION:520 A-8
END:VEVENT
BEGIN:VEVENT
UID:UZ_PLZ_20251105_1100_487088
DTSTAMP:20251105T110000
DTSTART:20251105T110000
DTEND:20251105T130000
SUMMARY:Dyżur pracowniczy (I)
CATEGORIES:I
LOCATION:115 A-8
END:VEVENT
BEGIN:VEVENT
UID:UZ_PLZ_20251112_1100_487088
DTSTAMP:20251112T110000
DTSTART:20251112T110000
DTEND:20251112T130000
SUMMARY:Dyżur pracowniczy (I)
CATEGORIES:I
LOCATION:115 A-8
END:VEVENT
BEGIN:VEVENT
UID:UZ_PLZ_20251114_1530_493561
DTSTAMP:20251114T153000
DTSTART:20251114T153000
DTEND:20251114T173000
SUMMARY:Konsultacje (I)
CATEGORIES:I
LOCATION:520 A-8
END:VEVENT
BEGIN:VEVENT
UID:UZ_PLZ_20251117_0910_486162
DTSTAMP:20251117T091000
DTSTART:20251117T091000
DTEND:20251117T104500
SUMMARY:Ekofizjologia (W): 31B-SP 23/24
CATEGORIES:W
LOCATION:18 A-8
END:VEVENT
BEGIN:VEVENT
UID:UZ_PLZ_20251117_1055_486137
DTSTAMP:20251117T105500
DTSTART:20251117T105500
DTEND:20251117T123000
SUMMARY:Ekofizjologia (Ć): 31B-SP 23/24
CATEGORIES:Ć
LOCATION:18 A-8
END:VEVENT
BEGIN:VEVENT
UID:UZ_PLZ_20251117_1430_486854
DTSTAMP:20251117T143000
DTSTART:20251117T143000
DTEND:20251117T171000
SUMMARY:Biokatalizatory w procesach biotechnologicznych - PW9b (L): 31BT-SP 23/24/A
CATEGORIES:L
LOCATION:18 A-8
END:VEVENT
BEGIN:VEVENT
UID:UZ_PLZ_20251117_1730_486845
DTSTAMP:20251117T173000
DTSTART:20251117T173000
DTEND:20251117T201000
SUMMARY:Biokatalizatory w procesach biotechnologicznych - PW9b (L): 31BT-SP 23/24/B
CATEGORIES:L
LOCATION:18 A-8
END:VEVENT
BEGIN:VEVENT
UID:UZ_PLZ_20251118_0915_492981
DTSTAMP:20251118T091500
DTSTART:20251118T091500
DTEND:20251118T104500
SUMMARY:Erasmus + Ecophysiology (W+C): WNB-Erasmus
CATEGORIES:W+C
LOCATION:109 A-2
END:VEVENT
BEGIN:VEVENT
UID:UZ_PLZ_20251118_1100_492981
DTSTAMP:20251118T110000
DTSTART:20251118T110000
DTEND:20251118T123000
SUMMARY:Erasmus + Ecophysiology (W+C): WNB-Erasmus
CATEGORIES:W+C
LOCATION:123 A-2
END:VEVENT
BEGIN:VEVENT
UID:UZ_PLZ_20251118_1530_493561
DTSTAMP:20251118T153000
DTSTART:20251118T153000
DTEND:20251118T173000
SUMMARY:Konsultacje (I)
CATEGORIES:I
LOCATION:520 A-8
END:VEVENT
BEGIN:VEVENT
UID:UZ_PLZ_20251119_1100_487088
DTSTAMP:20251119T110000
DTSTART:20251119T110000
DTEND:20251119T130000
SUMMARY:Dyżur pracowniczy (I)
CATEGORIES:I
LOCATION:115 A-8
END:VEVENT
BEGIN:VEVENT
UID:UZ_PLZ_20251125_1530_493561
DTSTAMP:20251125T153000
DTSTART:20251125T153000
DTEND:20251125T173000
SUMMARY:Konsultacje (I)
CATEGORIES:I
LOCATION:520 A-8
END:VEVENT
BEGIN:VEVENT
UID:UZ_PLZ_20251126_1100_487088
DTSTAMP:20251126T110000
DTSTART:20251126T110000
DTEND:20251126T130000
SUMMARY:Dyżur pracowniczy (I)
CATEGORIES:I
LOCATION:115 A-8
END:VEVENT
BEGIN:VEVENT
UID:UZ_PLZ_20251201_0910_486162
DTSTAMP:20251201T091000
DTSTART:20251201T091000
DTEND:20251201T104500
SUMMARY:Ekofizjologia (W): 31B-SP 23/24
CATEGORIES:W
LOCATION:18 A-8
END:VEVENT
BEGIN:VEVENT
UID:UZ_PLZ_20251201_1055_486137
DTSTAMP:20251201T105500
DTSTART:20251201T105500
DTEND:20251201T123000
SUMMARY:Ekofizjologia (Ć): 31B-SP 23/24
CATEGORIES:Ć
LOCATION:18 A-8
END:VEVENT
BEGIN:VEVENT
UID:UZ_PLZ_20251201_1430_486854
DTSTAMP:20251201T143000
DTSTART:20251201T143000
DTEND:20251201T171000
SUMMARY:Biokatalizatory w procesach biotechnologicznych - PW9b (L): 31BT-SP 23/24/A
CATEGORIES:L
LOCATION:18 A-8
END:VEVENT
BEGIN:VEVENT
UID:UZ_PLZ_20251201_1730_486845
DTSTAMP:20251201T173000
DTSTART:20251201T173000
DTEND:20251201T201000
SUMMARY:Biokatalizatory w procesach biotechnologicznych - PW9b (L): 31BT-SP 23/24/B
CATEGORIES:L
LOCATION:18 A-8
END:VEVENT
BEGIN:VEVENT
UID:UZ_PLZ_20251202_0915_492981
DTSTAMP:20251202T091500
DTSTART:20251202T091500
DTEND:20251202T104500
SUMMARY:Erasmus + Ecophysiology (W+C): WNB-Erasmus
CATEGORIES:W+C
LOCATION:109 A-2
END:VEVENT
BEGIN:VEVENT
UID:UZ_PLZ_20251202_1100_492981
DTSTAMP:20251202T110000
DTSTART:20251202T110000
DTEND:20251202T123000
SUMMARY:Erasmus + Ecophysiology (W+C): WNB-Erasmus
CATEGORIES:W+C
LOCATION:123 A-2
END:VEVENT
BEGIN:VEVENT
UID:UZ_PLZ_20251202_1530_493561
DTSTAMP:20251202T153000
DTSTART:20251202T153000
DTEND:20251202T173000
SUMMARY:Konsultacje (I)
CATEGORIES:I
LOCATION:520 A-8
END:VEVENT
BEGIN:VEVENT
UID:UZ_PLZ_20251209_1530_493561
DTSTAMP:20251209T153000
DTSTART:20251209T153000
DTEND:20251209T173000
SUMMARY:Konsultacje (I)
CATEGORIES:I
LOCATION:520 A-8
END:VEVENT
BEGIN:VEVENT
UID:UZ_PLZ_20251210_1100_487088
DTSTAMP:20251210T110000
DTSTART:20251210T110000
DTEND:20251210T130000
SUMMARY:Dyżur pracowniczy (I)
CATEGORIES:I
LOCATION:115 A-8
END:VEVENT
BEGIN:VEVENT
UID:UZ_PLZ_20251215_0910_486162
DTSTAMP:20251215T091000
DTSTART:20251215T091000
DTEND:20251215T104500
SUMMARY:Ekofizjologia (W): 31B-SP 23/24
CATEGORIES:W
LOCATION:18 A-8
END:VEVENT
BEGIN:VEVENT
UID:UZ_PLZ_20251215_1055_486137
DTSTAMP:20251215T105500
DTSTART:20251215T105500
DTEND:20251215T123000
SUMMARY:Ekofizjologia (Ć): 31B-SP 23/24
CATEGORIES:Ć
LOCATION:18 A-8
END:VEVENT
BEGIN:VEVENT
UID:UZ_PLZ_20251215_1430_486854
DTSTAMP:20251215T143000
DTSTART:20251215T143000
DTEND:20251215T171000
SUMMARY:Biokatalizatory w procesach biotechnologicznych - PW9b (L): 31BT-SP 23/24/A
CATEGORIES:L
LOCATION:18 A-8
END:VEVENT
BEGIN:VEVENT
UID:UZ_PLZ_20251215_1730_486845
DTSTAMP:20251215T173000
DTSTART:20251215T173000
DTEND:20251215T201000
SUMMARY:Biokatalizatory w procesach biotechnologicznych - PW9b (L): 31BT-SP 23/24/B
CATEGORIES:L
LOCATION:18 A-8
END:VEVENT
BEGIN:VEVENT
UID:UZ_PLZ_20251216_0915_492981
DTSTAMP:20251216T091500
DTSTART:20251216T091500
DTEND:20251216T104500
SUMMARY:Erasmus + Ecophysiology (W+C): WNB-Erasmus
CATEGORIES:W+C
LOCATION:109 A-2
END:VEVENT
BEGIN:VEVENT
UID:UZ_PLZ_20251216_1100_492981
DTSTAMP:20251216T110000
DTSTART:20251216T110000
DTEND:20251216T123000
SUMMARY:Erasmus + Ecophysiology (W+C): WNB-Erasmus
CATEGORIES:W+C
LOCATION:123 A-2
END:VEVENT
BEGIN:VEVENT
UID:UZ_PLZ_20251216_1530_493561
DTSTAMP:20251216T153000
DTSTART:20251216T153000
DTEND:20251216T173000
SUMMARY:Konsultacje (I)
CATEGORIES:I
LOCATION:520 A-8
END:VEVENT
BEGIN:VEVENT
UID:UZ_PLZ_20251217_1100_487088
DTSTAMP:20251217T110000
DTSTART:20251217T110000
DTEND:20251217T130000
SUMMARY:Dyżur pracowniczy (I)
CATEGORIES:I
LOCATION:115 A-8
END:VEVENT
BEGIN:VEVENT
UID:UZ_PLZ_20260107_1530_493561
DTSTAMP:20260107T153000
DTSTART:20260107T153000
DTEND:20260107T173000
SUMMARY:Konsultacje (I)
CATEGORIES:I
LOCATION:520 A-8
END:VEVENT
BEGIN:VEVENT
UID:UZ_PLZ_20260112_0910_486162
DTSTAMP:20260112T091000
DTSTART:20260112T091000
DTEND:20260112T104500
SUMMARY:Ekofizjologia (W): 31B-SP 23/24
CATEGORIES:W
LOCATION:18 A-8
END:VEVENT
BEGIN:VEVENT
UID:UZ_PLZ_20260112_1055_486137
DTSTAMP:20260112T105500
DTSTART:20260112T105500
DTEND:20260112T123000
SUMMARY:Ekofizjologia (Ć): 31B-SP 23/24
CATEGORIES:Ć
LOCATION:18 A-8
END:VEVENT
BEGIN:VEVENT
UID:UZ_PLZ_20260112_1430_486854
DTSTAMP:20260112T143000
DTSTART:20260112T143000
DTEND:20260112T171000
SUMMARY:Biokatalizatory w procesach biotechnologicznych - PW9b (L): 31BT-SP 23/24/A
CATEGORIES:L
LOCATION:18 A-8
END:VEVENT
BEGIN:VEVENT
UID:UZ_PLZ_20260112_1730_486845
DTSTAMP:20260112T173000
DTSTART:20260112T173000
DTEND:20260112T201000
SUMMARY:Biokatalizatory w procesach biotechnologicznych - PW9b (L): 31BT-SP 23/24/B
CATEGORIES:L
LOCATION:18 A-8
END:VEVENT
BEGIN:VEVENT
UID:UZ_PLZ_20260113_0915_492981
DTSTAMP:20260113T091500
DTSTART:20260113T091500
DTEND:20260113T104500
SUMMARY:Erasmus + Ecophysiology (W+C): WNB-Erasmus
CATEGORIES:W+C
LOCATION:109 A-2
END:VEVENT
BEGIN:VEVENT
UID:UZ_PLZ_20260113_1100_492981
DTSTAMP:20260113T110000
DTSTART:20260113T110000
DTEND:20260113T123000
SUMMARY:Erasmus + Ecophysiology (W+C): WNB-Erasmus
CATEGORIES:W+C
LOCATION:123 A-2
END:VEVENT
BEGIN:VEVENT
UID:UZ_PLZ_20260113_1530_493561
DTSTAMP:20260113T153000
DTSTART:20260113T153000
DTEND:20260113T173000
SUMMARY:Konsultacje (I)
CATEGORIES:I
LOCATION:520 A-8
END:VEVENT
BEGIN:VEVENT
UID:UZ_PLZ_20260114_1100_487088
DTSTAMP:20260114T110000
DTSTART:20260114T110000
DTEND:20260114T130000
SUMMARY:Dyżur pracowniczy (I)
CATEGORIES:I
LOCATION:115 A-8
END:VEVENT
BEGIN:VEVENT
UID:UZ_PLZ_20260120_1530_493561
DTSTAMP:20260120T153000
DTSTART:20260120T153000
DTEND:20260120T173000
SUMMARY:Konsultacje (I)
CATEGORIES:I
LOCATION:520 A-8
END:VEVENT
BEGIN:VEVENT
UID:UZ_PLZ_20260121_1100_487088
DTSTAMP:20260121T110000
DTSTART:20260121T110000
DTEND:20260121T130000
SUMMARY:Dyżur pracowniczy (I)
CATEGORIES:I
LOCATION:115 A-8
END:VEVENT
BEGIN:VEVENT
UID:UZ_PLZ_20260127_1530_493561
DTSTAMP:20260127T153000
DTSTART:20260127T153000
DTEND:20260127T173000
SUMMARY:Konsultacje (I)
CATEGORIES:I
LOCATION:520 A-8
END:VEVENT
BEGIN:VEVENT
UID:UZ_PLZ_20260128_1100_487088
DTSTAMP:20260128T110000
DTSTART:20260128T110000
DTEND:20260128T130000
SUMMARY:Dyżur pracowniczy (I)
CATEGORIES:I
LOCATION:115 A-8
END:VEVENT
END:VCALENDAR
