BEGIN:VCALENDAR
TZID:Europe/Warsaw
X-WR-TIMEZONE:Europe/Warsaw
VERSION:2.0
PRODID:-//Uniwersytet Zielonogórski//NONSGML Plan zajęć v1.0//EN
NAME:Plan zajęć - semestr letni 2025/2026
X-WR-CALNAME:Plan zajęć - semestr letni 2025/2026
COLOR:green
CALSCALE:GREGORIAN
BEGIN:VEVENT
UID:UZ_PLZ_20260426_0800_500957
DTSTAMP:20260426T080000
DTSTART:20260426T080000
DTEND:20260426T093000
SUMMARY:Przedmiot do wyboru: Amerykańskie opowiadania (Ć): 21F-ANG-NP24
CATEGORIES:Ć
LOCATION:115 A-20
X-ALT-DESC;FMTTYPE=text/html:<html><body><a href="https://classroom.google.com/c/ODQ3MTExOTc4MTYx">Google Classroom</a> </body></html>
END:VEVENT
BEGIN:VEVENT
UID:UZ_PLZ_20260426_0945_501013
DTSTAMP:20260426T094500
DTSTART:20260426T094500
DTEND:20260426T111500
SUMMARY:Współczesna literatura angielskiego obszaru językowego (W): 21F-ANG-ND24
CATEGORIES:W
LOCATION:115 A-20
X-ALT-DESC;FMTTYPE=text/html:<html><body><a href="https://classroom.google.com/c/ODQ3MTEyMjU0NTI4">Google Classroom</a> </body></html>
END:VEVENT
BEGIN:VEVENT
UID:UZ_PLZ_20260426_1130_501010
DTSTAMP:20260426T113000
DTSTART:20260426T113000
DTEND:20260426T130000
SUMMARY:Współczesna literatura angielskiego obszaru językowego (Ć): 21F-ANG-ND24
CATEGORIES:Ć
LOCATION:115 A-20
END:VEVENT
BEGIN:VEVENT
UID:UZ_PLZ_20260428_0945_500989
DTSTAMP:20260428T094500
DTSTART:20260428T094500
DTEND:20260428T111500
SUMMARY:Seminarium magisterskie II (S): 11F-ANG-SD25
CATEGORIES:S
LOCATION:119 A-20
X-ALT-DESC;FMTTYPE=text/html:<html><body><a href="https://classroom.google.com/c/ODQ3MTExODAxMTM2">Google Classroom</a> </body></html>
END:VEVENT
BEGIN:VEVENT
UID:UZ_PLZ_20260428_1130_500991
DTSTAMP:20260428T113000
DTSTART:20260428T113000
DTEND:20260428T130000
SUMMARY:Współczesna literatura angielskiego obszaru językowego (W): 21F-ANG-SD24
CATEGORIES:W
LOCATION:Aula I A-20
X-ALT-DESC;FMTTYPE=text/html:<html><body><a href="https://classroom.google.com/c/ODQ3MTEyMzY1OTMy">Google Classroom</a> </body></html>
END:VEVENT
BEGIN:VEVENT
UID:UZ_PLZ_20260428_1315_500996
DTSTAMP:20260428T131500
DTSTART:20260428T131500
DTEND:20260428T144500
SUMMARY:Współczesna literatura angielskiego obszaru językowego (Ć): 21F-ANG-SD24
CATEGORIES:Ć
LOCATION:Aula I A-20
END:VEVENT
BEGIN:VEVENT
UID:UZ_PLZ_20260505_0945_500989
DTSTAMP:20260505T094500
DTSTART:20260505T094500
DTEND:20260505T111500
SUMMARY:Seminarium magisterskie II (S): 11F-ANG-SD25
CATEGORIES:S
LOCATION:119 A-20
X-ALT-DESC;FMTTYPE=text/html:<html><body><a href="https://classroom.google.com/c/ODQ3MTExODAxMTM2">Google Classroom</a> </body></html>
END:VEVENT
BEGIN:VEVENT
UID:UZ_PLZ_20260505_1130_500991
DTSTAMP:20260505T113000
DTSTART:20260505T113000
DTEND:20260505T130000
SUMMARY:Współczesna literatura angielskiego obszaru językowego (W): 21F-ANG-SD24
CATEGORIES:W
LOCATION:Aula I A-20
X-ALT-DESC;FMTTYPE=text/html:<html><body><a href="https://classroom.google.com/c/ODQ3MTEyMzY1OTMy">Google Classroom</a> </body></html>
END:VEVENT
BEGIN:VEVENT
UID:UZ_PLZ_20260505_1315_500996
DTSTAMP:20260505T131500
DTSTART:20260505T131500
DTEND:20260505T144500
SUMMARY:Współczesna literatura angielskiego obszaru językowego (Ć): 21F-ANG-SD24
CATEGORIES:Ć
LOCATION:Aula I A-20
END:VEVENT
BEGIN:VEVENT
UID:UZ_PLZ_20260506_1130_500993
DTSTAMP:20260506T113000
DTSTART:20260506T113000
DTEND:20260506T130000
SUMMARY:Przedmiot do wyboru - Amerykańskie narracje migracyjne (Ć): 21F-ANG-SD24
CATEGORIES:Ć
LOCATION:106 A-20
X-ALT-DESC;FMTTYPE=text/html:<html><body><a href="https://classroom.google.com/c/ODQ3MTExNzc4OTM5">Google Classroom</a> </body></html>
END:VEVENT
BEGIN:VEVENT
UID:UZ_PLZ_20260506_1315_500900
DTSTAMP:20260506T131500
DTSTART:20260506T131500
DTEND:20260506T144500
SUMMARY:Przedmiot do wyboru: Amerykańskie opowiadania (Ć): 21F-ANG-SP24\; 22F-ANG-SP24\; 23F-ANG-SP24
CATEGORIES:Ć
LOCATION:9 A-20
X-ALT-DESC;FMTTYPE=text/html:<html><body><a href="https://classroom.google.com/c/ODQ3MTEyMTU2NTA3">Google Classroom</a> </body></html>
END:VEVENT
BEGIN:VEVENT
UID:UZ_PLZ_20260512_0945_500989
DTSTAMP:20260512T094500
DTSTART:20260512T094500
DTEND:20260512T111500
SUMMARY:Seminarium magisterskie II (S): 11F-ANG-SD25
CATEGORIES:S
LOCATION:119 A-20
X-ALT-DESC;FMTTYPE=text/html:<html><body><a href="https://classroom.google.com/c/ODQ3MTExODAxMTM2">Google Classroom</a> </body></html>
END:VEVENT
BEGIN:VEVENT
UID:UZ_PLZ_20260512_1130_500991
DTSTAMP:20260512T113000
DTSTART:20260512T113000
DTEND:20260512T130000
SUMMARY:Współczesna literatura angielskiego obszaru językowego (W): 21F-ANG-SD24
CATEGORIES:W
LOCATION:Aula I A-20
X-ALT-DESC;FMTTYPE=text/html:<html><body><a href="https://classroom.google.com/c/ODQ3MTEyMzY1OTMy">Google Classroom</a> </body></html>
END:VEVENT
BEGIN:VEVENT
UID:UZ_PLZ_20260512_1315_500996
DTSTAMP:20260512T131500
DTSTART:20260512T131500
DTEND:20260512T144500
SUMMARY:Współczesna literatura angielskiego obszaru językowego (Ć): 21F-ANG-SD24
CATEGORIES:Ć
LOCATION:Aula I A-20
END:VEVENT
BEGIN:VEVENT
UID:UZ_PLZ_20260513_1130_500993
DTSTAMP:20260513T113000
DTSTART:20260513T113000
DTEND:20260513T130000
SUMMARY:Przedmiot do wyboru - Amerykańskie narracje migracyjne (Ć): 21F-ANG-SD24
CATEGORIES:Ć
LOCATION:106 A-20
X-ALT-DESC;FMTTYPE=text/html:<html><body><a href="https://classroom.google.com/c/ODQ3MTExNzc4OTM5">Google Classroom</a> </body></html>
END:VEVENT
BEGIN:VEVENT
UID:UZ_PLZ_20260513_1315_500900
DTSTAMP:20260513T131500
DTSTART:20260513T131500
DTEND:20260513T144500
SUMMARY:Przedmiot do wyboru: Amerykańskie opowiadania (Ć): 21F-ANG-SP24\; 22F-ANG-SP24\; 23F-ANG-SP24
CATEGORIES:Ć
LOCATION:9 A-20
X-ALT-DESC;FMTTYPE=text/html:<html><body><a href="https://classroom.google.com/c/ODQ3MTEyMTU2NTA3">Google Classroom</a> </body></html>
END:VEVENT
BEGIN:VEVENT
UID:UZ_PLZ_20260517_0800_500957
DTSTAMP:20260517T080000
DTSTART:20260517T080000
DTEND:20260517T093000
SUMMARY:Przedmiot do wyboru: Amerykańskie opowiadania (Ć): 21F-ANG-NP24
CATEGORIES:Ć
LOCATION:115 A-20
X-ALT-DESC;FMTTYPE=text/html:<html><body><a href="https://classroom.google.com/c/ODQ3MTExOTc4MTYx">Google Classroom</a> </body></html>
END:VEVENT
BEGIN:VEVENT
UID:UZ_PLZ_20260517_0945_501013
DTSTAMP:20260517T094500
DTSTART:20260517T094500
DTEND:20260517T111500
SUMMARY:Współczesna literatura angielskiego obszaru językowego (W): 21F-ANG-ND24
CATEGORIES:W
LOCATION:115 A-20
X-ALT-DESC;FMTTYPE=text/html:<html><body><a href="https://classroom.google.com/c/ODQ3MTEyMjU0NTI4">Google Classroom</a> </body></html>
END:VEVENT
BEGIN:VEVENT
UID:UZ_PLZ_20260517_1130_501010
DTSTAMP:20260517T113000
DTSTART:20260517T113000
DTEND:20260517T130000
SUMMARY:Współczesna literatura angielskiego obszaru językowego (Ć): 21F-ANG-ND24
CATEGORIES:Ć
LOCATION:115 A-20
END:VEVENT
BEGIN:VEVENT
UID:UZ_PLZ_20260519_0945_500989
DTSTAMP:20260519T094500
DTSTART:20260519T094500
DTEND:20260519T111500
SUMMARY:Seminarium magisterskie II (S): 11F-ANG-SD25
CATEGORIES:S
LOCATION:119 A-20
X-ALT-DESC;FMTTYPE=text/html:<html><body><a href="https://classroom.google.com/c/ODQ3MTExODAxMTM2">Google Classroom</a> </body></html>
END:VEVENT
BEGIN:VEVENT
UID:UZ_PLZ_20260519_1130_500991
DTSTAMP:20260519T113000
DTSTART:20260519T113000
DTEND:20260519T130000
SUMMARY:Współczesna literatura angielskiego obszaru językowego (W): 21F-ANG-SD24
CATEGORIES:W
LOCATION:Aula I A-20
X-ALT-DESC;FMTTYPE=text/html:<html><body><a href="https://classroom.google.com/c/ODQ3MTEyMzY1OTMy">Google Classroom</a> </body></html>
END:VEVENT
BEGIN:VEVENT
UID:UZ_PLZ_20260519_1315_500996
DTSTAMP:20260519T131500
DTSTART:20260519T131500
DTEND:20260519T144500
SUMMARY:Współczesna literatura angielskiego obszaru językowego (Ć): 21F-ANG-SD24
CATEGORIES:Ć
LOCATION:Aula I A-20
END:VEVENT
BEGIN:VEVENT
UID:UZ_PLZ_20260520_1130_500993
DTSTAMP:20260520T113000
DTSTART:20260520T113000
DTEND:20260520T130000
SUMMARY:Przedmiot do wyboru - Amerykańskie narracje migracyjne (Ć): 21F-ANG-SD24
CATEGORIES:Ć
LOCATION:106 A-20
X-ALT-DESC;FMTTYPE=text/html:<html><body><a href="https://classroom.google.com/c/ODQ3MTExNzc4OTM5">Google Classroom</a> </body></html>
END:VEVENT
BEGIN:VEVENT
UID:UZ_PLZ_20260520_1315_500900
DTSTAMP:20260520T131500
DTSTART:20260520T131500
DTEND:20260520T144500
SUMMARY:Przedmiot do wyboru: Amerykańskie opowiadania (Ć): 21F-ANG-SP24\; 22F-ANG-SP24\; 23F-ANG-SP24
CATEGORIES:Ć
LOCATION:9 A-20
X-ALT-DESC;FMTTYPE=text/html:<html><body><a href="https://classroom.google.com/c/ODQ3MTEyMTU2NTA3">Google Classroom</a> </body></html>
END:VEVENT
BEGIN:VEVENT
UID:UZ_PLZ_20260526_0945_500989
DTSTAMP:20260526T094500
DTSTART:20260526T094500
DTEND:20260526T111500
SUMMARY:Seminarium magisterskie II (S): 11F-ANG-SD25
CATEGORIES:S
LOCATION:119 A-20
X-ALT-DESC;FMTTYPE=text/html:<html><body><a href="https://classroom.google.com/c/ODQ3MTExODAxMTM2">Google Classroom</a> </body></html>
END:VEVENT
BEGIN:VEVENT
UID:UZ_PLZ_20260526_1130_500991
DTSTAMP:20260526T113000
DTSTART:20260526T113000
DTEND:20260526T130000
SUMMARY:Współczesna literatura angielskiego obszaru językowego (W): 21F-ANG-SD24
CATEGORIES:W
LOCATION:Aula I A-20
X-ALT-DESC;FMTTYPE=text/html:<html><body><a href="https://classroom.google.com/c/ODQ3MTEyMzY1OTMy">Google Classroom</a> </body></html>
END:VEVENT
BEGIN:VEVENT
UID:UZ_PLZ_20260526_1315_500996
DTSTAMP:20260526T131500
DTSTART:20260526T131500
DTEND:20260526T144500
SUMMARY:Współczesna literatura angielskiego obszaru językowego (Ć): 21F-ANG-SD24
CATEGORIES:Ć
LOCATION:Aula I A-20
END:VEVENT
BEGIN:VEVENT
UID:UZ_PLZ_20260527_1130_500993
DTSTAMP:20260527T113000
DTSTART:20260527T113000
DTEND:20260527T130000
SUMMARY:Przedmiot do wyboru - Amerykańskie narracje migracyjne (Ć): 21F-ANG-SD24
CATEGORIES:Ć
LOCATION:106 A-20
X-ALT-DESC;FMTTYPE=text/html:<html><body><a href="https://classroom.google.com/c/ODQ3MTExNzc4OTM5">Google Classroom</a> </body></html>
END:VEVENT
BEGIN:VEVENT
UID:UZ_PLZ_20260527_1315_500900
DTSTAMP:20260527T131500
DTSTART:20260527T131500
DTEND:20260527T144500
SUMMARY:Przedmiot do wyboru: Amerykańskie opowiadania (Ć): 21F-ANG-SP24\; 22F-ANG-SP24\; 23F-ANG-SP24
CATEGORIES:Ć
LOCATION:9 A-20
X-ALT-DESC;FMTTYPE=text/html:<html><body><a href="https://classroom.google.com/c/ODQ3MTEyMTU2NTA3">Google Classroom</a> </body></html>
END:VEVENT
BEGIN:VEVENT
UID:UZ_PLZ_20260531_0800_500957
DTSTAMP:20260531T080000
DTSTART:20260531T080000
DTEND:20260531T093000
SUMMARY:Przedmiot do wyboru: Amerykańskie opowiadania (Ć): 21F-ANG-NP24
CATEGORIES:Ć
LOCATION:115 A-20
X-ALT-DESC;FMTTYPE=text/html:<html><body><a href="https://classroom.google.com/c/ODQ3MTExOTc4MTYx">Google Classroom</a> </body></html>
END:VEVENT
BEGIN:VEVENT
UID:UZ_PLZ_20260531_0945_501013
DTSTAMP:20260531T094500
DTSTART:20260531T094500
DTEND:20260531T111500
SUMMARY:Współczesna literatura angielskiego obszaru językowego (W): 21F-ANG-ND24
CATEGORIES:W
LOCATION:115 A-20
X-ALT-DESC;FMTTYPE=text/html:<html><body><a href="https://classroom.google.com/c/ODQ3MTEyMjU0NTI4">Google Classroom</a> </body></html>
END:VEVENT
BEGIN:VEVENT
UID:UZ_PLZ_20260531_1130_501010
DTSTAMP:20260531T113000
DTSTART:20260531T113000
DTEND:20260531T130000
SUMMARY:Współczesna literatura angielskiego obszaru językowego (Ć): 21F-ANG-ND24
CATEGORIES:Ć
LOCATION:115 A-20
END:VEVENT
BEGIN:VEVENT
UID:UZ_PLZ_20260602_0945_500989
DTSTAMP:20260602T094500
DTSTART:20260602T094500
DTEND:20260602T111500
SUMMARY:Seminarium magisterskie II (S): 11F-ANG-SD25
CATEGORIES:S
LOCATION:119 A-20
X-ALT-DESC;FMTTYPE=text/html:<html><body><a href="https://classroom.google.com/c/ODQ3MTExODAxMTM2">Google Classroom</a> </body></html>
END:VEVENT
BEGIN:VEVENT
UID:UZ_PLZ_20260602_1130_500991
DTSTAMP:20260602T113000
DTSTART:20260602T113000
DTEND:20260602T130000
SUMMARY:Współczesna literatura angielskiego obszaru językowego (W): 21F-ANG-SD24
CATEGORIES:W
LOCATION:Aula I A-20
X-ALT-DESC;FMTTYPE=text/html:<html><body><a href="https://classroom.google.com/c/ODQ3MTEyMzY1OTMy">Google Classroom</a> </body></html>
END:VEVENT
BEGIN:VEVENT
UID:UZ_PLZ_20260602_1315_500996
DTSTAMP:20260602T131500
DTSTART:20260602T131500
DTEND:20260602T144500
SUMMARY:Współczesna literatura angielskiego obszaru językowego (Ć): 21F-ANG-SD24
CATEGORIES:Ć
LOCATION:Aula I A-20
END:VEVENT
BEGIN:VEVENT
UID:UZ_PLZ_20260603_1130_500993
DTSTAMP:20260603T113000
DTSTART:20260603T113000
DTEND:20260603T130000
SUMMARY:Przedmiot do wyboru - Amerykańskie narracje migracyjne (Ć): 21F-ANG-SD24
CATEGORIES:Ć
LOCATION:106 A-20
X-ALT-DESC;FMTTYPE=text/html:<html><body><a href="https://classroom.google.com/c/ODQ3MTExNzc4OTM5">Google Classroom</a> </body></html>
END:VEVENT
BEGIN:VEVENT
UID:UZ_PLZ_20260603_1315_500900
DTSTAMP:20260603T131500
DTSTART:20260603T131500
DTEND:20260603T144500
SUMMARY:Przedmiot do wyboru: Amerykańskie opowiadania (Ć): 21F-ANG-SP24\; 22F-ANG-SP24\; 23F-ANG-SP24
CATEGORIES:Ć
LOCATION:9 A-20
X-ALT-DESC;FMTTYPE=text/html:<html><body><a href="https://classroom.google.com/c/ODQ3MTEyMTU2NTA3">Google Classroom</a> </body></html>
END:VEVENT
BEGIN:VEVENT
UID:UZ_PLZ_20260609_0945_500989
DTSTAMP:20260609T094500
DTSTART:20260609T094500
DTEND:20260609T111500
SUMMARY:Seminarium magisterskie II (S): 11F-ANG-SD25
CATEGORIES:S
LOCATION:119 A-20
X-ALT-DESC;FMTTYPE=text/html:<html><body><a href="https://classroom.google.com/c/ODQ3MTExODAxMTM2">Google Classroom</a> </body></html>
END:VEVENT
BEGIN:VEVENT
UID:UZ_PLZ_20260609_1130_500991
DTSTAMP:20260609T113000
DTSTART:20260609T113000
DTEND:20260609T130000
SUMMARY:Współczesna literatura angielskiego obszaru językowego (W): 21F-ANG-SD24
CATEGORIES:W
LOCATION:Aula I A-20
X-ALT-DESC;FMTTYPE=text/html:<html><body><a href="https://classroom.google.com/c/ODQ3MTEyMzY1OTMy">Google Classroom</a> </body></html>
END:VEVENT
BEGIN:VEVENT
UID:UZ_PLZ_20260609_1315_500996
DTSTAMP:20260609T131500
DTSTART:20260609T131500
DTEND:20260609T144500
SUMMARY:Współczesna literatura angielskiego obszaru językowego (Ć): 21F-ANG-SD24
CATEGORIES:Ć
LOCATION:Aula I A-20
END:VEVENT
BEGIN:VEVENT
UID:UZ_PLZ_20260610_1130_500993
DTSTAMP:20260610T113000
DTSTART:20260610T113000
DTEND:20260610T130000
SUMMARY:Przedmiot do wyboru - Amerykańskie narracje migracyjne (Ć): 21F-ANG-SD24
CATEGORIES:Ć
LOCATION:106 A-20
X-ALT-DESC;FMTTYPE=text/html:<html><body><a href="https://classroom.google.com/c/ODQ3MTExNzc4OTM5">Google Classroom</a> </body></html>
END:VEVENT
BEGIN:VEVENT
UID:UZ_PLZ_20260610_1315_500900
DTSTAMP:20260610T131500
DTSTART:20260610T131500
DTEND:20260610T144500
SUMMARY:Przedmiot do wyboru: Amerykańskie opowiadania (Ć): 21F-ANG-SP24\; 22F-ANG-SP24\; 23F-ANG-SP24
CATEGORIES:Ć
LOCATION:9 A-20
X-ALT-DESC;FMTTYPE=text/html:<html><body><a href="https://classroom.google.com/c/ODQ3MTEyMTU2NTA3">Google Classroom</a> </body></html>
END:VEVENT
BEGIN:VEVENT
UID:UZ_PLZ_20260614_0945_500957
DTSTAMP:20260614T094500
DTSTART:20260614T094500
DTEND:20260614T111500
SUMMARY:Przedmiot do wyboru: Amerykańskie opowiadania (Ć): 21F-ANG-NP24
CATEGORIES:Ć
LOCATION:115 A-20
X-ALT-DESC;FMTTYPE=text/html:<html><body><a href="https://classroom.google.com/c/ODQ3MTExOTc4MTYx">Google Classroom</a> </body></html>
END:VEVENT
BEGIN:VEVENT
UID:UZ_PLZ_20260616_0945_500989
DTSTAMP:20260616T094500
DTSTART:20260616T094500
DTEND:20260616T111500
SUMMARY:Seminarium magisterskie II (S): 11F-ANG-SD25
CATEGORIES:S
LOCATION:119 A-20
X-ALT-DESC;FMTTYPE=text/html:<html><body><a href="https://classroom.google.com/c/ODQ3MTExODAxMTM2">Google Classroom</a> </body></html>
END:VEVENT
BEGIN:VEVENT
UID:UZ_PLZ_20260616_1130_500991
DTSTAMP:20260616T113000
DTSTART:20260616T113000
DTEND:20260616T130000
SUMMARY:Współczesna literatura angielskiego obszaru językowego (W): 21F-ANG-SD24
CATEGORIES:W
LOCATION:Aula I A-20
X-ALT-DESC;FMTTYPE=text/html:<html><body><a href="https://classroom.google.com/c/ODQ3MTEyMzY1OTMy">Google Classroom</a> </body></html>
END:VEVENT
BEGIN:VEVENT
UID:UZ_PLZ_20260616_1315_500996
DTSTAMP:20260616T131500
DTSTART:20260616T131500
DTEND:20260616T144500
SUMMARY:Współczesna literatura angielskiego obszaru językowego (Ć): 21F-ANG-SD24
CATEGORIES:Ć
LOCATION:Aula I A-20
END:VEVENT
BEGIN:VEVENT
UID:UZ_PLZ_20260617_1130_500993
DTSTAMP:20260617T113000
DTSTART:20260617T113000
DTEND:20260617T130000
SUMMARY:Przedmiot do wyboru - Amerykańskie narracje migracyjne (Ć): 21F-ANG-SD24
CATEGORIES:Ć
LOCATION:106 A-20
X-ALT-DESC;FMTTYPE=text/html:<html><body><a href="https://classroom.google.com/c/ODQ3MTExNzc4OTM5">Google Classroom</a> </body></html>
END:VEVENT
BEGIN:VEVENT
UID:UZ_PLZ_20260617_1315_500900
DTSTAMP:20260617T131500
DTSTART:20260617T131500
DTEND:20260617T144500
SUMMARY:Przedmiot do wyboru: Amerykańskie opowiadania (Ć): 21F-ANG-SP24\; 22F-ANG-SP24\; 23F-ANG-SP24
CATEGORIES:Ć
LOCATION:9 A-20
X-ALT-DESC;FMTTYPE=text/html:<html><body><a href="https://classroom.google.com/c/ODQ3MTEyMTU2NTA3">Google Classroom</a> </body></html>
END:VEVENT
END:VCALENDAR
