BEGIN:VCALENDAR
TZID:Europe/Warsaw
X-WR-TIMEZONE:Europe/Warsaw
VERSION:2.0
PRODID:-//Uniwersytet Zielonogórski//NONSGML Plan zajęć v1.0//EN
NAME:Plan zajęć - semestr letni 2025/2026
X-WR-CALNAME:Plan zajęć - semestr letni 2025/2026
COLOR:green
CALSCALE:GREGORIAN
BEGIN:VEVENT
UID:UZ_PLZ_20260304_1600_502411
DTSTAMP:20260304T160000
DTSTART:20260304T160000
DTEND:20260304T173000
SUMMARY:Filozofia kultury z elementami estetyki (Ć): 31FILOZ-SP23
CATEGORIES:Ć
LOCATION:216 A-20
END:VEVENT
BEGIN:VEVENT
UID:UZ_PLZ_20260304_1740_502388
DTSTAMP:20260304T174000
DTSTART:20260304T174000
DTEND:20260304T191000
SUMMARY:Filozofia człowieka z elementami filozofii społecznej (W): 31CiDF-SP23\; 31FILOZ-SP23
CATEGORIES:W
LOCATION:216 A-20
END:VEVENT
BEGIN:VEVENT
UID:UZ_PLZ_20260304_1915_502426
DTSTAMP:20260304T191500
DTSTART:20260304T191500
DTEND:20260304T204500
SUMMARY:Filozofia kultury z elementami estetyki (Ć): 31CiDF-SP23
CATEGORIES:Ć
LOCATION:216 A-20
END:VEVENT
BEGIN:VEVENT
UID:UZ_PLZ_20260305_1915_503703
DTSTAMP:20260305T191500
DTSTART:20260305T191500
DTEND:20260305T204500
SUMMARY:Filozofia człowieka z elementami filozofii społecznej (Ć): 31CiDF-SP23\; 31FILOZ-SP23
CATEGORIES:Ć
LOCATION:216 A-20
END:VEVENT
BEGIN:VEVENT
UID:UZ_PLZ_20260308_1130_502189
DTSTAMP:20260308T113000
DTSTART:20260308T113000
DTEND:20260308T144500
SUMMARY:Filozofia kultury z elementami estetyki (Ć): 31CiDF-NP23
CATEGORIES:Ć
LOCATION:221 A-20
END:VEVENT
BEGIN:VEVENT
UID:UZ_PLZ_20260311_1600_502411
DTSTAMP:20260311T160000
DTSTART:20260311T160000
DTEND:20260311T173000
SUMMARY:Filozofia kultury z elementami estetyki (Ć): 31FILOZ-SP23
CATEGORIES:Ć
LOCATION:216 A-20
END:VEVENT
BEGIN:VEVENT
UID:UZ_PLZ_20260311_1740_502388
DTSTAMP:20260311T174000
DTSTART:20260311T174000
DTEND:20260311T191000
SUMMARY:Filozofia człowieka z elementami filozofii społecznej (W): 31CiDF-SP23\; 31FILOZ-SP23
CATEGORIES:W
LOCATION:216 A-20
END:VEVENT
BEGIN:VEVENT
UID:UZ_PLZ_20260311_1915_502426
DTSTAMP:20260311T191500
DTSTART:20260311T191500
DTEND:20260311T204500
SUMMARY:Filozofia kultury z elementami estetyki (Ć): 31CiDF-SP23
CATEGORIES:Ć
LOCATION:216 A-20
END:VEVENT
BEGIN:VEVENT
UID:UZ_PLZ_20260312_1915_503703
DTSTAMP:20260312T191500
DTSTART:20260312T191500
DTEND:20260312T204500
SUMMARY:Filozofia człowieka z elementami filozofii społecznej (Ć): 31CiDF-SP23\; 31FILOZ-SP23
CATEGORIES:Ć
LOCATION:216 A-20
END:VEVENT
BEGIN:VEVENT
UID:UZ_PLZ_20260318_1600_502411
DTSTAMP:20260318T160000
DTSTART:20260318T160000
DTEND:20260318T173000
SUMMARY:Filozofia kultury z elementami estetyki (Ć): 31FILOZ-SP23
CATEGORIES:Ć
LOCATION:216 A-20
END:VEVENT
BEGIN:VEVENT
UID:UZ_PLZ_20260318_1740_502388
DTSTAMP:20260318T174000
DTSTART:20260318T174000
DTEND:20260318T191000
SUMMARY:Filozofia człowieka z elementami filozofii społecznej (W): 31CiDF-SP23\; 31FILOZ-SP23
CATEGORIES:W
LOCATION:216 A-20
END:VEVENT
BEGIN:VEVENT
UID:UZ_PLZ_20260318_1915_502426
DTSTAMP:20260318T191500
DTSTART:20260318T191500
DTEND:20260318T204500
SUMMARY:Filozofia kultury z elementami estetyki (Ć): 31CiDF-SP23
CATEGORIES:Ć
LOCATION:216 A-20
END:VEVENT
BEGIN:VEVENT
UID:UZ_PLZ_20260319_1600_503703
DTSTAMP:20260319T160000
DTSTART:20260319T160000
DTEND:20260319T173000
SUMMARY:Filozofia człowieka z elementami filozofii społecznej (Ć): 31CiDF-SP23\; 31FILOZ-SP23
CATEGORIES:Ć
LOCATION:120 A-20
END:VEVENT
BEGIN:VEVENT
UID:UZ_PLZ_20260322_1130_502189
DTSTAMP:20260322T113000
DTSTART:20260322T113000
DTEND:20260322T144500
SUMMARY:Filozofia kultury z elementami estetyki (Ć): 31CiDF-NP23
CATEGORIES:Ć
LOCATION:221 A-20
END:VEVENT
BEGIN:VEVENT
UID:UZ_PLZ_20260325_1600_502411
DTSTAMP:20260325T160000
DTSTART:20260325T160000
DTEND:20260325T173000
SUMMARY:Filozofia kultury z elementami estetyki (Ć): 31FILOZ-SP23
CATEGORIES:Ć
LOCATION:216 A-20
END:VEVENT
BEGIN:VEVENT
UID:UZ_PLZ_20260325_1740_502388
DTSTAMP:20260325T174000
DTSTART:20260325T174000
DTEND:20260325T191000
SUMMARY:Filozofia człowieka z elementami filozofii społecznej (W): 31CiDF-SP23\; 31FILOZ-SP23
CATEGORIES:W
LOCATION:216 A-20
END:VEVENT
BEGIN:VEVENT
UID:UZ_PLZ_20260325_1915_502426
DTSTAMP:20260325T191500
DTSTART:20260325T191500
DTEND:20260325T204500
SUMMARY:Filozofia kultury z elementami estetyki (Ć): 31CiDF-SP23
CATEGORIES:Ć
LOCATION:216 A-20
END:VEVENT
BEGIN:VEVENT
UID:UZ_PLZ_20260326_1600_503703
DTSTAMP:20260326T160000
DTSTART:20260326T160000
DTEND:20260326T173000
SUMMARY:Filozofia człowieka z elementami filozofii społecznej (Ć): 31CiDF-SP23\; 31FILOZ-SP23
CATEGORIES:Ć
LOCATION:120 A-20
END:VEVENT
BEGIN:VEVENT
UID:UZ_PLZ_20260401_1600_502411
DTSTAMP:20260401T160000
DTSTART:20260401T160000
DTEND:20260401T173000
SUMMARY:Filozofia kultury z elementami estetyki (Ć): 31FILOZ-SP23
CATEGORIES:Ć
LOCATION:216 A-20
END:VEVENT
BEGIN:VEVENT
UID:UZ_PLZ_20260401_1740_502388
DTSTAMP:20260401T174000
DTSTART:20260401T174000
DTEND:20260401T191000
SUMMARY:Filozofia człowieka z elementami filozofii społecznej (W): 31CiDF-SP23\; 31FILOZ-SP23
CATEGORIES:W
LOCATION:216 A-20
END:VEVENT
BEGIN:VEVENT
UID:UZ_PLZ_20260401_1915_502426
DTSTAMP:20260401T191500
DTSTART:20260401T191500
DTEND:20260401T204500
SUMMARY:Filozofia kultury z elementami estetyki (Ć): 31CiDF-SP23
CATEGORIES:Ć
LOCATION:216 A-20
END:VEVENT
BEGIN:VEVENT
UID:UZ_PLZ_20260402_1600_503703
DTSTAMP:20260402T160000
DTSTART:20260402T160000
DTEND:20260402T173000
SUMMARY:Filozofia człowieka z elementami filozofii społecznej (Ć): 31CiDF-SP23\; 31FILOZ-SP23
CATEGORIES:Ć
LOCATION:120 A-20
END:VEVENT
BEGIN:VEVENT
UID:UZ_PLZ_20260408_1600_502411
DTSTAMP:20260408T160000
DTSTART:20260408T160000
DTEND:20260408T173000
SUMMARY:Filozofia kultury z elementami estetyki (Ć): 31FILOZ-SP23
CATEGORIES:Ć
LOCATION:216 A-20
END:VEVENT
BEGIN:VEVENT
UID:UZ_PLZ_20260408_1740_502388
DTSTAMP:20260408T174000
DTSTART:20260408T174000
DTEND:20260408T191000
SUMMARY:Filozofia człowieka z elementami filozofii społecznej (W): 31CiDF-SP23\; 31FILOZ-SP23
CATEGORIES:W
LOCATION:216 A-20
END:VEVENT
BEGIN:VEVENT
UID:UZ_PLZ_20260408_1915_502426
DTSTAMP:20260408T191500
DTSTART:20260408T191500
DTEND:20260408T204500
SUMMARY:Filozofia kultury z elementami estetyki (Ć): 31CiDF-SP23
CATEGORIES:Ć
LOCATION:216 A-20
END:VEVENT
BEGIN:VEVENT
UID:UZ_PLZ_20260409_1600_503703
DTSTAMP:20260409T160000
DTSTART:20260409T160000
DTEND:20260409T173000
SUMMARY:Filozofia człowieka z elementami filozofii społecznej (Ć): 31CiDF-SP23\; 31FILOZ-SP23
CATEGORIES:Ć
LOCATION:120 A-20
END:VEVENT
BEGIN:VEVENT
UID:UZ_PLZ_20260412_1315_502189
DTSTAMP:20260412T131500
DTSTART:20260412T131500
DTEND:20260412T144500
SUMMARY:Filozofia kultury z elementami estetyki (Ć): 31CiDF-NP23
CATEGORIES:Ć
LOCATION:221 A-20
END:VEVENT
BEGIN:VEVENT
UID:UZ_PLZ_20260415_1600_502411
DTSTAMP:20260415T160000
DTSTART:20260415T160000
DTEND:20260415T173000
SUMMARY:Filozofia kultury z elementami estetyki (Ć): 31FILOZ-SP23
CATEGORIES:Ć
LOCATION:216 A-20
END:VEVENT
BEGIN:VEVENT
UID:UZ_PLZ_20260415_1740_502388
DTSTAMP:20260415T174000
DTSTART:20260415T174000
DTEND:20260415T191000
SUMMARY:Filozofia człowieka z elementami filozofii społecznej (W): 31CiDF-SP23\; 31FILOZ-SP23
CATEGORIES:W
LOCATION:216 A-20
END:VEVENT
BEGIN:VEVENT
UID:UZ_PLZ_20260415_1915_502426
DTSTAMP:20260415T191500
DTSTART:20260415T191500
DTEND:20260415T204500
SUMMARY:Filozofia kultury z elementami estetyki (Ć): 31CiDF-SP23
CATEGORIES:Ć
LOCATION:216 A-20
END:VEVENT
BEGIN:VEVENT
UID:UZ_PLZ_20260416_1600_503703
DTSTAMP:20260416T160000
DTSTART:20260416T160000
DTEND:20260416T173000
SUMMARY:Filozofia człowieka z elementami filozofii społecznej (Ć): 31CiDF-SP23\; 31FILOZ-SP23
CATEGORIES:Ć
LOCATION:120 A-20
END:VEVENT
BEGIN:VEVENT
UID:UZ_PLZ_20260422_1600_502411
DTSTAMP:20260422T160000
DTSTART:20260422T160000
DTEND:20260422T173000
SUMMARY:Filozofia kultury z elementami estetyki (Ć): 31FILOZ-SP23
CATEGORIES:Ć
LOCATION:216 A-20
END:VEVENT
BEGIN:VEVENT
UID:UZ_PLZ_20260422_1740_502388
DTSTAMP:20260422T174000
DTSTART:20260422T174000
DTEND:20260422T191000
SUMMARY:Filozofia człowieka z elementami filozofii społecznej (W): 31CiDF-SP23\; 31FILOZ-SP23
CATEGORIES:W
LOCATION:216 A-20
END:VEVENT
BEGIN:VEVENT
UID:UZ_PLZ_20260422_1915_502426
DTSTAMP:20260422T191500
DTSTART:20260422T191500
DTEND:20260422T204500
SUMMARY:Filozofia kultury z elementami estetyki (Ć): 31CiDF-SP23
CATEGORIES:Ć
LOCATION:216 A-20
END:VEVENT
BEGIN:VEVENT
UID:UZ_PLZ_20260423_1600_503703
DTSTAMP:20260423T160000
DTSTART:20260423T160000
DTEND:20260423T173000
SUMMARY:Filozofia człowieka z elementami filozofii społecznej (Ć): 31CiDF-SP23\; 31FILOZ-SP23
CATEGORIES:Ć
LOCATION:120 A-20
END:VEVENT
BEGIN:VEVENT
UID:UZ_PLZ_20260426_1130_502189
DTSTAMP:20260426T113000
DTSTART:20260426T113000
DTEND:20260426T144500
SUMMARY:Filozofia kultury z elementami estetyki (Ć): 31CiDF-NP23
CATEGORIES:Ć
LOCATION:221 A-20
END:VEVENT
BEGIN:VEVENT
UID:UZ_PLZ_20260430_1600_503703
DTSTAMP:20260430T160000
DTSTART:20260430T160000
DTEND:20260430T173000
SUMMARY:Filozofia człowieka z elementami filozofii społecznej (Ć): 31CiDF-SP23\; 31FILOZ-SP23
CATEGORIES:Ć
LOCATION:120 A-20
END:VEVENT
BEGIN:VEVENT
UID:UZ_PLZ_20260506_1600_502411
DTSTAMP:20260506T160000
DTSTART:20260506T160000
DTEND:20260506T173000
SUMMARY:Filozofia kultury z elementami estetyki (Ć): 31FILOZ-SP23
CATEGORIES:Ć
LOCATION:216 A-20
END:VEVENT
BEGIN:VEVENT
UID:UZ_PLZ_20260506_1740_502388
DTSTAMP:20260506T174000
DTSTART:20260506T174000
DTEND:20260506T191000
SUMMARY:Filozofia człowieka z elementami filozofii społecznej (W): 31CiDF-SP23\; 31FILOZ-SP23
CATEGORIES:W
LOCATION:216 A-20
END:VEVENT
BEGIN:VEVENT
UID:UZ_PLZ_20260506_1915_502426
DTSTAMP:20260506T191500
DTSTART:20260506T191500
DTEND:20260506T204500
SUMMARY:Filozofia kultury z elementami estetyki (Ć): 31CiDF-SP23
CATEGORIES:Ć
LOCATION:216 A-20
END:VEVENT
BEGIN:VEVENT
UID:UZ_PLZ_20260507_1600_503703
DTSTAMP:20260507T160000
DTSTART:20260507T160000
DTEND:20260507T173000
SUMMARY:Filozofia człowieka z elementami filozofii społecznej (Ć): 31CiDF-SP23\; 31FILOZ-SP23
CATEGORIES:Ć
LOCATION:120 A-20
END:VEVENT
BEGIN:VEVENT
UID:UZ_PLZ_20260513_1600_502411
DTSTAMP:20260513T160000
DTSTART:20260513T160000
DTEND:20260513T173000
SUMMARY:Filozofia kultury z elementami estetyki (Ć): 31FILOZ-SP23
CATEGORIES:Ć
LOCATION:216 A-20
END:VEVENT
BEGIN:VEVENT
UID:UZ_PLZ_20260513_1740_502388
DTSTAMP:20260513T174000
DTSTART:20260513T174000
DTEND:20260513T191000
SUMMARY:Filozofia człowieka z elementami filozofii społecznej (W): 31CiDF-SP23\; 31FILOZ-SP23
CATEGORIES:W
LOCATION:216 A-20
END:VEVENT
BEGIN:VEVENT
UID:UZ_PLZ_20260513_1915_502426
DTSTAMP:20260513T191500
DTSTART:20260513T191500
DTEND:20260513T204500
SUMMARY:Filozofia kultury z elementami estetyki (Ć): 31CiDF-SP23
CATEGORIES:Ć
LOCATION:216 A-20
END:VEVENT
BEGIN:VEVENT
UID:UZ_PLZ_20260514_1600_503703
DTSTAMP:20260514T160000
DTSTART:20260514T160000
DTEND:20260514T173000
SUMMARY:Filozofia człowieka z elementami filozofii społecznej (Ć): 31CiDF-SP23\; 31FILOZ-SP23
CATEGORIES:Ć
LOCATION:120 A-20
END:VEVENT
BEGIN:VEVENT
UID:UZ_PLZ_20260520_1600_502411
DTSTAMP:20260520T160000
DTSTART:20260520T160000
DTEND:20260520T173000
SUMMARY:Filozofia kultury z elementami estetyki (Ć): 31FILOZ-SP23
CATEGORIES:Ć
LOCATION:216 A-20
END:VEVENT
BEGIN:VEVENT
UID:UZ_PLZ_20260520_1740_502388
DTSTAMP:20260520T174000
DTSTART:20260520T174000
DTEND:20260520T191000
SUMMARY:Filozofia człowieka z elementami filozofii społecznej (W): 31CiDF-SP23\; 31FILOZ-SP23
CATEGORIES:W
LOCATION:216 A-20
END:VEVENT
BEGIN:VEVENT
UID:UZ_PLZ_20260520_1915_502426
DTSTAMP:20260520T191500
DTSTART:20260520T191500
DTEND:20260520T204500
SUMMARY:Filozofia kultury z elementami estetyki (Ć): 31CiDF-SP23
CATEGORIES:Ć
LOCATION:216 A-20
END:VEVENT
BEGIN:VEVENT
UID:UZ_PLZ_20260521_1600_503703
DTSTAMP:20260521T160000
DTSTART:20260521T160000
DTEND:20260521T173000
SUMMARY:Filozofia człowieka z elementami filozofii społecznej (Ć): 31CiDF-SP23\; 31FILOZ-SP23
CATEGORIES:Ć
LOCATION:120 A-20
END:VEVENT
BEGIN:VEVENT
UID:UZ_PLZ_20260527_1600_502411
DTSTAMP:20260527T160000
DTSTART:20260527T160000
DTEND:20260527T173000
SUMMARY:Filozofia kultury z elementami estetyki (Ć): 31FILOZ-SP23
CATEGORIES:Ć
LOCATION:216 A-20
END:VEVENT
BEGIN:VEVENT
UID:UZ_PLZ_20260527_1740_502388
DTSTAMP:20260527T174000
DTSTART:20260527T174000
DTEND:20260527T191000
SUMMARY:Filozofia człowieka z elementami filozofii społecznej (W): 31CiDF-SP23\; 31FILOZ-SP23
CATEGORIES:W
LOCATION:216 A-20
END:VEVENT
BEGIN:VEVENT
UID:UZ_PLZ_20260527_1915_502426
DTSTAMP:20260527T191500
DTSTART:20260527T191500
DTEND:20260527T204500
SUMMARY:Filozofia kultury z elementami estetyki (Ć): 31CiDF-SP23
CATEGORIES:Ć
LOCATION:216 A-20
END:VEVENT
BEGIN:VEVENT
UID:UZ_PLZ_20260528_1600_503703
DTSTAMP:20260528T160000
DTSTART:20260528T160000
DTEND:20260528T173000
SUMMARY:Filozofia człowieka z elementami filozofii społecznej (Ć): 31CiDF-SP23\; 31FILOZ-SP23
CATEGORIES:Ć
LOCATION:120 A-20
END:VEVENT
BEGIN:VEVENT
UID:UZ_PLZ_20260531_1130_502189
DTSTAMP:20260531T113000
DTSTART:20260531T113000
DTEND:20260531T144500
SUMMARY:Filozofia kultury z elementami estetyki (Ć): 31CiDF-NP23
CATEGORIES:Ć
LOCATION:221 A-20
END:VEVENT
BEGIN:VEVENT
UID:UZ_PLZ_20260603_1600_502411
DTSTAMP:20260603T160000
DTSTART:20260603T160000
DTEND:20260603T173000
SUMMARY:Filozofia kultury z elementami estetyki (Ć): 31FILOZ-SP23
CATEGORIES:Ć
LOCATION:216 A-20
END:VEVENT
BEGIN:VEVENT
UID:UZ_PLZ_20260603_1740_502388
DTSTAMP:20260603T174000
DTSTART:20260603T174000
DTEND:20260603T191000
SUMMARY:Filozofia człowieka z elementami filozofii społecznej (W): 31CiDF-SP23\; 31FILOZ-SP23
CATEGORIES:W
LOCATION:216 A-20
END:VEVENT
BEGIN:VEVENT
UID:UZ_PLZ_20260603_1915_502426
DTSTAMP:20260603T191500
DTSTART:20260603T191500
DTEND:20260603T204500
SUMMARY:Filozofia kultury z elementami estetyki (Ć): 31CiDF-SP23
CATEGORIES:Ć
LOCATION:216 A-20
END:VEVENT
BEGIN:VEVENT
UID:UZ_PLZ_20260610_1600_502411
DTSTAMP:20260610T160000
DTSTART:20260610T160000
DTEND:20260610T173000
SUMMARY:Filozofia kultury z elementami estetyki (Ć): 31FILOZ-SP23
CATEGORIES:Ć
LOCATION:216 A-20
END:VEVENT
BEGIN:VEVENT
UID:UZ_PLZ_20260610_1740_502388
DTSTAMP:20260610T174000
DTSTART:20260610T174000
DTEND:20260610T191000
SUMMARY:Filozofia człowieka z elementami filozofii społecznej (W): 31CiDF-SP23\; 31FILOZ-SP23
CATEGORIES:W
LOCATION:216 A-20
END:VEVENT
BEGIN:VEVENT
UID:UZ_PLZ_20260610_1915_502426
DTSTAMP:20260610T191500
DTSTART:20260610T191500
DTEND:20260610T204500
SUMMARY:Filozofia kultury z elementami estetyki (Ć): 31CiDF-SP23
CATEGORIES:Ć
LOCATION:216 A-20
END:VEVENT
BEGIN:VEVENT
UID:UZ_PLZ_20260611_1600_503703
DTSTAMP:20260611T160000
DTSTART:20260611T160000
DTEND:20260611T173000
SUMMARY:Filozofia człowieka z elementami filozofii społecznej (Ć): 31CiDF-SP23\; 31FILOZ-SP23
CATEGORIES:Ć
LOCATION:120 A-20
END:VEVENT
BEGIN:VEVENT
UID:UZ_PLZ_20260617_1600_502411
DTSTAMP:20260617T160000
DTSTART:20260617T160000
DTEND:20260617T173000
SUMMARY:Filozofia kultury z elementami estetyki (Ć): 31FILOZ-SP23
CATEGORIES:Ć
LOCATION:216 A-20
END:VEVENT
BEGIN:VEVENT
UID:UZ_PLZ_20260617_1740_502388
DTSTAMP:20260617T174000
DTSTART:20260617T174000
DTEND:20260617T191000
SUMMARY:Filozofia człowieka z elementami filozofii społecznej (W): 31CiDF-SP23\; 31FILOZ-SP23
CATEGORIES:W
LOCATION:216 A-20
END:VEVENT
BEGIN:VEVENT
UID:UZ_PLZ_20260617_1915_502426
DTSTAMP:20260617T191500
DTSTART:20260617T191500
DTEND:20260617T204500
SUMMARY:Filozofia kultury z elementami estetyki (Ć): 31CiDF-SP23
CATEGORIES:Ć
LOCATION:216 A-20
END:VEVENT
BEGIN:VEVENT
UID:UZ_PLZ_20260618_1600_503703
DTSTAMP:20260618T160000
DTSTART:20260618T160000
DTEND:20260618T173000
SUMMARY:Filozofia człowieka z elementami filozofii społecznej (Ć): 31CiDF-SP23\; 31FILOZ-SP23
CATEGORIES:Ć
LOCATION:120 A-20
END:VEVENT
END:VCALENDAR
