BEGIN:VCALENDAR
TZID:Europe/Warsaw
X-WR-TIMEZONE:Europe/Warsaw
VERSION:2.0
PRODID:-//Uniwersytet Zielonogórski//NONSGML Plan zajęć v1.0//EN
NAME:Plan zajęć - semestr letni 2025/2026
X-WR-CALNAME:Plan zajęć - semestr letni 2025/2026
COLOR:green
CALSCALE:GREGORIAN
BEGIN:VEVENT
UID:UZ_PLZ_20260425_1245_503769
DTSTAMP:20260425T124500
DTSTART:20260425T124500
DTEND:20260425T141500
SUMMARY:Język angielski (Ć): 11BUD-NP/B
CATEGORIES:Ć
LOCATION:16 A-5
END:VEVENT
BEGIN:VEVENT
UID:UZ_PLZ_20260425_1430_503757
DTSTAMP:20260425T143000
DTSTART:20260425T143000
DTEND:20260425T160000
SUMMARY:Język angielski (Ć): 11BUD-NP/A
CATEGORIES:Ć
LOCATION:16 A-5
END:VEVENT
BEGIN:VEVENT
UID:UZ_PLZ_20260425_1800_502688
DTSTAMP:20260425T180000
DTSTART:20260425T180000
DTEND:20260425T193000
SUMMARY:Język angielski (Ć): 21BUD-NP/A
CATEGORIES:Ć
LOCATION:16 A-5
END:VEVENT
BEGIN:VEVENT
UID:UZ_PLZ_20260425_1945_502675
DTSTAMP:20260425T194500
DTSTART:20260425T194500
DTEND:20260425T211500
SUMMARY:Język angielski (Ć): 21BUD-NP/B
CATEGORIES:Ć
LOCATION:16 A-5
END:VEVENT
BEGIN:VEVENT
UID:UZ_PLZ_20260426_0915_502792
DTSTAMP:20260426T091500
DTSTART:20260426T091500
DTEND:20260426T104500
SUMMARY:Język angielski - translatorium (Ć): 21BUD-KBI-ND
CATEGORIES:Ć
LOCATION:16 A-5
END:VEVENT
BEGIN:VEVENT
UID:UZ_PLZ_20260426_1130_502797
DTSTAMP:20260426T113000
DTSTART:20260426T113000
DTEND:20260426T141500
SUMMARY:Język angielski - translatorium (Ć): 22BUD-TiOB-ND/B
CATEGORIES:Ć
LOCATION:16 A-5
END:VEVENT
BEGIN:VEVENT
UID:UZ_PLZ_20260426_1615_502959
DTSTAMP:20260426T161500
DTSTART:20260426T161500
DTEND:20260426T175500
SUMMARY:Język angielski (Ć): 25IS-NP
CATEGORIES:Ć
LOCATION:10 A-5
END:VEVENT
BEGIN:VEVENT
UID:UZ_PLZ_20260426_1805_502806
DTSTAMP:20260426T180500
DTSTART:20260426T180500
DTEND:20260426T205000
SUMMARY:Język angielski - translatorium (Ć): 22BUD-TiOB-ND/A
CATEGORIES:Ć
LOCATION:10 A-5
END:VEVENT
BEGIN:VEVENT
UID:UZ_PLZ_20260427_1100_499278
DTSTAMP:20260427T110000
DTSTART:20260427T110000
DTEND:20260427T123000
SUMMARY:Język angielski 4 (L): 31LOG-ZLP-SP\; 32LOG-TS-SP\; 33LOG-TS-SP
CATEGORIES:L
LOCATION:18 C-2
END:VEVENT
BEGIN:VEVENT
UID:UZ_PLZ_20260427_1245_506216
DTSTAMP:20260427T124500
DTSTART:20260427T124500
DTEND:20260427T141000
SUMMARY:Język obcy I (Ć): 11ARCH-SJ/A
CATEGORIES:Ć
LOCATION:1 C-2
END:VEVENT
BEGIN:VEVENT
UID:UZ_PLZ_20260428_0730_499204
DTSTAMP:20260428T073000
DTSTART:20260428T073000
DTEND:20260428T090000
SUMMARY:Język angielski 4 (L): 21EK-SP\; 22EK-SP
CATEGORIES:L
LOCATION:13 A-5
END:VEVENT
BEGIN:VEVENT
UID:UZ_PLZ_20260428_1100_506240
DTSTAMP:20260428T110000
DTSTART:20260428T110000
DTEND:20260428T122500
SUMMARY:Język obcy II (Ć): 21ARCH-SJ/A
CATEGORIES:Ć
LOCATION:12 A-5
END:VEVENT
BEGIN:VEVENT
UID:UZ_PLZ_20260428_1245_506145
DTSTAMP:20260428T124500
DTSTART:20260428T124500
DTEND:20260428T141000
SUMMARY:Język obcy II (Ć): 22ARCH-SJ/A
CATEGORIES:Ć
LOCATION:10 A-5
END:VEVENT
BEGIN:VEVENT
UID:UZ_PLZ_20260428_1430_498803
DTSTAMP:20260428T143000
DTSTART:20260428T143000
DTEND:20260428T160000
SUMMARY:Język angielski 4 (L): 21ZARZ-SP
CATEGORIES:L
LOCATION:03b A-0
END:VEVENT
BEGIN:VEVENT
UID:UZ_PLZ_20260429_1100_502576
DTSTAMP:20260429T110000
DTSTART:20260429T110000
DTEND:20260429T123000
SUMMARY:Język angielski (Ć): 20BUD-SP/B
CATEGORIES:Ć
LOCATION:13 A-5
END:VEVENT
BEGIN:VEVENT
UID:UZ_PLZ_20260429_1245_502567
DTSTAMP:20260429T124500
DTSTART:20260429T124500
DTEND:20260429T141500
SUMMARY:Język angielski (Ć): 20BUD-SP/A
CATEGORIES:Ć
LOCATION:13 A-5
END:VEVENT
BEGIN:VEVENT
UID:UZ_PLZ_20260504_1100_499278
DTSTAMP:20260504T110000
DTSTART:20260504T110000
DTEND:20260504T123000
SUMMARY:Język angielski 4 (L): 31LOG-ZLP-SP\; 32LOG-TS-SP\; 33LOG-TS-SP
CATEGORIES:L
LOCATION:18 C-2
END:VEVENT
BEGIN:VEVENT
UID:UZ_PLZ_20260504_1245_506111
DTSTAMP:20260504T124500
DTSTART:20260504T124500
DTEND:20260504T142000
SUMMARY:Język obcy specjalistyczny I (Ć): 11ARCH-SJ/A
CATEGORIES:Ć
LOCATION:1 C-2
END:VEVENT
BEGIN:VEVENT
UID:UZ_PLZ_20260505_0730_499204
DTSTAMP:20260505T073000
DTSTART:20260505T073000
DTEND:20260505T090000
SUMMARY:Język angielski 4 (L): 21EK-SP\; 22EK-SP
CATEGORIES:L
LOCATION:13 A-5
END:VEVENT
BEGIN:VEVENT
UID:UZ_PLZ_20260505_1100_506219
DTSTAMP:20260505T110000
DTSTART:20260505T110000
DTEND:20260505T123500
SUMMARY:Język obcy specjalistyczny II (Ć): 21ARCH-SJ/A
CATEGORIES:Ć
LOCATION:12 A-5
END:VEVENT
BEGIN:VEVENT
UID:UZ_PLZ_20260505_1245_506181
DTSTAMP:20260505T124500
DTSTART:20260505T124500
DTEND:20260505T142000
SUMMARY:Język obcy specjalistyczny II (Ć): 22ARCH-SJ/A
CATEGORIES:Ć
LOCATION:10 A-5
END:VEVENT
BEGIN:VEVENT
UID:UZ_PLZ_20260505_1430_498803
DTSTAMP:20260505T143000
DTSTART:20260505T143000
DTEND:20260505T160000
SUMMARY:Język angielski 4 (L): 21ZARZ-SP
CATEGORIES:L
LOCATION:03b A-0
END:VEVENT
BEGIN:VEVENT
UID:UZ_PLZ_20260508_1100_502576
DTSTAMP:20260508T110000
DTSTART:20260508T110000
DTEND:20260508T123000
SUMMARY:Język angielski (Ć): 20BUD-SP/B
CATEGORIES:Ć
LOCATION:13 A-5
END:VEVENT
BEGIN:VEVENT
UID:UZ_PLZ_20260508_1245_502567
DTSTAMP:20260508T124500
DTSTART:20260508T124500
DTEND:20260508T141500
SUMMARY:Język angielski (Ć): 20BUD-SP/A
CATEGORIES:Ć
LOCATION:13 A-5
END:VEVENT
BEGIN:VEVENT
UID:UZ_PLZ_20260509_1245_503769
DTSTAMP:20260509T124500
DTSTART:20260509T124500
DTEND:20260509T141500
SUMMARY:Język angielski (Ć): 11BUD-NP/B
CATEGORIES:Ć
LOCATION:16 A-5
END:VEVENT
BEGIN:VEVENT
UID:UZ_PLZ_20260509_1430_503757
DTSTAMP:20260509T143000
DTSTART:20260509T143000
DTEND:20260509T160000
SUMMARY:Język angielski (Ć): 11BUD-NP/A
CATEGORIES:Ć
LOCATION:16 A-5
END:VEVENT
BEGIN:VEVENT
UID:UZ_PLZ_20260509_1800_502688
DTSTAMP:20260509T180000
DTSTART:20260509T180000
DTEND:20260509T193000
SUMMARY:Język angielski (Ć): 21BUD-NP/A
CATEGORIES:Ć
LOCATION:16 A-5
END:VEVENT
BEGIN:VEVENT
UID:UZ_PLZ_20260509_1945_502675
DTSTAMP:20260509T194500
DTSTART:20260509T194500
DTEND:20260509T211500
SUMMARY:Język angielski (Ć): 21BUD-NP/B
CATEGORIES:Ć
LOCATION:16 A-5
END:VEVENT
BEGIN:VEVENT
UID:UZ_PLZ_20260510_0915_502792
DTSTAMP:20260510T091500
DTSTART:20260510T091500
DTEND:20260510T104500
SUMMARY:Język angielski - translatorium (Ć): 21BUD-KBI-ND
CATEGORIES:Ć
LOCATION:16 A-5
END:VEVENT
BEGIN:VEVENT
UID:UZ_PLZ_20260510_1615_502959
DTSTAMP:20260510T161500
DTSTART:20260510T161500
DTEND:20260510T175500
SUMMARY:Język angielski (Ć): 25IS-NP
CATEGORIES:Ć
LOCATION:10 A-5
END:VEVENT
BEGIN:VEVENT
UID:UZ_PLZ_20260510_1800_502822
DTSTAMP:20260510T180000
DTSTART:20260510T180000
DTEND:20260510T210000
SUMMARY:Język angielski - translatorium (Ć): 20BUD-DiM-ND
CATEGORIES:Ć
LOCATION:16 A-5
END:VEVENT
BEGIN:VEVENT
UID:UZ_PLZ_20260511_1100_499278
DTSTAMP:20260511T110000
DTSTART:20260511T110000
DTEND:20260511T123000
SUMMARY:Język angielski 4 (L): 31LOG-ZLP-SP\; 32LOG-TS-SP\; 33LOG-TS-SP
CATEGORIES:L
LOCATION:18 C-2
END:VEVENT
BEGIN:VEVENT
UID:UZ_PLZ_20260511_1245_506216
DTSTAMP:20260511T124500
DTSTART:20260511T124500
DTEND:20260511T141000
SUMMARY:Język obcy I (Ć): 11ARCH-SJ/A
CATEGORIES:Ć
LOCATION:1 C-2
END:VEVENT
BEGIN:VEVENT
UID:UZ_PLZ_20260512_0730_499204
DTSTAMP:20260512T073000
DTSTART:20260512T073000
DTEND:20260512T090000
SUMMARY:Język angielski 4 (L): 21EK-SP\; 22EK-SP
CATEGORIES:L
LOCATION:13 A-5
END:VEVENT
BEGIN:VEVENT
UID:UZ_PLZ_20260512_1100_506240
DTSTAMP:20260512T110000
DTSTART:20260512T110000
DTEND:20260512T122500
SUMMARY:Język obcy II (Ć): 21ARCH-SJ/A
CATEGORIES:Ć
LOCATION:12 A-5
END:VEVENT
BEGIN:VEVENT
UID:UZ_PLZ_20260512_1245_506145
DTSTAMP:20260512T124500
DTSTART:20260512T124500
DTEND:20260512T141000
SUMMARY:Język obcy II (Ć): 22ARCH-SJ/A
CATEGORIES:Ć
LOCATION:10 A-5
END:VEVENT
BEGIN:VEVENT
UID:UZ_PLZ_20260512_1430_498803
DTSTAMP:20260512T143000
DTSTART:20260512T143000
DTEND:20260512T160000
SUMMARY:Język angielski 4 (L): 21ZARZ-SP
CATEGORIES:L
LOCATION:03b A-0
END:VEVENT
BEGIN:VEVENT
UID:UZ_PLZ_20260515_1100_502576
DTSTAMP:20260515T110000
DTSTART:20260515T110000
DTEND:20260515T123000
SUMMARY:Język angielski (Ć): 20BUD-SP/B
CATEGORIES:Ć
LOCATION:13 A-5
END:VEVENT
BEGIN:VEVENT
UID:UZ_PLZ_20260515_1245_502567
DTSTAMP:20260515T124500
DTSTART:20260515T124500
DTEND:20260515T141500
SUMMARY:Język angielski (Ć): 20BUD-SP/A
CATEGORIES:Ć
LOCATION:13 A-5
END:VEVENT
BEGIN:VEVENT
UID:UZ_PLZ_20260516_1245_503769
DTSTAMP:20260516T124500
DTSTART:20260516T124500
DTEND:20260516T141500
SUMMARY:Język angielski (Ć): 11BUD-NP/B
CATEGORIES:Ć
LOCATION:16 A-5
END:VEVENT
BEGIN:VEVENT
UID:UZ_PLZ_20260516_1430_503757
DTSTAMP:20260516T143000
DTSTART:20260516T143000
DTEND:20260516T160000
SUMMARY:Język angielski (Ć): 11BUD-NP/A
CATEGORIES:Ć
LOCATION:16 A-5
END:VEVENT
BEGIN:VEVENT
UID:UZ_PLZ_20260516_1800_502688
DTSTAMP:20260516T180000
DTSTART:20260516T180000
DTEND:20260516T193000
SUMMARY:Język angielski (Ć): 21BUD-NP/A
CATEGORIES:Ć
LOCATION:16 A-5
END:VEVENT
BEGIN:VEVENT
UID:UZ_PLZ_20260516_1945_502675
DTSTAMP:20260516T194500
DTSTART:20260516T194500
DTEND:20260516T211500
SUMMARY:Język angielski (Ć): 21BUD-NP/B
CATEGORIES:Ć
LOCATION:16 A-5
END:VEVENT
BEGIN:VEVENT
UID:UZ_PLZ_20260517_0915_502792
DTSTAMP:20260517T091500
DTSTART:20260517T091500
DTEND:20260517T104500
SUMMARY:Język angielski - translatorium (Ć): 21BUD-KBI-ND
CATEGORIES:Ć
LOCATION:16 A-5
END:VEVENT
BEGIN:VEVENT
UID:UZ_PLZ_20260517_1130_502797
DTSTAMP:20260517T113000
DTSTART:20260517T113000
DTEND:20260517T141500
SUMMARY:Język angielski - translatorium (Ć): 22BUD-TiOB-ND/B
CATEGORIES:Ć
LOCATION:16 A-5
END:VEVENT
BEGIN:VEVENT
UID:UZ_PLZ_20260517_1615_502959
DTSTAMP:20260517T161500
DTSTART:20260517T161500
DTEND:20260517T175500
SUMMARY:Język angielski (Ć): 25IS-NP
CATEGORIES:Ć
LOCATION:10 A-5
END:VEVENT
BEGIN:VEVENT
UID:UZ_PLZ_20260517_1805_502806
DTSTAMP:20260517T180500
DTSTART:20260517T180500
DTEND:20260517T205000
SUMMARY:Język angielski - translatorium (Ć): 22BUD-TiOB-ND/A
CATEGORIES:Ć
LOCATION:10 A-5
END:VEVENT
BEGIN:VEVENT
UID:UZ_PLZ_20260518_1100_499278
DTSTAMP:20260518T110000
DTSTART:20260518T110000
DTEND:20260518T123000
SUMMARY:Język angielski 4 (L): 31LOG-ZLP-SP\; 32LOG-TS-SP\; 33LOG-TS-SP
CATEGORIES:L
LOCATION:18 C-2
END:VEVENT
BEGIN:VEVENT
UID:UZ_PLZ_20260518_1245_506111
DTSTAMP:20260518T124500
DTSTART:20260518T124500
DTEND:20260518T142000
SUMMARY:Język obcy specjalistyczny I (Ć): 11ARCH-SJ/A
CATEGORIES:Ć
LOCATION:1 C-2
END:VEVENT
BEGIN:VEVENT
UID:UZ_PLZ_20260519_0730_499204
DTSTAMP:20260519T073000
DTSTART:20260519T073000
DTEND:20260519T090000
SUMMARY:Język angielski 4 (L): 21EK-SP\; 22EK-SP
CATEGORIES:L
LOCATION:13 A-5
END:VEVENT
BEGIN:VEVENT
UID:UZ_PLZ_20260519_1100_506219
DTSTAMP:20260519T110000
DTSTART:20260519T110000
DTEND:20260519T123500
SUMMARY:Język obcy specjalistyczny II (Ć): 21ARCH-SJ/A
CATEGORIES:Ć
LOCATION:12 A-5
END:VEVENT
BEGIN:VEVENT
UID:UZ_PLZ_20260519_1245_506181
DTSTAMP:20260519T124500
DTSTART:20260519T124500
DTEND:20260519T142000
SUMMARY:Język obcy specjalistyczny II (Ć): 22ARCH-SJ/A
CATEGORIES:Ć
LOCATION:10 A-5
END:VEVENT
BEGIN:VEVENT
UID:UZ_PLZ_20260519_1430_498803
DTSTAMP:20260519T143000
DTSTART:20260519T143000
DTEND:20260519T160000
SUMMARY:Język angielski 4 (L): 21ZARZ-SP
CATEGORIES:L
LOCATION:03b A-0
END:VEVENT
BEGIN:VEVENT
UID:UZ_PLZ_20260522_1100_502576
DTSTAMP:20260522T110000
DTSTART:20260522T110000
DTEND:20260522T123000
SUMMARY:Język angielski (Ć): 20BUD-SP/B
CATEGORIES:Ć
LOCATION:13 A-5
END:VEVENT
BEGIN:VEVENT
UID:UZ_PLZ_20260522_1245_502567
DTSTAMP:20260522T124500
DTSTART:20260522T124500
DTEND:20260522T141500
SUMMARY:Język angielski (Ć): 20BUD-SP/A
CATEGORIES:Ć
LOCATION:13 A-5
END:VEVENT
BEGIN:VEVENT
UID:UZ_PLZ_20260525_1100_499278
DTSTAMP:20260525T110000
DTSTART:20260525T110000
DTEND:20260525T123000
SUMMARY:Język angielski 4 (L): 31LOG-ZLP-SP\; 32LOG-TS-SP\; 33LOG-TS-SP
CATEGORIES:L
LOCATION:18 C-2
END:VEVENT
BEGIN:VEVENT
UID:UZ_PLZ_20260525_1245_506216
DTSTAMP:20260525T124500
DTSTART:20260525T124500
DTEND:20260525T141000
SUMMARY:Język obcy I (Ć): 11ARCH-SJ/A
CATEGORIES:Ć
LOCATION:1 C-2
END:VEVENT
BEGIN:VEVENT
UID:UZ_PLZ_20260526_0730_499204
DTSTAMP:20260526T073000
DTSTART:20260526T073000
DTEND:20260526T090000
SUMMARY:Język angielski 4 (L): 21EK-SP\; 22EK-SP
CATEGORIES:L
LOCATION:13 A-5
END:VEVENT
BEGIN:VEVENT
UID:UZ_PLZ_20260526_1100_506240
DTSTAMP:20260526T110000
DTSTART:20260526T110000
DTEND:20260526T122500
SUMMARY:Język obcy II (Ć): 21ARCH-SJ/A
CATEGORIES:Ć
LOCATION:12 A-5
END:VEVENT
BEGIN:VEVENT
UID:UZ_PLZ_20260526_1245_506145
DTSTAMP:20260526T124500
DTSTART:20260526T124500
DTEND:20260526T141000
SUMMARY:Język obcy II (Ć): 22ARCH-SJ/A
CATEGORIES:Ć
LOCATION:10 A-5
END:VEVENT
BEGIN:VEVENT
UID:UZ_PLZ_20260526_1430_498803
DTSTAMP:20260526T143000
DTSTART:20260526T143000
DTEND:20260526T160000
SUMMARY:Język angielski 4 (L): 21ZARZ-SP
CATEGORIES:L
LOCATION:03b A-0
END:VEVENT
BEGIN:VEVENT
UID:UZ_PLZ_20260529_1100_502576
DTSTAMP:20260529T110000
DTSTART:20260529T110000
DTEND:20260529T123000
SUMMARY:Język angielski (Ć): 20BUD-SP/B
CATEGORIES:Ć
LOCATION:13 A-5
END:VEVENT
BEGIN:VEVENT
UID:UZ_PLZ_20260529_1245_502567
DTSTAMP:20260529T124500
DTSTART:20260529T124500
DTEND:20260529T141500
SUMMARY:Język angielski (Ć): 20BUD-SP/A
CATEGORIES:Ć
LOCATION:13 A-5
END:VEVENT
BEGIN:VEVENT
UID:UZ_PLZ_20260530_1245_503769
DTSTAMP:20260530T124500
DTSTART:20260530T124500
DTEND:20260530T141500
SUMMARY:Język angielski (Ć): 11BUD-NP/B
CATEGORIES:Ć
LOCATION:16 A-5
END:VEVENT
BEGIN:VEVENT
UID:UZ_PLZ_20260530_1430_503757
DTSTAMP:20260530T143000
DTSTART:20260530T143000
DTEND:20260530T160000
SUMMARY:Język angielski (Ć): 11BUD-NP/A
CATEGORIES:Ć
LOCATION:16 A-5
END:VEVENT
BEGIN:VEVENT
UID:UZ_PLZ_20260530_1800_502688
DTSTAMP:20260530T180000
DTSTART:20260530T180000
DTEND:20260530T193000
SUMMARY:Język angielski (Ć): 21BUD-NP/A
CATEGORIES:Ć
LOCATION:16 A-5
END:VEVENT
BEGIN:VEVENT
UID:UZ_PLZ_20260530_1945_502675
DTSTAMP:20260530T194500
DTSTART:20260530T194500
DTEND:20260530T211500
SUMMARY:Język angielski (Ć): 21BUD-NP/B
CATEGORIES:Ć
LOCATION:16 A-5
END:VEVENT
BEGIN:VEVENT
UID:UZ_PLZ_20260531_0915_502792
DTSTAMP:20260531T091500
DTSTART:20260531T091500
DTEND:20260531T104500
SUMMARY:Język angielski - translatorium (Ć): 21BUD-KBI-ND
CATEGORIES:Ć
LOCATION:16 A-5
END:VEVENT
BEGIN:VEVENT
UID:UZ_PLZ_20260531_1555_502959
DTSTAMP:20260531T155500
DTSTART:20260531T155500
DTEND:20260531T175000
SUMMARY:Język angielski (Ć): 25IS-NP
CATEGORIES:Ć
LOCATION:10 A-5
END:VEVENT
BEGIN:VEVENT
UID:UZ_PLZ_20260531_1800_502822
DTSTAMP:20260531T180000
DTSTART:20260531T180000
DTEND:20260531T210000
SUMMARY:Język angielski - translatorium (Ć): 20BUD-DiM-ND
CATEGORIES:Ć
LOCATION:16 A-5
END:VEVENT
BEGIN:VEVENT
UID:UZ_PLZ_20260601_1100_499278
DTSTAMP:20260601T110000
DTSTART:20260601T110000
DTEND:20260601T123000
SUMMARY:Język angielski 4 (L): 31LOG-ZLP-SP\; 32LOG-TS-SP\; 33LOG-TS-SP
CATEGORIES:L
LOCATION:18 C-2
END:VEVENT
BEGIN:VEVENT
UID:UZ_PLZ_20260601_1245_506111
DTSTAMP:20260601T124500
DTSTART:20260601T124500
DTEND:20260601T142000
SUMMARY:Język obcy specjalistyczny I (Ć): 11ARCH-SJ/A
CATEGORIES:Ć
LOCATION:1 C-2
END:VEVENT
BEGIN:VEVENT
UID:UZ_PLZ_20260602_0730_499204
DTSTAMP:20260602T073000
DTSTART:20260602T073000
DTEND:20260602T090000
SUMMARY:Język angielski 4 (L): 21EK-SP\; 22EK-SP
CATEGORIES:L
LOCATION:13 A-5
END:VEVENT
BEGIN:VEVENT
UID:UZ_PLZ_20260602_1100_506219
DTSTAMP:20260602T110000
DTSTART:20260602T110000
DTEND:20260602T123500
SUMMARY:Język obcy specjalistyczny II (Ć): 21ARCH-SJ/A
CATEGORIES:Ć
LOCATION:12 A-5
END:VEVENT
BEGIN:VEVENT
UID:UZ_PLZ_20260602_1245_506181
DTSTAMP:20260602T124500
DTSTART:20260602T124500
DTEND:20260602T142000
SUMMARY:Język obcy specjalistyczny II (Ć): 22ARCH-SJ/A
CATEGORIES:Ć
LOCATION:10 A-5
END:VEVENT
BEGIN:VEVENT
UID:UZ_PLZ_20260602_1430_498803
DTSTAMP:20260602T143000
DTSTART:20260602T143000
DTEND:20260602T160000
SUMMARY:Język angielski 4 (L): 21ZARZ-SP
CATEGORIES:L
LOCATION:03b A-0
END:VEVENT
BEGIN:VEVENT
UID:UZ_PLZ_20260608_1100_499278
DTSTAMP:20260608T110000
DTSTART:20260608T110000
DTEND:20260608T123000
SUMMARY:Język angielski 4 (L): 31LOG-ZLP-SP\; 32LOG-TS-SP\; 33LOG-TS-SP
CATEGORIES:L
LOCATION:18 C-2
END:VEVENT
BEGIN:VEVENT
UID:UZ_PLZ_20260608_1245_506216
DTSTAMP:20260608T124500
DTSTART:20260608T124500
DTEND:20260608T141000
SUMMARY:Język obcy I (Ć): 11ARCH-SJ/A
CATEGORIES:Ć
LOCATION:1 C-2
END:VEVENT
BEGIN:VEVENT
UID:UZ_PLZ_20260609_0730_499204
DTSTAMP:20260609T073000
DTSTART:20260609T073000
DTEND:20260609T090000
SUMMARY:Język angielski 4 (L): 21EK-SP\; 22EK-SP
CATEGORIES:L
LOCATION:13 A-5
END:VEVENT
BEGIN:VEVENT
UID:UZ_PLZ_20260609_1100_506240
DTSTAMP:20260609T110000
DTSTART:20260609T110000
DTEND:20260609T122500
SUMMARY:Język obcy II (Ć): 21ARCH-SJ/A
CATEGORIES:Ć
LOCATION:12 A-5
END:VEVENT
BEGIN:VEVENT
UID:UZ_PLZ_20260609_1245_506145
DTSTAMP:20260609T124500
DTSTART:20260609T124500
DTEND:20260609T141000
SUMMARY:Język obcy II (Ć): 22ARCH-SJ/A
CATEGORIES:Ć
LOCATION:10 A-5
END:VEVENT
BEGIN:VEVENT
UID:UZ_PLZ_20260609_1430_498803
DTSTAMP:20260609T143000
DTSTART:20260609T143000
DTEND:20260609T160000
SUMMARY:Język angielski 4 (L): 21ZARZ-SP
CATEGORIES:L
LOCATION:03b A-0
END:VEVENT
BEGIN:VEVENT
UID:UZ_PLZ_20260612_1100_502576
DTSTAMP:20260612T110000
DTSTART:20260612T110000
DTEND:20260612T123000
SUMMARY:Język angielski (Ć): 20BUD-SP/B
CATEGORIES:Ć
LOCATION:13 A-5
END:VEVENT
BEGIN:VEVENT
UID:UZ_PLZ_20260612_1245_502567
DTSTAMP:20260612T124500
DTSTART:20260612T124500
DTEND:20260612T141500
SUMMARY:Język angielski (Ć): 20BUD-SP/A
CATEGORIES:Ć
LOCATION:13 A-5
END:VEVENT
BEGIN:VEVENT
UID:UZ_PLZ_20260613_1245_503769
DTSTAMP:20260613T124500
DTSTART:20260613T124500
DTEND:20260613T141500
SUMMARY:Język angielski (Ć): 11BUD-NP/B
CATEGORIES:Ć
LOCATION:16 A-5
END:VEVENT
BEGIN:VEVENT
UID:UZ_PLZ_20260613_1430_503757
DTSTAMP:20260613T143000
DTSTART:20260613T143000
DTEND:20260613T160000
SUMMARY:Język angielski (Ć): 11BUD-NP/A
CATEGORIES:Ć
LOCATION:16 A-5
END:VEVENT
BEGIN:VEVENT
UID:UZ_PLZ_20260613_1800_502688
DTSTAMP:20260613T180000
DTSTART:20260613T180000
DTEND:20260613T193000
SUMMARY:Język angielski (Ć): 21BUD-NP/A
CATEGORIES:Ć
LOCATION:16 A-5
END:VEVENT
BEGIN:VEVENT
UID:UZ_PLZ_20260613_1945_502675
DTSTAMP:20260613T194500
DTSTART:20260613T194500
DTEND:20260613T211500
SUMMARY:Język angielski (Ć): 21BUD-NP/B
CATEGORIES:Ć
LOCATION:16 A-5
END:VEVENT
BEGIN:VEVENT
UID:UZ_PLZ_20260614_0915_502822
DTSTAMP:20260614T091500
DTSTART:20260614T091500
DTEND:20260614T104500
SUMMARY:Język angielski - translatorium (Ć): 20BUD-DiM-ND
CATEGORIES:Ć
LOCATION:16 A-5
END:VEVENT
BEGIN:VEVENT
UID:UZ_PLZ_20260614_1130_502797
DTSTAMP:20260614T113000
DTSTART:20260614T113000
DTEND:20260614T141500
SUMMARY:Język angielski - translatorium (Ć): 22BUD-TiOB-ND/B
CATEGORIES:Ć
LOCATION:16 A-5
END:VEVENT
BEGIN:VEVENT
UID:UZ_PLZ_20260614_1430_502792
DTSTAMP:20260614T143000
DTSTART:20260614T143000
DTEND:20260614T160000
SUMMARY:Język angielski - translatorium (Ć): 21BUD-KBI-ND
CATEGORIES:Ć
LOCATION:16 A-5
END:VEVENT
BEGIN:VEVENT
UID:UZ_PLZ_20260614_1805_502806
DTSTAMP:20260614T180500
DTSTART:20260614T180500
DTEND:20260614T205000
SUMMARY:Język angielski - translatorium (Ć): 22BUD-TiOB-ND/A
CATEGORIES:Ć
LOCATION:10 A-5
END:VEVENT
BEGIN:VEVENT
UID:UZ_PLZ_20260615_1100_499278
DTSTAMP:20260615T110000
DTSTART:20260615T110000
DTEND:20260615T123000
SUMMARY:Język angielski 4 (L): 31LOG-ZLP-SP\; 32LOG-TS-SP\; 33LOG-TS-SP
CATEGORIES:L
LOCATION:18 C-2
END:VEVENT
BEGIN:VEVENT
UID:UZ_PLZ_20260615_1245_506111
DTSTAMP:20260615T124500
DTSTART:20260615T124500
DTEND:20260615T142000
SUMMARY:Język obcy specjalistyczny I (Ć): 11ARCH-SJ/A
CATEGORIES:Ć
LOCATION:1 C-2
END:VEVENT
BEGIN:VEVENT
UID:UZ_PLZ_20260616_0730_499204
DTSTAMP:20260616T073000
DTSTART:20260616T073000
DTEND:20260616T090000
SUMMARY:Język angielski 4 (L): 21EK-SP\; 22EK-SP
CATEGORIES:L
LOCATION:13 A-5
END:VEVENT
BEGIN:VEVENT
UID:UZ_PLZ_20260616_1100_506219
DTSTAMP:20260616T110000
DTSTART:20260616T110000
DTEND:20260616T123500
SUMMARY:Język obcy specjalistyczny II (Ć): 21ARCH-SJ/A
CATEGORIES:Ć
LOCATION:12 A-5
END:VEVENT
BEGIN:VEVENT
UID:UZ_PLZ_20260616_1245_506181
DTSTAMP:20260616T124500
DTSTART:20260616T124500
DTEND:20260616T142000
SUMMARY:Język obcy specjalistyczny II (Ć): 22ARCH-SJ/A
CATEGORIES:Ć
LOCATION:10 A-5
END:VEVENT
BEGIN:VEVENT
UID:UZ_PLZ_20260616_1430_498803
DTSTAMP:20260616T143000
DTSTART:20260616T143000
DTEND:20260616T160000
SUMMARY:Język angielski 4 (L): 21ZARZ-SP
CATEGORIES:L
LOCATION:03b A-0
END:VEVENT
BEGIN:VEVENT
UID:UZ_PLZ_20260619_1100_502576
DTSTAMP:20260619T110000
DTSTART:20260619T110000
DTEND:20260619T123000
SUMMARY:Język angielski (Ć): 20BUD-SP/B
CATEGORIES:Ć
LOCATION:13 A-5
END:VEVENT
BEGIN:VEVENT
UID:UZ_PLZ_20260619_1245_502567
DTSTAMP:20260619T124500
DTSTART:20260619T124500
DTEND:20260619T141500
SUMMARY:Język angielski (Ć): 20BUD-SP/A
CATEGORIES:Ć
LOCATION:13 A-5
END:VEVENT
END:VCALENDAR
