BEGIN:VCALENDAR
TZID:Europe/Warsaw
X-WR-TIMEZONE:Europe/Warsaw
VERSION:2.0
PRODID:-//Uniwersytet Zielonogórski//NONSGML Plan zajęć v1.0//EN
NAME:Plan zajęć - semestr letni 2025/2026
X-WR-CALNAME:Plan zajęć - semestr letni 2025/2026
COLOR:green
CALSCALE:GREGORIAN
BEGIN:VEVENT
UID:UZ_PLZ_20260302_0915_497900
DTSTAMP:20260302T091500
DTSTART:20260302T091500
DTEND:20260302T104500
SUMMARY:Język niemiecki 2 (L): 11BN-SP\; 12BN-SP\; 21LOG-SP\; 22LOG-SP\; 23LOG-SP
CATEGORIES:L
LOCATION:12 A-5
END:VEVENT
BEGIN:VEVENT
UID:UZ_PLZ_20260302_1100_498104
DTSTAMP:20260302T110000
DTSTART:20260302T110000
DTEND:20260302T123000
SUMMARY:Język niemiecki 4 (L): 31LOG-ZLP-SP\; 32LOG-TS-SP\; 33LOG-TS-SP
CATEGORIES:L
LOCATION:12 A-5
END:VEVENT
BEGIN:VEVENT
UID:UZ_PLZ_20260302_1245_498838
DTSTAMP:20260302T124500
DTSTART:20260302T124500
DTEND:20260302T141500
SUMMARY:Język niemiecki 3 (L): 21FiR-FB-SP\; 22FiR-RPG-SP
CATEGORIES:L
LOCATION:12 A-5
END:VEVENT
BEGIN:VEVENT
UID:UZ_PLZ_20260302_1800_497788
DTSTAMP:20260302T180000
DTSTART:20260302T180000
DTEND:20260302T192500
SUMMARY:Język niemiecki I (L): 11LOG-SD(L)
CATEGORIES:L
LOCATION:12 A-5
END:VEVENT
BEGIN:VEVENT
UID:UZ_PLZ_20260303_0730_498812
DTSTAMP:20260303T073000
DTSTART:20260303T073000
DTEND:20260303T090000
SUMMARY:Język niemiecki 4 (L): 21EK-SP\; 22EK-SP
CATEGORIES:L
LOCATION:12 A-5
END:VEVENT
BEGIN:VEVENT
UID:UZ_PLZ_20260303_1430_498103
DTSTAMP:20260303T143000
DTSTART:20260303T143000
DTEND:20260303T160000
SUMMARY:Język niemiecki 4 (L): 21ZARZ-SP
CATEGORIES:L
LOCATION:12 A-5
END:VEVENT
BEGIN:VEVENT
UID:UZ_PLZ_20260308_0730_499153
DTSTAMP:20260308T073000
DTSTART:20260308T073000
DTEND:20260308T090000
SUMMARY:Język niemiecki 1 (L): 11FiR-NP
CATEGORIES:L
LOCATION:12 A-5
END:VEVENT
BEGIN:VEVENT
UID:UZ_PLZ_20260308_0915_498336
DTSTAMP:20260308T091500
DTSTART:20260308T091500
DTEND:20260308T104500
SUMMARY:Język niemiecki 4 (L): 31LOG-ZLP-NP\; 32LOG-TS-NP\; 33LOG-TS-NP
CATEGORIES:L
LOCATION:12 A-5
END:VEVENT
BEGIN:VEVENT
UID:UZ_PLZ_20260308_1245_498414
DTSTAMP:20260308T124500
DTSTART:20260308T124500
DTEND:20260308T141500
SUMMARY:Język niemiecki 4 (L): 21BN-NP
CATEGORIES:L
LOCATION:12 A-5
END:VEVENT
BEGIN:VEVENT
UID:UZ_PLZ_20260308_1430_499070
DTSTAMP:20260308T143000
DTSTART:20260308T143000
DTEND:20260308T160000
SUMMARY:Język niemiecki 3 (L): 21FiR-FB-NP\; 22FiR-RPG-NP
CATEGORIES:L
LOCATION:12 A-5
END:VEVENT
BEGIN:VEVENT
UID:UZ_PLZ_20260309_0915_497900
DTSTAMP:20260309T091500
DTSTART:20260309T091500
DTEND:20260309T104500
SUMMARY:Język niemiecki 2 (L): 11BN-SP\; 12BN-SP\; 21LOG-SP\; 22LOG-SP\; 23LOG-SP
CATEGORIES:L
LOCATION:12 A-5
END:VEVENT
BEGIN:VEVENT
UID:UZ_PLZ_20260309_1100_498104
DTSTAMP:20260309T110000
DTSTART:20260309T110000
DTEND:20260309T123000
SUMMARY:Język niemiecki 4 (L): 31LOG-ZLP-SP\; 32LOG-TS-SP\; 33LOG-TS-SP
CATEGORIES:L
LOCATION:12 A-5
END:VEVENT
BEGIN:VEVENT
UID:UZ_PLZ_20260309_1245_498838
DTSTAMP:20260309T124500
DTSTART:20260309T124500
DTEND:20260309T141500
SUMMARY:Język niemiecki 3 (L): 21FiR-FB-SP\; 22FiR-RPG-SP
CATEGORIES:L
LOCATION:12 A-5
END:VEVENT
BEGIN:VEVENT
UID:UZ_PLZ_20260309_1430_498811
DTSTAMP:20260309T143000
DTSTART:20260309T143000
DTEND:20260309T160000
SUMMARY:Język niemiecki 2 (L): 11EK-RDF-SD
CATEGORIES:L
LOCATION:10 A-5
END:VEVENT
BEGIN:VEVENT
UID:UZ_PLZ_20260310_0730_498812
DTSTAMP:20260310T073000
DTSTART:20260310T073000
DTEND:20260310T090000
SUMMARY:Język niemiecki 4 (L): 21EK-SP\; 22EK-SP
CATEGORIES:L
LOCATION:12 A-5
END:VEVENT
BEGIN:VEVENT
UID:UZ_PLZ_20260314_0915_498455
DTSTAMP:20260314T091500
DTSTART:20260314T091500
DTEND:20260314T104500
SUMMARY:Język niemiecki 2 (L): 21LOG-NP\; 22LOG-NP
CATEGORIES:L
END:VEVENT
BEGIN:VEVENT
UID:UZ_PLZ_20260314_1100_498455
DTSTAMP:20260314T110000
DTSTART:20260314T110000
DTEND:20260314T123000
SUMMARY:Język niemiecki 2 (L): 21LOG-NP\; 22LOG-NP
CATEGORIES:L
LOCATION:12 A-5
END:VEVENT
BEGIN:VEVENT
UID:UZ_PLZ_20260314_1245_498334
DTSTAMP:20260314T124500
DTSTART:20260314T124500
DTEND:20260314T141500
SUMMARY:Język niemiecki 2 (L): 11BN-NP
CATEGORIES:L
LOCATION:12 A-5
END:VEVENT
BEGIN:VEVENT
UID:UZ_PLZ_20260315_0730_499153
DTSTAMP:20260315T073000
DTSTART:20260315T073000
DTEND:20260315T090000
SUMMARY:Język niemiecki 1 (L): 11FiR-NP
CATEGORIES:L
LOCATION:12 A-5
END:VEVENT
BEGIN:VEVENT
UID:UZ_PLZ_20260315_0915_498336
DTSTAMP:20260315T091500
DTSTART:20260315T091500
DTEND:20260315T104500
SUMMARY:Język niemiecki 4 (L): 31LOG-ZLP-NP\; 32LOG-TS-NP\; 33LOG-TS-NP
CATEGORIES:L
LOCATION:12 A-5
END:VEVENT
BEGIN:VEVENT
UID:UZ_PLZ_20260315_1245_498414
DTSTAMP:20260315T124500
DTSTART:20260315T124500
DTEND:20260315T141500
SUMMARY:Język niemiecki 4 (L): 21BN-NP
CATEGORIES:L
LOCATION:12 A-5
END:VEVENT
BEGIN:VEVENT
UID:UZ_PLZ_20260315_1430_499070
DTSTAMP:20260315T143000
DTSTART:20260315T143000
DTEND:20260315T160000
SUMMARY:Język niemiecki 3 (L): 21FiR-FB-NP\; 22FiR-RPG-NP
CATEGORIES:L
LOCATION:12 A-5
END:VEVENT
BEGIN:VEVENT
UID:UZ_PLZ_20260316_0915_497900
DTSTAMP:20260316T091500
DTSTART:20260316T091500
DTEND:20260316T104500
SUMMARY:Język niemiecki 2 (L): 11BN-SP\; 12BN-SP\; 21LOG-SP\; 22LOG-SP\; 23LOG-SP
CATEGORIES:L
LOCATION:12 A-5
END:VEVENT
BEGIN:VEVENT
UID:UZ_PLZ_20260316_1100_498104
DTSTAMP:20260316T110000
DTSTART:20260316T110000
DTEND:20260316T123000
SUMMARY:Język niemiecki 4 (L): 31LOG-ZLP-SP\; 32LOG-TS-SP\; 33LOG-TS-SP
CATEGORIES:L
LOCATION:12 A-5
END:VEVENT
BEGIN:VEVENT
UID:UZ_PLZ_20260316_1245_498838
DTSTAMP:20260316T124500
DTSTART:20260316T124500
DTEND:20260316T141500
SUMMARY:Język niemiecki 3 (L): 21FiR-FB-SP\; 22FiR-RPG-SP
CATEGORIES:L
LOCATION:12 A-5
END:VEVENT
BEGIN:VEVENT
UID:UZ_PLZ_20260316_1800_497788
DTSTAMP:20260316T180000
DTSTART:20260316T180000
DTEND:20260316T192500
SUMMARY:Język niemiecki I (L): 11LOG-SD(L)\; 12LOG-SD(L)
CATEGORIES:L
LOCATION:12 A-5
END:VEVENT
BEGIN:VEVENT
UID:UZ_PLZ_20260317_0730_498812
DTSTAMP:20260317T073000
DTSTART:20260317T073000
DTEND:20260317T090000
SUMMARY:Język niemiecki 4 (L): 21EK-SP\; 22EK-SP
CATEGORIES:L
LOCATION:12 A-5
END:VEVENT
BEGIN:VEVENT
UID:UZ_PLZ_20260323_0915_497900
DTSTAMP:20260323T091500
DTSTART:20260323T091500
DTEND:20260323T104500
SUMMARY:Język niemiecki 2 (L): 11BN-SP\; 12BN-SP\; 21LOG-SP\; 22LOG-SP\; 23LOG-SP
CATEGORIES:L
LOCATION:12 A-5
END:VEVENT
BEGIN:VEVENT
UID:UZ_PLZ_20260323_1100_498104
DTSTAMP:20260323T110000
DTSTART:20260323T110000
DTEND:20260323T123000
SUMMARY:Język niemiecki 4 (L): 31LOG-ZLP-SP\; 32LOG-TS-SP\; 33LOG-TS-SP
CATEGORIES:L
LOCATION:12 A-5
END:VEVENT
BEGIN:VEVENT
UID:UZ_PLZ_20260323_1245_498838
DTSTAMP:20260323T124500
DTSTART:20260323T124500
DTEND:20260323T141500
SUMMARY:Język niemiecki 3 (L): 21FiR-FB-SP\; 22FiR-RPG-SP
CATEGORIES:L
LOCATION:12 A-5
END:VEVENT
BEGIN:VEVENT
UID:UZ_PLZ_20260323_1430_498811
DTSTAMP:20260323T143000
DTSTART:20260323T143000
DTEND:20260323T160000
SUMMARY:Język niemiecki 2 (L): 11EK-RDF-SD
CATEGORIES:L
LOCATION:10 A-5
END:VEVENT
BEGIN:VEVENT
UID:UZ_PLZ_20260324_0730_498812
DTSTAMP:20260324T073000
DTSTART:20260324T073000
DTEND:20260324T090000
SUMMARY:Język niemiecki 4 (L): 21EK-SP\; 22EK-SP
CATEGORIES:L
LOCATION:12 A-5
END:VEVENT
BEGIN:VEVENT
UID:UZ_PLZ_20260328_1100_498455
DTSTAMP:20260328T110000
DTSTART:20260328T110000
DTEND:20260328T123000
SUMMARY:Język niemiecki 2 (L): 21LOG-NP\; 22LOG-NP
CATEGORIES:L
LOCATION:12 A-5
END:VEVENT
BEGIN:VEVENT
UID:UZ_PLZ_20260328_1245_498334
DTSTAMP:20260328T124500
DTSTART:20260328T124500
DTEND:20260328T141500
SUMMARY:Język niemiecki 2 (L): 11BN-NP
CATEGORIES:L
LOCATION:12 A-5
END:VEVENT
BEGIN:VEVENT
UID:UZ_PLZ_20260329_0730_499153
DTSTAMP:20260329T073000
DTSTART:20260329T073000
DTEND:20260329T090000
SUMMARY:Język niemiecki 1 (L): 11FiR-NP
CATEGORIES:L
LOCATION:12 A-5
END:VEVENT
BEGIN:VEVENT
UID:UZ_PLZ_20260329_0915_498336
DTSTAMP:20260329T091500
DTSTART:20260329T091500
DTEND:20260329T104500
SUMMARY:Język niemiecki 4 (L): 31LOG-ZLP-NP\; 32LOG-TS-NP\; 33LOG-TS-NP
CATEGORIES:L
LOCATION:12 A-5
END:VEVENT
BEGIN:VEVENT
UID:UZ_PLZ_20260329_1245_498414
DTSTAMP:20260329T124500
DTSTART:20260329T124500
DTEND:20260329T141500
SUMMARY:Język niemiecki 4 (L): 21BN-NP
CATEGORIES:L
LOCATION:12 A-5
END:VEVENT
BEGIN:VEVENT
UID:UZ_PLZ_20260329_1430_499070
DTSTAMP:20260329T143000
DTSTART:20260329T143000
DTEND:20260329T160000
SUMMARY:Język niemiecki 3 (L): 21FiR-FB-NP\; 22FiR-RPG-NP
CATEGORIES:L
LOCATION:12 A-5
END:VEVENT
BEGIN:VEVENT
UID:UZ_PLZ_20260330_0915_497900
DTSTAMP:20260330T091500
DTSTART:20260330T091500
DTEND:20260330T104500
SUMMARY:Język niemiecki 2 (L): 11BN-SP\; 12BN-SP\; 21LOG-SP\; 22LOG-SP\; 23LOG-SP
CATEGORIES:L
LOCATION:12 A-5
END:VEVENT
BEGIN:VEVENT
UID:UZ_PLZ_20260330_1100_498104
DTSTAMP:20260330T110000
DTSTART:20260330T110000
DTEND:20260330T123000
SUMMARY:Język niemiecki 4 (L): 31LOG-ZLP-SP\; 32LOG-TS-SP\; 33LOG-TS-SP
CATEGORIES:L
LOCATION:12 A-5
END:VEVENT
BEGIN:VEVENT
UID:UZ_PLZ_20260330_1245_498838
DTSTAMP:20260330T124500
DTSTART:20260330T124500
DTEND:20260330T141500
SUMMARY:Język niemiecki 3 (L): 21FiR-FB-SP\; 22FiR-RPG-SP
CATEGORIES:L
LOCATION:12 A-5
END:VEVENT
BEGIN:VEVENT
UID:UZ_PLZ_20260330_1800_497788
DTSTAMP:20260330T180000
DTSTART:20260330T180000
DTEND:20260330T192500
SUMMARY:Język niemiecki I (L): 11LOG-SD(L)\; 12LOG-SD(L)
CATEGORIES:L
LOCATION:12 A-5
END:VEVENT
BEGIN:VEVENT
UID:UZ_PLZ_20260331_0730_498812
DTSTAMP:20260331T073000
DTSTART:20260331T073000
DTEND:20260331T090000
SUMMARY:Język niemiecki 4 (L): 21EK-SP\; 22EK-SP
CATEGORIES:L
LOCATION:12 A-5
END:VEVENT
BEGIN:VEVENT
UID:UZ_PLZ_20260411_0915_498334
DTSTAMP:20260411T091500
DTSTART:20260411T091500
DTEND:20260411T104500
SUMMARY:Język niemiecki 2 (L): 11BN-NP
CATEGORIES:L
LOCATION:9 A-5
END:VEVENT
BEGIN:VEVENT
UID:UZ_PLZ_20260411_1100_498455
DTSTAMP:20260411T110000
DTSTART:20260411T110000
DTEND:20260411T123000
SUMMARY:Język niemiecki 2 (L): 21LOG-NP\; 22LOG-NP
CATEGORIES:L
LOCATION:12 A-5
END:VEVENT
BEGIN:VEVENT
UID:UZ_PLZ_20260411_1245_498334
DTSTAMP:20260411T124500
DTSTART:20260411T124500
DTEND:20260411T141500
SUMMARY:Język niemiecki 2 (L): 11BN-NP
CATEGORIES:L
LOCATION:12 A-5
END:VEVENT
BEGIN:VEVENT
UID:UZ_PLZ_20260412_0915_498336
DTSTAMP:20260412T091500
DTSTART:20260412T091500
DTEND:20260412T104500
SUMMARY:Język niemiecki 4 (L): 31LOG-ZLP-NP\; 32LOG-TS-NP\; 33LOG-TS-NP
CATEGORIES:L
LOCATION:12 A-5
END:VEVENT
BEGIN:VEVENT
UID:UZ_PLZ_20260412_1245_498414
DTSTAMP:20260412T124500
DTSTART:20260412T124500
DTEND:20260412T141500
SUMMARY:Język niemiecki 4 (L): 21BN-NP
CATEGORIES:L
LOCATION:12 A-5
END:VEVENT
BEGIN:VEVENT
UID:UZ_PLZ_20260412_1430_499070
DTSTAMP:20260412T143000
DTSTART:20260412T143000
DTEND:20260412T160000
SUMMARY:Język niemiecki 3 (L): 21FiR-FB-NP\; 22FiR-RPG-NP
CATEGORIES:L
LOCATION:12 A-5
END:VEVENT
BEGIN:VEVENT
UID:UZ_PLZ_20260413_0915_497900
DTSTAMP:20260413T091500
DTSTART:20260413T091500
DTEND:20260413T104500
SUMMARY:Język niemiecki 2 (L): 11BN-SP\; 12BN-SP\; 21LOG-SP\; 22LOG-SP\; 23LOG-SP
CATEGORIES:L
LOCATION:12 A-5
END:VEVENT
BEGIN:VEVENT
UID:UZ_PLZ_20260413_1100_498104
DTSTAMP:20260413T110000
DTSTART:20260413T110000
DTEND:20260413T123000
SUMMARY:Język niemiecki 4 (L): 31LOG-ZLP-SP\; 32LOG-TS-SP\; 33LOG-TS-SP
CATEGORIES:L
LOCATION:12 A-5
END:VEVENT
BEGIN:VEVENT
UID:UZ_PLZ_20260413_1245_498838
DTSTAMP:20260413T124500
DTSTART:20260413T124500
DTEND:20260413T141500
SUMMARY:Język niemiecki 3 (L): 21FiR-FB-SP\; 22FiR-RPG-SP
CATEGORIES:L
LOCATION:12 A-5
END:VEVENT
BEGIN:VEVENT
UID:UZ_PLZ_20260414_0730_498812
DTSTAMP:20260414T073000
DTSTART:20260414T073000
DTEND:20260414T090000
SUMMARY:Język niemiecki 4 (L): 21EK-SP\; 22EK-SP
CATEGORIES:L
LOCATION:12 A-5
END:VEVENT
BEGIN:VEVENT
UID:UZ_PLZ_20260420_0915_497900
DTSTAMP:20260420T091500
DTSTART:20260420T091500
DTEND:20260420T104500
SUMMARY:Język niemiecki 2 (L): 11BN-SP\; 12BN-SP\; 21LOG-SP\; 22LOG-SP\; 23LOG-SP
CATEGORIES:L
LOCATION:12 A-5
END:VEVENT
BEGIN:VEVENT
UID:UZ_PLZ_20260420_1100_498104
DTSTAMP:20260420T110000
DTSTART:20260420T110000
DTEND:20260420T123000
SUMMARY:Język niemiecki 4 (L): 31LOG-ZLP-SP\; 32LOG-TS-SP\; 33LOG-TS-SP
CATEGORIES:L
LOCATION:12 A-5
END:VEVENT
BEGIN:VEVENT
UID:UZ_PLZ_20260420_1245_498838
DTSTAMP:20260420T124500
DTSTART:20260420T124500
DTEND:20260420T141500
SUMMARY:Język niemiecki 3 (L): 21FiR-FB-SP\; 22FiR-RPG-SP
CATEGORIES:L
LOCATION:12 A-5
END:VEVENT
BEGIN:VEVENT
UID:UZ_PLZ_20260420_1430_498811
DTSTAMP:20260420T143000
DTSTART:20260420T143000
DTEND:20260420T160000
SUMMARY:Język niemiecki 2 (L): 11EK-RDF-SD
CATEGORIES:L
LOCATION:10 A-5
END:VEVENT
BEGIN:VEVENT
UID:UZ_PLZ_20260421_0730_498812
DTSTAMP:20260421T073000
DTSTART:20260421T073000
DTEND:20260421T090000
SUMMARY:Język niemiecki 4 (L): 21EK-SP\; 22EK-SP
CATEGORIES:L
LOCATION:12 A-5
END:VEVENT
BEGIN:VEVENT
UID:UZ_PLZ_20260425_1100_498455
DTSTAMP:20260425T110000
DTSTART:20260425T110000
DTEND:20260425T123000
SUMMARY:Język niemiecki 2 (L): 21LOG-NP\; 22LOG-NP
CATEGORIES:L
LOCATION:12 A-5
END:VEVENT
BEGIN:VEVENT
UID:UZ_PLZ_20260425_1245_498334
DTSTAMP:20260425T124500
DTSTART:20260425T124500
DTEND:20260425T141500
SUMMARY:Język niemiecki 2 (L): 11BN-NP
CATEGORIES:L
LOCATION:12 A-5
END:VEVENT
BEGIN:VEVENT
UID:UZ_PLZ_20260425_1925_499070
DTSTAMP:20260425T192500
DTSTART:20260425T192500
DTEND:20260425T205500
SUMMARY:Język niemiecki 3 (L): 21FiR-FB-NP\; 22FiR-RPG-NP
CATEGORIES:L
LOCATION:9 A-5
END:VEVENT
BEGIN:VEVENT
UID:UZ_PLZ_20260426_0730_498414
DTSTAMP:20260426T073000
DTSTART:20260426T073000
DTEND:20260426T090000
SUMMARY:Język niemiecki 4 (L): 21BN-NP
CATEGORIES:L
LOCATION:12 A-5
END:VEVENT
BEGIN:VEVENT
UID:UZ_PLZ_20260426_0915_498336
DTSTAMP:20260426T091500
DTSTART:20260426T091500
DTEND:20260426T104500
SUMMARY:Język niemiecki 4 (L): 31LOG-ZLP-NP\; 32LOG-TS-NP\; 33LOG-TS-NP
CATEGORIES:L
LOCATION:12 A-5
END:VEVENT
BEGIN:VEVENT
UID:UZ_PLZ_20260426_1245_498414
DTSTAMP:20260426T124500
DTSTART:20260426T124500
DTEND:20260426T141500
SUMMARY:Język niemiecki 4 (L): 21BN-NP
CATEGORIES:L
LOCATION:12 A-5
END:VEVENT
BEGIN:VEVENT
UID:UZ_PLZ_20260426_1430_499070
DTSTAMP:20260426T143000
DTSTART:20260426T143000
DTEND:20260426T160000
SUMMARY:Język niemiecki 3 (L): 21FiR-FB-NP\; 22FiR-RPG-NP
CATEGORIES:L
LOCATION:12 A-5
END:VEVENT
BEGIN:VEVENT
UID:UZ_PLZ_20260427_0915_497900
DTSTAMP:20260427T091500
DTSTART:20260427T091500
DTEND:20260427T104500
SUMMARY:Język niemiecki 2 (L): 11BN-SP\; 12BN-SP\; 21LOG-SP\; 22LOG-SP\; 23LOG-SP
CATEGORIES:L
LOCATION:12 A-5
END:VEVENT
BEGIN:VEVENT
UID:UZ_PLZ_20260427_1100_498104
DTSTAMP:20260427T110000
DTSTART:20260427T110000
DTEND:20260427T123000
SUMMARY:Język niemiecki 4 (L): 31LOG-ZLP-SP\; 32LOG-TS-SP\; 33LOG-TS-SP
CATEGORIES:L
LOCATION:12 A-5
END:VEVENT
BEGIN:VEVENT
UID:UZ_PLZ_20260427_1245_498838
DTSTAMP:20260427T124500
DTSTART:20260427T124500
DTEND:20260427T141500
SUMMARY:Język niemiecki 3 (L): 21FiR-FB-SP\; 22FiR-RPG-SP
CATEGORIES:L
LOCATION:12 A-5
END:VEVENT
BEGIN:VEVENT
UID:UZ_PLZ_20260428_0730_498812
DTSTAMP:20260428T073000
DTSTART:20260428T073000
DTEND:20260428T090000
SUMMARY:Język niemiecki 4 (L): 21EK-SP\; 22EK-SP
CATEGORIES:L
LOCATION:12 A-5
END:VEVENT
BEGIN:VEVENT
UID:UZ_PLZ_20260504_0915_497900
DTSTAMP:20260504T091500
DTSTART:20260504T091500
DTEND:20260504T104500
SUMMARY:Język niemiecki 2 (L): 11BN-SP\; 12BN-SP\; 21LOG-SP\; 22LOG-SP\; 23LOG-SP
CATEGORIES:L
LOCATION:12 A-5
END:VEVENT
BEGIN:VEVENT
UID:UZ_PLZ_20260504_1100_498104
DTSTAMP:20260504T110000
DTSTART:20260504T110000
DTEND:20260504T123000
SUMMARY:Język niemiecki 4 (L): 31LOG-ZLP-SP\; 32LOG-TS-SP\; 33LOG-TS-SP
CATEGORIES:L
LOCATION:12 A-5
END:VEVENT
BEGIN:VEVENT
UID:UZ_PLZ_20260504_1245_498838
DTSTAMP:20260504T124500
DTSTART:20260504T124500
DTEND:20260504T141500
SUMMARY:Język niemiecki 3 (L): 21FiR-FB-SP\; 22FiR-RPG-SP
CATEGORIES:L
LOCATION:12 A-5
END:VEVENT
BEGIN:VEVENT
UID:UZ_PLZ_20260504_1430_498811
DTSTAMP:20260504T143000
DTSTART:20260504T143000
DTEND:20260504T160000
SUMMARY:Język niemiecki 2 (L): 11EK-RDF-SD
CATEGORIES:L
LOCATION:10 A-5
END:VEVENT
BEGIN:VEVENT
UID:UZ_PLZ_20260505_0730_498812
DTSTAMP:20260505T073000
DTSTART:20260505T073000
DTEND:20260505T090000
SUMMARY:Język niemiecki 4 (L): 21EK-SP\; 22EK-SP
CATEGORIES:L
LOCATION:12 A-5
END:VEVENT
BEGIN:VEVENT
UID:UZ_PLZ_20260509_1100_498455
DTSTAMP:20260509T110000
DTSTART:20260509T110000
DTEND:20260509T123000
SUMMARY:Język niemiecki 2 (L): 21LOG-NP\; 22LOG-NP
CATEGORIES:L
LOCATION:12 A-5
END:VEVENT
BEGIN:VEVENT
UID:UZ_PLZ_20260511_0915_497900
DTSTAMP:20260511T091500
DTSTART:20260511T091500
DTEND:20260511T104500
SUMMARY:Język niemiecki 2 (L): 11BN-SP\; 12BN-SP\; 21LOG-SP\; 22LOG-SP\; 23LOG-SP
CATEGORIES:L
LOCATION:12 A-5
END:VEVENT
BEGIN:VEVENT
UID:UZ_PLZ_20260511_1100_498104
DTSTAMP:20260511T110000
DTSTART:20260511T110000
DTEND:20260511T123000
SUMMARY:Język niemiecki 4 (L): 31LOG-ZLP-SP\; 32LOG-TS-SP\; 33LOG-TS-SP
CATEGORIES:L
LOCATION:12 A-5
END:VEVENT
BEGIN:VEVENT
UID:UZ_PLZ_20260511_1245_498838
DTSTAMP:20260511T124500
DTSTART:20260511T124500
DTEND:20260511T141500
SUMMARY:Język niemiecki 3 (L): 21FiR-FB-SP\; 22FiR-RPG-SP
CATEGORIES:L
LOCATION:12 A-5
END:VEVENT
BEGIN:VEVENT
UID:UZ_PLZ_20260512_0730_498812
DTSTAMP:20260512T073000
DTSTART:20260512T073000
DTEND:20260512T090000
SUMMARY:Język niemiecki 4 (L): 21EK-SP\; 22EK-SP
CATEGORIES:L
LOCATION:12 A-5
END:VEVENT
BEGIN:VEVENT
UID:UZ_PLZ_20260516_1100_498455
DTSTAMP:20260516T110000
DTSTART:20260516T110000
DTEND:20260516T123000
SUMMARY:Język niemiecki 2 (L): 21LOG-NP\; 22LOG-NP
CATEGORIES:L
LOCATION:12 A-5
END:VEVENT
BEGIN:VEVENT
UID:UZ_PLZ_20260516_1245_498334
DTSTAMP:20260516T124500
DTSTART:20260516T124500
DTEND:20260516T141500
SUMMARY:Język niemiecki 2 (L): 11BN-NP
CATEGORIES:L
LOCATION:12 A-5
END:VEVENT
BEGIN:VEVENT
UID:UZ_PLZ_20260517_0915_498336
DTSTAMP:20260517T091500
DTSTART:20260517T091500
DTEND:20260517T104500
SUMMARY:Język niemiecki 4 (L): 31LOG-ZLP-NP\; 32LOG-TS-NP\; 33LOG-TS-NP
CATEGORIES:L
LOCATION:12 A-5
END:VEVENT
BEGIN:VEVENT
UID:UZ_PLZ_20260517_1245_498414
DTSTAMP:20260517T124500
DTSTART:20260517T124500
DTEND:20260517T141500
SUMMARY:Język niemiecki 4 (L): 21BN-NP
CATEGORIES:L
LOCATION:12 A-5
END:VEVENT
BEGIN:VEVENT
UID:UZ_PLZ_20260517_1430_499070
DTSTAMP:20260517T143000
DTSTART:20260517T143000
DTEND:20260517T160000
SUMMARY:Język niemiecki 3 (L): 21FiR-FB-NP\; 22FiR-RPG-NP
CATEGORIES:L
LOCATION:12 A-5
END:VEVENT
BEGIN:VEVENT
UID:UZ_PLZ_20260518_0915_497900
DTSTAMP:20260518T091500
DTSTART:20260518T091500
DTEND:20260518T104500
SUMMARY:Język niemiecki 2 (L): 11BN-SP\; 12BN-SP\; 21LOG-SP\; 22LOG-SP\; 23LOG-SP
CATEGORIES:L
LOCATION:12 A-5
END:VEVENT
BEGIN:VEVENT
UID:UZ_PLZ_20260518_1100_498104
DTSTAMP:20260518T110000
DTSTART:20260518T110000
DTEND:20260518T123000
SUMMARY:Język niemiecki 4 (L): 31LOG-ZLP-SP\; 32LOG-TS-SP\; 33LOG-TS-SP
CATEGORIES:L
LOCATION:12 A-5
END:VEVENT
BEGIN:VEVENT
UID:UZ_PLZ_20260518_1245_498838
DTSTAMP:20260518T124500
DTSTART:20260518T124500
DTEND:20260518T141500
SUMMARY:Język niemiecki 3 (L): 21FiR-FB-SP\; 22FiR-RPG-SP
CATEGORIES:L
LOCATION:12 A-5
END:VEVENT
BEGIN:VEVENT
UID:UZ_PLZ_20260518_1430_498811
DTSTAMP:20260518T143000
DTSTART:20260518T143000
DTEND:20260518T160000
SUMMARY:Język niemiecki 2 (L): 11EK-RDF-SD
CATEGORIES:L
LOCATION:10 A-5
END:VEVENT
BEGIN:VEVENT
UID:UZ_PLZ_20260519_0730_498812
DTSTAMP:20260519T073000
DTSTART:20260519T073000
DTEND:20260519T090000
SUMMARY:Język niemiecki 4 (L): 21EK-SP\; 22EK-SP
CATEGORIES:L
LOCATION:12 A-5
END:VEVENT
BEGIN:VEVENT
UID:UZ_PLZ_20260525_0915_497900
DTSTAMP:20260525T091500
DTSTART:20260525T091500
DTEND:20260525T104500
SUMMARY:Język niemiecki 2 (L): 11BN-SP\; 12BN-SP\; 21LOG-SP\; 22LOG-SP\; 23LOG-SP
CATEGORIES:L
LOCATION:12 A-5
END:VEVENT
BEGIN:VEVENT
UID:UZ_PLZ_20260525_1100_498104
DTSTAMP:20260525T110000
DTSTART:20260525T110000
DTEND:20260525T123000
SUMMARY:Język niemiecki 4 (L): 31LOG-ZLP-SP\; 32LOG-TS-SP\; 33LOG-TS-SP
CATEGORIES:L
LOCATION:12 A-5
END:VEVENT
BEGIN:VEVENT
UID:UZ_PLZ_20260525_1245_498838
DTSTAMP:20260525T124500
DTSTART:20260525T124500
DTEND:20260525T141500
SUMMARY:Język niemiecki 3 (L): 21FiR-FB-SP\; 22FiR-RPG-SP
CATEGORIES:L
LOCATION:12 A-5
END:VEVENT
BEGIN:VEVENT
UID:UZ_PLZ_20260526_0730_498812
DTSTAMP:20260526T073000
DTSTART:20260526T073000
DTEND:20260526T090000
SUMMARY:Język niemiecki 4 (L): 21EK-SP\; 22EK-SP
CATEGORIES:L
LOCATION:12 A-5
END:VEVENT
BEGIN:VEVENT
UID:UZ_PLZ_20260530_1100_498455
DTSTAMP:20260530T110000
DTSTART:20260530T110000
DTEND:20260530T123000
SUMMARY:Język niemiecki 2 (L): 21LOG-NP\; 22LOG-NP
CATEGORIES:L
LOCATION:12 A-5
END:VEVENT
BEGIN:VEVENT
UID:UZ_PLZ_20260530_1245_498334
DTSTAMP:20260530T124500
DTSTART:20260530T124500
DTEND:20260530T141500
SUMMARY:Język niemiecki 2 (L): 11BN-NP
CATEGORIES:L
LOCATION:12 A-5
END:VEVENT
BEGIN:VEVENT
UID:UZ_PLZ_20260531_0730_498336
DTSTAMP:20260531T073000
DTSTART:20260531T073000
DTEND:20260531T090000
SUMMARY:Język niemiecki 4 (L): 31LOG-ZLP-NP\; 32LOG-TS-NP\; 33LOG-TS-NP
CATEGORIES:L
LOCATION:12 A-5
END:VEVENT
BEGIN:VEVENT
UID:UZ_PLZ_20260531_0915_498336
DTSTAMP:20260531T091500
DTSTART:20260531T091500
DTEND:20260531T104500
SUMMARY:Język niemiecki 4 (L): 31LOG-ZLP-NP\; 32LOG-TS-NP\; 33LOG-TS-NP
CATEGORIES:L
LOCATION:12 A-5
END:VEVENT
BEGIN:VEVENT
UID:UZ_PLZ_20260531_1245_498414
DTSTAMP:20260531T124500
DTSTART:20260531T124500
DTEND:20260531T141500
SUMMARY:Język niemiecki 4 (L): 21BN-NP
CATEGORIES:L
LOCATION:12 A-5
END:VEVENT
BEGIN:VEVENT
UID:UZ_PLZ_20260531_1430_499070
DTSTAMP:20260531T143000
DTSTART:20260531T143000
DTEND:20260531T160000
SUMMARY:Język niemiecki 3 (L): 21FiR-FB-NP\; 22FiR-RPG-NP
CATEGORIES:L
LOCATION:12 A-5
END:VEVENT
BEGIN:VEVENT
UID:UZ_PLZ_20260601_0915_497900
DTSTAMP:20260601T091500
DTSTART:20260601T091500
DTEND:20260601T104500
SUMMARY:Język niemiecki 2 (L): 11BN-SP\; 12BN-SP\; 21LOG-SP\; 22LOG-SP\; 23LOG-SP
CATEGORIES:L
LOCATION:12 A-5
END:VEVENT
BEGIN:VEVENT
UID:UZ_PLZ_20260601_1100_498104
DTSTAMP:20260601T110000
DTSTART:20260601T110000
DTEND:20260601T123000
SUMMARY:Język niemiecki 4 (L): 31LOG-ZLP-SP\; 32LOG-TS-SP\; 33LOG-TS-SP
CATEGORIES:L
LOCATION:12 A-5
END:VEVENT
BEGIN:VEVENT
UID:UZ_PLZ_20260601_1245_498838
DTSTAMP:20260601T124500
DTSTART:20260601T124500
DTEND:20260601T141500
SUMMARY:Język niemiecki 3 (L): 21FiR-FB-SP\; 22FiR-RPG-SP
CATEGORIES:L
LOCATION:12 A-5
END:VEVENT
BEGIN:VEVENT
UID:UZ_PLZ_20260601_1430_498811
DTSTAMP:20260601T143000
DTSTART:20260601T143000
DTEND:20260601T160000
SUMMARY:Język niemiecki 2 (L): 11EK-RDF-SD
CATEGORIES:L
LOCATION:10 A-5
END:VEVENT
BEGIN:VEVENT
UID:UZ_PLZ_20260602_0730_498812
DTSTAMP:20260602T073000
DTSTART:20260602T073000
DTEND:20260602T090000
SUMMARY:Język niemiecki 4 (L): 21EK-SP\; 22EK-SP
CATEGORIES:L
LOCATION:12 A-5
END:VEVENT
BEGIN:VEVENT
UID:UZ_PLZ_20260608_0915_497900
DTSTAMP:20260608T091500
DTSTART:20260608T091500
DTEND:20260608T104500
SUMMARY:Język niemiecki 2 (L): 11BN-SP\; 12BN-SP\; 21LOG-SP\; 22LOG-SP\; 23LOG-SP
CATEGORIES:L
LOCATION:12 A-5
END:VEVENT
BEGIN:VEVENT
UID:UZ_PLZ_20260608_1100_498104
DTSTAMP:20260608T110000
DTSTART:20260608T110000
DTEND:20260608T123000
SUMMARY:Język niemiecki 4 (L): 31LOG-ZLP-SP\; 32LOG-TS-SP\; 33LOG-TS-SP
CATEGORIES:L
LOCATION:12 A-5
END:VEVENT
BEGIN:VEVENT
UID:UZ_PLZ_20260608_1245_498838
DTSTAMP:20260608T124500
DTSTART:20260608T124500
DTEND:20260608T141500
SUMMARY:Język niemiecki 3 (L): 21FiR-FB-SP\; 22FiR-RPG-SP
CATEGORIES:L
LOCATION:12 A-5
END:VEVENT
BEGIN:VEVENT
UID:UZ_PLZ_20260609_0730_498812
DTSTAMP:20260609T073000
DTSTART:20260609T073000
DTEND:20260609T090000
SUMMARY:Język niemiecki 4 (L): 21EK-SP\; 22EK-SP
CATEGORIES:L
LOCATION:12 A-5
END:VEVENT
BEGIN:VEVENT
UID:UZ_PLZ_20260613_1100_498455
DTSTAMP:20260613T110000
DTSTART:20260613T110000
DTEND:20260613T123000
SUMMARY:Język niemiecki 2 (L): 21LOG-NP\; 22LOG-NP
CATEGORIES:L
LOCATION:12 A-5
END:VEVENT
BEGIN:VEVENT
UID:UZ_PLZ_20260613_1245_498334
DTSTAMP:20260613T124500
DTSTART:20260613T124500
DTEND:20260613T141500
SUMMARY:Język niemiecki 2 (L): 11BN-NP
CATEGORIES:L
LOCATION:12 A-5
END:VEVENT
BEGIN:VEVENT
UID:UZ_PLZ_20260614_0730_498334
DTSTAMP:20260614T073000
DTSTART:20260614T073000
DTEND:20260614T090000
SUMMARY:Język niemiecki 2 (L): 11BN-NP
CATEGORIES:L
LOCATION:12 A-5
END:VEVENT
BEGIN:VEVENT
UID:UZ_PLZ_20260614_0915_498336
DTSTAMP:20260614T091500
DTSTART:20260614T091500
DTEND:20260614T104500
SUMMARY:Język niemiecki 4 (L): 31LOG-ZLP-NP\; 32LOG-TS-NP\; 33LOG-TS-NP
CATEGORIES:L
LOCATION:12 A-5
END:VEVENT
BEGIN:VEVENT
UID:UZ_PLZ_20260614_1245_498414
DTSTAMP:20260614T124500
DTSTART:20260614T124500
DTEND:20260614T141500
SUMMARY:Język niemiecki 4 (L): 21BN-NP
CATEGORIES:L
LOCATION:12 A-5
END:VEVENT
BEGIN:VEVENT
UID:UZ_PLZ_20260614_1430_499070
DTSTAMP:20260614T143000
DTSTART:20260614T143000
DTEND:20260614T160000
SUMMARY:Język niemiecki 3 (L): 21FiR-FB-NP\; 22FiR-RPG-NP
CATEGORIES:L
LOCATION:12 A-5
END:VEVENT
BEGIN:VEVENT
UID:UZ_PLZ_20260615_0915_497900
DTSTAMP:20260615T091500
DTSTART:20260615T091500
DTEND:20260615T104500
SUMMARY:Język niemiecki 2 (L): 11BN-SP\; 12BN-SP\; 21LOG-SP\; 22LOG-SP\; 23LOG-SP
CATEGORIES:L
LOCATION:12 A-5
END:VEVENT
BEGIN:VEVENT
UID:UZ_PLZ_20260615_1100_498104
DTSTAMP:20260615T110000
DTSTART:20260615T110000
DTEND:20260615T123000
SUMMARY:Język niemiecki 4 (L): 31LOG-ZLP-SP\; 32LOG-TS-SP\; 33LOG-TS-SP
CATEGORIES:L
LOCATION:12 A-5
END:VEVENT
BEGIN:VEVENT
UID:UZ_PLZ_20260615_1245_498838
DTSTAMP:20260615T124500
DTSTART:20260615T124500
DTEND:20260615T141500
SUMMARY:Język niemiecki 3 (L): 21FiR-FB-SP\; 22FiR-RPG-SP
CATEGORIES:L
LOCATION:12 A-5
END:VEVENT
BEGIN:VEVENT
UID:UZ_PLZ_20260615_1430_498811
DTSTAMP:20260615T143000
DTSTART:20260615T143000
DTEND:20260615T160000
SUMMARY:Język niemiecki 2 (L): 11EK-RDF-SD
CATEGORIES:L
LOCATION:10 A-5
END:VEVENT
BEGIN:VEVENT
UID:UZ_PLZ_20260616_0730_498812
DTSTAMP:20260616T073000
DTSTART:20260616T073000
DTEND:20260616T090000
SUMMARY:Język niemiecki 4 (L): 21EK-SP\; 22EK-SP
CATEGORIES:L
LOCATION:12 A-5
END:VEVENT
BEGIN:VEVENT
UID:UZ_PLZ_20260621_0900_508537
DTSTAMP:20260621T090000
DTSTART:20260621T090000
DTEND:20260621T103000
SUMMARY:Język niemiecki 4 (E): 21BN-NP
CATEGORIES:E
LOCATION:1 A-29
END:VEVENT
BEGIN:VEVENT
UID:UZ_PLZ_20260621_0900_508540
DTSTAMP:20260621T090000
DTSTART:20260621T090000
DTEND:20260621T103000
SUMMARY:Język niemiecki 4 (E): 31LOG-ZLP-NP/1\; 32LOG-TS-NP/1\; 33LOG-TS-NP/1
CATEGORIES:E
LOCATION:1 A-29
END:VEVENT
BEGIN:VEVENT
UID:UZ_PLZ_20260622_0900_508047
DTSTAMP:20260622T090000
DTSTART:20260622T090000
DTEND:20260622T103000
SUMMARY:Język niemiecki 4 (E): 31LOG-ZLP-SP\; 32LOG-TS-SP\; 33LOG-TS-SP
CATEGORIES:E
LOCATION:1 A-29
END:VEVENT
BEGIN:VEVENT
UID:UZ_PLZ_20260703_0900_508543
DTSTAMP:20260703T090000
DTSTART:20260703T090000
DTEND:20260703T103000
SUMMARY:Język niemiecki 4 (E): 21EK-SP\; 22EK-SP
CATEGORIES:E
LOCATION:12 A-0
END:VEVENT
BEGIN:VEVENT
UID:UZ_PLZ_20260914_0900_508537
DTSTAMP:20260914T090000
DTSTART:20260914T090000
DTEND:20260914T103000
SUMMARY:Język niemiecki 4 (E): 21BN-NP
CATEGORIES:E
LOCATION:12 A-5
END:VEVENT
BEGIN:VEVENT
UID:UZ_PLZ_20260914_0900_508543
DTSTAMP:20260914T090000
DTSTART:20260914T090000
DTEND:20260914T103000
SUMMARY:Język niemiecki 4 (E): 21EK-SP\; 22EK-SP
CATEGORIES:E
LOCATION:12 A-0
END:VEVENT
BEGIN:VEVENT
UID:UZ_PLZ_20260914_0900_508540
DTSTAMP:20260914T090000
DTSTART:20260914T090000
DTEND:20260914T103000
SUMMARY:Język niemiecki 4 (E): 31LOG-ZLP-NP/1\; 32LOG-TS-NP/1\; 33LOG-TS-NP/1
CATEGORIES:E
LOCATION:12 A-5
END:VEVENT
END:VCALENDAR
