BEGIN:VCALENDAR
TZID:Europe/Warsaw
X-WR-TIMEZONE:Europe/Warsaw
VERSION:2.0
PRODID:-//Uniwersytet Zielonogórski//NONSGML Plan zajęć v1.0//EN
NAME:Plan zajęć - semestr letni 2025/2026
X-WR-CALNAME:Plan zajęć - semestr letni 2025/2026
COLOR:green
CALSCALE:GREGORIAN
BEGIN:VEVENT
UID:UZ_PLZ_20260427_0945_500994
DTSTAMP:20260427T094500
DTSTART:20260427T094500
DTEND:20260427T111500
SUMMARY:Praktyczna nauka języka angielskiego 4 - Sprawności zintegrowane (K): 21F-ANG-SD24/K1
CATEGORIES:K
LOCATION:9 A-20
DESCRIPTION:<a href="https://classroom.google.com/c/ODQ5ODQ0NDYwMjU4">Google Classroom</a> 
END:VEVENT
BEGIN:VEVENT
UID:UZ_PLZ_20260427_1130_500921
DTSTAMP:20260427T113000
DTSTART:20260427T113000
DTEND:20260427T130000
SUMMARY:PNJA 6 - sprawności zintegrowane (K): 31F-ANG-SP23/K1
CATEGORIES:K
LOCATION:9 A-20
DESCRIPTION:<a href="https://classroom.google.com/c/ODUxNTQ3NTcxMDIz">Google Classroom</a> 
END:VEVENT
BEGIN:VEVENT
UID:UZ_PLZ_20260427_1315_500934
DTSTAMP:20260427T131500
DTSTART:20260427T131500
DTEND:20260427T144500
SUMMARY:PNJA 6 - sprawności zintegrowane (K): 32F-ANG-SP23/K2
CATEGORIES:K
LOCATION:9 A-20
DESCRIPTION:<a href="https://classroom.google.com/c/ODUxNTQ4ODMyODAx">Google Classroom</a> 
END:VEVENT
BEGIN:VEVENT
UID:UZ_PLZ_20260430_0800_500981
DTSTAMP:20260430T080000
DTSTART:20260430T080000
DTEND:20260430T093000
SUMMARY:PNJA -Sprawności zintegrowane (K): 11F-ANG-SD25/K1
CATEGORIES:K
LOCATION:G A-20
DESCRIPTION:<a href="https://classroom.google.com/c/ODU3MTc4NTg0ODIy">Google Classroom</a> 
END:VEVENT
BEGIN:VEVENT
UID:UZ_PLZ_20260430_0945_500868
DTSTAMP:20260430T094500
DTSTART:20260430T094500
DTEND:20260430T111500
SUMMARY:PNJA2- słuchanie i mówienie (K): 12F-ANG-SP25/K4\; 13F-ANG-SP25/K4
CATEGORIES:K
LOCATION:G A-20
END:VEVENT
BEGIN:VEVENT
UID:UZ_PLZ_20260430_1130_500873
DTSTAMP:20260430T113000
DTSTART:20260430T113000
DTEND:20260430T130000
SUMMARY:PNJA4 - słuchanie i mówienie (K): 22F-ANG-SP24/K3\; 23F-ANG-SP24/K3
CATEGORIES:K
LOCATION:G A-20
END:VEVENT
BEGIN:VEVENT
UID:UZ_PLZ_20260430_1315_500885
DTSTAMP:20260430T131500
DTSTART:20260430T131500
DTEND:20260430T144500
SUMMARY:PNJA4 - praca z tekstem (pisanie i czytanie) (K): 21F-ANG-SP24/K2\; 22F-ANG-SP24/K2
CATEGORIES:K
LOCATION:G A-20
END:VEVENT
BEGIN:VEVENT
UID:UZ_PLZ_20260504_0945_500994
DTSTAMP:20260504T094500
DTSTART:20260504T094500
DTEND:20260504T111500
SUMMARY:Praktyczna nauka języka angielskiego 4 - Sprawności zintegrowane (K): 21F-ANG-SD24/K1
CATEGORIES:K
LOCATION:9 A-20
DESCRIPTION:<a href="https://classroom.google.com/c/ODQ5ODQ0NDYwMjU4">Google Classroom</a> 
END:VEVENT
BEGIN:VEVENT
UID:UZ_PLZ_20260504_1130_500921
DTSTAMP:20260504T113000
DTSTART:20260504T113000
DTEND:20260504T130000
SUMMARY:PNJA 6 - sprawności zintegrowane (K): 31F-ANG-SP23/K1
CATEGORIES:K
LOCATION:9 A-20
DESCRIPTION:<a href="https://classroom.google.com/c/ODUxNTQ3NTcxMDIz">Google Classroom</a> 
END:VEVENT
BEGIN:VEVENT
UID:UZ_PLZ_20260504_1315_500934
DTSTAMP:20260504T131500
DTSTART:20260504T131500
DTEND:20260504T144500
SUMMARY:PNJA 6 - sprawności zintegrowane (K): 32F-ANG-SP23/K2
CATEGORIES:K
LOCATION:9 A-20
DESCRIPTION:<a href="https://classroom.google.com/c/ODUxNTQ4ODMyODAx">Google Classroom</a> 
END:VEVENT
BEGIN:VEVENT
UID:UZ_PLZ_20260506_1130_501093
DTSTAMP:20260506T113000
DTSTART:20260506T113000
DTEND:20260506T130000
SUMMARY:PNJA4 - Praca z tekstem (pisanie i czytanie) (K): 21Lingwist SP24
CATEGORIES:K
LOCATION:G A-20
DESCRIPTION:<a href="https://classroom.google.com/c/ODU2MzEwNDE4ODY4">Google Classroom</a> 
END:VEVENT
BEGIN:VEVENT
UID:UZ_PLZ_20260506_1315_500992
DTSTAMP:20260506T131500
DTSTART:20260506T131500
DTEND:20260506T144500
SUMMARY:Praktyczna nauka języka angielskiego 4 - Sprawności zintegrowane (K): 21F-ANG-SD24/K2
CATEGORIES:K
LOCATION:G A-20
DESCRIPTION:<a href="https://classroom.google.com/c/ODU2MzEwNzMxNzk1">Google Classroom</a> 
END:VEVENT
BEGIN:VEVENT
UID:UZ_PLZ_20260507_0800_500981
DTSTAMP:20260507T080000
DTSTART:20260507T080000
DTEND:20260507T093000
SUMMARY:PNJA -Sprawności zintegrowane (K): 11F-ANG-SD25/K1
CATEGORIES:K
LOCATION:G A-20
DESCRIPTION:<a href="https://classroom.google.com/c/ODU3MTc4NTg0ODIy">Google Classroom</a> 
END:VEVENT
BEGIN:VEVENT
UID:UZ_PLZ_20260507_0945_500868
DTSTAMP:20260507T094500
DTSTART:20260507T094500
DTEND:20260507T111500
SUMMARY:PNJA2- słuchanie i mówienie (K): 12F-ANG-SP25/K4\; 13F-ANG-SP25/K4
CATEGORIES:K
LOCATION:G A-20
END:VEVENT
BEGIN:VEVENT
UID:UZ_PLZ_20260507_1130_500873
DTSTAMP:20260507T113000
DTSTART:20260507T113000
DTEND:20260507T130000
SUMMARY:PNJA4 - słuchanie i mówienie (K): 22F-ANG-SP24/K3\; 23F-ANG-SP24/K3
CATEGORIES:K
LOCATION:G A-20
END:VEVENT
BEGIN:VEVENT
UID:UZ_PLZ_20260507_1315_500885
DTSTAMP:20260507T131500
DTSTART:20260507T131500
DTEND:20260507T144500
SUMMARY:PNJA4 - praca z tekstem (pisanie i czytanie) (K): 21F-ANG-SP24/K2\; 22F-ANG-SP24/K2
CATEGORIES:K
LOCATION:G A-20
END:VEVENT
BEGIN:VEVENT
UID:UZ_PLZ_20260511_0945_500994
DTSTAMP:20260511T094500
DTSTART:20260511T094500
DTEND:20260511T111500
SUMMARY:Praktyczna nauka języka angielskiego 4 - Sprawności zintegrowane (K): 21F-ANG-SD24/K1
CATEGORIES:K
LOCATION:9 A-20
DESCRIPTION:<a href="https://classroom.google.com/c/ODQ5ODQ0NDYwMjU4">Google Classroom</a> 
END:VEVENT
BEGIN:VEVENT
UID:UZ_PLZ_20260511_1130_500921
DTSTAMP:20260511T113000
DTSTART:20260511T113000
DTEND:20260511T130000
SUMMARY:PNJA 6 - sprawności zintegrowane (K): 31F-ANG-SP23/K1
CATEGORIES:K
LOCATION:9 A-20
DESCRIPTION:<a href="https://classroom.google.com/c/ODUxNTQ3NTcxMDIz">Google Classroom</a> 
END:VEVENT
BEGIN:VEVENT
UID:UZ_PLZ_20260511_1315_500934
DTSTAMP:20260511T131500
DTSTART:20260511T131500
DTEND:20260511T144500
SUMMARY:PNJA 6 - sprawności zintegrowane (K): 32F-ANG-SP23/K2
CATEGORIES:K
LOCATION:9 A-20
DESCRIPTION:<a href="https://classroom.google.com/c/ODUxNTQ4ODMyODAx">Google Classroom</a> 
END:VEVENT
BEGIN:VEVENT
UID:UZ_PLZ_20260513_1130_501093
DTSTAMP:20260513T113000
DTSTART:20260513T113000
DTEND:20260513T130000
SUMMARY:PNJA4 - Praca z tekstem (pisanie i czytanie) (K): 21Lingwist SP24
CATEGORIES:K
LOCATION:G A-20
DESCRIPTION:<a href="https://classroom.google.com/c/ODU2MzEwNDE4ODY4">Google Classroom</a> 
END:VEVENT
BEGIN:VEVENT
UID:UZ_PLZ_20260513_1315_500992
DTSTAMP:20260513T131500
DTSTART:20260513T131500
DTEND:20260513T144500
SUMMARY:Praktyczna nauka języka angielskiego 4 - Sprawności zintegrowane (K): 21F-ANG-SD24/K2
CATEGORIES:K
LOCATION:G A-20
DESCRIPTION:<a href="https://classroom.google.com/c/ODU2MzEwNzMxNzk1">Google Classroom</a> 
END:VEVENT
BEGIN:VEVENT
UID:UZ_PLZ_20260514_0800_500981
DTSTAMP:20260514T080000
DTSTART:20260514T080000
DTEND:20260514T093000
SUMMARY:PNJA -Sprawności zintegrowane (K): 11F-ANG-SD25/K1
CATEGORIES:K
LOCATION:G A-20
DESCRIPTION:<a href="https://classroom.google.com/c/ODU3MTc4NTg0ODIy">Google Classroom</a> 
END:VEVENT
BEGIN:VEVENT
UID:UZ_PLZ_20260514_0945_500868
DTSTAMP:20260514T094500
DTSTART:20260514T094500
DTEND:20260514T111500
SUMMARY:PNJA2- słuchanie i mówienie (K): 12F-ANG-SP25/K4\; 13F-ANG-SP25/K4
CATEGORIES:K
LOCATION:G A-20
END:VEVENT
BEGIN:VEVENT
UID:UZ_PLZ_20260514_1130_500873
DTSTAMP:20260514T113000
DTSTART:20260514T113000
DTEND:20260514T130000
SUMMARY:PNJA4 - słuchanie i mówienie (K): 22F-ANG-SP24/K3\; 23F-ANG-SP24/K3
CATEGORIES:K
LOCATION:G A-20
END:VEVENT
BEGIN:VEVENT
UID:UZ_PLZ_20260514_1315_500885
DTSTAMP:20260514T131500
DTSTART:20260514T131500
DTEND:20260514T144500
SUMMARY:PNJA4 - praca z tekstem (pisanie i czytanie) (K): 21F-ANG-SP24/K2\; 22F-ANG-SP24/K2
CATEGORIES:K
LOCATION:G A-20
END:VEVENT
BEGIN:VEVENT
UID:UZ_PLZ_20260518_0945_500994
DTSTAMP:20260518T094500
DTSTART:20260518T094500
DTEND:20260518T111500
SUMMARY:Praktyczna nauka języka angielskiego 4 - Sprawności zintegrowane (K): 21F-ANG-SD24/K1
CATEGORIES:K
LOCATION:9 A-20
DESCRIPTION:<a href="https://classroom.google.com/c/ODQ5ODQ0NDYwMjU4">Google Classroom</a> 
END:VEVENT
BEGIN:VEVENT
UID:UZ_PLZ_20260518_1130_500921
DTSTAMP:20260518T113000
DTSTART:20260518T113000
DTEND:20260518T130000
SUMMARY:PNJA 6 - sprawności zintegrowane (K): 31F-ANG-SP23/K1
CATEGORIES:K
LOCATION:9 A-20
DESCRIPTION:<a href="https://classroom.google.com/c/ODUxNTQ3NTcxMDIz">Google Classroom</a> 
END:VEVENT
BEGIN:VEVENT
UID:UZ_PLZ_20260518_1315_500934
DTSTAMP:20260518T131500
DTSTART:20260518T131500
DTEND:20260518T144500
SUMMARY:PNJA 6 - sprawności zintegrowane (K): 32F-ANG-SP23/K2
CATEGORIES:K
LOCATION:9 A-20
DESCRIPTION:<a href="https://classroom.google.com/c/ODUxNTQ4ODMyODAx">Google Classroom</a> 
END:VEVENT
BEGIN:VEVENT
UID:UZ_PLZ_20260520_1130_501093
DTSTAMP:20260520T113000
DTSTART:20260520T113000
DTEND:20260520T130000
SUMMARY:PNJA4 - Praca z tekstem (pisanie i czytanie) (K): 21Lingwist SP24
CATEGORIES:K
LOCATION:G A-20
DESCRIPTION:<a href="https://classroom.google.com/c/ODU2MzEwNDE4ODY4">Google Classroom</a> 
END:VEVENT
BEGIN:VEVENT
UID:UZ_PLZ_20260520_1315_500992
DTSTAMP:20260520T131500
DTSTART:20260520T131500
DTEND:20260520T144500
SUMMARY:Praktyczna nauka języka angielskiego 4 - Sprawności zintegrowane (K): 21F-ANG-SD24/K2
CATEGORIES:K
LOCATION:G A-20
DESCRIPTION:<a href="https://classroom.google.com/c/ODU2MzEwNzMxNzk1">Google Classroom</a> 
END:VEVENT
BEGIN:VEVENT
UID:UZ_PLZ_20260521_0800_500981
DTSTAMP:20260521T080000
DTSTART:20260521T080000
DTEND:20260521T093000
SUMMARY:PNJA -Sprawności zintegrowane (K): 11F-ANG-SD25/K1
CATEGORIES:K
LOCATION:G A-20
DESCRIPTION:<a href="https://classroom.google.com/c/ODU3MTc4NTg0ODIy">Google Classroom</a> 
END:VEVENT
BEGIN:VEVENT
UID:UZ_PLZ_20260521_0945_500868
DTSTAMP:20260521T094500
DTSTART:20260521T094500
DTEND:20260521T111500
SUMMARY:PNJA2- słuchanie i mówienie (K): 12F-ANG-SP25/K4\; 13F-ANG-SP25/K4
CATEGORIES:K
LOCATION:G A-20
END:VEVENT
BEGIN:VEVENT
UID:UZ_PLZ_20260521_1130_500873
DTSTAMP:20260521T113000
DTSTART:20260521T113000
DTEND:20260521T130000
SUMMARY:PNJA4 - słuchanie i mówienie (K): 22F-ANG-SP24/K3\; 23F-ANG-SP24/K3
CATEGORIES:K
LOCATION:G A-20
END:VEVENT
BEGIN:VEVENT
UID:UZ_PLZ_20260521_1315_500885
DTSTAMP:20260521T131500
DTSTART:20260521T131500
DTEND:20260521T144500
SUMMARY:PNJA4 - praca z tekstem (pisanie i czytanie) (K): 21F-ANG-SP24/K2\; 22F-ANG-SP24/K2
CATEGORIES:K
LOCATION:G A-20
END:VEVENT
BEGIN:VEVENT
UID:UZ_PLZ_20260525_0945_500994
DTSTAMP:20260525T094500
DTSTART:20260525T094500
DTEND:20260525T111500
SUMMARY:Praktyczna nauka języka angielskiego 4 - Sprawności zintegrowane (K): 21F-ANG-SD24/K1
CATEGORIES:K
LOCATION:8 A-20
DESCRIPTION:<a href="https://classroom.google.com/c/ODQ5ODQ0NDYwMjU4">Google Classroom</a> 
END:VEVENT
BEGIN:VEVENT
UID:UZ_PLZ_20260525_1130_500921
DTSTAMP:20260525T113000
DTSTART:20260525T113000
DTEND:20260525T130000
SUMMARY:PNJA 6 - sprawności zintegrowane (K): 31F-ANG-SP23/K1
CATEGORIES:K
LOCATION:8 A-20
DESCRIPTION:<a href="https://classroom.google.com/c/ODUxNTQ3NTcxMDIz">Google Classroom</a> 
END:VEVENT
BEGIN:VEVENT
UID:UZ_PLZ_20260525_1315_500934
DTSTAMP:20260525T131500
DTSTART:20260525T131500
DTEND:20260525T144500
SUMMARY:PNJA 6 - sprawności zintegrowane (K): 32F-ANG-SP23/K2
CATEGORIES:K
LOCATION:8 A-20
DESCRIPTION:<a href="https://classroom.google.com/c/ODUxNTQ4ODMyODAx">Google Classroom</a> 
END:VEVENT
BEGIN:VEVENT
UID:UZ_PLZ_20260527_1130_501093
DTSTAMP:20260527T113000
DTSTART:20260527T113000
DTEND:20260527T130000
SUMMARY:PNJA4 - Praca z tekstem (pisanie i czytanie) (K): 21Lingwist SP24
CATEGORIES:K
LOCATION:G A-20
DESCRIPTION:<a href="https://classroom.google.com/c/ODU2MzEwNDE4ODY4">Google Classroom</a> 
END:VEVENT
BEGIN:VEVENT
UID:UZ_PLZ_20260527_1315_500992
DTSTAMP:20260527T131500
DTSTART:20260527T131500
DTEND:20260527T144500
SUMMARY:Praktyczna nauka języka angielskiego 4 - Sprawności zintegrowane (K): 21F-ANG-SD24/K2
CATEGORIES:K
LOCATION:G A-20
DESCRIPTION:<a href="https://classroom.google.com/c/ODU2MzEwNzMxNzk1">Google Classroom</a> 
END:VEVENT
BEGIN:VEVENT
UID:UZ_PLZ_20260528_0800_500981
DTSTAMP:20260528T080000
DTSTART:20260528T080000
DTEND:20260528T093000
SUMMARY:PNJA -Sprawności zintegrowane (K): 11F-ANG-SD25/K1
CATEGORIES:K
LOCATION:G A-20
DESCRIPTION:<a href="https://classroom.google.com/c/ODU3MTc4NTg0ODIy">Google Classroom</a> 
END:VEVENT
BEGIN:VEVENT
UID:UZ_PLZ_20260528_0945_500868
DTSTAMP:20260528T094500
DTSTART:20260528T094500
DTEND:20260528T111500
SUMMARY:PNJA2- słuchanie i mówienie (K): 12F-ANG-SP25/K4\; 13F-ANG-SP25/K4
CATEGORIES:K
LOCATION:G A-20
END:VEVENT
BEGIN:VEVENT
UID:UZ_PLZ_20260528_1130_500873
DTSTAMP:20260528T113000
DTSTART:20260528T113000
DTEND:20260528T130000
SUMMARY:PNJA4 - słuchanie i mówienie (K): 22F-ANG-SP24/K3\; 23F-ANG-SP24/K3
CATEGORIES:K
LOCATION:G A-20
END:VEVENT
BEGIN:VEVENT
UID:UZ_PLZ_20260528_1315_500885
DTSTAMP:20260528T131500
DTSTART:20260528T131500
DTEND:20260528T144500
SUMMARY:PNJA4 - praca z tekstem (pisanie i czytanie) (K): 21F-ANG-SP24/K2\; 22F-ANG-SP24/K2
CATEGORIES:K
LOCATION:G A-20
END:VEVENT
BEGIN:VEVENT
UID:UZ_PLZ_20260601_0945_500994
DTSTAMP:20260601T094500
DTSTART:20260601T094500
DTEND:20260601T111500
SUMMARY:Praktyczna nauka języka angielskiego 4 - Sprawności zintegrowane (K): 21F-ANG-SD24/K1
CATEGORIES:K
LOCATION:9 A-20
DESCRIPTION:<a href="https://classroom.google.com/c/ODQ5ODQ0NDYwMjU4">Google Classroom</a> 
END:VEVENT
BEGIN:VEVENT
UID:UZ_PLZ_20260601_1130_500921
DTSTAMP:20260601T113000
DTSTART:20260601T113000
DTEND:20260601T130000
SUMMARY:PNJA 6 - sprawności zintegrowane (K): 31F-ANG-SP23/K1
CATEGORIES:K
LOCATION:9 A-20
DESCRIPTION:<a href="https://classroom.google.com/c/ODUxNTQ3NTcxMDIz">Google Classroom</a> 
END:VEVENT
BEGIN:VEVENT
UID:UZ_PLZ_20260601_1315_500934
DTSTAMP:20260601T131500
DTSTART:20260601T131500
DTEND:20260601T144500
SUMMARY:PNJA 6 - sprawności zintegrowane (K): 32F-ANG-SP23/K2
CATEGORIES:K
LOCATION:9 A-20
DESCRIPTION:<a href="https://classroom.google.com/c/ODUxNTQ4ODMyODAx">Google Classroom</a> 
END:VEVENT
BEGIN:VEVENT
UID:UZ_PLZ_20260603_1130_501093
DTSTAMP:20260603T113000
DTSTART:20260603T113000
DTEND:20260603T130000
SUMMARY:PNJA4 - Praca z tekstem (pisanie i czytanie) (K): 21Lingwist SP24
CATEGORIES:K
LOCATION:G A-20
DESCRIPTION:<a href="https://classroom.google.com/c/ODU2MzEwNDE4ODY4">Google Classroom</a> 
END:VEVENT
BEGIN:VEVENT
UID:UZ_PLZ_20260603_1315_500992
DTSTAMP:20260603T131500
DTSTART:20260603T131500
DTEND:20260603T144500
SUMMARY:Praktyczna nauka języka angielskiego 4 - Sprawności zintegrowane (K): 21F-ANG-SD24/K2
CATEGORIES:K
LOCATION:G A-20
DESCRIPTION:<a href="https://classroom.google.com/c/ODU2MzEwNzMxNzk1">Google Classroom</a> 
END:VEVENT
BEGIN:VEVENT
UID:UZ_PLZ_20260608_0945_500994
DTSTAMP:20260608T094500
DTSTART:20260608T094500
DTEND:20260608T111500
SUMMARY:Praktyczna nauka języka angielskiego 4 - Sprawności zintegrowane (K): 21F-ANG-SD24/K1
CATEGORIES:K
LOCATION:9 A-20
DESCRIPTION:<a href="https://classroom.google.com/c/ODQ5ODQ0NDYwMjU4">Google Classroom</a> 
END:VEVENT
BEGIN:VEVENT
UID:UZ_PLZ_20260608_1130_500921
DTSTAMP:20260608T113000
DTSTART:20260608T113000
DTEND:20260608T130000
SUMMARY:PNJA 6 - sprawności zintegrowane (K): 31F-ANG-SP23/K1
CATEGORIES:K
LOCATION:9 A-20
DESCRIPTION:<a href="https://classroom.google.com/c/ODUxNTQ3NTcxMDIz">Google Classroom</a> 
END:VEVENT
BEGIN:VEVENT
UID:UZ_PLZ_20260608_1315_500934
DTSTAMP:20260608T131500
DTSTART:20260608T131500
DTEND:20260608T144500
SUMMARY:PNJA 6 - sprawności zintegrowane (K): 32F-ANG-SP23/K2
CATEGORIES:K
LOCATION:9 A-20
DESCRIPTION:<a href="https://classroom.google.com/c/ODUxNTQ4ODMyODAx">Google Classroom</a> 
END:VEVENT
BEGIN:VEVENT
UID:UZ_PLZ_20260610_1130_501093
DTSTAMP:20260610T113000
DTSTART:20260610T113000
DTEND:20260610T130000
SUMMARY:PNJA4 - Praca z tekstem (pisanie i czytanie) (K): 21Lingwist SP24
CATEGORIES:K
LOCATION:G A-20
DESCRIPTION:<a href="https://classroom.google.com/c/ODU2MzEwNDE4ODY4">Google Classroom</a> 
END:VEVENT
BEGIN:VEVENT
UID:UZ_PLZ_20260610_1315_500992
DTSTAMP:20260610T131500
DTSTART:20260610T131500
DTEND:20260610T144500
SUMMARY:Praktyczna nauka języka angielskiego 4 - Sprawności zintegrowane (K): 21F-ANG-SD24/K2
CATEGORIES:K
LOCATION:G A-20
DESCRIPTION:<a href="https://classroom.google.com/c/ODU2MzEwNzMxNzk1">Google Classroom</a> 
END:VEVENT
BEGIN:VEVENT
UID:UZ_PLZ_20260611_0800_500981
DTSTAMP:20260611T080000
DTSTART:20260611T080000
DTEND:20260611T093000
SUMMARY:PNJA -Sprawności zintegrowane (K): 11F-ANG-SD25/K1
CATEGORIES:K
LOCATION:G A-20
DESCRIPTION:<a href="https://classroom.google.com/c/ODU3MTc4NTg0ODIy">Google Classroom</a> 
END:VEVENT
BEGIN:VEVENT
UID:UZ_PLZ_20260611_0945_500868
DTSTAMP:20260611T094500
DTSTART:20260611T094500
DTEND:20260611T111500
SUMMARY:PNJA2- słuchanie i mówienie (K): 12F-ANG-SP25/K4\; 13F-ANG-SP25/K4
CATEGORIES:K
LOCATION:G A-20
END:VEVENT
BEGIN:VEVENT
UID:UZ_PLZ_20260611_1130_500873
DTSTAMP:20260611T113000
DTSTART:20260611T113000
DTEND:20260611T130000
SUMMARY:PNJA4 - słuchanie i mówienie (K): 22F-ANG-SP24/K3\; 23F-ANG-SP24/K3
CATEGORIES:K
LOCATION:G A-20
END:VEVENT
BEGIN:VEVENT
UID:UZ_PLZ_20260611_1315_500885
DTSTAMP:20260611T131500
DTSTART:20260611T131500
DTEND:20260611T144500
SUMMARY:PNJA4 - praca z tekstem (pisanie i czytanie) (K): 21F-ANG-SP24/K2\; 22F-ANG-SP24/K2
CATEGORIES:K
LOCATION:G A-20
END:VEVENT
BEGIN:VEVENT
UID:UZ_PLZ_20260615_0945_500994
DTSTAMP:20260615T094500
DTSTART:20260615T094500
DTEND:20260615T111500
SUMMARY:Praktyczna nauka języka angielskiego 4 - Sprawności zintegrowane (K): 21F-ANG-SD24/K1
CATEGORIES:K
LOCATION:9 A-20
DESCRIPTION:<a href="https://classroom.google.com/c/ODQ5ODQ0NDYwMjU4">Google Classroom</a> 
END:VEVENT
BEGIN:VEVENT
UID:UZ_PLZ_20260615_1130_500921
DTSTAMP:20260615T113000
DTSTART:20260615T113000
DTEND:20260615T130000
SUMMARY:PNJA 6 - sprawności zintegrowane (K): 31F-ANG-SP23/K1
CATEGORIES:K
LOCATION:9 A-20
DESCRIPTION:<a href="https://classroom.google.com/c/ODUxNTQ3NTcxMDIz">Google Classroom</a> 
END:VEVENT
BEGIN:VEVENT
UID:UZ_PLZ_20260615_1315_500934
DTSTAMP:20260615T131500
DTSTART:20260615T131500
DTEND:20260615T144500
SUMMARY:PNJA 6 - sprawności zintegrowane (K): 32F-ANG-SP23/K2
CATEGORIES:K
LOCATION:9 A-20
DESCRIPTION:<a href="https://classroom.google.com/c/ODUxNTQ4ODMyODAx">Google Classroom</a> 
END:VEVENT
BEGIN:VEVENT
UID:UZ_PLZ_20260617_1130_501093
DTSTAMP:20260617T113000
DTSTART:20260617T113000
DTEND:20260617T130000
SUMMARY:PNJA4 - Praca z tekstem (pisanie i czytanie) (K): 21Lingwist SP24
CATEGORIES:K
LOCATION:G A-20
DESCRIPTION:<a href="https://classroom.google.com/c/ODU2MzEwNDE4ODY4">Google Classroom</a> 
END:VEVENT
BEGIN:VEVENT
UID:UZ_PLZ_20260617_1315_500992
DTSTAMP:20260617T131500
DTSTART:20260617T131500
DTEND:20260617T144500
SUMMARY:Praktyczna nauka języka angielskiego 4 - Sprawności zintegrowane (K): 21F-ANG-SD24/K2
CATEGORIES:K
LOCATION:G A-20
DESCRIPTION:<a href="https://classroom.google.com/c/ODU2MzEwNzMxNzk1">Google Classroom</a> 
END:VEVENT
BEGIN:VEVENT
UID:UZ_PLZ_20260618_0800_500981
DTSTAMP:20260618T080000
DTSTART:20260618T080000
DTEND:20260618T093000
SUMMARY:PNJA -Sprawności zintegrowane (K): 11F-ANG-SD25/K1
CATEGORIES:K
LOCATION:G A-20
DESCRIPTION:<a href="https://classroom.google.com/c/ODU3MTc4NTg0ODIy">Google Classroom</a> 
END:VEVENT
BEGIN:VEVENT
UID:UZ_PLZ_20260618_0945_500868
DTSTAMP:20260618T094500
DTSTART:20260618T094500
DTEND:20260618T111500
SUMMARY:PNJA2- słuchanie i mówienie (K): 12F-ANG-SP25/K4\; 13F-ANG-SP25/K4
CATEGORIES:K
LOCATION:G A-20
END:VEVENT
BEGIN:VEVENT
UID:UZ_PLZ_20260618_1130_500873
DTSTAMP:20260618T113000
DTSTART:20260618T113000
DTEND:20260618T130000
SUMMARY:PNJA4 - słuchanie i mówienie (K): 22F-ANG-SP24/K3\; 23F-ANG-SP24/K3
CATEGORIES:K
LOCATION:G A-20
END:VEVENT
BEGIN:VEVENT
UID:UZ_PLZ_20260618_1315_500885
DTSTAMP:20260618T131500
DTSTART:20260618T131500
DTEND:20260618T144500
SUMMARY:PNJA4 - praca z tekstem (pisanie i czytanie) (K): 21F-ANG-SP24/K2\; 22F-ANG-SP24/K2
CATEGORIES:K
LOCATION:G A-20
END:VEVENT
END:VCALENDAR
