BEGIN:VCALENDAR
TZID:Europe/Warsaw
X-WR-TIMEZONE:Europe/Warsaw
VERSION:2.0
PRODID:-//Uniwersytet Zielonogórski//NONSGML Plan zajęć v1.0//EN
NAME:Plan zajęć - semestr letni 2025/2026
X-WR-CALNAME:Plan zajęć - semestr letni 2025/2026
COLOR:green
CALSCALE:GREGORIAN
BEGIN:VEVENT
UID:UZ_PLZ_20260421_0800_507164
DTSTAMP:20260421T080000
DTSTART:20260421T080000
DTEND:20260421T084500
SUMMARY:Konsultacje (I)
CATEGORIES:I
LOCATION:204 A-16
END:VEVENT
BEGIN:VEVENT
UID:UZ_PLZ_20260421_0845_501196
DTSTAMP:20260421T084500
DTSTART:20260421T084500
DTEND:20260421T093000
SUMMARY:Konteksty literatury i kultury XX i XXI w. (W): 21FP-SD24
CATEGORIES:W
LOCATION:10 A-16
END:VEVENT
BEGIN:VEVENT
UID:UZ_PLZ_20260421_0945_501258
DTSTAMP:20260421T094500
DTSTART:20260421T094500
DTEND:20260421T111500
SUMMARY:Seminarium magisterskie (II) (S): 11FP-SD25/11FP-SD25/S2
CATEGORIES:S
LOCATION:204 A-16
END:VEVENT
BEGIN:VEVENT
UID:UZ_PLZ_20260421_1130_507167
DTSTAMP:20260421T113000
DTSTART:20260421T113000
DTEND:20260421T130000
SUMMARY:Dyżur instytutowy (R)
CATEGORIES:R
END:VEVENT
BEGIN:VEVENT
UID:UZ_PLZ_20260424_0915_507164
DTSTAMP:20260424T091500
DTSTART:20260424T091500
DTEND:20260424T100000
SUMMARY:Konsultacje (I)
CATEGORIES:I
LOCATION:204 A-16
END:VEVENT
BEGIN:VEVENT
UID:UZ_PLZ_20260424_1000_501228
DTSTAMP:20260424T100000
DTSTART:20260424T100000
DTEND:20260424T121500
SUMMARY:Historia literatury polskiej: literatura po roku 1989 (K): 31FP-SP23
CATEGORIES:K
LOCATION:209 A-16
END:VEVENT
BEGIN:VEVENT
UID:UZ_PLZ_20260424_1230_501212
DTSTAMP:20260424T123000
DTSTART:20260424T123000
DTEND:20260424T140000
SUMMARY:Konteksty literatury i kultury XX i XXI w. (K): 21FP-SD24
CATEGORIES:K
LOCATION:209 A-16
END:VEVENT
BEGIN:VEVENT
UID:UZ_PLZ_20260428_0800_507164
DTSTAMP:20260428T080000
DTSTART:20260428T080000
DTEND:20260428T084500
SUMMARY:Konsultacje (I)
CATEGORIES:I
LOCATION:204 A-16
END:VEVENT
BEGIN:VEVENT
UID:UZ_PLZ_20260428_0845_501196
DTSTAMP:20260428T084500
DTSTART:20260428T084500
DTEND:20260428T093000
SUMMARY:Konteksty literatury i kultury XX i XXI w. (W): 21FP-SD24
CATEGORIES:W
LOCATION:10 A-16
END:VEVENT
BEGIN:VEVENT
UID:UZ_PLZ_20260428_0945_501258
DTSTAMP:20260428T094500
DTSTART:20260428T094500
DTEND:20260428T111500
SUMMARY:Seminarium magisterskie (II) (S): 11FP-SD25/11FP-SD25/S2
CATEGORIES:S
LOCATION:204 A-16
END:VEVENT
BEGIN:VEVENT
UID:UZ_PLZ_20260428_1130_507167
DTSTAMP:20260428T113000
DTSTART:20260428T113000
DTEND:20260428T130000
SUMMARY:Dyżur instytutowy (R)
CATEGORIES:R
END:VEVENT
BEGIN:VEVENT
UID:UZ_PLZ_20260429_0915_507164
DTSTAMP:20260429T091500
DTSTART:20260429T091500
DTEND:20260429T100000
SUMMARY:Konsultacje (I)
CATEGORIES:I
LOCATION:204 A-16
END:VEVENT
BEGIN:VEVENT
UID:UZ_PLZ_20260429_1000_501228
DTSTAMP:20260429T100000
DTSTART:20260429T100000
DTEND:20260429T121500
SUMMARY:Historia literatury polskiej: literatura po roku 1989 (K): 31FP-SP23
CATEGORIES:K
LOCATION:209 A-16
END:VEVENT
BEGIN:VEVENT
UID:UZ_PLZ_20260429_1230_501212
DTSTAMP:20260429T123000
DTSTART:20260429T123000
DTEND:20260429T140000
SUMMARY:Konteksty literatury i kultury XX i XXI w. (K): 21FP-SD24
CATEGORIES:K
LOCATION:209 A-16
END:VEVENT
BEGIN:VEVENT
UID:UZ_PLZ_20260505_0800_507164
DTSTAMP:20260505T080000
DTSTART:20260505T080000
DTEND:20260505T084500
SUMMARY:Konsultacje (I)
CATEGORIES:I
LOCATION:204 A-16
END:VEVENT
BEGIN:VEVENT
UID:UZ_PLZ_20260505_0845_501196
DTSTAMP:20260505T084500
DTSTART:20260505T084500
DTEND:20260505T093000
SUMMARY:Konteksty literatury i kultury XX i XXI w. (W): 21FP-SD24
CATEGORIES:W
LOCATION:10 A-16
END:VEVENT
BEGIN:VEVENT
UID:UZ_PLZ_20260505_0945_501258
DTSTAMP:20260505T094500
DTSTART:20260505T094500
DTEND:20260505T111500
SUMMARY:Seminarium magisterskie (II) (S): 11FP-SD25/11FP-SD25/S2
CATEGORIES:S
LOCATION:204 A-16
END:VEVENT
BEGIN:VEVENT
UID:UZ_PLZ_20260505_1130_507167
DTSTAMP:20260505T113000
DTSTART:20260505T113000
DTEND:20260505T130000
SUMMARY:Dyżur instytutowy (R)
CATEGORIES:R
END:VEVENT
BEGIN:VEVENT
UID:UZ_PLZ_20260508_0915_507164
DTSTAMP:20260508T091500
DTSTART:20260508T091500
DTEND:20260508T100000
SUMMARY:Konsultacje (I)
CATEGORIES:I
LOCATION:204 A-16
END:VEVENT
BEGIN:VEVENT
UID:UZ_PLZ_20260508_1000_501228
DTSTAMP:20260508T100000
DTSTART:20260508T100000
DTEND:20260508T121500
SUMMARY:Historia literatury polskiej: literatura po roku 1989 (K): 31FP-SP23
CATEGORIES:K
LOCATION:209 A-16
END:VEVENT
BEGIN:VEVENT
UID:UZ_PLZ_20260508_1230_501212
DTSTAMP:20260508T123000
DTSTART:20260508T123000
DTEND:20260508T140000
SUMMARY:Konteksty literatury i kultury XX i XXI w. (K): 21FP-SD24
CATEGORIES:K
LOCATION:209 A-16
END:VEVENT
BEGIN:VEVENT
UID:UZ_PLZ_20260512_0800_507164
DTSTAMP:20260512T080000
DTSTART:20260512T080000
DTEND:20260512T084500
SUMMARY:Konsultacje (I)
CATEGORIES:I
LOCATION:204 A-16
END:VEVENT
BEGIN:VEVENT
UID:UZ_PLZ_20260512_0845_501196
DTSTAMP:20260512T084500
DTSTART:20260512T084500
DTEND:20260512T093000
SUMMARY:Konteksty literatury i kultury XX i XXI w. (W): 21FP-SD24
CATEGORIES:W
LOCATION:10 A-16
END:VEVENT
BEGIN:VEVENT
UID:UZ_PLZ_20260512_0945_501258
DTSTAMP:20260512T094500
DTSTART:20260512T094500
DTEND:20260512T111500
SUMMARY:Seminarium magisterskie (II) (S): 11FP-SD25/11FP-SD25/S2
CATEGORIES:S
LOCATION:204 A-16
END:VEVENT
BEGIN:VEVENT
UID:UZ_PLZ_20260512_1130_507167
DTSTAMP:20260512T113000
DTSTART:20260512T113000
DTEND:20260512T130000
SUMMARY:Dyżur instytutowy (R)
CATEGORIES:R
END:VEVENT
BEGIN:VEVENT
UID:UZ_PLZ_20260515_0915_507164
DTSTAMP:20260515T091500
DTSTART:20260515T091500
DTEND:20260515T100000
SUMMARY:Konsultacje (I)
CATEGORIES:I
LOCATION:204 A-16
END:VEVENT
BEGIN:VEVENT
UID:UZ_PLZ_20260515_1000_501228
DTSTAMP:20260515T100000
DTSTART:20260515T100000
DTEND:20260515T121500
SUMMARY:Historia literatury polskiej: literatura po roku 1989 (K): 31FP-SP23
CATEGORIES:K
LOCATION:209 A-16
END:VEVENT
BEGIN:VEVENT
UID:UZ_PLZ_20260515_1230_501212
DTSTAMP:20260515T123000
DTSTART:20260515T123000
DTEND:20260515T140000
SUMMARY:Konteksty literatury i kultury XX i XXI w. (K): 21FP-SD24
CATEGORIES:K
LOCATION:209 A-16
END:VEVENT
BEGIN:VEVENT
UID:UZ_PLZ_20260519_0800_507164
DTSTAMP:20260519T080000
DTSTART:20260519T080000
DTEND:20260519T084500
SUMMARY:Konsultacje (I)
CATEGORIES:I
LOCATION:204 A-16
END:VEVENT
BEGIN:VEVENT
UID:UZ_PLZ_20260519_0845_501196
DTSTAMP:20260519T084500
DTSTART:20260519T084500
DTEND:20260519T093000
SUMMARY:Konteksty literatury i kultury XX i XXI w. (W): 21FP-SD24
CATEGORIES:W
LOCATION:10 A-16
END:VEVENT
BEGIN:VEVENT
UID:UZ_PLZ_20260519_0945_501258
DTSTAMP:20260519T094500
DTSTART:20260519T094500
DTEND:20260519T111500
SUMMARY:Seminarium magisterskie (II) (S): 11FP-SD25/11FP-SD25/S2
CATEGORIES:S
LOCATION:204 A-16
END:VEVENT
BEGIN:VEVENT
UID:UZ_PLZ_20260519_1130_507167
DTSTAMP:20260519T113000
DTSTART:20260519T113000
DTEND:20260519T130000
SUMMARY:Dyżur instytutowy (R)
CATEGORIES:R
END:VEVENT
BEGIN:VEVENT
UID:UZ_PLZ_20260522_0915_507164
DTSTAMP:20260522T091500
DTSTART:20260522T091500
DTEND:20260522T100000
SUMMARY:Konsultacje (I)
CATEGORIES:I
LOCATION:204 A-16
END:VEVENT
BEGIN:VEVENT
UID:UZ_PLZ_20260522_1000_501228
DTSTAMP:20260522T100000
DTSTART:20260522T100000
DTEND:20260522T121500
SUMMARY:Historia literatury polskiej: literatura po roku 1989 (K): 31FP-SP23
CATEGORIES:K
LOCATION:209 A-16
END:VEVENT
BEGIN:VEVENT
UID:UZ_PLZ_20260522_1230_501212
DTSTAMP:20260522T123000
DTSTART:20260522T123000
DTEND:20260522T140000
SUMMARY:Konteksty literatury i kultury XX i XXI w. (K): 21FP-SD24
CATEGORIES:K
LOCATION:209 A-16
END:VEVENT
BEGIN:VEVENT
UID:UZ_PLZ_20260526_0800_507164
DTSTAMP:20260526T080000
DTSTART:20260526T080000
DTEND:20260526T084500
SUMMARY:Konsultacje (I)
CATEGORIES:I
LOCATION:204 A-16
END:VEVENT
BEGIN:VEVENT
UID:UZ_PLZ_20260526_0845_501196
DTSTAMP:20260526T084500
DTSTART:20260526T084500
DTEND:20260526T093000
SUMMARY:Konteksty literatury i kultury XX i XXI w. (W): 21FP-SD24
CATEGORIES:W
LOCATION:10 A-16
END:VEVENT
BEGIN:VEVENT
UID:UZ_PLZ_20260526_0945_501258
DTSTAMP:20260526T094500
DTSTART:20260526T094500
DTEND:20260526T111500
SUMMARY:Seminarium magisterskie (II) (S): 11FP-SD25/11FP-SD25/S2
CATEGORIES:S
LOCATION:204 A-16
END:VEVENT
BEGIN:VEVENT
UID:UZ_PLZ_20260526_1130_507167
DTSTAMP:20260526T113000
DTSTART:20260526T113000
DTEND:20260526T130000
SUMMARY:Dyżur instytutowy (R)
CATEGORIES:R
END:VEVENT
BEGIN:VEVENT
UID:UZ_PLZ_20260529_0915_507164
DTSTAMP:20260529T091500
DTSTART:20260529T091500
DTEND:20260529T100000
SUMMARY:Konsultacje (I)
CATEGORIES:I
LOCATION:204 A-16
END:VEVENT
BEGIN:VEVENT
UID:UZ_PLZ_20260529_1000_501228
DTSTAMP:20260529T100000
DTSTART:20260529T100000
DTEND:20260529T121500
SUMMARY:Historia literatury polskiej: literatura po roku 1989 (K): 31FP-SP23
CATEGORIES:K
LOCATION:209 A-16
END:VEVENT
BEGIN:VEVENT
UID:UZ_PLZ_20260529_1230_501212
DTSTAMP:20260529T123000
DTSTART:20260529T123000
DTEND:20260529T140000
SUMMARY:Konteksty literatury i kultury XX i XXI w. (K): 21FP-SD24
CATEGORIES:K
LOCATION:209 A-16
END:VEVENT
BEGIN:VEVENT
UID:UZ_PLZ_20260602_0800_507164
DTSTAMP:20260602T080000
DTSTART:20260602T080000
DTEND:20260602T084500
SUMMARY:Konsultacje (I)
CATEGORIES:I
LOCATION:204 A-16
END:VEVENT
BEGIN:VEVENT
UID:UZ_PLZ_20260602_0845_501196
DTSTAMP:20260602T084500
DTSTART:20260602T084500
DTEND:20260602T093000
SUMMARY:Konteksty literatury i kultury XX i XXI w. (W): 21FP-SD24
CATEGORIES:W
LOCATION:10 A-16
END:VEVENT
BEGIN:VEVENT
UID:UZ_PLZ_20260602_0945_501258
DTSTAMP:20260602T094500
DTSTART:20260602T094500
DTEND:20260602T111500
SUMMARY:Seminarium magisterskie (II) (S): 11FP-SD25/11FP-SD25/S2
CATEGORIES:S
LOCATION:204 A-16
END:VEVENT
BEGIN:VEVENT
UID:UZ_PLZ_20260602_1130_507167
DTSTAMP:20260602T113000
DTSTART:20260602T113000
DTEND:20260602T130000
SUMMARY:Dyżur instytutowy (R)
CATEGORIES:R
END:VEVENT
BEGIN:VEVENT
UID:UZ_PLZ_20260609_0800_507164
DTSTAMP:20260609T080000
DTSTART:20260609T080000
DTEND:20260609T084500
SUMMARY:Konsultacje (I)
CATEGORIES:I
LOCATION:204 A-16
END:VEVENT
BEGIN:VEVENT
UID:UZ_PLZ_20260609_0845_501196
DTSTAMP:20260609T084500
DTSTART:20260609T084500
DTEND:20260609T093000
SUMMARY:Konteksty literatury i kultury XX i XXI w. (W): 21FP-SD24
CATEGORIES:W
LOCATION:10 A-16
END:VEVENT
BEGIN:VEVENT
UID:UZ_PLZ_20260609_0945_501258
DTSTAMP:20260609T094500
DTSTART:20260609T094500
DTEND:20260609T111500
SUMMARY:Seminarium magisterskie (II) (S): 11FP-SD25/11FP-SD25/S2
CATEGORIES:S
LOCATION:204 A-16
END:VEVENT
BEGIN:VEVENT
UID:UZ_PLZ_20260609_1130_507167
DTSTAMP:20260609T113000
DTSTART:20260609T113000
DTEND:20260609T130000
SUMMARY:Dyżur instytutowy (R)
CATEGORIES:R
END:VEVENT
BEGIN:VEVENT
UID:UZ_PLZ_20260612_0915_507164
DTSTAMP:20260612T091500
DTSTART:20260612T091500
DTEND:20260612T100000
SUMMARY:Konsultacje (I)
CATEGORIES:I
LOCATION:204 A-16
END:VEVENT
BEGIN:VEVENT
UID:UZ_PLZ_20260612_1000_501228
DTSTAMP:20260612T100000
DTSTART:20260612T100000
DTEND:20260612T121500
SUMMARY:Historia literatury polskiej: literatura po roku 1989 (K): 31FP-SP23
CATEGORIES:K
LOCATION:209 A-16
END:VEVENT
BEGIN:VEVENT
UID:UZ_PLZ_20260612_1230_501212
DTSTAMP:20260612T123000
DTSTART:20260612T123000
DTEND:20260612T140000
SUMMARY:Konteksty literatury i kultury XX i XXI w. (K): 21FP-SD24
CATEGORIES:K
LOCATION:209 A-16
END:VEVENT
BEGIN:VEVENT
UID:UZ_PLZ_20260616_0800_507164
DTSTAMP:20260616T080000
DTSTART:20260616T080000
DTEND:20260616T084500
SUMMARY:Konsultacje (I)
CATEGORIES:I
LOCATION:204 A-16
END:VEVENT
BEGIN:VEVENT
UID:UZ_PLZ_20260616_0845_501196
DTSTAMP:20260616T084500
DTSTART:20260616T084500
DTEND:20260616T093000
SUMMARY:Konteksty literatury i kultury XX i XXI w. (W): 21FP-SD24
CATEGORIES:W
LOCATION:10 A-16
END:VEVENT
BEGIN:VEVENT
UID:UZ_PLZ_20260616_0945_501258
DTSTAMP:20260616T094500
DTSTART:20260616T094500
DTEND:20260616T111500
SUMMARY:Seminarium magisterskie (II) (S): 11FP-SD25/11FP-SD25/S2
CATEGORIES:S
LOCATION:204 A-16
END:VEVENT
BEGIN:VEVENT
UID:UZ_PLZ_20260616_1130_507167
DTSTAMP:20260616T113000
DTSTART:20260616T113000
DTEND:20260616T130000
SUMMARY:Dyżur instytutowy (R)
CATEGORIES:R
END:VEVENT
BEGIN:VEVENT
UID:UZ_PLZ_20260619_0915_507164
DTSTAMP:20260619T091500
DTSTART:20260619T091500
DTEND:20260619T100000
SUMMARY:Konsultacje (I)
CATEGORIES:I
LOCATION:204 A-16
END:VEVENT
BEGIN:VEVENT
UID:UZ_PLZ_20260619_1000_501228
DTSTAMP:20260619T100000
DTSTART:20260619T100000
DTEND:20260619T121500
SUMMARY:Historia literatury polskiej: literatura po roku 1989 (K): 31FP-SP23
CATEGORIES:K
LOCATION:209 A-16
END:VEVENT
BEGIN:VEVENT
UID:UZ_PLZ_20260619_1230_501212
DTSTAMP:20260619T123000
DTSTART:20260619T123000
DTEND:20260619T140000
SUMMARY:Konteksty literatury i kultury XX i XXI w. (K): 21FP-SD24
CATEGORIES:K
LOCATION:209 A-16
END:VEVENT
END:VCALENDAR
