BEGIN:VCALENDAR
TZID:Europe/Warsaw
X-WR-TIMEZONE:Europe/Warsaw
VERSION:2.0
PRODID:-//Uniwersytet Zielonogórski//NONSGML Plan zajęć v1.0//EN
NAME:Plan zajęć - semestr zimowy 2025/2026
X-WR-CALNAME:Plan zajęć - semestr zimowy 2025/2026
COLOR:green
CALSCALE:GREGORIAN
BEGIN:VEVENT
UID:UZ_PLZ_20251002_1130_481913
DTSTAMP:20251002T113000
DTSTART:20251002T113000
DTEND:20251002T134500
SUMMARY:Historia literatury polskiej: literatura po roku 1939 (K): 31FP-SP23
CATEGORIES:K
LOCATION:203 A-16
END:VEVENT
BEGIN:VEVENT
UID:UZ_PLZ_20251007_0800_481853
DTSTAMP:20251007T080000
DTSTART:20251007T080000
DTEND:20251007T093000
SUMMARY:Historia literatury polskiej: literatura po roku 1939 (W): 31FP-SP23
CATEGORIES:W
LOCATION:10 A-16
END:VEVENT
BEGIN:VEVENT
UID:UZ_PLZ_20251007_0945_481906
DTSTAMP:20251007T094500
DTSTART:20251007T094500
DTEND:20251007T111500
SUMMARY:Seminarium magisterskie (I) (S): 11FP-SD25/11FP-SD25/S2
CATEGORIES:S
LOCATION:204 A-16
END:VEVENT
BEGIN:VEVENT
UID:UZ_PLZ_20251007_1130_482083
DTSTAMP:20251007T113000
DTSTART:20251007T113000
DTEND:20251007T130000
SUMMARY:Dyżur instytutowy (R)
CATEGORIES:R
END:VEVENT
BEGIN:VEVENT
UID:UZ_PLZ_20251009_1000_493304
DTSTAMP:20251009T100000
DTSTART:20251009T100000
DTEND:20251009T113000
SUMMARY:Konsultacje (I)
CATEGORIES:I
END:VEVENT
BEGIN:VEVENT
UID:UZ_PLZ_20251009_1130_481913
DTSTAMP:20251009T113000
DTSTART:20251009T113000
DTEND:20251009T134500
SUMMARY:Historia literatury polskiej: literatura po roku 1939 (K): 31FP-SP23
CATEGORIES:K
LOCATION:203 A-16
END:VEVENT
BEGIN:VEVENT
UID:UZ_PLZ_20251014_0800_481853
DTSTAMP:20251014T080000
DTSTART:20251014T080000
DTEND:20251014T093000
SUMMARY:Historia literatury polskiej: literatura po roku 1939 (W): 31FP-SP23
CATEGORIES:W
LOCATION:10 A-16
END:VEVENT
BEGIN:VEVENT
UID:UZ_PLZ_20251014_0945_481906
DTSTAMP:20251014T094500
DTSTART:20251014T094500
DTEND:20251014T111500
SUMMARY:Seminarium magisterskie (I) (S): 11FP-SD25/11FP-SD25/S2
CATEGORIES:S
LOCATION:204 A-16
END:VEVENT
BEGIN:VEVENT
UID:UZ_PLZ_20251014_1130_482083
DTSTAMP:20251014T113000
DTSTART:20251014T113000
DTEND:20251014T130000
SUMMARY:Dyżur instytutowy (R)
CATEGORIES:R
END:VEVENT
BEGIN:VEVENT
UID:UZ_PLZ_20251016_1000_493304
DTSTAMP:20251016T100000
DTSTART:20251016T100000
DTEND:20251016T113000
SUMMARY:Konsultacje (I)
CATEGORIES:I
END:VEVENT
BEGIN:VEVENT
UID:UZ_PLZ_20251016_1130_481913
DTSTAMP:20251016T113000
DTSTART:20251016T113000
DTEND:20251016T134500
SUMMARY:Historia literatury polskiej: literatura po roku 1939 (K): 31FP-SP23
CATEGORIES:K
LOCATION:203 A-16
END:VEVENT
BEGIN:VEVENT
UID:UZ_PLZ_20251021_0800_481853
DTSTAMP:20251021T080000
DTSTART:20251021T080000
DTEND:20251021T093000
SUMMARY:Historia literatury polskiej: literatura po roku 1939 (W): 31FP-SP23
CATEGORIES:W
LOCATION:10 A-16
END:VEVENT
BEGIN:VEVENT
UID:UZ_PLZ_20251021_0945_481906
DTSTAMP:20251021T094500
DTSTART:20251021T094500
DTEND:20251021T111500
SUMMARY:Seminarium magisterskie (I) (S): 11FP-SD25/11FP-SD25/S2
CATEGORIES:S
LOCATION:204 A-16
END:VEVENT
BEGIN:VEVENT
UID:UZ_PLZ_20251021_1130_482083
DTSTAMP:20251021T113000
DTSTART:20251021T113000
DTEND:20251021T130000
SUMMARY:Dyżur instytutowy (R)
CATEGORIES:R
END:VEVENT
BEGIN:VEVENT
UID:UZ_PLZ_20251023_1000_493304
DTSTAMP:20251023T100000
DTSTART:20251023T100000
DTEND:20251023T113000
SUMMARY:Konsultacje (I)
CATEGORIES:I
END:VEVENT
BEGIN:VEVENT
UID:UZ_PLZ_20251023_1130_481913
DTSTAMP:20251023T113000
DTSTART:20251023T113000
DTEND:20251023T134500
SUMMARY:Historia literatury polskiej: literatura po roku 1939 (K): 31FP-SP23
CATEGORIES:K
LOCATION:203 A-16
END:VEVENT
BEGIN:VEVENT
UID:UZ_PLZ_20251028_0800_481853
DTSTAMP:20251028T080000
DTSTART:20251028T080000
DTEND:20251028T093000
SUMMARY:Historia literatury polskiej: literatura po roku 1939 (W): 31FP-SP23
CATEGORIES:W
LOCATION:10 A-16
END:VEVENT
BEGIN:VEVENT
UID:UZ_PLZ_20251028_0945_481906
DTSTAMP:20251028T094500
DTSTART:20251028T094500
DTEND:20251028T111500
SUMMARY:Seminarium magisterskie (I) (S): 11FP-SD25/11FP-SD25/S2
CATEGORIES:S
LOCATION:204 A-16
END:VEVENT
BEGIN:VEVENT
UID:UZ_PLZ_20251028_1130_482083
DTSTAMP:20251028T113000
DTSTART:20251028T113000
DTEND:20251028T130000
SUMMARY:Dyżur instytutowy (R)
CATEGORIES:R
END:VEVENT
BEGIN:VEVENT
UID:UZ_PLZ_20251030_1000_493304
DTSTAMP:20251030T100000
DTSTART:20251030T100000
DTEND:20251030T113000
SUMMARY:Konsultacje (I)
CATEGORIES:I
END:VEVENT
BEGIN:VEVENT
UID:UZ_PLZ_20251030_1130_481913
DTSTAMP:20251030T113000
DTSTART:20251030T113000
DTEND:20251030T134500
SUMMARY:Historia literatury polskiej: literatura po roku 1939 (K): 31FP-SP23
CATEGORIES:K
LOCATION:203 A-16
END:VEVENT
BEGIN:VEVENT
UID:UZ_PLZ_20251104_0800_481853
DTSTAMP:20251104T080000
DTSTART:20251104T080000
DTEND:20251104T093000
SUMMARY:Historia literatury polskiej: literatura po roku 1939 (W): 31FP-SP23
CATEGORIES:W
LOCATION:10 A-16
END:VEVENT
BEGIN:VEVENT
UID:UZ_PLZ_20251104_0945_481906
DTSTAMP:20251104T094500
DTSTART:20251104T094500
DTEND:20251104T111500
SUMMARY:Seminarium magisterskie (I) (S): 11FP-SD25/11FP-SD25/S2
CATEGORIES:S
LOCATION:204 A-16
END:VEVENT
BEGIN:VEVENT
UID:UZ_PLZ_20251104_1130_482083
DTSTAMP:20251104T113000
DTSTART:20251104T113000
DTEND:20251104T130000
SUMMARY:Dyżur instytutowy (R)
CATEGORIES:R
END:VEVENT
BEGIN:VEVENT
UID:UZ_PLZ_20251106_1000_493304
DTSTAMP:20251106T100000
DTSTART:20251106T100000
DTEND:20251106T113000
SUMMARY:Konsultacje (I)
CATEGORIES:I
END:VEVENT
BEGIN:VEVENT
UID:UZ_PLZ_20251106_1130_481913
DTSTAMP:20251106T113000
DTSTART:20251106T113000
DTEND:20251106T134500
SUMMARY:Historia literatury polskiej: literatura po roku 1939 (K): 31FP-SP23
CATEGORIES:K
LOCATION:203 A-16
END:VEVENT
BEGIN:VEVENT
UID:UZ_PLZ_20251114_0800_481853
DTSTAMP:20251114T080000
DTSTART:20251114T080000
DTEND:20251114T093000
SUMMARY:Historia literatury polskiej: literatura po roku 1939 (W): 31FP-SP23
CATEGORIES:W
LOCATION:10 A-16
END:VEVENT
BEGIN:VEVENT
UID:UZ_PLZ_20251114_0945_481906
DTSTAMP:20251114T094500
DTSTART:20251114T094500
DTEND:20251114T111500
SUMMARY:Seminarium magisterskie (I) (S): 11FP-SD25/11FP-SD25/S2
CATEGORIES:S
LOCATION:204 A-16
END:VEVENT
BEGIN:VEVENT
UID:UZ_PLZ_20251114_1130_482083
DTSTAMP:20251114T113000
DTSTART:20251114T113000
DTEND:20251114T130000
SUMMARY:Dyżur instytutowy (R)
CATEGORIES:R
END:VEVENT
BEGIN:VEVENT
UID:UZ_PLZ_20251118_0800_481853
DTSTAMP:20251118T080000
DTSTART:20251118T080000
DTEND:20251118T093000
SUMMARY:Historia literatury polskiej: literatura po roku 1939 (W): 31FP-SP23
CATEGORIES:W
LOCATION:10 A-16
END:VEVENT
BEGIN:VEVENT
UID:UZ_PLZ_20251118_0945_481906
DTSTAMP:20251118T094500
DTSTART:20251118T094500
DTEND:20251118T111500
SUMMARY:Seminarium magisterskie (I) (S): 11FP-SD25/11FP-SD25/S2
CATEGORIES:S
LOCATION:204 A-16
END:VEVENT
BEGIN:VEVENT
UID:UZ_PLZ_20251118_1130_482083
DTSTAMP:20251118T113000
DTSTART:20251118T113000
DTEND:20251118T130000
SUMMARY:Dyżur instytutowy (R)
CATEGORIES:R
END:VEVENT
BEGIN:VEVENT
UID:UZ_PLZ_20251120_1000_493304
DTSTAMP:20251120T100000
DTSTART:20251120T100000
DTEND:20251120T113000
SUMMARY:Konsultacje (I)
CATEGORIES:I
END:VEVENT
BEGIN:VEVENT
UID:UZ_PLZ_20251120_1130_481913
DTSTAMP:20251120T113000
DTSTART:20251120T113000
DTEND:20251120T134500
SUMMARY:Historia literatury polskiej: literatura po roku 1939 (K): 31FP-SP23
CATEGORIES:K
LOCATION:203 A-16
END:VEVENT
BEGIN:VEVENT
UID:UZ_PLZ_20251125_0800_481853
DTSTAMP:20251125T080000
DTSTART:20251125T080000
DTEND:20251125T093000
SUMMARY:Historia literatury polskiej: literatura po roku 1939 (W): 31FP-SP23
CATEGORIES:W
LOCATION:10 A-16
END:VEVENT
BEGIN:VEVENT
UID:UZ_PLZ_20251125_0945_481906
DTSTAMP:20251125T094500
DTSTART:20251125T094500
DTEND:20251125T111500
SUMMARY:Seminarium magisterskie (I) (S): 11FP-SD25/11FP-SD25/S2
CATEGORIES:S
LOCATION:204 A-16
END:VEVENT
BEGIN:VEVENT
UID:UZ_PLZ_20251125_1130_482083
DTSTAMP:20251125T113000
DTSTART:20251125T113000
DTEND:20251125T130000
SUMMARY:Dyżur instytutowy (R)
CATEGORIES:R
END:VEVENT
BEGIN:VEVENT
UID:UZ_PLZ_20251127_1000_493304
DTSTAMP:20251127T100000
DTSTART:20251127T100000
DTEND:20251127T113000
SUMMARY:Konsultacje (I)
CATEGORIES:I
END:VEVENT
BEGIN:VEVENT
UID:UZ_PLZ_20251127_1130_481913
DTSTAMP:20251127T113000
DTSTART:20251127T113000
DTEND:20251127T134500
SUMMARY:Historia literatury polskiej: literatura po roku 1939 (K): 31FP-SP23
CATEGORIES:K
LOCATION:203 A-16
END:VEVENT
BEGIN:VEVENT
UID:UZ_PLZ_20251202_0800_481853
DTSTAMP:20251202T080000
DTSTART:20251202T080000
DTEND:20251202T093000
SUMMARY:Historia literatury polskiej: literatura po roku 1939 (W): 31FP-SP23
CATEGORIES:W
LOCATION:10 A-16
END:VEVENT
BEGIN:VEVENT
UID:UZ_PLZ_20251202_0945_481906
DTSTAMP:20251202T094500
DTSTART:20251202T094500
DTEND:20251202T111500
SUMMARY:Seminarium magisterskie (I) (S): 11FP-SD25/11FP-SD25/S2
CATEGORIES:S
LOCATION:204 A-16
END:VEVENT
BEGIN:VEVENT
UID:UZ_PLZ_20251202_1130_482083
DTSTAMP:20251202T113000
DTSTART:20251202T113000
DTEND:20251202T130000
SUMMARY:Dyżur instytutowy (R)
CATEGORIES:R
END:VEVENT
BEGIN:VEVENT
UID:UZ_PLZ_20251204_1000_493304
DTSTAMP:20251204T100000
DTSTART:20251204T100000
DTEND:20251204T113000
SUMMARY:Konsultacje (I)
CATEGORIES:I
END:VEVENT
BEGIN:VEVENT
UID:UZ_PLZ_20251204_1130_481913
DTSTAMP:20251204T113000
DTSTART:20251204T113000
DTEND:20251204T134500
SUMMARY:Historia literatury polskiej: literatura po roku 1939 (K): 31FP-SP23
CATEGORIES:K
LOCATION:203 A-16
END:VEVENT
BEGIN:VEVENT
UID:UZ_PLZ_20251209_0800_481853
DTSTAMP:20251209T080000
DTSTART:20251209T080000
DTEND:20251209T093000
SUMMARY:Historia literatury polskiej: literatura po roku 1939 (W): 31FP-SP23
CATEGORIES:W
LOCATION:10 A-16
END:VEVENT
BEGIN:VEVENT
UID:UZ_PLZ_20251209_0945_481906
DTSTAMP:20251209T094500
DTSTART:20251209T094500
DTEND:20251209T111500
SUMMARY:Seminarium magisterskie (I) (S): 11FP-SD25/11FP-SD25/S2
CATEGORIES:S
LOCATION:204 A-16
END:VEVENT
BEGIN:VEVENT
UID:UZ_PLZ_20251209_1130_482083
DTSTAMP:20251209T113000
DTSTART:20251209T113000
DTEND:20251209T130000
SUMMARY:Dyżur instytutowy (R)
CATEGORIES:R
END:VEVENT
BEGIN:VEVENT
UID:UZ_PLZ_20251211_1000_493304
DTSTAMP:20251211T100000
DTSTART:20251211T100000
DTEND:20251211T113000
SUMMARY:Konsultacje (I)
CATEGORIES:I
END:VEVENT
BEGIN:VEVENT
UID:UZ_PLZ_20251211_1130_481913
DTSTAMP:20251211T113000
DTSTART:20251211T113000
DTEND:20251211T134500
SUMMARY:Historia literatury polskiej: literatura po roku 1939 (K): 31FP-SP23
CATEGORIES:K
LOCATION:203 A-16
END:VEVENT
BEGIN:VEVENT
UID:UZ_PLZ_20251216_0800_481853
DTSTAMP:20251216T080000
DTSTART:20251216T080000
DTEND:20251216T093000
SUMMARY:Historia literatury polskiej: literatura po roku 1939 (W): 31FP-SP23
CATEGORIES:W
LOCATION:10 A-16
END:VEVENT
BEGIN:VEVENT
UID:UZ_PLZ_20251216_0945_481906
DTSTAMP:20251216T094500
DTSTART:20251216T094500
DTEND:20251216T111500
SUMMARY:Seminarium magisterskie (I) (S): 11FP-SD25/11FP-SD25/S2
CATEGORIES:S
LOCATION:204 A-16
END:VEVENT
BEGIN:VEVENT
UID:UZ_PLZ_20251216_1130_482083
DTSTAMP:20251216T113000
DTSTART:20251216T113000
DTEND:20251216T130000
SUMMARY:Dyżur instytutowy (R)
CATEGORIES:R
END:VEVENT
BEGIN:VEVENT
UID:UZ_PLZ_20251218_1000_493304
DTSTAMP:20251218T100000
DTSTART:20251218T100000
DTEND:20251218T113000
SUMMARY:Konsultacje (I)
CATEGORIES:I
END:VEVENT
BEGIN:VEVENT
UID:UZ_PLZ_20251218_1130_481913
DTSTAMP:20251218T113000
DTSTART:20251218T113000
DTEND:20251218T134500
SUMMARY:Historia literatury polskiej: literatura po roku 1939 (K): 31FP-SP23
CATEGORIES:K
LOCATION:203 A-16
END:VEVENT
BEGIN:VEVENT
UID:UZ_PLZ_20260107_0800_481853
DTSTAMP:20260107T080000
DTSTART:20260107T080000
DTEND:20260107T093000
SUMMARY:Historia literatury polskiej: literatura po roku 1939 (W): 31FP-SP23
CATEGORIES:W
LOCATION:10 A-16
END:VEVENT
BEGIN:VEVENT
UID:UZ_PLZ_20260107_0945_481906
DTSTAMP:20260107T094500
DTSTART:20260107T094500
DTEND:20260107T111500
SUMMARY:Seminarium magisterskie (I) (S): 11FP-SD25/11FP-SD25/S2
CATEGORIES:S
LOCATION:204 A-16
END:VEVENT
BEGIN:VEVENT
UID:UZ_PLZ_20260107_1130_482083
DTSTAMP:20260107T113000
DTSTART:20260107T113000
DTEND:20260107T130000
SUMMARY:Dyżur instytutowy (R)
CATEGORIES:R
END:VEVENT
BEGIN:VEVENT
UID:UZ_PLZ_20260108_1000_493304
DTSTAMP:20260108T100000
DTSTART:20260108T100000
DTEND:20260108T113000
SUMMARY:Konsultacje (I)
CATEGORIES:I
END:VEVENT
BEGIN:VEVENT
UID:UZ_PLZ_20260108_1130_481913
DTSTAMP:20260108T113000
DTSTART:20260108T113000
DTEND:20260108T134500
SUMMARY:Historia literatury polskiej: literatura po roku 1939 (K): 31FP-SP23
CATEGORIES:K
LOCATION:203 A-16
END:VEVENT
BEGIN:VEVENT
UID:UZ_PLZ_20260113_0800_481853
DTSTAMP:20260113T080000
DTSTART:20260113T080000
DTEND:20260113T093000
SUMMARY:Historia literatury polskiej: literatura po roku 1939 (W): 31FP-SP23
CATEGORIES:W
LOCATION:10 A-16
END:VEVENT
BEGIN:VEVENT
UID:UZ_PLZ_20260113_0945_481906
DTSTAMP:20260113T094500
DTSTART:20260113T094500
DTEND:20260113T111500
SUMMARY:Seminarium magisterskie (I) (S): 11FP-SD25/11FP-SD25/S2
CATEGORIES:S
LOCATION:204 A-16
END:VEVENT
BEGIN:VEVENT
UID:UZ_PLZ_20260113_1130_482083
DTSTAMP:20260113T113000
DTSTART:20260113T113000
DTEND:20260113T130000
SUMMARY:Dyżur instytutowy (R)
CATEGORIES:R
END:VEVENT
BEGIN:VEVENT
UID:UZ_PLZ_20260115_1000_493304
DTSTAMP:20260115T100000
DTSTART:20260115T100000
DTEND:20260115T113000
SUMMARY:Konsultacje (I)
CATEGORIES:I
END:VEVENT
BEGIN:VEVENT
UID:UZ_PLZ_20260115_1130_481913
DTSTAMP:20260115T113000
DTSTART:20260115T113000
DTEND:20260115T134500
SUMMARY:Historia literatury polskiej: literatura po roku 1939 (K): 31FP-SP23
CATEGORIES:K
LOCATION:203 A-16
END:VEVENT
BEGIN:VEVENT
UID:UZ_PLZ_20260120_0800_481853
DTSTAMP:20260120T080000
DTSTART:20260120T080000
DTEND:20260120T093000
SUMMARY:Historia literatury polskiej: literatura po roku 1939 (W): 31FP-SP23
CATEGORIES:W
LOCATION:10 A-16
END:VEVENT
BEGIN:VEVENT
UID:UZ_PLZ_20260120_0945_481906
DTSTAMP:20260120T094500
DTSTART:20260120T094500
DTEND:20260120T111500
SUMMARY:Seminarium magisterskie (I) (S): 11FP-SD25/11FP-SD25/S2
CATEGORIES:S
LOCATION:204 A-16
END:VEVENT
BEGIN:VEVENT
UID:UZ_PLZ_20260120_1130_482083
DTSTAMP:20260120T113000
DTSTART:20260120T113000
DTEND:20260120T130000
SUMMARY:Dyżur instytutowy (R)
CATEGORIES:R
END:VEVENT
BEGIN:VEVENT
UID:UZ_PLZ_20260122_1000_493304
DTSTAMP:20260122T100000
DTSTART:20260122T100000
DTEND:20260122T113000
SUMMARY:Konsultacje (I)
CATEGORIES:I
END:VEVENT
BEGIN:VEVENT
UID:UZ_PLZ_20260122_1130_481913
DTSTAMP:20260122T113000
DTSTART:20260122T113000
DTEND:20260122T134500
SUMMARY:Historia literatury polskiej: literatura po roku 1939 (K): 31FP-SP23
CATEGORIES:K
LOCATION:203 A-16
END:VEVENT
BEGIN:VEVENT
UID:UZ_PLZ_20260127_0800_481853
DTSTAMP:20260127T080000
DTSTART:20260127T080000
DTEND:20260127T093000
SUMMARY:Historia literatury polskiej: literatura po roku 1939 (W): 31FP-SP23
CATEGORIES:W
LOCATION:10 A-16
END:VEVENT
BEGIN:VEVENT
UID:UZ_PLZ_20260127_0945_481906
DTSTAMP:20260127T094500
DTSTART:20260127T094500
DTEND:20260127T111500
SUMMARY:Seminarium magisterskie (I) (S): 11FP-SD25/11FP-SD25/S2
CATEGORIES:S
LOCATION:204 A-16
END:VEVENT
BEGIN:VEVENT
UID:UZ_PLZ_20260127_1130_482083
DTSTAMP:20260127T113000
DTSTART:20260127T113000
DTEND:20260127T130000
SUMMARY:Dyżur instytutowy (R)
CATEGORIES:R
END:VEVENT
BEGIN:VEVENT
UID:UZ_PLZ_20260129_1000_493304
DTSTAMP:20260129T100000
DTSTART:20260129T100000
DTEND:20260129T113000
SUMMARY:Konsultacje (I)
CATEGORIES:I
END:VEVENT
BEGIN:VEVENT
UID:UZ_PLZ_20260129_1130_481913
DTSTAMP:20260129T113000
DTSTART:20260129T113000
DTEND:20260129T134500
SUMMARY:Historia literatury polskiej: literatura po roku 1939 (K): 31FP-SP23
CATEGORIES:K
LOCATION:203 A-16
END:VEVENT
BEGIN:VEVENT
UID:UZ_PLZ_20260205_0900_505734
DTSTAMP:20260205T090000
DTSTART:20260205T090000
DTEND:20260205T103000
SUMMARY:Dyżur pracowniczy (I)
CATEGORIES:I
END:VEVENT
BEGIN:VEVENT
UID:UZ_PLZ_20260205_1030_495961
DTSTAMP:20260205T103000
DTSTART:20260205T103000
DTEND:20260205T120000
SUMMARY:Historia literatury polskiej: literatura po roku 1939 (E): 31FP-SP23
CATEGORIES:E
LOCATION:10 A-16
END:VEVENT
BEGIN:VEVENT
UID:UZ_PLZ_20260219_0900_505734
DTSTAMP:20260219T090000
DTSTART:20260219T090000
DTEND:20260219T103000
SUMMARY:Dyżur pracowniczy (I)
CATEGORIES:I
END:VEVENT
BEGIN:VEVENT
UID:UZ_PLZ_20260219_1030_495961
DTSTAMP:20260219T103000
DTSTART:20260219T103000
DTEND:20260219T120000
SUMMARY:Historia literatury polskiej: literatura po roku 1939 (E): 31FP-SP23
CATEGORIES:E
LOCATION:10 A-16
END:VEVENT
END:VCALENDAR
