BEGIN:VCALENDAR
TZID:Europe/Warsaw
X-WR-TIMEZONE:Europe/Warsaw
VERSION:2.0
PRODID:-//Uniwersytet Zielonogórski//NONSGML Plan zajęć v1.0//EN
NAME:Plan zajęć - semestr letni 2025/2026
X-WR-CALNAME:Plan zajęć - semestr letni 2025/2026
COLOR:green
CALSCALE:GREGORIAN
BEGIN:VEVENT
UID:UZ_PLZ_20260428_1130_504837
DTSTAMP:20260428T113000
DTSTART:20260428T113000
DTEND:20260428T130000
SUMMARY:Dyżur pracowniczy (I)
CATEGORIES:I
END:VEVENT
BEGIN:VEVENT
UID:UZ_PLZ_20260428_1315_507717
DTSTAMP:20260428T131500
DTSTART:20260428T131500
DTEND:20260428T144500
SUMMARY:Konsultacje (I)
CATEGORIES:I
LOCATION:309 A-16
END:VEVENT
BEGIN:VEVENT
UID:UZ_PLZ_20260428_1315_504489
DTSTAMP:20260428T131500
DTSTART:20260428T131500
DTEND:20260428T144500
SUMMARY:Seminarium magisterskie (S): 11Polit-SD
CATEGORIES:S
LOCATION:311 A-16
END:VEVENT
BEGIN:VEVENT
UID:UZ_PLZ_20260428_1515_505493
DTSTAMP:20260428T151500
DTSTART:20260428T151500
DTEND:20260428T160000
SUMMARY:Seminarium doktoranckie (S): 21-SDNHiS-24/Polit
CATEGORIES:S
END:VEVENT
BEGIN:VEVENT
UID:UZ_PLZ_20260428_1600_504498
DTSTAMP:20260428T160000
DTSTART:20260428T160000
DTEND:20260428T190000
SUMMARY:Seminarium magisterskie (S): 21Polit-SD
CATEGORIES:S
LOCATION:311 A-16
END:VEVENT
BEGIN:VEVENT
UID:UZ_PLZ_20260505_1130_504837
DTSTAMP:20260505T113000
DTSTART:20260505T113000
DTEND:20260505T130000
SUMMARY:Dyżur pracowniczy (I)
CATEGORIES:I
END:VEVENT
BEGIN:VEVENT
UID:UZ_PLZ_20260505_1315_507717
DTSTAMP:20260505T131500
DTSTART:20260505T131500
DTEND:20260505T144500
SUMMARY:Konsultacje (I)
CATEGORIES:I
LOCATION:309 A-16
END:VEVENT
BEGIN:VEVENT
UID:UZ_PLZ_20260505_1315_504489
DTSTAMP:20260505T131500
DTSTART:20260505T131500
DTEND:20260505T144500
SUMMARY:Seminarium magisterskie (S): 11Polit-SD
CATEGORIES:S
LOCATION:311 A-16
END:VEVENT
BEGIN:VEVENT
UID:UZ_PLZ_20260505_1515_505493
DTSTAMP:20260505T151500
DTSTART:20260505T151500
DTEND:20260505T160000
SUMMARY:Seminarium doktoranckie (S): 21-SDNHiS-24/Polit
CATEGORIES:S
END:VEVENT
BEGIN:VEVENT
UID:UZ_PLZ_20260505_1600_504498
DTSTAMP:20260505T160000
DTSTART:20260505T160000
DTEND:20260505T190000
SUMMARY:Seminarium magisterskie (S): 21Polit-SD
CATEGORIES:S
LOCATION:311 A-16
END:VEVENT
BEGIN:VEVENT
UID:UZ_PLZ_20260512_1130_504837
DTSTAMP:20260512T113000
DTSTART:20260512T113000
DTEND:20260512T130000
SUMMARY:Dyżur pracowniczy (I)
CATEGORIES:I
END:VEVENT
BEGIN:VEVENT
UID:UZ_PLZ_20260512_1315_507717
DTSTAMP:20260512T131500
DTSTART:20260512T131500
DTEND:20260512T144500
SUMMARY:Konsultacje (I)
CATEGORIES:I
LOCATION:309 A-16
END:VEVENT
BEGIN:VEVENT
UID:UZ_PLZ_20260512_1315_504489
DTSTAMP:20260512T131500
DTSTART:20260512T131500
DTEND:20260512T144500
SUMMARY:Seminarium magisterskie (S): 11Polit-SD
CATEGORIES:S
LOCATION:311 A-16
END:VEVENT
BEGIN:VEVENT
UID:UZ_PLZ_20260512_1515_505493
DTSTAMP:20260512T151500
DTSTART:20260512T151500
DTEND:20260512T160000
SUMMARY:Seminarium doktoranckie (S): 21-SDNHiS-24/Polit
CATEGORIES:S
END:VEVENT
BEGIN:VEVENT
UID:UZ_PLZ_20260512_1600_504498
DTSTAMP:20260512T160000
DTSTART:20260512T160000
DTEND:20260512T190000
SUMMARY:Seminarium magisterskie (S): 21Polit-SD
CATEGORIES:S
LOCATION:311 A-16
END:VEVENT
BEGIN:VEVENT
UID:UZ_PLZ_20260519_1130_504837
DTSTAMP:20260519T113000
DTSTART:20260519T113000
DTEND:20260519T130000
SUMMARY:Dyżur pracowniczy (I)
CATEGORIES:I
END:VEVENT
BEGIN:VEVENT
UID:UZ_PLZ_20260519_1315_507717
DTSTAMP:20260519T131500
DTSTART:20260519T131500
DTEND:20260519T144500
SUMMARY:Konsultacje (I)
CATEGORIES:I
LOCATION:309 A-16
END:VEVENT
BEGIN:VEVENT
UID:UZ_PLZ_20260519_1315_504489
DTSTAMP:20260519T131500
DTSTART:20260519T131500
DTEND:20260519T144500
SUMMARY:Seminarium magisterskie (S): 11Polit-SD
CATEGORIES:S
LOCATION:311 A-16
END:VEVENT
BEGIN:VEVENT
UID:UZ_PLZ_20260519_1515_505493
DTSTAMP:20260519T151500
DTSTART:20260519T151500
DTEND:20260519T160000
SUMMARY:Seminarium doktoranckie (S): 21-SDNHiS-24/Polit
CATEGORIES:S
END:VEVENT
BEGIN:VEVENT
UID:UZ_PLZ_20260519_1600_504498
DTSTAMP:20260519T160000
DTSTART:20260519T160000
DTEND:20260519T190000
SUMMARY:Seminarium magisterskie (S): 21Polit-SD
CATEGORIES:S
LOCATION:311 A-16
END:VEVENT
BEGIN:VEVENT
UID:UZ_PLZ_20260526_1130_504837
DTSTAMP:20260526T113000
DTSTART:20260526T113000
DTEND:20260526T130000
SUMMARY:Dyżur pracowniczy (I)
CATEGORIES:I
END:VEVENT
BEGIN:VEVENT
UID:UZ_PLZ_20260526_1315_507717
DTSTAMP:20260526T131500
DTSTART:20260526T131500
DTEND:20260526T144500
SUMMARY:Konsultacje (I)
CATEGORIES:I
LOCATION:309 A-16
END:VEVENT
BEGIN:VEVENT
UID:UZ_PLZ_20260526_1315_504489
DTSTAMP:20260526T131500
DTSTART:20260526T131500
DTEND:20260526T144500
SUMMARY:Seminarium magisterskie (S): 11Polit-SD
CATEGORIES:S
LOCATION:311 A-16
END:VEVENT
BEGIN:VEVENT
UID:UZ_PLZ_20260526_1515_505493
DTSTAMP:20260526T151500
DTSTART:20260526T151500
DTEND:20260526T160000
SUMMARY:Seminarium doktoranckie (S): 21-SDNHiS-24/Polit
CATEGORIES:S
END:VEVENT
BEGIN:VEVENT
UID:UZ_PLZ_20260526_1600_504498
DTSTAMP:20260526T160000
DTSTART:20260526T160000
DTEND:20260526T190000
SUMMARY:Seminarium magisterskie (S): 21Polit-SD
CATEGORIES:S
LOCATION:311 A-16
END:VEVENT
BEGIN:VEVENT
UID:UZ_PLZ_20260602_1130_504837
DTSTAMP:20260602T113000
DTSTART:20260602T113000
DTEND:20260602T130000
SUMMARY:Dyżur pracowniczy (I)
CATEGORIES:I
END:VEVENT
BEGIN:VEVENT
UID:UZ_PLZ_20260602_1315_507717
DTSTAMP:20260602T131500
DTSTART:20260602T131500
DTEND:20260602T144500
SUMMARY:Konsultacje (I)
CATEGORIES:I
LOCATION:309 A-16
END:VEVENT
BEGIN:VEVENT
UID:UZ_PLZ_20260602_1315_504489
DTSTAMP:20260602T131500
DTSTART:20260602T131500
DTEND:20260602T144500
SUMMARY:Seminarium magisterskie (S): 11Polit-SD
CATEGORIES:S
LOCATION:311 A-16
END:VEVENT
BEGIN:VEVENT
UID:UZ_PLZ_20260602_1515_505493
DTSTAMP:20260602T151500
DTSTART:20260602T151500
DTEND:20260602T160000
SUMMARY:Seminarium doktoranckie (S): 21-SDNHiS-24/Polit
CATEGORIES:S
END:VEVENT
BEGIN:VEVENT
UID:UZ_PLZ_20260602_1600_504498
DTSTAMP:20260602T160000
DTSTART:20260602T160000
DTEND:20260602T190000
SUMMARY:Seminarium magisterskie (S): 21Polit-SD
CATEGORIES:S
LOCATION:311 A-16
END:VEVENT
BEGIN:VEVENT
UID:UZ_PLZ_20260609_1130_504837
DTSTAMP:20260609T113000
DTSTART:20260609T113000
DTEND:20260609T130000
SUMMARY:Dyżur pracowniczy (I)
CATEGORIES:I
END:VEVENT
BEGIN:VEVENT
UID:UZ_PLZ_20260609_1315_507717
DTSTAMP:20260609T131500
DTSTART:20260609T131500
DTEND:20260609T144500
SUMMARY:Konsultacje (I)
CATEGORIES:I
LOCATION:309 A-16
END:VEVENT
BEGIN:VEVENT
UID:UZ_PLZ_20260609_1315_504489
DTSTAMP:20260609T131500
DTSTART:20260609T131500
DTEND:20260609T144500
SUMMARY:Seminarium magisterskie (S): 11Polit-SD
CATEGORIES:S
LOCATION:311 A-16
END:VEVENT
BEGIN:VEVENT
UID:UZ_PLZ_20260609_1515_505493
DTSTAMP:20260609T151500
DTSTART:20260609T151500
DTEND:20260609T160000
SUMMARY:Seminarium doktoranckie (S): 21-SDNHiS-24/Polit
CATEGORIES:S
END:VEVENT
BEGIN:VEVENT
UID:UZ_PLZ_20260609_1600_504498
DTSTAMP:20260609T160000
DTSTART:20260609T160000
DTEND:20260609T190000
SUMMARY:Seminarium magisterskie (S): 21Polit-SD
CATEGORIES:S
LOCATION:311 A-16
END:VEVENT
BEGIN:VEVENT
UID:UZ_PLZ_20260616_1130_504837
DTSTAMP:20260616T113000
DTSTART:20260616T113000
DTEND:20260616T130000
SUMMARY:Dyżur pracowniczy (I)
CATEGORIES:I
END:VEVENT
BEGIN:VEVENT
UID:UZ_PLZ_20260616_1315_507717
DTSTAMP:20260616T131500
DTSTART:20260616T131500
DTEND:20260616T144500
SUMMARY:Konsultacje (I)
CATEGORIES:I
LOCATION:309 A-16
END:VEVENT
BEGIN:VEVENT
UID:UZ_PLZ_20260616_1315_504489
DTSTAMP:20260616T131500
DTSTART:20260616T131500
DTEND:20260616T144500
SUMMARY:Seminarium magisterskie (S): 11Polit-SD
CATEGORIES:S
LOCATION:311 A-16
END:VEVENT
BEGIN:VEVENT
UID:UZ_PLZ_20260616_1515_505493
DTSTAMP:20260616T151500
DTSTART:20260616T151500
DTEND:20260616T160000
SUMMARY:Seminarium doktoranckie (S): 21-SDNHiS-24/Polit
CATEGORIES:S
END:VEVENT
BEGIN:VEVENT
UID:UZ_PLZ_20260616_1600_504498
DTSTAMP:20260616T160000
DTSTART:20260616T160000
DTEND:20260616T190000
SUMMARY:Seminarium magisterskie (S): 21Polit-SD
CATEGORIES:S
LOCATION:311 A-16
END:VEVENT
END:VCALENDAR
