BEGIN:VCALENDAR
TZID:Europe/Warsaw
X-WR-TIMEZONE:Europe/Warsaw
VERSION:2.0
PRODID:-//Uniwersytet Zielonogórski//NONSGML Plan zajęć v1.0//EN
NAME:Plan zajęć - semestr letni 2025/2026
X-WR-CALNAME:Plan zajęć - semestr letni 2025/2026
COLOR:green
CALSCALE:GREGORIAN
BEGIN:VEVENT
UID:UZ_PLZ_20260425_1100_500522
DTSTAMP:20260425T110000
DTSTART:20260425T110000
DTEND:20260425T123000
SUMMARY:Sterowanie jakością (W): 31ZiIP-IJ-NP
CATEGORIES:W
LOCATION:B311 A-11
END:VEVENT
BEGIN:VEVENT
UID:UZ_PLZ_20260425_1245_500481
DTSTAMP:20260425T124500
DTSTART:20260425T124500
DTEND:20260425T141500
SUMMARY:Sterowanie jakością (L): 31ZiIP-IJ-NP
CATEGORIES:L
LOCATION:B202 A-11
DESCRIPTION:<a href="https://classroom.google.com/c/ODUwMTkyNTI1NzQ5">Google Classroom</a> 
END:VEVENT
BEGIN:VEVENT
UID:UZ_PLZ_20260425_1430_500469
DTSTAMP:20260425T143000
DTSTART:20260425T143000
DTEND:20260425T160000
SUMMARY:Roboty mobilne i kooperacyjne (L): 25ZiIP-P4-ND
CATEGORIES:L
LOCATION:20 A-9
END:VEVENT
BEGIN:VEVENT
UID:UZ_PLZ_20260426_0730_500464
DTSTAMP:20260426T073000
DTSTART:20260426T073000
DTEND:20260426T090000
SUMMARY:Podstawy automatyki i elektrotechniki (L): 11ZiIP-NP/A
CATEGORIES:L
LOCATION:22 A-9
END:VEVENT
BEGIN:VEVENT
UID:UZ_PLZ_20260426_0915_500567
DTSTAMP:20260426T091500
DTSTART:20260426T091500
DTEND:20260426T104500
SUMMARY:Podstawy automatyki i elektrotechniki (L): 11ZiIP-NP/B
CATEGORIES:L
LOCATION:22 A-9
END:VEVENT
BEGIN:VEVENT
UID:UZ_PLZ_20260426_1245_500520
DTSTAMP:20260426T124500
DTSTART:20260426T124500
DTEND:20260426T141500
SUMMARY:Projektowanie inżynierskich baz danych (L): 21ZiIP-NP/B
CATEGORIES:L
LOCATION:B420 A-11
END:VEVENT
BEGIN:VEVENT
UID:UZ_PLZ_20260426_1430_500503
DTSTAMP:20260426T143000
DTSTART:20260426T143000
DTEND:20260426T160000
SUMMARY:Projektowanie inżynierskich baz danych (L): 21ZiIP-NP/A
CATEGORIES:L
LOCATION:B202 A-11
END:VEVENT
BEGIN:VEVENT
UID:UZ_PLZ_20260428_1245_500393
DTSTAMP:20260428T124500
DTSTART:20260428T124500
DTEND:20260428T141500
SUMMARY:Projektowanie inżynierskich baz danych (L): 21ZiIP-SP
CATEGORIES:L
LOCATION:B202 A-11
END:VEVENT
BEGIN:VEVENT
UID:UZ_PLZ_20260430_0920_500444
DTSTAMP:20260430T092000
DTSTART:20260430T092000
DTEND:20260430T104500
SUMMARY:Podstawy automatyki i elektrotechniki (W): 11ZiIP-SP
CATEGORIES:W
LOCATION:B213 A-11
END:VEVENT
BEGIN:VEVENT
UID:UZ_PLZ_20260430_1100_500397
DTSTAMP:20260430T110000
DTSTART:20260430T110000
DTEND:20260430T123000
SUMMARY:Podstawy automatyki i elektrotechniki (L): 11ZiIP-SP/A
CATEGORIES:L
LOCATION:22 A-9
END:VEVENT
BEGIN:VEVENT
UID:UZ_PLZ_20260430_1245_500445
DTSTAMP:20260430T124500
DTSTART:20260430T124500
DTEND:20260430T141500
SUMMARY:Podstawy automatyki i elektrotechniki (L): 11ZiIP-SP/B
CATEGORIES:L
LOCATION:22 A-9
END:VEVENT
BEGIN:VEVENT
UID:UZ_PLZ_20260505_1245_500393
DTSTAMP:20260505T124500
DTSTART:20260505T124500
DTEND:20260505T141500
SUMMARY:Projektowanie inżynierskich baz danych (L): 21ZiIP-SP
CATEGORIES:L
LOCATION:B202 A-11
END:VEVENT
BEGIN:VEVENT
UID:UZ_PLZ_20260506_0915_500366
DTSTAMP:20260506T091500
DTSTART:20260506T091500
DTEND:20260506T110000
SUMMARY:Rezerwacja IIM (R)
CATEGORIES:R
END:VEVENT
BEGIN:VEVENT
UID:UZ_PLZ_20260507_1100_500397
DTSTAMP:20260507T110000
DTSTART:20260507T110000
DTEND:20260507T123000
SUMMARY:Podstawy automatyki i elektrotechniki (L): 11ZiIP-SP/A
CATEGORIES:L
LOCATION:22 A-9
END:VEVENT
BEGIN:VEVENT
UID:UZ_PLZ_20260507_1245_500445
DTSTAMP:20260507T124500
DTSTART:20260507T124500
DTEND:20260507T141500
SUMMARY:Podstawy automatyki i elektrotechniki (L): 11ZiIP-SP/B
CATEGORIES:L
LOCATION:22 A-9
END:VEVENT
BEGIN:VEVENT
UID:UZ_PLZ_20260509_0730_500503
DTSTAMP:20260509T073000
DTSTART:20260509T073000
DTEND:20260509T090000
SUMMARY:Projektowanie inżynierskich baz danych (L): 21ZiIP-NP/A
CATEGORIES:L
LOCATION:H222 A-10
END:VEVENT
BEGIN:VEVENT
UID:UZ_PLZ_20260509_1100_500522
DTSTAMP:20260509T110000
DTSTART:20260509T110000
DTEND:20260509T123000
SUMMARY:Sterowanie jakością (W): 31ZiIP-IJ-NP
CATEGORIES:W
LOCATION:B311 A-11
END:VEVENT
BEGIN:VEVENT
UID:UZ_PLZ_20260509_1245_500481
DTSTAMP:20260509T124500
DTSTART:20260509T124500
DTEND:20260509T141500
SUMMARY:Sterowanie jakością (L): 31ZiIP-IJ-NP
CATEGORIES:L
LOCATION:B202 A-11
DESCRIPTION:<a href="https://classroom.google.com/c/ODUwMTkyNTI1NzQ5">Google Classroom</a> 
END:VEVENT
BEGIN:VEVENT
UID:UZ_PLZ_20260509_1430_500469
DTSTAMP:20260509T143000
DTSTART:20260509T143000
DTEND:20260509T160000
SUMMARY:Roboty mobilne i kooperacyjne (L): 25ZiIP-P4-ND
CATEGORIES:L
LOCATION:20 A-9
END:VEVENT
BEGIN:VEVENT
UID:UZ_PLZ_20260510_0730_500464
DTSTAMP:20260510T073000
DTSTART:20260510T073000
DTEND:20260510T090000
SUMMARY:Podstawy automatyki i elektrotechniki (L): 11ZiIP-NP/A
CATEGORIES:L
LOCATION:22 A-9
END:VEVENT
BEGIN:VEVENT
UID:UZ_PLZ_20260510_0915_500567
DTSTAMP:20260510T091500
DTSTART:20260510T091500
DTEND:20260510T104500
SUMMARY:Podstawy automatyki i elektrotechniki (L): 11ZiIP-NP/B
CATEGORIES:L
LOCATION:22 A-9
END:VEVENT
BEGIN:VEVENT
UID:UZ_PLZ_20260510_1240_500533
DTSTAMP:20260510T124000
DTSTART:20260510T124000
DTEND:20260510T142000
SUMMARY:Podstawy automatyki i elektrotechniki (W): 11ZiIP-NP
CATEGORIES:W
LOCATION:B213 A-11
END:VEVENT
BEGIN:VEVENT
UID:UZ_PLZ_20260510_1430_500555
DTSTAMP:20260510T143000
DTSTART:20260510T143000
DTEND:20260510T161000
SUMMARY:Programowanie w zastosowaniach inżynierskich (Ć): 15ZiIP-ND
CATEGORIES:Ć
LOCATION:B112 A-11
END:VEVENT
BEGIN:VEVENT
UID:UZ_PLZ_20260510_1615_500520
DTSTAMP:20260510T161500
DTSTART:20260510T161500
DTEND:20260510T174500
SUMMARY:Projektowanie inżynierskich baz danych (L): 21ZiIP-NP/B
CATEGORIES:L
LOCATION:B202 A-11
END:VEVENT
BEGIN:VEVENT
UID:UZ_PLZ_20260512_1245_500393
DTSTAMP:20260512T124500
DTSTART:20260512T124500
DTEND:20260512T141500
SUMMARY:Projektowanie inżynierskich baz danych (L): 21ZiIP-SP
CATEGORIES:L
LOCATION:B202 A-11
END:VEVENT
BEGIN:VEVENT
UID:UZ_PLZ_20260513_0915_500366
DTSTAMP:20260513T091500
DTSTART:20260513T091500
DTEND:20260513T110000
SUMMARY:Rezerwacja IIM (R)
CATEGORIES:R
END:VEVENT
BEGIN:VEVENT
UID:UZ_PLZ_20260514_0920_500444
DTSTAMP:20260514T092000
DTSTART:20260514T092000
DTEND:20260514T104500
SUMMARY:Podstawy automatyki i elektrotechniki (W): 11ZiIP-SP
CATEGORIES:W
LOCATION:B213 A-11
END:VEVENT
BEGIN:VEVENT
UID:UZ_PLZ_20260514_1100_500397
DTSTAMP:20260514T110000
DTSTART:20260514T110000
DTEND:20260514T123000
SUMMARY:Podstawy automatyki i elektrotechniki (L): 11ZiIP-SP/A
CATEGORIES:L
LOCATION:22 A-9
END:VEVENT
BEGIN:VEVENT
UID:UZ_PLZ_20260514_1245_500445
DTSTAMP:20260514T124500
DTSTART:20260514T124500
DTEND:20260514T141500
SUMMARY:Podstawy automatyki i elektrotechniki (L): 11ZiIP-SP/B
CATEGORIES:L
LOCATION:22 A-9
END:VEVENT
BEGIN:VEVENT
UID:UZ_PLZ_20260516_1100_500522
DTSTAMP:20260516T110000
DTSTART:20260516T110000
DTEND:20260516T123000
SUMMARY:Sterowanie jakością (W): 31ZiIP-IJ-NP
CATEGORIES:W
LOCATION:B311 A-11
END:VEVENT
BEGIN:VEVENT
UID:UZ_PLZ_20260516_1245_500481
DTSTAMP:20260516T124500
DTSTART:20260516T124500
DTEND:20260516T141500
SUMMARY:Sterowanie jakością (L): 31ZiIP-IJ-NP
CATEGORIES:L
LOCATION:B202 A-11
DESCRIPTION:<a href="https://classroom.google.com/c/ODUwMTkyNTI1NzQ5">Google Classroom</a> 
END:VEVENT
BEGIN:VEVENT
UID:UZ_PLZ_20260516_1430_500469
DTSTAMP:20260516T143000
DTSTART:20260516T143000
DTEND:20260516T160000
SUMMARY:Roboty mobilne i kooperacyjne (L): 25ZiIP-P4-ND
CATEGORIES:L
LOCATION:20 A-9
END:VEVENT
BEGIN:VEVENT
UID:UZ_PLZ_20260517_0730_500464
DTSTAMP:20260517T073000
DTSTART:20260517T073000
DTEND:20260517T090000
SUMMARY:Podstawy automatyki i elektrotechniki (L): 11ZiIP-NP/A
CATEGORIES:L
LOCATION:22 A-9
END:VEVENT
BEGIN:VEVENT
UID:UZ_PLZ_20260517_0915_500567
DTSTAMP:20260517T091500
DTSTART:20260517T091500
DTEND:20260517T104500
SUMMARY:Podstawy automatyki i elektrotechniki (L): 11ZiIP-NP/B
CATEGORIES:L
LOCATION:22 A-9
END:VEVENT
BEGIN:VEVENT
UID:UZ_PLZ_20260517_1245_500520
DTSTAMP:20260517T124500
DTSTART:20260517T124500
DTEND:20260517T141500
SUMMARY:Projektowanie inżynierskich baz danych (L): 21ZiIP-NP/B
CATEGORIES:L
LOCATION:B420 A-11
END:VEVENT
BEGIN:VEVENT
UID:UZ_PLZ_20260517_1430_500503
DTSTAMP:20260517T143000
DTSTART:20260517T143000
DTEND:20260517T160000
SUMMARY:Projektowanie inżynierskich baz danych (L): 21ZiIP-NP/A
CATEGORIES:L
LOCATION:B202 A-11
END:VEVENT
BEGIN:VEVENT
UID:UZ_PLZ_20260519_1245_500393
DTSTAMP:20260519T124500
DTSTART:20260519T124500
DTEND:20260519T141500
SUMMARY:Projektowanie inżynierskich baz danych (L): 21ZiIP-SP
CATEGORIES:L
LOCATION:B202 A-11
END:VEVENT
BEGIN:VEVENT
UID:UZ_PLZ_20260520_0915_500366
DTSTAMP:20260520T091500
DTSTART:20260520T091500
DTEND:20260520T110000
SUMMARY:Rezerwacja IIM (R)
CATEGORIES:R
END:VEVENT
BEGIN:VEVENT
UID:UZ_PLZ_20260521_1100_500397
DTSTAMP:20260521T110000
DTSTART:20260521T110000
DTEND:20260521T123000
SUMMARY:Podstawy automatyki i elektrotechniki (L): 11ZiIP-SP/A
CATEGORIES:L
LOCATION:22 A-9
END:VEVENT
BEGIN:VEVENT
UID:UZ_PLZ_20260521_1245_500445
DTSTAMP:20260521T124500
DTSTART:20260521T124500
DTEND:20260521T141500
SUMMARY:Podstawy automatyki i elektrotechniki (L): 11ZiIP-SP/B
CATEGORIES:L
LOCATION:22 A-9
END:VEVENT
BEGIN:VEVENT
UID:UZ_PLZ_20260526_1245_500393
DTSTAMP:20260526T124500
DTSTART:20260526T124500
DTEND:20260526T141500
SUMMARY:Projektowanie inżynierskich baz danych (L): 21ZiIP-SP
CATEGORIES:L
LOCATION:B202 A-11
END:VEVENT
BEGIN:VEVENT
UID:UZ_PLZ_20260527_0915_500366
DTSTAMP:20260527T091500
DTSTART:20260527T091500
DTEND:20260527T110000
SUMMARY:Rezerwacja IIM (R)
CATEGORIES:R
END:VEVENT
BEGIN:VEVENT
UID:UZ_PLZ_20260528_0920_500444
DTSTAMP:20260528T092000
DTSTART:20260528T092000
DTEND:20260528T104500
SUMMARY:Podstawy automatyki i elektrotechniki (W): 11ZiIP-SP
CATEGORIES:W
LOCATION:B213 A-11
END:VEVENT
BEGIN:VEVENT
UID:UZ_PLZ_20260528_1100_500397
DTSTAMP:20260528T110000
DTSTART:20260528T110000
DTEND:20260528T123000
SUMMARY:Podstawy automatyki i elektrotechniki (L): 11ZiIP-SP/A
CATEGORIES:L
LOCATION:22 A-9
END:VEVENT
BEGIN:VEVENT
UID:UZ_PLZ_20260528_1245_500445
DTSTAMP:20260528T124500
DTSTART:20260528T124500
DTEND:20260528T141500
SUMMARY:Podstawy automatyki i elektrotechniki (L): 11ZiIP-SP/B
CATEGORIES:L
LOCATION:22 A-9
END:VEVENT
BEGIN:VEVENT
UID:UZ_PLZ_20260530_0730_500503
DTSTAMP:20260530T073000
DTSTART:20260530T073000
DTEND:20260530T090000
SUMMARY:Projektowanie inżynierskich baz danych (L): 21ZiIP-NP/A
CATEGORIES:L
LOCATION:H222 A-10
END:VEVENT
BEGIN:VEVENT
UID:UZ_PLZ_20260530_1100_500522
DTSTAMP:20260530T110000
DTSTART:20260530T110000
DTEND:20260530T123000
SUMMARY:Sterowanie jakością (W): 31ZiIP-IJ-NP
CATEGORIES:W
LOCATION:B311 A-11
END:VEVENT
BEGIN:VEVENT
UID:UZ_PLZ_20260530_1245_500481
DTSTAMP:20260530T124500
DTSTART:20260530T124500
DTEND:20260530T141500
SUMMARY:Sterowanie jakością (L): 31ZiIP-IJ-NP
CATEGORIES:L
LOCATION:B202 A-11
DESCRIPTION:<a href="https://classroom.google.com/c/ODUwMTkyNTI1NzQ5">Google Classroom</a> 
END:VEVENT
BEGIN:VEVENT
UID:UZ_PLZ_20260530_1430_500469
DTSTAMP:20260530T143000
DTSTART:20260530T143000
DTEND:20260530T160000
SUMMARY:Roboty mobilne i kooperacyjne (L): 25ZiIP-P4-ND
CATEGORIES:L
LOCATION:20 A-9
END:VEVENT
BEGIN:VEVENT
UID:UZ_PLZ_20260531_0730_500523
DTSTAMP:20260531T073000
DTSTART:20260531T073000
DTEND:20260531T090000
SUMMARY:Techniki wytwarzania (L): 11ZiIP-NP/B
CATEGORIES:L
LOCATION:H130 A-10
END:VEVENT
BEGIN:VEVENT
UID:UZ_PLZ_20260531_0915_500572
DTSTAMP:20260531T091500
DTSTART:20260531T091500
DTEND:20260531T104500
SUMMARY:Techniki wytwarzania (L): 11ZiIP-NP/A
CATEGORIES:L
LOCATION:H130 A-10
END:VEVENT
BEGIN:VEVENT
UID:UZ_PLZ_20260531_1240_500533
DTSTAMP:20260531T124000
DTSTART:20260531T124000
DTEND:20260531T142000
SUMMARY:Podstawy automatyki i elektrotechniki (W): 11ZiIP-NP
CATEGORIES:W
LOCATION:B213 A-11
END:VEVENT
BEGIN:VEVENT
UID:UZ_PLZ_20260531_1430_500555
DTSTAMP:20260531T143000
DTSTART:20260531T143000
DTEND:20260531T161000
SUMMARY:Programowanie w zastosowaniach inżynierskich (Ć): 15ZiIP-ND
CATEGORIES:Ć
LOCATION:B112 A-11
END:VEVENT
BEGIN:VEVENT
UID:UZ_PLZ_20260531_1615_500520
DTSTAMP:20260531T161500
DTSTART:20260531T161500
DTEND:20260531T174500
SUMMARY:Projektowanie inżynierskich baz danych (L): 21ZiIP-NP/B
CATEGORIES:L
LOCATION:B202 A-11
END:VEVENT
BEGIN:VEVENT
UID:UZ_PLZ_20260601_1000_500452
DTSTAMP:20260601T100000
DTSTART:20260601T100000
DTEND:20260601T104500
SUMMARY:Techniki wytwarzania (L): 11ZiIP-SP/A
CATEGORIES:L
LOCATION:B202 A-11
END:VEVENT
BEGIN:VEVENT
UID:UZ_PLZ_20260602_1000_500421
DTSTAMP:20260602T100000
DTSTART:20260602T100000
DTEND:20260602T104500
SUMMARY:Techniki wytwarzania (L): 11ZiIP-SP/B
CATEGORIES:L
LOCATION:B202 A-11
END:VEVENT
BEGIN:VEVENT
UID:UZ_PLZ_20260602_1245_500393
DTSTAMP:20260602T124500
DTSTART:20260602T124500
DTEND:20260602T141500
SUMMARY:Projektowanie inżynierskich baz danych (L): 21ZiIP-SP
CATEGORIES:L
LOCATION:B202 A-11
END:VEVENT
BEGIN:VEVENT
UID:UZ_PLZ_20260603_0915_500366
DTSTAMP:20260603T091500
DTSTART:20260603T091500
DTEND:20260603T110000
SUMMARY:Rezerwacja IIM (R)
CATEGORIES:R
END:VEVENT
BEGIN:VEVENT
UID:UZ_PLZ_20260608_0735_500452
DTSTAMP:20260608T073500
DTSTART:20260608T073500
DTEND:20260608T090000
SUMMARY:Techniki wytwarzania (L): 11ZiIP-SP/A
CATEGORIES:L
LOCATION:B202 A-11
END:VEVENT
BEGIN:VEVENT
UID:UZ_PLZ_20260608_0915_500452
DTSTAMP:20260608T091500
DTSTART:20260608T091500
DTEND:20260608T104500
SUMMARY:Techniki wytwarzania (L): 11ZiIP-SP/A
CATEGORIES:L
LOCATION:B202 A-11
END:VEVENT
BEGIN:VEVENT
UID:UZ_PLZ_20260609_0915_500421
DTSTAMP:20260609T091500
DTSTART:20260609T091500
DTEND:20260609T104500
SUMMARY:Techniki wytwarzania (L): 11ZiIP-SP/B
CATEGORIES:L
LOCATION:B202 A-11
END:VEVENT
BEGIN:VEVENT
UID:UZ_PLZ_20260609_1245_500393
DTSTAMP:20260609T124500
DTSTART:20260609T124500
DTEND:20260609T141500
SUMMARY:Projektowanie inżynierskich baz danych (L): 21ZiIP-SP
CATEGORIES:L
LOCATION:B202 A-11
END:VEVENT
BEGIN:VEVENT
UID:UZ_PLZ_20260610_0915_500366
DTSTAMP:20260610T091500
DTSTART:20260610T091500
DTEND:20260610T110000
SUMMARY:Rezerwacja IIM (R)
CATEGORIES:R
END:VEVENT
BEGIN:VEVENT
UID:UZ_PLZ_20260611_0920_500444
DTSTAMP:20260611T092000
DTSTART:20260611T092000
DTEND:20260611T104500
SUMMARY:Podstawy automatyki i elektrotechniki (W): 11ZiIP-SP
CATEGORIES:W
LOCATION:B213 A-11
END:VEVENT
BEGIN:VEVENT
UID:UZ_PLZ_20260611_1100_500397
DTSTAMP:20260611T110000
DTSTART:20260611T110000
DTEND:20260611T123000
SUMMARY:Podstawy automatyki i elektrotechniki (L): 11ZiIP-SP/A
CATEGORIES:L
LOCATION:22 A-9
END:VEVENT
BEGIN:VEVENT
UID:UZ_PLZ_20260611_1245_500445
DTSTAMP:20260611T124500
DTSTART:20260611T124500
DTEND:20260611T141500
SUMMARY:Podstawy automatyki i elektrotechniki (L): 11ZiIP-SP/B
CATEGORIES:L
LOCATION:22 A-9
END:VEVENT
BEGIN:VEVENT
UID:UZ_PLZ_20260613_1100_500522
DTSTAMP:20260613T110000
DTSTART:20260613T110000
DTEND:20260613T123000
SUMMARY:Sterowanie jakością (W): 31ZiIP-IJ-NP
CATEGORIES:W
LOCATION:B311 A-11
END:VEVENT
BEGIN:VEVENT
UID:UZ_PLZ_20260613_1245_500481
DTSTAMP:20260613T124500
DTSTART:20260613T124500
DTEND:20260613T141500
SUMMARY:Sterowanie jakością (L): 31ZiIP-IJ-NP
CATEGORIES:L
LOCATION:B202 A-11
DESCRIPTION:<a href="https://classroom.google.com/c/ODUwMTkyNTI1NzQ5">Google Classroom</a> 
END:VEVENT
BEGIN:VEVENT
UID:UZ_PLZ_20260613_1430_500469
DTSTAMP:20260613T143000
DTSTART:20260613T143000
DTEND:20260613T160000
SUMMARY:Roboty mobilne i kooperacyjne (L): 25ZiIP-P4-ND
CATEGORIES:L
LOCATION:20 A-9
END:VEVENT
BEGIN:VEVENT
UID:UZ_PLZ_20260614_0730_500523
DTSTAMP:20260614T073000
DTSTART:20260614T073000
DTEND:20260614T090000
SUMMARY:Techniki wytwarzania (L): 11ZiIP-NP/B
CATEGORIES:L
LOCATION:H130 A-10
END:VEVENT
BEGIN:VEVENT
UID:UZ_PLZ_20260614_0915_500572
DTSTAMP:20260614T091500
DTSTART:20260614T091500
DTEND:20260614T104500
SUMMARY:Techniki wytwarzania (L): 11ZiIP-NP/A
CATEGORIES:L
LOCATION:H130 A-10
END:VEVENT
BEGIN:VEVENT
UID:UZ_PLZ_20260614_1245_500520
DTSTAMP:20260614T124500
DTSTART:20260614T124500
DTEND:20260614T141500
SUMMARY:Projektowanie inżynierskich baz danych (L): 21ZiIP-NP/B
CATEGORIES:L
LOCATION:B420 A-11
END:VEVENT
BEGIN:VEVENT
UID:UZ_PLZ_20260614_1430_500503
DTSTAMP:20260614T143000
DTSTART:20260614T143000
DTEND:20260614T160000
SUMMARY:Projektowanie inżynierskich baz danych (L): 21ZiIP-NP/A
CATEGORIES:L
LOCATION:B202 A-11
END:VEVENT
BEGIN:VEVENT
UID:UZ_PLZ_20260615_0915_500452
DTSTAMP:20260615T091500
DTSTART:20260615T091500
DTEND:20260615T104500
SUMMARY:Techniki wytwarzania (L): 11ZiIP-SP/A
CATEGORIES:L
LOCATION:B202 A-11
END:VEVENT
BEGIN:VEVENT
UID:UZ_PLZ_20260616_0730_500421
DTSTAMP:20260616T073000
DTSTART:20260616T073000
DTEND:20260616T090500
SUMMARY:Techniki wytwarzania (L): 11ZiIP-SP/B
CATEGORIES:L
LOCATION:B202 A-11
END:VEVENT
BEGIN:VEVENT
UID:UZ_PLZ_20260616_0915_500421
DTSTAMP:20260616T091500
DTSTART:20260616T091500
DTEND:20260616T104500
SUMMARY:Techniki wytwarzania (L): 11ZiIP-SP/B
CATEGORIES:L
LOCATION:B202 A-11
END:VEVENT
BEGIN:VEVENT
UID:UZ_PLZ_20260616_1245_500393
DTSTAMP:20260616T124500
DTSTART:20260616T124500
DTEND:20260616T141500
SUMMARY:Projektowanie inżynierskich baz danych (L): 21ZiIP-SP
CATEGORIES:L
LOCATION:B202 A-11
END:VEVENT
BEGIN:VEVENT
UID:UZ_PLZ_20260617_0915_500366
DTSTAMP:20260617T091500
DTSTART:20260617T091500
DTEND:20260617T110000
SUMMARY:Rezerwacja IIM (R)
CATEGORIES:R
END:VEVENT
BEGIN:VEVENT
UID:UZ_PLZ_20260618_1100_500397
DTSTAMP:20260618T110000
DTSTART:20260618T110000
DTEND:20260618T123000
SUMMARY:Podstawy automatyki i elektrotechniki (L): 11ZiIP-SP/A
CATEGORIES:L
LOCATION:22 A-9
END:VEVENT
BEGIN:VEVENT
UID:UZ_PLZ_20260618_1245_500445
DTSTAMP:20260618T124500
DTSTART:20260618T124500
DTEND:20260618T141500
SUMMARY:Podstawy automatyki i elektrotechniki (L): 11ZiIP-SP/B
CATEGORIES:L
LOCATION:22 A-9
END:VEVENT
BEGIN:VEVENT
UID:UZ_PLZ_20260620_1100_507762
DTSTAMP:20260620T110000
DTSTART:20260620T110000
DTEND:20260620T123000
SUMMARY:Sterowanie jakością (E): 31ZiIP-IJ-NP
CATEGORIES:E
LOCATION:B208 A-11
END:VEVENT
BEGIN:VEVENT
UID:UZ_PLZ_20260912_1100_507762
DTSTAMP:20260912T110000
DTSTART:20260912T110000
DTEND:20260912T123000
SUMMARY:Sterowanie jakością (E): 31ZiIP-IJ-NP
CATEGORIES:E
LOCATION:B208 A-11
END:VEVENT
END:VCALENDAR
