BEGIN:VCALENDAR
TZID:Europe/Warsaw
X-WR-TIMEZONE:Europe/Warsaw
VERSION:2.0
PRODID:-//Uniwersytet Zielonogórski//NONSGML Plan zajęć v1.0//EN
NAME:Plan zajęć - semestr zimowy 2025/2026
X-WR-CALNAME:Plan zajęć - semestr zimowy 2025/2026
COLOR:green
CALSCALE:GREGORIAN
BEGIN:VEVENT
UID:UZ_PLZ_20251004_1100_492436
DTSTAMP:20251004T110000
DTSTART:20251004T110000
DTEND:20251004T123000
SUMMARY:Proseminarium (Pro): 11BN-ND
CATEGORIES:Pro
LOCATION:111 A-0
ATTACH:https://classroom.google.com/c/ODE2NzUzOTUzNzg4
END:VEVENT
BEGIN:VEVENT
UID:UZ_PLZ_20251005_1255_489687
DTSTAMP:20251005T125500
DTSTART:20251005T125500
DTEND:20251005T141500
SUMMARY:Negocjacje (Ć): 11LOG-LB-ND(L)
CATEGORIES:Ć
LOCATION:02a C-2
END:VEVENT
BEGIN:VEVENT
UID:UZ_PLZ_20251005_1430_488427
DTSTAMP:20251005T143000
DTSTART:20251005T143000
DTEND:20251005T155000
SUMMARY:Negocjacje gospodarcze (Ć): 21FiR-ARF-ND
CATEGORIES:Ć
LOCATION:02a C-2
END:VEVENT
BEGIN:VEVENT
UID:UZ_PLZ_20251005_1800_488428
DTSTAMP:20251005T180000
DTSTART:20251005T180000
DTEND:20251005T192000
SUMMARY:Negocjacje gospodarcze (Ć): 22FiR-FP-ND
CATEGORIES:Ć
LOCATION:03b A-0
END:VEVENT
BEGIN:VEVENT
UID:UZ_PLZ_20251009_0730_491929
DTSTAMP:20251009T073000
DTSTART:20251009T073000
DTEND:20251009T090500
SUMMARY:Socjologiczne aspekty zagrożeń (W): 31BN-SP
CATEGORIES:W
LOCATION:F6 A-0
END:VEVENT
BEGIN:VEVENT
UID:UZ_PLZ_20251009_0915_491736
DTSTAMP:20251009T091500
DTSTART:20251009T091500
DTEND:20251009T105000
SUMMARY:Negocjacje (Ć): 12LOG-ML-SD(L)
CATEGORIES:Ć
LOCATION:106 A-2
END:VEVENT
BEGIN:VEVENT
UID:UZ_PLZ_20251009_1100_491629
DTSTAMP:20251009T110000
DTSTART:20251009T110000
DTEND:20251009T123500
SUMMARY:Negocjacje (Ć): 11LOG-LB-SD(L)
CATEGORIES:Ć
LOCATION:106 A-2
END:VEVENT
BEGIN:VEVENT
UID:UZ_PLZ_20251009_1245_491601
DTSTAMP:20251009T124500
DTSTART:20251009T124500
DTEND:20251009T142000
SUMMARY:Wykład monograficzny specjalnościowy: Współczesny menedżer (W): 12LOG-ML-SD(L)
CATEGORIES:W
LOCATION:1 C-2
END:VEVENT
BEGIN:VEVENT
UID:UZ_PLZ_20251009_1430_491913
DTSTAMP:20251009T143000
DTSTART:20251009T143000
DTEND:20251009T160500
SUMMARY:Socjologiczne aspekty zagrożeń (Ć): 31BN-SP
CATEGORIES:Ć
LOCATION:F7 A-0
END:VEVENT
BEGIN:VEVENT
UID:UZ_PLZ_20251009_1615_491913
DTSTAMP:20251009T161500
DTSTART:20251009T161500
DTEND:20251009T175500
SUMMARY:Socjologiczne aspekty zagrożeń (Ć): 31BN-SP
CATEGORIES:Ć
LOCATION:F7 A-0
END:VEVENT
BEGIN:VEVENT
UID:UZ_PLZ_20251023_0730_491929
DTSTAMP:20251023T073000
DTSTART:20251023T073000
DTEND:20251023T090500
SUMMARY:Socjologiczne aspekty zagrożeń (W): 31BN-SP
CATEGORIES:W
LOCATION:F6 A-0
END:VEVENT
BEGIN:VEVENT
UID:UZ_PLZ_20251023_0915_491736
DTSTAMP:20251023T091500
DTSTART:20251023T091500
DTEND:20251023T105000
SUMMARY:Negocjacje (Ć): 12LOG-ML-SD(L)
CATEGORIES:Ć
LOCATION:106 A-2
END:VEVENT
BEGIN:VEVENT
UID:UZ_PLZ_20251023_1100_491629
DTSTAMP:20251023T110000
DTSTART:20251023T110000
DTEND:20251023T123500
SUMMARY:Negocjacje (Ć): 11LOG-LB-SD(L)
CATEGORIES:Ć
LOCATION:106 A-2
END:VEVENT
BEGIN:VEVENT
UID:UZ_PLZ_20251023_1245_491601
DTSTAMP:20251023T124500
DTSTART:20251023T124500
DTEND:20251023T142000
SUMMARY:Wykład monograficzny specjalnościowy: Współczesny menedżer (W): 12LOG-ML-SD(L)
CATEGORIES:W
LOCATION:1 C-2
END:VEVENT
BEGIN:VEVENT
UID:UZ_PLZ_20251023_1430_491913
DTSTAMP:20251023T143000
DTSTART:20251023T143000
DTEND:20251023T160500
SUMMARY:Socjologiczne aspekty zagrożeń (Ć): 31BN-SP
CATEGORIES:Ć
LOCATION:F7 A-0
END:VEVENT
BEGIN:VEVENT
UID:UZ_PLZ_20251023_1615_491913
DTSTAMP:20251023T161500
DTSTART:20251023T161500
DTEND:20251023T175500
SUMMARY:Socjologiczne aspekty zagrożeń (Ć): 31BN-SP
CATEGORIES:Ć
LOCATION:F7 A-0
END:VEVENT
BEGIN:VEVENT
UID:UZ_PLZ_20251025_1100_492436
DTSTAMP:20251025T110000
DTSTART:20251025T110000
DTEND:20251025T123000
SUMMARY:Proseminarium (Pro): 11BN-ND
CATEGORIES:Pro
LOCATION:111 A-0
ATTACH:https://classroom.google.com/c/ODE2NzUzOTUzNzg4
END:VEVENT
BEGIN:VEVENT
UID:UZ_PLZ_20251026_0915_489700
DTSTAMP:20251026T091500
DTSTART:20251026T091500
DTEND:20251026T105500
SUMMARY:Socjologiczne aspekty zagrożeń (W): 31BN-NP
CATEGORIES:W
LOCATION:005 A-0
END:VEVENT
BEGIN:VEVENT
UID:UZ_PLZ_20251026_1100_489600
DTSTAMP:20251026T110000
DTSTART:20251026T110000
DTEND:20251026T124000
SUMMARY:Socjologiczne aspekty zagrożeń (Ć): 31BN-NP
CATEGORIES:Ć
LOCATION:F6 A-0
END:VEVENT
BEGIN:VEVENT
UID:UZ_PLZ_20251026_1255_489687
DTSTAMP:20251026T125500
DTSTART:20251026T125500
DTEND:20251026T141500
SUMMARY:Negocjacje (Ć): 11LOG-LB-ND(L)
CATEGORIES:Ć
LOCATION:02a C-2
END:VEVENT
BEGIN:VEVENT
UID:UZ_PLZ_20251026_1430_488427
DTSTAMP:20251026T143000
DTSTART:20251026T143000
DTEND:20251026T155000
SUMMARY:Negocjacje gospodarcze (Ć): 21FiR-ARF-ND
CATEGORIES:Ć
LOCATION:02a C-2
END:VEVENT
BEGIN:VEVENT
UID:UZ_PLZ_20251026_1800_488428
DTSTAMP:20251026T180000
DTSTART:20251026T180000
DTEND:20251026T192000
SUMMARY:Negocjacje gospodarcze (Ć): 22FiR-FP-ND
CATEGORIES:Ć
LOCATION:03b A-0
END:VEVENT
BEGIN:VEVENT
UID:UZ_PLZ_20251026_1945_489600
DTSTAMP:20251026T194500
DTSTART:20251026T194500
DTEND:20251026T212500
SUMMARY:Socjologiczne aspekty zagrożeń (Ć): 31BN-NP
CATEGORIES:Ć
LOCATION:F6 A-0
END:VEVENT
BEGIN:VEVENT
UID:UZ_PLZ_20251027_0915_492453
DTSTAMP:20251027T091500
DTSTART:20251027T091500
DTEND:20251027T104500
SUMMARY:Proseminarium (Pro): 11ZARZ-SD\; 12ZARZ-SD
CATEGORIES:Pro
LOCATION:111 A-0
ATTACH:https://classroom.google.com/c/ODE2NzY5Njk0MTM2
END:VEVENT
BEGIN:VEVENT
UID:UZ_PLZ_20251106_0730_491929
DTSTAMP:20251106T073000
DTSTART:20251106T073000
DTEND:20251106T090500
SUMMARY:Socjologiczne aspekty zagrożeń (W): 31BN-SP
CATEGORIES:W
LOCATION:F6 A-0
END:VEVENT
BEGIN:VEVENT
UID:UZ_PLZ_20251106_0915_491736
DTSTAMP:20251106T091500
DTSTART:20251106T091500
DTEND:20251106T105000
SUMMARY:Negocjacje (Ć): 12LOG-ML-SD(L)
CATEGORIES:Ć
LOCATION:106 A-2
END:VEVENT
BEGIN:VEVENT
UID:UZ_PLZ_20251106_1100_491629
DTSTAMP:20251106T110000
DTSTART:20251106T110000
DTEND:20251106T123500
SUMMARY:Negocjacje (Ć): 11LOG-LB-SD(L)
CATEGORIES:Ć
LOCATION:106 A-2
END:VEVENT
BEGIN:VEVENT
UID:UZ_PLZ_20251106_1245_491601
DTSTAMP:20251106T124500
DTSTART:20251106T124500
DTEND:20251106T142000
SUMMARY:Wykład monograficzny specjalnościowy: Współczesny menedżer (W): 12LOG-ML-SD(L)
CATEGORIES:W
LOCATION:1 C-2
END:VEVENT
BEGIN:VEVENT
UID:UZ_PLZ_20251106_1430_491913
DTSTAMP:20251106T143000
DTSTART:20251106T143000
DTEND:20251106T160500
SUMMARY:Socjologiczne aspekty zagrożeń (Ć): 31BN-SP
CATEGORIES:Ć
LOCATION:F7 A-0
END:VEVENT
BEGIN:VEVENT
UID:UZ_PLZ_20251106_1615_491913
DTSTAMP:20251106T161500
DTSTART:20251106T161500
DTEND:20251106T175500
SUMMARY:Socjologiczne aspekty zagrożeń (Ć): 31BN-SP
CATEGORIES:Ć
LOCATION:F7 A-0
END:VEVENT
BEGIN:VEVENT
UID:UZ_PLZ_20251106_1800_494257
DTSTAMP:20251106T180000
DTSTART:20251106T180000
DTEND:20251106T193000
SUMMARY:Konsultacje (I)
CATEGORIES:I
LOCATION:111 A-0
END:VEVENT
BEGIN:VEVENT
UID:UZ_PLZ_20251117_0915_492453
DTSTAMP:20251117T091500
DTSTART:20251117T091500
DTEND:20251117T104500
SUMMARY:Proseminarium (Pro): 11ZARZ-SD\; 12ZARZ-SD
CATEGORIES:Pro
LOCATION:111 A-0
ATTACH:https://classroom.google.com/c/ODE2NzY5Njk0MTM2
END:VEVENT
BEGIN:VEVENT
UID:UZ_PLZ_20251120_0730_491929
DTSTAMP:20251120T073000
DTSTART:20251120T073000
DTEND:20251120T090500
SUMMARY:Socjologiczne aspekty zagrożeń (W): 31BN-SP
CATEGORIES:W
LOCATION:F6 A-0
END:VEVENT
BEGIN:VEVENT
UID:UZ_PLZ_20251120_0915_491736
DTSTAMP:20251120T091500
DTSTART:20251120T091500
DTEND:20251120T105000
SUMMARY:Negocjacje (Ć): 12LOG-ML-SD(L)
CATEGORIES:Ć
LOCATION:106 A-2
END:VEVENT
BEGIN:VEVENT
UID:UZ_PLZ_20251120_1100_491629
DTSTAMP:20251120T110000
DTSTART:20251120T110000
DTEND:20251120T123500
SUMMARY:Negocjacje (Ć): 11LOG-LB-SD(L)
CATEGORIES:Ć
LOCATION:106 A-2
END:VEVENT
BEGIN:VEVENT
UID:UZ_PLZ_20251120_1245_491601
DTSTAMP:20251120T124500
DTSTART:20251120T124500
DTEND:20251120T142000
SUMMARY:Wykład monograficzny specjalnościowy: Współczesny menedżer (W): 12LOG-ML-SD(L)
CATEGORIES:W
LOCATION:1 C-2
END:VEVENT
BEGIN:VEVENT
UID:UZ_PLZ_20251120_1430_491913
DTSTAMP:20251120T143000
DTSTART:20251120T143000
DTEND:20251120T160500
SUMMARY:Socjologiczne aspekty zagrożeń (Ć): 31BN-SP
CATEGORIES:Ć
LOCATION:F7 A-0
END:VEVENT
BEGIN:VEVENT
UID:UZ_PLZ_20251120_1615_491913
DTSTAMP:20251120T161500
DTSTART:20251120T161500
DTEND:20251120T175500
SUMMARY:Socjologiczne aspekty zagrożeń (Ć): 31BN-SP
CATEGORIES:Ć
LOCATION:F7 A-0
END:VEVENT
BEGIN:VEVENT
UID:UZ_PLZ_20251120_1800_494257
DTSTAMP:20251120T180000
DTSTART:20251120T180000
DTEND:20251120T193000
SUMMARY:Konsultacje (I)
CATEGORIES:I
LOCATION:111 A-0
END:VEVENT
BEGIN:VEVENT
UID:UZ_PLZ_20251122_1100_492436
DTSTAMP:20251122T110000
DTSTART:20251122T110000
DTEND:20251122T123000
SUMMARY:Proseminarium (Pro): 11BN-ND
CATEGORIES:Pro
LOCATION:111 A-0
ATTACH:https://classroom.google.com/c/ODE2NzUzOTUzNzg4
END:VEVENT
BEGIN:VEVENT
UID:UZ_PLZ_20251123_0915_489700
DTSTAMP:20251123T091500
DTSTART:20251123T091500
DTEND:20251123T105500
SUMMARY:Socjologiczne aspekty zagrożeń (W): 31BN-NP
CATEGORIES:W
LOCATION:005 A-0
END:VEVENT
BEGIN:VEVENT
UID:UZ_PLZ_20251123_1100_489600
DTSTAMP:20251123T110000
DTSTART:20251123T110000
DTEND:20251123T124000
SUMMARY:Socjologiczne aspekty zagrożeń (Ć): 31BN-NP
CATEGORIES:Ć
LOCATION:F6 A-0
END:VEVENT
BEGIN:VEVENT
UID:UZ_PLZ_20251123_1255_489687
DTSTAMP:20251123T125500
DTSTART:20251123T125500
DTEND:20251123T141500
SUMMARY:Negocjacje (Ć): 11LOG-LB-ND(L)
CATEGORIES:Ć
LOCATION:02a C-2
END:VEVENT
BEGIN:VEVENT
UID:UZ_PLZ_20251123_1430_488427
DTSTAMP:20251123T143000
DTSTART:20251123T143000
DTEND:20251123T155000
SUMMARY:Negocjacje gospodarcze (Ć): 21FiR-ARF-ND
CATEGORIES:Ć
LOCATION:02a C-2
END:VEVENT
BEGIN:VEVENT
UID:UZ_PLZ_20251123_1600_494258
DTSTAMP:20251123T160000
DTSTART:20251123T160000
DTEND:20251123T173000
SUMMARY:Konsultacje (I)
CATEGORIES:I
LOCATION:111 A-0
END:VEVENT
BEGIN:VEVENT
UID:UZ_PLZ_20251123_1800_488428
DTSTAMP:20251123T180000
DTSTART:20251123T180000
DTEND:20251123T192000
SUMMARY:Negocjacje gospodarcze (Ć): 22FiR-FP-ND
CATEGORIES:Ć
LOCATION:03b A-0
END:VEVENT
BEGIN:VEVENT
UID:UZ_PLZ_20251123_1945_489600
DTSTAMP:20251123T194500
DTSTART:20251123T194500
DTEND:20251123T212500
SUMMARY:Socjologiczne aspekty zagrożeń (Ć): 31BN-NP
CATEGORIES:Ć
LOCATION:F6 A-0
END:VEVENT
BEGIN:VEVENT
UID:UZ_PLZ_20251126_1100_494342
DTSTAMP:20251126T110000
DTSTART:20251126T110000
DTEND:20251126T131500
SUMMARY:Rezerwacja (R)
CATEGORIES:R
LOCATION:2 A-29
END:VEVENT
BEGIN:VEVENT
UID:UZ_PLZ_20251201_0915_492453
DTSTAMP:20251201T091500
DTSTART:20251201T091500
DTEND:20251201T104500
SUMMARY:Proseminarium (Pro): 11ZARZ-SD\; 12ZARZ-SD
CATEGORIES:Pro
LOCATION:111 A-0
ATTACH:https://classroom.google.com/c/ODE2NzY5Njk0MTM2
END:VEVENT
BEGIN:VEVENT
UID:UZ_PLZ_20251204_0730_491929
DTSTAMP:20251204T073000
DTSTART:20251204T073000
DTEND:20251204T090500
SUMMARY:Socjologiczne aspekty zagrożeń (W): 31BN-SP
CATEGORIES:W
LOCATION:F6 A-0
END:VEVENT
BEGIN:VEVENT
UID:UZ_PLZ_20251204_0915_491736
DTSTAMP:20251204T091500
DTSTART:20251204T091500
DTEND:20251204T105000
SUMMARY:Negocjacje (Ć): 12LOG-ML-SD(L)
CATEGORIES:Ć
LOCATION:106 A-2
END:VEVENT
BEGIN:VEVENT
UID:UZ_PLZ_20251204_1100_491629
DTSTAMP:20251204T110000
DTSTART:20251204T110000
DTEND:20251204T123500
SUMMARY:Negocjacje (Ć): 11LOG-LB-SD(L)
CATEGORIES:Ć
LOCATION:106 A-2
END:VEVENT
BEGIN:VEVENT
UID:UZ_PLZ_20251204_1245_491601
DTSTAMP:20251204T124500
DTSTART:20251204T124500
DTEND:20251204T142000
SUMMARY:Wykład monograficzny specjalnościowy: Współczesny menedżer (W): 12LOG-ML-SD(L)
CATEGORIES:W
LOCATION:1 C-2
END:VEVENT
BEGIN:VEVENT
UID:UZ_PLZ_20251204_1430_491913
DTSTAMP:20251204T143000
DTSTART:20251204T143000
DTEND:20251204T160500
SUMMARY:Socjologiczne aspekty zagrożeń (Ć): 31BN-SP
CATEGORIES:Ć
LOCATION:F7 A-0
END:VEVENT
BEGIN:VEVENT
UID:UZ_PLZ_20251204_1615_491913
DTSTAMP:20251204T161500
DTSTART:20251204T161500
DTEND:20251204T175500
SUMMARY:Socjologiczne aspekty zagrożeń (Ć): 31BN-SP
CATEGORIES:Ć
LOCATION:F7 A-0
END:VEVENT
BEGIN:VEVENT
UID:UZ_PLZ_20251204_1800_494257
DTSTAMP:20251204T180000
DTSTART:20251204T180000
DTEND:20251204T193000
SUMMARY:Konsultacje (I)
CATEGORIES:I
LOCATION:111 A-0
END:VEVENT
BEGIN:VEVENT
UID:UZ_PLZ_20251208_0915_492453
DTSTAMP:20251208T091500
DTSTART:20251208T091500
DTEND:20251208T104500
SUMMARY:Proseminarium (Pro): 11ZARZ-SD\; 12ZARZ-SD
CATEGORIES:Pro
LOCATION:111 A-0
ATTACH:https://classroom.google.com/c/ODE2NzY5Njk0MTM2
END:VEVENT
BEGIN:VEVENT
UID:UZ_PLZ_20251213_1100_492436
DTSTAMP:20251213T110000
DTSTART:20251213T110000
DTEND:20251213T123000
SUMMARY:Proseminarium (Pro): 11BN-ND
CATEGORIES:Pro
LOCATION:111 A-0
ATTACH:https://classroom.google.com/c/ODE2NzUzOTUzNzg4
END:VEVENT
BEGIN:VEVENT
UID:UZ_PLZ_20251214_0915_489700
DTSTAMP:20251214T091500
DTSTART:20251214T091500
DTEND:20251214T105500
SUMMARY:Socjologiczne aspekty zagrożeń (W): 31BN-NP
CATEGORIES:W
LOCATION:005 A-0
END:VEVENT
BEGIN:VEVENT
UID:UZ_PLZ_20251214_1100_489600
DTSTAMP:20251214T110000
DTSTART:20251214T110000
DTEND:20251214T124000
SUMMARY:Socjologiczne aspekty zagrożeń (Ć): 31BN-NP
CATEGORIES:Ć
LOCATION:F6 A-0
END:VEVENT
BEGIN:VEVENT
UID:UZ_PLZ_20251214_1255_489687
DTSTAMP:20251214T125500
DTSTART:20251214T125500
DTEND:20251214T141500
SUMMARY:Negocjacje (Ć): 11LOG-LB-ND(L)
CATEGORIES:Ć
LOCATION:02a C-2
END:VEVENT
BEGIN:VEVENT
UID:UZ_PLZ_20251214_1430_488427
DTSTAMP:20251214T143000
DTSTART:20251214T143000
DTEND:20251214T155000
SUMMARY:Negocjacje gospodarcze (Ć): 21FiR-ARF-ND
CATEGORIES:Ć
LOCATION:02a C-2
END:VEVENT
BEGIN:VEVENT
UID:UZ_PLZ_20251214_1600_494258
DTSTAMP:20251214T160000
DTSTART:20251214T160000
DTEND:20251214T173000
SUMMARY:Konsultacje (I)
CATEGORIES:I
LOCATION:111 A-0
END:VEVENT
BEGIN:VEVENT
UID:UZ_PLZ_20251214_1800_488428
DTSTAMP:20251214T180000
DTSTART:20251214T180000
DTEND:20251214T192000
SUMMARY:Negocjacje gospodarcze (Ć): 22FiR-FP-ND
CATEGORIES:Ć
LOCATION:03b A-0
END:VEVENT
BEGIN:VEVENT
UID:UZ_PLZ_20251214_1945_489600
DTSTAMP:20251214T194500
DTSTART:20251214T194500
DTEND:20251214T212500
SUMMARY:Socjologiczne aspekty zagrożeń (Ć): 31BN-NP
CATEGORIES:Ć
LOCATION:F6 A-0
END:VEVENT
BEGIN:VEVENT
UID:UZ_PLZ_20251215_0915_492453
DTSTAMP:20251215T091500
DTSTART:20251215T091500
DTEND:20251215T104500
SUMMARY:Proseminarium (Pro): 11ZARZ-SD\; 12ZARZ-SD
CATEGORIES:Pro
LOCATION:111 A-0
ATTACH:https://classroom.google.com/c/ODE2NzY5Njk0MTM2
END:VEVENT
BEGIN:VEVENT
UID:UZ_PLZ_20251218_0730_491929
DTSTAMP:20251218T073000
DTSTART:20251218T073000
DTEND:20251218T090500
SUMMARY:Socjologiczne aspekty zagrożeń (W): 31BN-SP
CATEGORIES:W
LOCATION:F6 A-0
END:VEVENT
BEGIN:VEVENT
UID:UZ_PLZ_20251218_0915_491736
DTSTAMP:20251218T091500
DTSTART:20251218T091500
DTEND:20251218T105000
SUMMARY:Negocjacje (Ć): 12LOG-ML-SD(L)
CATEGORIES:Ć
LOCATION:106 A-2
END:VEVENT
BEGIN:VEVENT
UID:UZ_PLZ_20251218_1100_491629
DTSTAMP:20251218T110000
DTSTART:20251218T110000
DTEND:20251218T123500
SUMMARY:Negocjacje (Ć): 11LOG-LB-SD(L)
CATEGORIES:Ć
LOCATION:106 A-2
END:VEVENT
BEGIN:VEVENT
UID:UZ_PLZ_20251218_1245_491601
DTSTAMP:20251218T124500
DTSTART:20251218T124500
DTEND:20251218T142000
SUMMARY:Wykład monograficzny specjalnościowy: Współczesny menedżer (W): 12LOG-ML-SD(L)
CATEGORIES:W
LOCATION:1 C-2
END:VEVENT
BEGIN:VEVENT
UID:UZ_PLZ_20251218_1430_491913
DTSTAMP:20251218T143000
DTSTART:20251218T143000
DTEND:20251218T160500
SUMMARY:Socjologiczne aspekty zagrożeń (Ć): 31BN-SP
CATEGORIES:Ć
LOCATION:F7 A-0
END:VEVENT
BEGIN:VEVENT
UID:UZ_PLZ_20251218_1615_491913
DTSTAMP:20251218T161500
DTSTART:20251218T161500
DTEND:20251218T175500
SUMMARY:Socjologiczne aspekty zagrożeń (Ć): 31BN-SP
CATEGORIES:Ć
LOCATION:F7 A-0
END:VEVENT
BEGIN:VEVENT
UID:UZ_PLZ_20251218_1800_494257
DTSTAMP:20251218T180000
DTSTART:20251218T180000
DTEND:20251218T193000
SUMMARY:Konsultacje (I)
CATEGORIES:I
LOCATION:111 A-0
END:VEVENT
BEGIN:VEVENT
UID:UZ_PLZ_20251218_1800_491929
DTSTAMP:20251218T180000
DTSTART:20251218T180000
DTEND:20251218T193000
SUMMARY:Socjologiczne aspekty zagrożeń (W): 31BN-SP
CATEGORIES:W
LOCATION:110/110a A-0
END:VEVENT
BEGIN:VEVENT
UID:UZ_PLZ_20251219_0730_491913
DTSTAMP:20251219T073000
DTSTART:20251219T073000
DTEND:20251219T090000
SUMMARY:Socjologiczne aspekty zagrożeń (Ć): 31BN-SP
CATEGORIES:Ć
LOCATION:110/110a A-0
END:VEVENT
BEGIN:VEVENT
UID:UZ_PLZ_20260112_0915_492453
DTSTAMP:20260112T091500
DTSTART:20260112T091500
DTEND:20260112T104500
SUMMARY:Proseminarium (Pro): 11ZARZ-SD\; 12ZARZ-SD
CATEGORIES:Pro
LOCATION:111 A-0
ATTACH:https://classroom.google.com/c/ODE2NzY5Njk0MTM2
END:VEVENT
BEGIN:VEVENT
UID:UZ_PLZ_20260115_0915_491736
DTSTAMP:20260115T091500
DTSTART:20260115T091500
DTEND:20260115T105000
SUMMARY:Negocjacje (Ć): 12LOG-ML-SD(L)
CATEGORIES:Ć
LOCATION:106 A-2
END:VEVENT
BEGIN:VEVENT
UID:UZ_PLZ_20260115_1100_491629
DTSTAMP:20260115T110000
DTSTART:20260115T110000
DTEND:20260115T123500
SUMMARY:Negocjacje (Ć): 11LOG-LB-SD(L)
CATEGORIES:Ć
LOCATION:106 A-2
END:VEVENT
BEGIN:VEVENT
UID:UZ_PLZ_20260115_1245_491601
DTSTAMP:20260115T124500
DTSTART:20260115T124500
DTEND:20260115T142000
SUMMARY:Wykład monograficzny specjalnościowy: Współczesny menedżer (W): 12LOG-ML-SD(L)
CATEGORIES:W
LOCATION:1 C-2
END:VEVENT
BEGIN:VEVENT
UID:UZ_PLZ_20260115_1430_494257
DTSTAMP:20260115T143000
DTSTART:20260115T143000
DTEND:20260115T160000
SUMMARY:Konsultacje (I)
CATEGORIES:I
LOCATION:111 A-0
END:VEVENT
BEGIN:VEVENT
UID:UZ_PLZ_20260115_1615_491913
DTSTAMP:20260115T161500
DTSTART:20260115T161500
DTEND:20260115T175500
SUMMARY:Socjologiczne aspekty zagrożeń (Ć): 31BN-SP
CATEGORIES:Ć
LOCATION:F7 A-0
END:VEVENT
BEGIN:VEVENT
UID:UZ_PLZ_20260119_0915_492453
DTSTAMP:20260119T091500
DTSTART:20260119T091500
DTEND:20260119T104500
SUMMARY:Proseminarium (Pro): 11ZARZ-SD\; 12ZARZ-SD
CATEGORIES:Pro
LOCATION:111 A-0
ATTACH:https://classroom.google.com/c/ODE2NzY5Njk0MTM2
END:VEVENT
BEGIN:VEVENT
UID:UZ_PLZ_20260126_0915_492453
DTSTAMP:20260126T091500
DTSTART:20260126T091500
DTEND:20260126T104500
SUMMARY:Proseminarium (Pro): 11ZARZ-SD\; 12ZARZ-SD
CATEGORIES:Pro
LOCATION:111 A-0
ATTACH:https://classroom.google.com/c/ODE2NzY5Njk0MTM2
END:VEVENT
BEGIN:VEVENT
UID:UZ_PLZ_20260131_1100_492436
DTSTAMP:20260131T110000
DTSTART:20260131T110000
DTEND:20260131T123000
SUMMARY:Proseminarium (Pro): 11BN-ND
CATEGORIES:Pro
LOCATION:111 A-0
ATTACH:https://classroom.google.com/c/ODE2NzUzOTUzNzg4
END:VEVENT
BEGIN:VEVENT
UID:UZ_PLZ_20260201_0915_489700
DTSTAMP:20260201T091500
DTSTART:20260201T091500
DTEND:20260201T105500
SUMMARY:Socjologiczne aspekty zagrożeń (W): 31BN-NP
CATEGORIES:W
LOCATION:005 A-0
END:VEVENT
BEGIN:VEVENT
UID:UZ_PLZ_20260201_1100_489600
DTSTAMP:20260201T110000
DTSTART:20260201T110000
DTEND:20260201T124000
SUMMARY:Socjologiczne aspekty zagrożeń (Ć): 31BN-NP
CATEGORIES:Ć
LOCATION:F6 A-0
END:VEVENT
BEGIN:VEVENT
UID:UZ_PLZ_20260201_1255_489687
DTSTAMP:20260201T125500
DTSTART:20260201T125500
DTEND:20260201T141500
SUMMARY:Negocjacje (Ć): 11LOG-LB-ND(L)
CATEGORIES:Ć
LOCATION:02a C-2
END:VEVENT
BEGIN:VEVENT
UID:UZ_PLZ_20260201_1430_488427
DTSTAMP:20260201T143000
DTSTART:20260201T143000
DTEND:20260201T155000
SUMMARY:Negocjacje gospodarcze (Ć): 21FiR-ARF-ND
CATEGORIES:Ć
LOCATION:02a C-2
END:VEVENT
BEGIN:VEVENT
UID:UZ_PLZ_20260201_1600_494258
DTSTAMP:20260201T160000
DTSTART:20260201T160000
DTEND:20260201T173000
SUMMARY:Konsultacje (I)
CATEGORIES:I
LOCATION:111 A-0
END:VEVENT
BEGIN:VEVENT
UID:UZ_PLZ_20260201_1800_488428
DTSTAMP:20260201T180000
DTSTART:20260201T180000
DTEND:20260201T192000
SUMMARY:Negocjacje gospodarcze (Ć): 22FiR-FP-ND
CATEGORIES:Ć
LOCATION:03b A-0
END:VEVENT
BEGIN:VEVENT
UID:UZ_PLZ_20260201_1945_489600
DTSTAMP:20260201T194500
DTSTART:20260201T194500
DTEND:20260201T212500
SUMMARY:Socjologiczne aspekty zagrożeń (Ć): 31BN-NP
CATEGORIES:Ć
LOCATION:F6 A-0
END:VEVENT
BEGIN:VEVENT
UID:UZ_PLZ_20260202_0915_492453
DTSTAMP:20260202T091500
DTSTART:20260202T091500
DTEND:20260202T104500
SUMMARY:Proseminarium (Pro): 11ZARZ-SD\; 12ZARZ-SD
CATEGORIES:Pro
LOCATION:111 A-0
ATTACH:https://classroom.google.com/c/ODE2NzY5Njk0MTM2
END:VEVENT
BEGIN:VEVENT
UID:UZ_PLZ_20260207_0915_503163
DTSTAMP:20260207T091500
DTSTART:20260207T091500
DTEND:20260207T104500
SUMMARY:Socjologiczne aspekty zagrożeń (E): 31BN-NP
CATEGORIES:E
LOCATION:216 A-29
END:VEVENT
BEGIN:VEVENT
UID:UZ_PLZ_20260207_0915_496168
DTSTAMP:20260207T091500
DTSTART:20260207T091500
DTEND:20260207T104500
SUMMARY:Socjologiczne aspekty zagrożeń (E): 31BN-SP
CATEGORIES:E
LOCATION:216 A-29
END:VEVENT
BEGIN:VEVENT
UID:UZ_PLZ_20260225_0915_503163
DTSTAMP:20260225T091500
DTSTART:20260225T091500
DTEND:20260225T104500
SUMMARY:Socjologiczne aspekty zagrożeń (E): 31BN-NP
CATEGORIES:E
LOCATION:216 A-29
END:VEVENT
BEGIN:VEVENT
UID:UZ_PLZ_20260225_0915_496168
DTSTAMP:20260225T091500
DTSTART:20260225T091500
DTEND:20260225T104500
SUMMARY:Socjologiczne aspekty zagrożeń (E): 31BN-SP
CATEGORIES:E
LOCATION:216 A-29
END:VEVENT
END:VCALENDAR
