BEGIN:VCALENDAR
TZID:Europe/Warsaw
X-WR-TIMEZONE:Europe/Warsaw
VERSION:2.0
PRODID:-//Uniwersytet Zielonogórski//NONSGML Plan zajęć v1.0//EN
NAME:Plan zajęć - semestr letni 2025/2026
X-WR-CALNAME:Plan zajęć - semestr letni 2025/2026
COLOR:green
CALSCALE:GREGORIAN
BEGIN:VEVENT
UID:UZ_PLZ_20260425_0730_498617
DTSTAMP:20260425T073000
DTSTART:20260425T073000
DTEND:20260425T081500
SUMMARY:Seminarium dyplomowe 1 (S): 11BN-ZK-ND\; 12BN-AI-ND
CATEGORIES:S
LOCATION:111 A-0
END:VEVENT
BEGIN:VEVENT
UID:UZ_PLZ_20260426_0835_507344
DTSTAMP:20260426T083500
DTSTART:20260426T083500
DTEND:20260426T092000
SUMMARY:Konsultacje (I)
CATEGORIES:I
LOCATION:111 A-0
END:VEVENT
BEGIN:VEVENT
UID:UZ_PLZ_20260426_0925_498342
DTSTAMP:20260426T092500
DTSTART:20260426T092500
DTEND:20260426T104500
SUMMARY:Negocjacje w biznesie (Ć): 11ZARZ-SRB-ND
CATEGORIES:Ć
LOCATION:005 A-0
END:VEVENT
BEGIN:VEVENT
UID:UZ_PLZ_20260426_1100_498216
DTSTAMP:20260426T110000
DTSTART:20260426T110000
DTEND:20260426T122000
SUMMARY:Tworzenie zespołów projektowych (Ć): 11ZARZ-NP
CATEGORIES:Ć
LOCATION:005 A-0
END:VEVENT
BEGIN:VEVENT
UID:UZ_PLZ_20260426_1245_498216
DTSTAMP:20260426T124500
DTSTART:20260426T124500
DTEND:20260426T140500
SUMMARY:Tworzenie zespołów projektowych (Ć): 11ZARZ-NP
CATEGORIES:Ć
LOCATION:1 C-2
END:VEVENT
BEGIN:VEVENT
UID:UZ_PLZ_20260427_1615_498646
DTSTAMP:20260427T161500
DTSTART:20260427T161500
DTEND:20260427T172000
SUMMARY:Seminarium dyplomowe 1 (S): 11ZARZ-SRB-SD
CATEGORIES:S
LOCATION:111 A-0
END:VEVENT
BEGIN:VEVENT
UID:UZ_PLZ_20260430_0735_498076
DTSTAMP:20260430T073500
DTSTART:20260430T073500
DTEND:20260430T090000
SUMMARY:Współczesny menadżer personalny\, sylwetka\, funkcje (W): 12ZARZ-MP-SD
CATEGORIES:W
LOCATION:005 A-0
END:VEVENT
BEGIN:VEVENT
UID:UZ_PLZ_20260430_0920_497859
DTSTAMP:20260430T092000
DTSTART:20260430T092000
DTEND:20260430T104500
SUMMARY:Negocjacje (Ć): 11BN-ZK-SD
CATEGORIES:Ć
LOCATION:110/110a A-0
END:VEVENT
BEGIN:VEVENT
UID:UZ_PLZ_20260430_1100_497820
DTSTAMP:20260430T110000
DTSTART:20260430T110000
DTEND:20260430T123000
SUMMARY:Tworzenie zespołów projektowych (Ć): 11ZARZ-SP
CATEGORIES:Ć
LOCATION:005 A-0
DESCRIPTION:<a href="https://classroom.google.com/c/ODU3MDYwMzg1NDIw">Google Classroom</a> 
END:VEVENT
BEGIN:VEVENT
UID:UZ_PLZ_20260430_1245_497876
DTSTAMP:20260430T124500
DTSTART:20260430T124500
DTEND:20260430T141500
SUMMARY:Tworzenie zespołów projektowych (Ć): 12ZARZ-SP
CATEGORIES:Ć
LOCATION:005 A-0
DESCRIPTION:<a href="https://classroom.google.com/c/ODU3MDYyMzcxMzc0">Google Classroom</a> 
END:VEVENT
BEGIN:VEVENT
UID:UZ_PLZ_20260430_1430_497877
DTSTAMP:20260430T143000
DTSTART:20260430T143000
DTEND:20260430T160000
SUMMARY:Współczesny menadżer personalny\, sylwetka\, funkcje (Ć): 12ZARZ-MP-SD
CATEGORIES:Ć
END:VEVENT
BEGIN:VEVENT
UID:UZ_PLZ_20260430_1605_507343
DTSTAMP:20260430T160500
DTSTART:20260430T160500
DTEND:20260430T173500
SUMMARY:Konsultacje (I)
CATEGORIES:I
LOCATION:111 A-0
END:VEVENT
BEGIN:VEVENT
UID:UZ_PLZ_20260504_1615_498646
DTSTAMP:20260504T161500
DTSTART:20260504T161500
DTEND:20260504T172000
SUMMARY:Seminarium dyplomowe 1 (S): 11ZARZ-SRB-SD
CATEGORIES:S
LOCATION:111 A-0
END:VEVENT
BEGIN:VEVENT
UID:UZ_PLZ_20260507_1100_497820
DTSTAMP:20260507T110000
DTSTART:20260507T110000
DTEND:20260507T123000
SUMMARY:Tworzenie zespołów projektowych (Ć): 11ZARZ-SP
CATEGORIES:Ć
LOCATION:005 A-0
DESCRIPTION:<a href="https://classroom.google.com/c/ODU3MDYwMzg1NDIw">Google Classroom</a> 
END:VEVENT
BEGIN:VEVENT
UID:UZ_PLZ_20260507_1245_497876
DTSTAMP:20260507T124500
DTSTART:20260507T124500
DTEND:20260507T141500
SUMMARY:Tworzenie zespołów projektowych (Ć): 12ZARZ-SP
CATEGORIES:Ć
LOCATION:005 A-0
DESCRIPTION:<a href="https://classroom.google.com/c/ODU3MDYyMzcxMzc0">Google Classroom</a> 
END:VEVENT
BEGIN:VEVENT
UID:UZ_PLZ_20260507_1430_498984
DTSTAMP:20260507T143000
DTSTART:20260507T143000
DTEND:20260507T160500
SUMMARY:Negocjacje w biznesie (P): 11EK-RDF-SD
CATEGORIES:P
LOCATION:110/110a A-0
DESCRIPTION:<a href="https://classroom.google.com/c/ODYxMzc3NjIyMTA4">Google Classroom</a> 
END:VEVENT
BEGIN:VEVENT
UID:UZ_PLZ_20260507_1615_497877
DTSTAMP:20260507T161500
DTSTART:20260507T161500
DTEND:20260507T174500
SUMMARY:Współczesny menadżer personalny\, sylwetka\, funkcje (Ć): 12ZARZ-MP-SD
CATEGORIES:Ć
LOCATION:110/110a A-0
END:VEVENT
BEGIN:VEVENT
UID:UZ_PLZ_20260509_0730_498617
DTSTAMP:20260509T073000
DTSTART:20260509T073000
DTEND:20260509T081500
SUMMARY:Seminarium dyplomowe 1 (S): 11BN-ZK-ND\; 12BN-AI-ND
CATEGORIES:S
LOCATION:111 A-0
END:VEVENT
BEGIN:VEVENT
UID:UZ_PLZ_20260509_0800_498614
DTSTAMP:20260509T080000
DTSTART:20260509T080000
DTEND:20260509T084500
SUMMARY:Seminarium dyplomowe 1 (S): 11BN-ZK-ND\; 12BN-AI-ND
CATEGORIES:S
LOCATION:111 A-0
END:VEVENT
BEGIN:VEVENT
UID:UZ_PLZ_20260509_0905_508264
DTSTAMP:20260509T090500
DTSTART:20260509T090500
DTEND:20260509T105000
SUMMARY:Proseminarium (Pro): 21ZARZ-NP
CATEGORIES:Pro
LOCATION:111 A-0
END:VEVENT
BEGIN:VEVENT
UID:UZ_PLZ_20260510_1010_507344
DTSTAMP:20260510T101000
DTSTART:20260510T101000
DTEND:20260510T105500
SUMMARY:Konsultacje (I)
CATEGORIES:I
LOCATION:111 A-0
END:VEVENT
BEGIN:VEVENT
UID:UZ_PLZ_20260510_1100_498264
DTSTAMP:20260510T110000
DTSTART:20260510T110000
DTEND:20260510T124000
SUMMARY:Tworzenie zespołów projektowych (Ć): 12ZARZ-NP
CATEGORIES:Ć
LOCATION:1 C-2
END:VEVENT
BEGIN:VEVENT
UID:UZ_PLZ_20260510_1245_498264
DTSTAMP:20260510T124500
DTSTART:20260510T124500
DTEND:20260510T142500
SUMMARY:Tworzenie zespołów projektowych (Ć): 12ZARZ-NP
CATEGORIES:Ć
LOCATION:1 C-2
END:VEVENT
BEGIN:VEVENT
UID:UZ_PLZ_20260511_1615_498646
DTSTAMP:20260511T161500
DTSTART:20260511T161500
DTEND:20260511T172000
SUMMARY:Seminarium dyplomowe 1 (S): 11ZARZ-SRB-SD
CATEGORIES:S
LOCATION:111 A-0
END:VEVENT
BEGIN:VEVENT
UID:UZ_PLZ_20260514_0735_498076
DTSTAMP:20260514T073500
DTSTART:20260514T073500
DTEND:20260514T090000
SUMMARY:Współczesny menadżer personalny\, sylwetka\, funkcje (W): 12ZARZ-MP-SD
CATEGORIES:W
LOCATION:005 A-0
END:VEVENT
BEGIN:VEVENT
UID:UZ_PLZ_20260514_0920_497859
DTSTAMP:20260514T092000
DTSTART:20260514T092000
DTEND:20260514T104500
SUMMARY:Negocjacje (Ć): 11BN-ZK-SD
CATEGORIES:Ć
LOCATION:110/110a A-0
END:VEVENT
BEGIN:VEVENT
UID:UZ_PLZ_20260514_1100_497820
DTSTAMP:20260514T110000
DTSTART:20260514T110000
DTEND:20260514T123000
SUMMARY:Tworzenie zespołów projektowych (Ć): 11ZARZ-SP
CATEGORIES:Ć
LOCATION:005 A-0
DESCRIPTION:<a href="https://classroom.google.com/c/ODU3MDYwMzg1NDIw">Google Classroom</a> 
END:VEVENT
BEGIN:VEVENT
UID:UZ_PLZ_20260514_1245_497876
DTSTAMP:20260514T124500
DTSTART:20260514T124500
DTEND:20260514T141500
SUMMARY:Tworzenie zespołów projektowych (Ć): 12ZARZ-SP
CATEGORIES:Ć
LOCATION:005 A-0
DESCRIPTION:<a href="https://classroom.google.com/c/ODU3MDYyMzcxMzc0">Google Classroom</a> 
END:VEVENT
BEGIN:VEVENT
UID:UZ_PLZ_20260514_1430_497877
DTSTAMP:20260514T143000
DTSTART:20260514T143000
DTEND:20260514T160000
SUMMARY:Współczesny menadżer personalny\, sylwetka\, funkcje (Ć): 12ZARZ-MP-SD
CATEGORIES:Ć
END:VEVENT
BEGIN:VEVENT
UID:UZ_PLZ_20260514_1605_507343
DTSTAMP:20260514T160500
DTSTART:20260514T160500
DTEND:20260514T173500
SUMMARY:Konsultacje (I)
CATEGORIES:I
LOCATION:111 A-0
END:VEVENT
BEGIN:VEVENT
UID:UZ_PLZ_20260516_0800_498614
DTSTAMP:20260516T080000
DTSTART:20260516T080000
DTEND:20260516T084500
SUMMARY:Seminarium dyplomowe 1 (S): 11BN-ZK-ND\; 12BN-AI-ND
CATEGORIES:S
LOCATION:111 A-0
END:VEVENT
BEGIN:VEVENT
UID:UZ_PLZ_20260517_0835_507344
DTSTAMP:20260517T083500
DTSTART:20260517T083500
DTEND:20260517T092000
SUMMARY:Konsultacje (I)
CATEGORIES:I
LOCATION:111 A-0
END:VEVENT
BEGIN:VEVENT
UID:UZ_PLZ_20260517_0925_498342
DTSTAMP:20260517T092500
DTSTART:20260517T092500
DTEND:20260517T104500
SUMMARY:Negocjacje w biznesie (Ć): 11ZARZ-SRB-ND
CATEGORIES:Ć
LOCATION:005 A-0
END:VEVENT
BEGIN:VEVENT
UID:UZ_PLZ_20260517_1100_498216
DTSTAMP:20260517T110000
DTSTART:20260517T110000
DTEND:20260517T122000
SUMMARY:Tworzenie zespołów projektowych (Ć): 11ZARZ-NP
CATEGORIES:Ć
LOCATION:005 A-0
END:VEVENT
BEGIN:VEVENT
UID:UZ_PLZ_20260517_1245_498216
DTSTAMP:20260517T124500
DTSTART:20260517T124500
DTEND:20260517T140500
SUMMARY:Tworzenie zespołów projektowych (Ć): 11ZARZ-NP
CATEGORIES:Ć
LOCATION:1 C-2
END:VEVENT
BEGIN:VEVENT
UID:UZ_PLZ_20260518_1615_498646
DTSTAMP:20260518T161500
DTSTART:20260518T161500
DTEND:20260518T172000
SUMMARY:Seminarium dyplomowe 1 (S): 11ZARZ-SRB-SD
CATEGORIES:S
LOCATION:111 A-0
END:VEVENT
BEGIN:VEVENT
UID:UZ_PLZ_20260518_1725_498665
DTSTAMP:20260518T172500
DTSTART:20260518T172500
DTEND:20260518T185500
SUMMARY:Proseminarium (Pro): 21BN-SP
CATEGORIES:Pro
LOCATION:111 A-0
DESCRIPTION:<a href="https://classroom.google.com/c/ODU3MDYwNDM2MDU0">Google Classroom</a> 
END:VEVENT
BEGIN:VEVENT
UID:UZ_PLZ_20260521_1100_497820
DTSTAMP:20260521T110000
DTSTART:20260521T110000
DTEND:20260521T123000
SUMMARY:Tworzenie zespołów projektowych (Ć): 11ZARZ-SP
CATEGORIES:Ć
LOCATION:005 A-0
DESCRIPTION:<a href="https://classroom.google.com/c/ODU3MDYwMzg1NDIw">Google Classroom</a> 
END:VEVENT
BEGIN:VEVENT
UID:UZ_PLZ_20260521_1245_497876
DTSTAMP:20260521T124500
DTSTART:20260521T124500
DTEND:20260521T141500
SUMMARY:Tworzenie zespołów projektowych (Ć): 12ZARZ-SP
CATEGORIES:Ć
LOCATION:005 A-0
DESCRIPTION:<a href="https://classroom.google.com/c/ODU3MDYyMzcxMzc0">Google Classroom</a> 
END:VEVENT
BEGIN:VEVENT
UID:UZ_PLZ_20260521_1430_498984
DTSTAMP:20260521T143000
DTSTART:20260521T143000
DTEND:20260521T160500
SUMMARY:Negocjacje w biznesie (P): 11EK-RDF-SD
CATEGORIES:P
LOCATION:110/110a A-0
DESCRIPTION:<a href="https://classroom.google.com/c/ODYxMzc3NjIyMTA4">Google Classroom</a> 
END:VEVENT
BEGIN:VEVENT
UID:UZ_PLZ_20260521_1615_497877
DTSTAMP:20260521T161500
DTSTART:20260521T161500
DTEND:20260521T174500
SUMMARY:Współczesny menadżer personalny\, sylwetka\, funkcje (Ć): 12ZARZ-MP-SD
CATEGORIES:Ć
LOCATION:110/110a A-0
END:VEVENT
BEGIN:VEVENT
UID:UZ_PLZ_20260525_1615_498646
DTSTAMP:20260525T161500
DTSTART:20260525T161500
DTEND:20260525T172000
SUMMARY:Seminarium dyplomowe 1 (S): 11ZARZ-SRB-SD
CATEGORIES:S
LOCATION:111 A-0
END:VEVENT
BEGIN:VEVENT
UID:UZ_PLZ_20260528_0735_498076
DTSTAMP:20260528T073500
DTSTART:20260528T073500
DTEND:20260528T090000
SUMMARY:Współczesny menadżer personalny\, sylwetka\, funkcje (W): 12ZARZ-MP-SD
CATEGORIES:W
LOCATION:005 A-0
END:VEVENT
BEGIN:VEVENT
UID:UZ_PLZ_20260528_0920_497859
DTSTAMP:20260528T092000
DTSTART:20260528T092000
DTEND:20260528T104500
SUMMARY:Negocjacje (Ć): 11BN-ZK-SD
CATEGORIES:Ć
LOCATION:110/110a A-0
END:VEVENT
BEGIN:VEVENT
UID:UZ_PLZ_20260528_1100_497820
DTSTAMP:20260528T110000
DTSTART:20260528T110000
DTEND:20260528T123000
SUMMARY:Tworzenie zespołów projektowych (Ć): 11ZARZ-SP
CATEGORIES:Ć
LOCATION:005 A-0
DESCRIPTION:<a href="https://classroom.google.com/c/ODU3MDYwMzg1NDIw">Google Classroom</a> 
END:VEVENT
BEGIN:VEVENT
UID:UZ_PLZ_20260528_1245_497876
DTSTAMP:20260528T124500
DTSTART:20260528T124500
DTEND:20260528T141500
SUMMARY:Tworzenie zespołów projektowych (Ć): 12ZARZ-SP
CATEGORIES:Ć
LOCATION:005 A-0
DESCRIPTION:<a href="https://classroom.google.com/c/ODU3MDYyMzcxMzc0">Google Classroom</a> 
END:VEVENT
BEGIN:VEVENT
UID:UZ_PLZ_20260528_1430_497877
DTSTAMP:20260528T143000
DTSTART:20260528T143000
DTEND:20260528T160000
SUMMARY:Współczesny menadżer personalny\, sylwetka\, funkcje (Ć): 12ZARZ-MP-SD
CATEGORIES:Ć
END:VEVENT
BEGIN:VEVENT
UID:UZ_PLZ_20260528_1605_507343
DTSTAMP:20260528T160500
DTSTART:20260528T160500
DTEND:20260528T173500
SUMMARY:Konsultacje (I)
CATEGORIES:I
LOCATION:111 A-0
END:VEVENT
BEGIN:VEVENT
UID:UZ_PLZ_20260530_0730_498617
DTSTAMP:20260530T073000
DTSTART:20260530T073000
DTEND:20260530T081500
SUMMARY:Seminarium dyplomowe 1 (S): 11BN-ZK-ND\; 12BN-AI-ND
CATEGORIES:S
LOCATION:111 A-0
END:VEVENT
BEGIN:VEVENT
UID:UZ_PLZ_20260530_0800_498614
DTSTAMP:20260530T080000
DTSTART:20260530T080000
DTEND:20260530T084500
SUMMARY:Seminarium dyplomowe 1 (S): 11BN-ZK-ND\; 12BN-AI-ND
CATEGORIES:S
LOCATION:111 A-0
END:VEVENT
BEGIN:VEVENT
UID:UZ_PLZ_20260530_0905_508264
DTSTAMP:20260530T090500
DTSTART:20260530T090500
DTEND:20260530T105000
SUMMARY:Proseminarium (Pro): 21ZARZ-NP
CATEGORIES:Pro
LOCATION:111 A-0
END:VEVENT
BEGIN:VEVENT
UID:UZ_PLZ_20260531_1010_507344
DTSTAMP:20260531T101000
DTSTART:20260531T101000
DTEND:20260531T105500
SUMMARY:Konsultacje (I)
CATEGORIES:I
LOCATION:111 A-0
END:VEVENT
BEGIN:VEVENT
UID:UZ_PLZ_20260531_1100_498264
DTSTAMP:20260531T110000
DTSTART:20260531T110000
DTEND:20260531T124000
SUMMARY:Tworzenie zespołów projektowych (Ć): 12ZARZ-NP
CATEGORIES:Ć
LOCATION:1 C-2
END:VEVENT
BEGIN:VEVENT
UID:UZ_PLZ_20260531_1245_498264
DTSTAMP:20260531T124500
DTSTART:20260531T124500
DTEND:20260531T142500
SUMMARY:Tworzenie zespołów projektowych (Ć): 12ZARZ-NP
CATEGORIES:Ć
LOCATION:1 C-2
END:VEVENT
BEGIN:VEVENT
UID:UZ_PLZ_20260601_1615_498646
DTSTAMP:20260601T161500
DTSTART:20260601T161500
DTEND:20260601T171500
SUMMARY:Seminarium dyplomowe 1 (S): 11ZARZ-SRB-SD
CATEGORIES:S
LOCATION:111 A-0
END:VEVENT
BEGIN:VEVENT
UID:UZ_PLZ_20260601_1725_498665
DTSTAMP:20260601T172500
DTSTART:20260601T172500
DTEND:20260601T185500
SUMMARY:Proseminarium (Pro): 21BN-SP
CATEGORIES:Pro
LOCATION:111 A-0
DESCRIPTION:<a href="https://classroom.google.com/c/ODU3MDYwNDM2MDU0">Google Classroom</a> 
END:VEVENT
BEGIN:VEVENT
UID:UZ_PLZ_20260608_1615_498646
DTSTAMP:20260608T161500
DTSTART:20260608T161500
DTEND:20260608T171500
SUMMARY:Seminarium dyplomowe 1 (S): 11ZARZ-SRB-SD
CATEGORIES:S
LOCATION:111 A-0
END:VEVENT
BEGIN:VEVENT
UID:UZ_PLZ_20260611_0735_498076
DTSTAMP:20260611T073500
DTSTART:20260611T073500
DTEND:20260611T090000
SUMMARY:Współczesny menadżer personalny\, sylwetka\, funkcje (W): 12ZARZ-MP-SD
CATEGORIES:W
LOCATION:005 A-0
END:VEVENT
BEGIN:VEVENT
UID:UZ_PLZ_20260611_0920_497859
DTSTAMP:20260611T092000
DTSTART:20260611T092000
DTEND:20260611T104500
SUMMARY:Negocjacje (Ć): 11BN-ZK-SD
CATEGORIES:Ć
LOCATION:110/110a A-0
END:VEVENT
BEGIN:VEVENT
UID:UZ_PLZ_20260611_1100_497820
DTSTAMP:20260611T110000
DTSTART:20260611T110000
DTEND:20260611T123000
SUMMARY:Tworzenie zespołów projektowych (Ć): 11ZARZ-SP
CATEGORIES:Ć
LOCATION:005 A-0
DESCRIPTION:<a href="https://classroom.google.com/c/ODU3MDYwMzg1NDIw">Google Classroom</a> 
END:VEVENT
BEGIN:VEVENT
UID:UZ_PLZ_20260611_1245_497876
DTSTAMP:20260611T124500
DTSTART:20260611T124500
DTEND:20260611T141500
SUMMARY:Tworzenie zespołów projektowych (Ć): 12ZARZ-SP
CATEGORIES:Ć
LOCATION:005 A-0
DESCRIPTION:<a href="https://classroom.google.com/c/ODU3MDYyMzcxMzc0">Google Classroom</a> 
END:VEVENT
BEGIN:VEVENT
UID:UZ_PLZ_20260611_1430_497877
DTSTAMP:20260611T143000
DTSTART:20260611T143000
DTEND:20260611T160000
SUMMARY:Współczesny menadżer personalny\, sylwetka\, funkcje (Ć): 12ZARZ-MP-SD
CATEGORIES:Ć
END:VEVENT
BEGIN:VEVENT
UID:UZ_PLZ_20260611_1605_507343
DTSTAMP:20260611T160500
DTSTART:20260611T160500
DTEND:20260611T173500
SUMMARY:Konsultacje (I)
CATEGORIES:I
LOCATION:111 A-0
END:VEVENT
BEGIN:VEVENT
UID:UZ_PLZ_20260613_0730_498617
DTSTAMP:20260613T073000
DTSTART:20260613T073000
DTEND:20260613T081500
SUMMARY:Seminarium dyplomowe 1 (S): 11BN-ZK-ND\; 12BN-AI-ND
CATEGORIES:S
LOCATION:111 A-0
END:VEVENT
BEGIN:VEVENT
UID:UZ_PLZ_20260613_0800_498614
DTSTAMP:20260613T080000
DTSTART:20260613T080000
DTEND:20260613T084500
SUMMARY:Seminarium dyplomowe 1 (S): 11BN-ZK-ND\; 12BN-AI-ND
CATEGORIES:S
LOCATION:111 A-0
END:VEVENT
BEGIN:VEVENT
UID:UZ_PLZ_20260613_0905_508264
DTSTAMP:20260613T090500
DTSTART:20260613T090500
DTEND:20260613T105000
SUMMARY:Proseminarium (Pro): 21ZARZ-NP
CATEGORIES:Pro
LOCATION:111 A-0
END:VEVENT
BEGIN:VEVENT
UID:UZ_PLZ_20260614_0835_507344
DTSTAMP:20260614T083500
DTSTART:20260614T083500
DTEND:20260614T092000
SUMMARY:Konsultacje (I)
CATEGORIES:I
LOCATION:111 A-0
END:VEVENT
BEGIN:VEVENT
UID:UZ_PLZ_20260614_0925_498342
DTSTAMP:20260614T092500
DTSTART:20260614T092500
DTEND:20260614T104500
SUMMARY:Negocjacje w biznesie (Ć): 11ZARZ-SRB-ND
CATEGORIES:Ć
LOCATION:005 A-0
END:VEVENT
BEGIN:VEVENT
UID:UZ_PLZ_20260614_1100_498216
DTSTAMP:20260614T110000
DTSTART:20260614T110000
DTEND:20260614T122000
SUMMARY:Tworzenie zespołów projektowych (Ć): 11ZARZ-NP
CATEGORIES:Ć
LOCATION:005 A-0
END:VEVENT
BEGIN:VEVENT
UID:UZ_PLZ_20260614_1245_498216
DTSTAMP:20260614T124500
DTSTART:20260614T124500
DTEND:20260614T140500
SUMMARY:Tworzenie zespołów projektowych (Ć): 11ZARZ-NP
CATEGORIES:Ć
LOCATION:1 C-2
END:VEVENT
BEGIN:VEVENT
UID:UZ_PLZ_20260615_1615_498646
DTSTAMP:20260615T161500
DTSTART:20260615T161500
DTEND:20260615T171500
SUMMARY:Seminarium dyplomowe 1 (S): 11ZARZ-SRB-SD
CATEGORIES:S
LOCATION:111 A-0
END:VEVENT
BEGIN:VEVENT
UID:UZ_PLZ_20260615_1725_498665
DTSTAMP:20260615T172500
DTSTART:20260615T172500
DTEND:20260615T185500
SUMMARY:Proseminarium (Pro): 21BN-SP
CATEGORIES:Pro
LOCATION:111 A-0
DESCRIPTION:<a href="https://classroom.google.com/c/ODU3MDYwNDM2MDU0">Google Classroom</a> 
END:VEVENT
BEGIN:VEVENT
UID:UZ_PLZ_20260618_1100_497820
DTSTAMP:20260618T110000
DTSTART:20260618T110000
DTEND:20260618T123000
SUMMARY:Tworzenie zespołów projektowych (Ć): 11ZARZ-SP
CATEGORIES:Ć
LOCATION:005 A-0
DESCRIPTION:<a href="https://classroom.google.com/c/ODU3MDYwMzg1NDIw">Google Classroom</a> 
END:VEVENT
BEGIN:VEVENT
UID:UZ_PLZ_20260618_1245_497876
DTSTAMP:20260618T124500
DTSTART:20260618T124500
DTEND:20260618T141500
SUMMARY:Tworzenie zespołów projektowych (Ć): 12ZARZ-SP
CATEGORIES:Ć
LOCATION:005 A-0
DESCRIPTION:<a href="https://classroom.google.com/c/ODU3MDYyMzcxMzc0">Google Classroom</a> 
END:VEVENT
BEGIN:VEVENT
UID:UZ_PLZ_20260618_1430_498984
DTSTAMP:20260618T143000
DTSTART:20260618T143000
DTEND:20260618T160500
SUMMARY:Negocjacje w biznesie (P): 11EK-RDF-SD
CATEGORIES:P
LOCATION:110/110a A-0
DESCRIPTION:<a href="https://classroom.google.com/c/ODYxMzc3NjIyMTA4">Google Classroom</a> 
END:VEVENT
BEGIN:VEVENT
UID:UZ_PLZ_20260618_1615_497877
DTSTAMP:20260618T161500
DTSTART:20260618T161500
DTEND:20260618T174500
SUMMARY:Współczesny menadżer personalny\, sylwetka\, funkcje (Ć): 12ZARZ-MP-SD
CATEGORIES:Ć
LOCATION:110/110a A-0
END:VEVENT
END:VCALENDAR
