BEGIN:VCALENDAR
TZID:Europe/Warsaw
X-WR-TIMEZONE:Europe/Warsaw
VERSION:2.0
PRODID:-//Uniwersytet Zielonogórski//NONSGML Plan zajęć v1.0//EN
NAME:Plan zajęć - semestr letni 2025/2026
X-WR-CALNAME:Plan zajęć - semestr letni 2025/2026
COLOR:green
CALSCALE:GREGORIAN
BEGIN:VEVENT
UID:UZ_PLZ_20260427_1215_501195
DTSTAMP:20260427T121500
DTSTART:20260427T121500
DTEND:20260427T130000
SUMMARY:Konteksty literatury i kultury do XVIII w. (W): 11FP-SD25
CATEGORIES:W
LOCATION:203 A-16
END:VEVENT
BEGIN:VEVENT
UID:UZ_PLZ_20260427_1315_501241
DTSTAMP:20260427T131500
DTSTART:20260427T131500
DTEND:20260427T144500
SUMMARY:Konteksty literatury i kultury do XVIII w. (K): 11FP-SD25
CATEGORIES:K
LOCATION:203 A-16
END:VEVENT
BEGIN:VEVENT
UID:UZ_PLZ_20260427_1500_507233
DTSTAMP:20260427T150000
DTSTART:20260427T150000
DTEND:20260427T163000
SUMMARY:Historia literatury polskiej: literatura staropolska i oświecenia (W): 11FP-SP25
CATEGORIES:W
LOCATION:203 A-16
END:VEVENT
BEGIN:VEVENT
UID:UZ_PLZ_20260428_1130_507167
DTSTAMP:20260428T113000
DTSTART:20260428T113000
DTEND:20260428T130000
SUMMARY:Dyżur instytutowy (R)
CATEGORIES:R
END:VEVENT
BEGIN:VEVENT
UID:UZ_PLZ_20260430_1130_501222
DTSTAMP:20260430T113000
DTSTART:20260430T113000
DTEND:20260430T130000
SUMMARY:Wiedza o kulturze (W): 31DiKS-SP23
CATEGORIES:W
LOCATION:219 A-16
END:VEVENT
BEGIN:VEVENT
UID:UZ_PLZ_20260430_1315_507185
DTSTAMP:20260430T131500
DTSTART:20260430T131500
DTEND:20260430T144500
SUMMARY:Konsultacje (I)
CATEGORIES:I
LOCATION:207 A-16
END:VEVENT
BEGIN:VEVENT
UID:UZ_PLZ_20260430_1500_501240
DTSTAMP:20260430T150000
DTSTART:20260430T150000
DTEND:20260430T163000
SUMMARY:Historia literatury polskiej: literatura staropolska i oświecenia (K): 11FP-SP25
CATEGORIES:K
LOCATION:203 A-16
END:VEVENT
BEGIN:VEVENT
UID:UZ_PLZ_20260504_1215_501195
DTSTAMP:20260504T121500
DTSTART:20260504T121500
DTEND:20260504T130000
SUMMARY:Konteksty literatury i kultury do XVIII w. (W): 11FP-SD25
CATEGORIES:W
LOCATION:203 A-16
END:VEVENT
BEGIN:VEVENT
UID:UZ_PLZ_20260504_1315_501241
DTSTAMP:20260504T131500
DTSTART:20260504T131500
DTEND:20260504T144500
SUMMARY:Konteksty literatury i kultury do XVIII w. (K): 11FP-SD25
CATEGORIES:K
LOCATION:203 A-16
END:VEVENT
BEGIN:VEVENT
UID:UZ_PLZ_20260504_1500_507233
DTSTAMP:20260504T150000
DTSTART:20260504T150000
DTEND:20260504T163000
SUMMARY:Historia literatury polskiej: literatura staropolska i oświecenia (W): 11FP-SP25
CATEGORIES:W
LOCATION:203 A-16
END:VEVENT
BEGIN:VEVENT
UID:UZ_PLZ_20260505_1130_507167
DTSTAMP:20260505T113000
DTSTART:20260505T113000
DTEND:20260505T130000
SUMMARY:Dyżur instytutowy (R)
CATEGORIES:R
END:VEVENT
BEGIN:VEVENT
UID:UZ_PLZ_20260506_0945_501237
DTSTAMP:20260506T094500
DTSTART:20260506T094500
DTEND:20260506T111500
SUMMARY:Zarys historii pisma\, książki i typografii (W): 11FP-SP25/11FP-SP25/ETIŚ
CATEGORIES:W
LOCATION:209 A-16
END:VEVENT
BEGIN:VEVENT
UID:UZ_PLZ_20260506_1130_501240
DTSTAMP:20260506T113000
DTSTART:20260506T113000
DTEND:20260506T130000
SUMMARY:Historia literatury polskiej: literatura staropolska i oświecenia (K): 11FP-SP25
CATEGORIES:K
LOCATION:209 A-16
END:VEVENT
BEGIN:VEVENT
UID:UZ_PLZ_20260506_1315_501311
DTSTAMP:20260506T131500
DTSTART:20260506T131500
DTEND:20260506T144500
SUMMARY:Wiedza o kulturze (W): 31FP-SP23
CATEGORIES:W
LOCATION:A A-16
END:VEVENT
BEGIN:VEVENT
UID:UZ_PLZ_20260507_1130_501222
DTSTAMP:20260507T113000
DTSTART:20260507T113000
DTEND:20260507T130000
SUMMARY:Wiedza o kulturze (W): 31DiKS-SP23
CATEGORIES:W
LOCATION:219 A-16
END:VEVENT
BEGIN:VEVENT
UID:UZ_PLZ_20260507_1315_507185
DTSTAMP:20260507T131500
DTSTART:20260507T131500
DTEND:20260507T144500
SUMMARY:Konsultacje (I)
CATEGORIES:I
LOCATION:207 A-16
END:VEVENT
BEGIN:VEVENT
UID:UZ_PLZ_20260507_1500_501240
DTSTAMP:20260507T150000
DTSTART:20260507T150000
DTEND:20260507T163000
SUMMARY:Historia literatury polskiej: literatura staropolska i oświecenia (K): 11FP-SP25
CATEGORIES:K
LOCATION:203 A-16
END:VEVENT
BEGIN:VEVENT
UID:UZ_PLZ_20260511_1215_501195
DTSTAMP:20260511T121500
DTSTART:20260511T121500
DTEND:20260511T130000
SUMMARY:Konteksty literatury i kultury do XVIII w. (W): 11FP-SD25
CATEGORIES:W
LOCATION:203 A-16
END:VEVENT
BEGIN:VEVENT
UID:UZ_PLZ_20260511_1315_501241
DTSTAMP:20260511T131500
DTSTART:20260511T131500
DTEND:20260511T144500
SUMMARY:Konteksty literatury i kultury do XVIII w. (K): 11FP-SD25
CATEGORIES:K
LOCATION:203 A-16
END:VEVENT
BEGIN:VEVENT
UID:UZ_PLZ_20260511_1500_507233
DTSTAMP:20260511T150000
DTSTART:20260511T150000
DTEND:20260511T163000
SUMMARY:Historia literatury polskiej: literatura staropolska i oświecenia (W): 11FP-SP25
CATEGORIES:W
LOCATION:203 A-16
END:VEVENT
BEGIN:VEVENT
UID:UZ_PLZ_20260512_1130_507167
DTSTAMP:20260512T113000
DTSTART:20260512T113000
DTEND:20260512T130000
SUMMARY:Dyżur instytutowy (R)
CATEGORIES:R
END:VEVENT
BEGIN:VEVENT
UID:UZ_PLZ_20260513_0945_501237
DTSTAMP:20260513T094500
DTSTART:20260513T094500
DTEND:20260513T111500
SUMMARY:Zarys historii pisma\, książki i typografii (W): 11FP-SP25/11FP-SP25/ETIŚ
CATEGORIES:W
LOCATION:209 A-16
END:VEVENT
BEGIN:VEVENT
UID:UZ_PLZ_20260513_1130_501240
DTSTAMP:20260513T113000
DTSTART:20260513T113000
DTEND:20260513T130000
SUMMARY:Historia literatury polskiej: literatura staropolska i oświecenia (K): 11FP-SP25
CATEGORIES:K
LOCATION:209 A-16
END:VEVENT
BEGIN:VEVENT
UID:UZ_PLZ_20260513_1315_501311
DTSTAMP:20260513T131500
DTSTART:20260513T131500
DTEND:20260513T144500
SUMMARY:Wiedza o kulturze (W): 31FP-SP23
CATEGORIES:W
LOCATION:A A-16
END:VEVENT
BEGIN:VEVENT
UID:UZ_PLZ_20260514_1130_501222
DTSTAMP:20260514T113000
DTSTART:20260514T113000
DTEND:20260514T130000
SUMMARY:Wiedza o kulturze (W): 31DiKS-SP23
CATEGORIES:W
LOCATION:219 A-16
END:VEVENT
BEGIN:VEVENT
UID:UZ_PLZ_20260514_1315_507185
DTSTAMP:20260514T131500
DTSTART:20260514T131500
DTEND:20260514T144500
SUMMARY:Konsultacje (I)
CATEGORIES:I
LOCATION:207 A-16
END:VEVENT
BEGIN:VEVENT
UID:UZ_PLZ_20260514_1500_501240
DTSTAMP:20260514T150000
DTSTART:20260514T150000
DTEND:20260514T163000
SUMMARY:Historia literatury polskiej: literatura staropolska i oświecenia (K): 11FP-SP25
CATEGORIES:K
LOCATION:203 A-16
END:VEVENT
BEGIN:VEVENT
UID:UZ_PLZ_20260518_1215_501195
DTSTAMP:20260518T121500
DTSTART:20260518T121500
DTEND:20260518T130000
SUMMARY:Konteksty literatury i kultury do XVIII w. (W): 11FP-SD25
CATEGORIES:W
LOCATION:203 A-16
END:VEVENT
BEGIN:VEVENT
UID:UZ_PLZ_20260518_1315_501241
DTSTAMP:20260518T131500
DTSTART:20260518T131500
DTEND:20260518T144500
SUMMARY:Konteksty literatury i kultury do XVIII w. (K): 11FP-SD25
CATEGORIES:K
LOCATION:203 A-16
END:VEVENT
BEGIN:VEVENT
UID:UZ_PLZ_20260518_1500_507233
DTSTAMP:20260518T150000
DTSTART:20260518T150000
DTEND:20260518T163000
SUMMARY:Historia literatury polskiej: literatura staropolska i oświecenia (W): 11FP-SP25
CATEGORIES:W
LOCATION:203 A-16
END:VEVENT
BEGIN:VEVENT
UID:UZ_PLZ_20260519_1130_507167
DTSTAMP:20260519T113000
DTSTART:20260519T113000
DTEND:20260519T130000
SUMMARY:Dyżur instytutowy (R)
CATEGORIES:R
END:VEVENT
BEGIN:VEVENT
UID:UZ_PLZ_20260520_0945_501237
DTSTAMP:20260520T094500
DTSTART:20260520T094500
DTEND:20260520T111500
SUMMARY:Zarys historii pisma\, książki i typografii (W): 11FP-SP25/11FP-SP25/ETIŚ
CATEGORIES:W
LOCATION:209 A-16
END:VEVENT
BEGIN:VEVENT
UID:UZ_PLZ_20260520_1130_501240
DTSTAMP:20260520T113000
DTSTART:20260520T113000
DTEND:20260520T130000
SUMMARY:Historia literatury polskiej: literatura staropolska i oświecenia (K): 11FP-SP25
CATEGORIES:K
LOCATION:209 A-16
END:VEVENT
BEGIN:VEVENT
UID:UZ_PLZ_20260520_1315_501311
DTSTAMP:20260520T131500
DTSTART:20260520T131500
DTEND:20260520T144500
SUMMARY:Wiedza o kulturze (W): 31FP-SP23
CATEGORIES:W
LOCATION:A A-16
END:VEVENT
BEGIN:VEVENT
UID:UZ_PLZ_20260521_1130_501222
DTSTAMP:20260521T113000
DTSTART:20260521T113000
DTEND:20260521T130000
SUMMARY:Wiedza o kulturze (W): 31DiKS-SP23
CATEGORIES:W
LOCATION:219 A-16
END:VEVENT
BEGIN:VEVENT
UID:UZ_PLZ_20260521_1315_507185
DTSTAMP:20260521T131500
DTSTART:20260521T131500
DTEND:20260521T144500
SUMMARY:Konsultacje (I)
CATEGORIES:I
LOCATION:207 A-16
END:VEVENT
BEGIN:VEVENT
UID:UZ_PLZ_20260521_1500_501240
DTSTAMP:20260521T150000
DTSTART:20260521T150000
DTEND:20260521T163000
SUMMARY:Historia literatury polskiej: literatura staropolska i oświecenia (K): 11FP-SP25
CATEGORIES:K
LOCATION:203 A-16
END:VEVENT
BEGIN:VEVENT
UID:UZ_PLZ_20260525_1215_501195
DTSTAMP:20260525T121500
DTSTART:20260525T121500
DTEND:20260525T130000
SUMMARY:Konteksty literatury i kultury do XVIII w. (W): 11FP-SD25
CATEGORIES:W
LOCATION:203 A-16
END:VEVENT
BEGIN:VEVENT
UID:UZ_PLZ_20260525_1315_501241
DTSTAMP:20260525T131500
DTSTART:20260525T131500
DTEND:20260525T144500
SUMMARY:Konteksty literatury i kultury do XVIII w. (K): 11FP-SD25
CATEGORIES:K
LOCATION:203 A-16
END:VEVENT
BEGIN:VEVENT
UID:UZ_PLZ_20260525_1500_507233
DTSTAMP:20260525T150000
DTSTART:20260525T150000
DTEND:20260525T163000
SUMMARY:Historia literatury polskiej: literatura staropolska i oświecenia (W): 11FP-SP25
CATEGORIES:W
LOCATION:203 A-16
END:VEVENT
BEGIN:VEVENT
UID:UZ_PLZ_20260526_1130_507167
DTSTAMP:20260526T113000
DTSTART:20260526T113000
DTEND:20260526T130000
SUMMARY:Dyżur instytutowy (R)
CATEGORIES:R
END:VEVENT
BEGIN:VEVENT
UID:UZ_PLZ_20260527_0945_501237
DTSTAMP:20260527T094500
DTSTART:20260527T094500
DTEND:20260527T111500
SUMMARY:Zarys historii pisma\, książki i typografii (W): 11FP-SP25/11FP-SP25/ETIŚ
CATEGORIES:W
LOCATION:209 A-16
END:VEVENT
BEGIN:VEVENT
UID:UZ_PLZ_20260527_1130_501240
DTSTAMP:20260527T113000
DTSTART:20260527T113000
DTEND:20260527T130000
SUMMARY:Historia literatury polskiej: literatura staropolska i oświecenia (K): 11FP-SP25
CATEGORIES:K
LOCATION:209 A-16
END:VEVENT
BEGIN:VEVENT
UID:UZ_PLZ_20260527_1315_501311
DTSTAMP:20260527T131500
DTSTART:20260527T131500
DTEND:20260527T144500
SUMMARY:Wiedza o kulturze (W): 31FP-SP23
CATEGORIES:W
LOCATION:48 A-16
END:VEVENT
BEGIN:VEVENT
UID:UZ_PLZ_20260528_1130_501222
DTSTAMP:20260528T113000
DTSTART:20260528T113000
DTEND:20260528T130000
SUMMARY:Wiedza o kulturze (W): 31DiKS-SP23
CATEGORIES:W
LOCATION:219 A-16
END:VEVENT
BEGIN:VEVENT
UID:UZ_PLZ_20260528_1315_507185
DTSTAMP:20260528T131500
DTSTART:20260528T131500
DTEND:20260528T144500
SUMMARY:Konsultacje (I)
CATEGORIES:I
LOCATION:207 A-16
END:VEVENT
BEGIN:VEVENT
UID:UZ_PLZ_20260528_1500_501240
DTSTAMP:20260528T150000
DTSTART:20260528T150000
DTEND:20260528T163000
SUMMARY:Historia literatury polskiej: literatura staropolska i oświecenia (K): 11FP-SP25
CATEGORIES:K
LOCATION:203 A-16
END:VEVENT
BEGIN:VEVENT
UID:UZ_PLZ_20260601_1215_501195
DTSTAMP:20260601T121500
DTSTART:20260601T121500
DTEND:20260601T130000
SUMMARY:Konteksty literatury i kultury do XVIII w. (W): 11FP-SD25
CATEGORIES:W
LOCATION:203 A-16
END:VEVENT
BEGIN:VEVENT
UID:UZ_PLZ_20260601_1315_501241
DTSTAMP:20260601T131500
DTSTART:20260601T131500
DTEND:20260601T144500
SUMMARY:Konteksty literatury i kultury do XVIII w. (K): 11FP-SD25
CATEGORIES:K
LOCATION:203 A-16
END:VEVENT
BEGIN:VEVENT
UID:UZ_PLZ_20260601_1500_507233
DTSTAMP:20260601T150000
DTSTART:20260601T150000
DTEND:20260601T163000
SUMMARY:Historia literatury polskiej: literatura staropolska i oświecenia (W): 11FP-SP25
CATEGORIES:W
LOCATION:203 A-16
END:VEVENT
BEGIN:VEVENT
UID:UZ_PLZ_20260602_1130_507167
DTSTAMP:20260602T113000
DTSTART:20260602T113000
DTEND:20260602T130000
SUMMARY:Dyżur instytutowy (R)
CATEGORIES:R
END:VEVENT
BEGIN:VEVENT
UID:UZ_PLZ_20260603_0945_501237
DTSTAMP:20260603T094500
DTSTART:20260603T094500
DTEND:20260603T111500
SUMMARY:Zarys historii pisma\, książki i typografii (W): 11FP-SP25/11FP-SP25/ETIŚ
CATEGORIES:W
LOCATION:209 A-16
END:VEVENT
BEGIN:VEVENT
UID:UZ_PLZ_20260603_1130_501240
DTSTAMP:20260603T113000
DTSTART:20260603T113000
DTEND:20260603T130000
SUMMARY:Historia literatury polskiej: literatura staropolska i oświecenia (K): 11FP-SP25
CATEGORIES:K
LOCATION:209 A-16
END:VEVENT
BEGIN:VEVENT
UID:UZ_PLZ_20260603_1315_501311
DTSTAMP:20260603T131500
DTSTART:20260603T131500
DTEND:20260603T144500
SUMMARY:Wiedza o kulturze (W): 31FP-SP23
CATEGORIES:W
LOCATION:A A-16
END:VEVENT
BEGIN:VEVENT
UID:UZ_PLZ_20260608_1215_501195
DTSTAMP:20260608T121500
DTSTART:20260608T121500
DTEND:20260608T130000
SUMMARY:Konteksty literatury i kultury do XVIII w. (W): 11FP-SD25
CATEGORIES:W
LOCATION:203 A-16
END:VEVENT
BEGIN:VEVENT
UID:UZ_PLZ_20260608_1315_501241
DTSTAMP:20260608T131500
DTSTART:20260608T131500
DTEND:20260608T144500
SUMMARY:Konteksty literatury i kultury do XVIII w. (K): 11FP-SD25
CATEGORIES:K
LOCATION:203 A-16
END:VEVENT
BEGIN:VEVENT
UID:UZ_PLZ_20260608_1500_507233
DTSTAMP:20260608T150000
DTSTART:20260608T150000
DTEND:20260608T163000
SUMMARY:Historia literatury polskiej: literatura staropolska i oświecenia (W): 11FP-SP25
CATEGORIES:W
LOCATION:203 A-16
END:VEVENT
BEGIN:VEVENT
UID:UZ_PLZ_20260609_1130_507167
DTSTAMP:20260609T113000
DTSTART:20260609T113000
DTEND:20260609T130000
SUMMARY:Dyżur instytutowy (R)
CATEGORIES:R
END:VEVENT
BEGIN:VEVENT
UID:UZ_PLZ_20260610_0945_501237
DTSTAMP:20260610T094500
DTSTART:20260610T094500
DTEND:20260610T111500
SUMMARY:Zarys historii pisma\, książki i typografii (W): 11FP-SP25/11FP-SP25/ETIŚ
CATEGORIES:W
LOCATION:209 A-16
END:VEVENT
BEGIN:VEVENT
UID:UZ_PLZ_20260610_1130_501240
DTSTAMP:20260610T113000
DTSTART:20260610T113000
DTEND:20260610T130000
SUMMARY:Historia literatury polskiej: literatura staropolska i oświecenia (K): 11FP-SP25
CATEGORIES:K
LOCATION:209 A-16
END:VEVENT
BEGIN:VEVENT
UID:UZ_PLZ_20260610_1315_501311
DTSTAMP:20260610T131500
DTSTART:20260610T131500
DTEND:20260610T144500
SUMMARY:Wiedza o kulturze (W): 31FP-SP23
CATEGORIES:W
LOCATION:A A-16
END:VEVENT
BEGIN:VEVENT
UID:UZ_PLZ_20260611_1130_501222
DTSTAMP:20260611T113000
DTSTART:20260611T113000
DTEND:20260611T130000
SUMMARY:Wiedza o kulturze (W): 31DiKS-SP23
CATEGORIES:W
LOCATION:219 A-16
END:VEVENT
BEGIN:VEVENT
UID:UZ_PLZ_20260611_1315_507185
DTSTAMP:20260611T131500
DTSTART:20260611T131500
DTEND:20260611T144500
SUMMARY:Konsultacje (I)
CATEGORIES:I
LOCATION:207 A-16
END:VEVENT
BEGIN:VEVENT
UID:UZ_PLZ_20260611_1500_501240
DTSTAMP:20260611T150000
DTSTART:20260611T150000
DTEND:20260611T163000
SUMMARY:Historia literatury polskiej: literatura staropolska i oświecenia (K): 11FP-SP25
CATEGORIES:K
LOCATION:203 A-16
END:VEVENT
BEGIN:VEVENT
UID:UZ_PLZ_20260615_1215_501195
DTSTAMP:20260615T121500
DTSTART:20260615T121500
DTEND:20260615T130000
SUMMARY:Konteksty literatury i kultury do XVIII w. (W): 11FP-SD25
CATEGORIES:W
LOCATION:203 A-16
END:VEVENT
BEGIN:VEVENT
UID:UZ_PLZ_20260615_1315_501241
DTSTAMP:20260615T131500
DTSTART:20260615T131500
DTEND:20260615T144500
SUMMARY:Konteksty literatury i kultury do XVIII w. (K): 11FP-SD25
CATEGORIES:K
LOCATION:203 A-16
END:VEVENT
BEGIN:VEVENT
UID:UZ_PLZ_20260615_1500_507233
DTSTAMP:20260615T150000
DTSTART:20260615T150000
DTEND:20260615T163000
SUMMARY:Historia literatury polskiej: literatura staropolska i oświecenia (W): 11FP-SP25
CATEGORIES:W
LOCATION:203 A-16
END:VEVENT
BEGIN:VEVENT
UID:UZ_PLZ_20260616_1130_507167
DTSTAMP:20260616T113000
DTSTART:20260616T113000
DTEND:20260616T130000
SUMMARY:Dyżur instytutowy (R)
CATEGORIES:R
END:VEVENT
BEGIN:VEVENT
UID:UZ_PLZ_20260617_0945_501237
DTSTAMP:20260617T094500
DTSTART:20260617T094500
DTEND:20260617T111500
SUMMARY:Zarys historii pisma\, książki i typografii (W): 11FP-SP25/11FP-SP25/ETIŚ
CATEGORIES:W
LOCATION:209 A-16
END:VEVENT
BEGIN:VEVENT
UID:UZ_PLZ_20260617_1130_501240
DTSTAMP:20260617T113000
DTSTART:20260617T113000
DTEND:20260617T130000
SUMMARY:Historia literatury polskiej: literatura staropolska i oświecenia (K): 11FP-SP25
CATEGORIES:K
LOCATION:209 A-16
END:VEVENT
BEGIN:VEVENT
UID:UZ_PLZ_20260617_1315_501311
DTSTAMP:20260617T131500
DTSTART:20260617T131500
DTEND:20260617T144500
SUMMARY:Wiedza o kulturze (W): 31FP-SP23
CATEGORIES:W
LOCATION:A A-16
END:VEVENT
BEGIN:VEVENT
UID:UZ_PLZ_20260618_1130_501222
DTSTAMP:20260618T113000
DTSTART:20260618T113000
DTEND:20260618T130000
SUMMARY:Wiedza o kulturze (W): 31DiKS-SP23
CATEGORIES:W
LOCATION:219 A-16
END:VEVENT
BEGIN:VEVENT
UID:UZ_PLZ_20260618_1315_507185
DTSTAMP:20260618T131500
DTSTART:20260618T131500
DTEND:20260618T144500
SUMMARY:Konsultacje (I)
CATEGORIES:I
LOCATION:207 A-16
END:VEVENT
BEGIN:VEVENT
UID:UZ_PLZ_20260618_1500_501240
DTSTAMP:20260618T150000
DTSTART:20260618T150000
DTEND:20260618T163000
SUMMARY:Historia literatury polskiej: literatura staropolska i oświecenia (K): 11FP-SP25
CATEGORIES:K
LOCATION:203 A-16
END:VEVENT
END:VCALENDAR
