BEGIN:VCALENDAR
TZID:Europe/Warsaw
X-WR-TIMEZONE:Europe/Warsaw
VERSION:2.0
PRODID:-//Uniwersytet Zielonogórski//NONSGML Plan zajęć v1.0//EN
NAME:Plan zajęć - semestr letni 2025/2026
X-WR-CALNAME:Plan zajęć - semestr letni 2025/2026
COLOR:green
CALSCALE:GREGORIAN
BEGIN:VEVENT
UID:UZ_PLZ_20260420_0945_504652
DTSTAMP:20260420T094500
DTSTART:20260420T094500
DTEND:20260420T111400
SUMMARY:SWFiS / Pływanie (Ć)
CATEGORIES:Ć
END:VEVENT
BEGIN:VEVENT
UID:UZ_PLZ_20260420_1115_504652
DTSTAMP:20260420T111500
DTSTART:20260420T111500
DTEND:20260420T124400
SUMMARY:SWFiS / Pływanie (Ć)
CATEGORIES:Ć
END:VEVENT
BEGIN:VEVENT
UID:UZ_PLZ_20260420_1300_504652
DTSTAMP:20260420T130000
DTSTART:20260420T130000
DTEND:20260420T143000
SUMMARY:SWFiS / Pływanie (Ć)
CATEGORIES:Ć
END:VEVENT
BEGIN:VEVENT
UID:UZ_PLZ_20260420_1700_503983
DTSTAMP:20260420T170000
DTSTART:20260420T170000
DTEND:20260420T210000
SUMMARY:Wychowanie fizyczne (L): 2 FIZ-JMS 24/25/L1
CATEGORIES:L
END:VEVENT
BEGIN:VEVENT
UID:UZ_PLZ_20260420_1700_503856
DTSTAMP:20260420T170000
DTSTART:20260420T170000
DTEND:20260420T210000
SUMMARY:Wychowanie fizyczne (L): 2 FIZ-JMS 24/25/L2
CATEGORIES:L
END:VEVENT
BEGIN:VEVENT
UID:UZ_PLZ_20260420_2015_504651
DTSTAMP:20260420T201500
DTSTART:20260420T201500
DTEND:20260420T214500
SUMMARY:SWFiS / Pływanie (Ć)
CATEGORIES:Ć
END:VEVENT
BEGIN:VEVENT
UID:UZ_PLZ_20260421_0945_504674
DTSTAMP:20260421T094500
DTSTART:20260421T094500
DTEND:20260421T111500
SUMMARY:Teoria i metodyka pływania (L): 11WF-SP 25/26/A
CATEGORIES:L
END:VEVENT
BEGIN:VEVENT
UID:UZ_PLZ_20260421_1120_504717
DTSTAMP:20260421T112000
DTSTART:20260421T112000
DTEND:20260421T125000
SUMMARY:Teoria i metodyka pływania (L): 11WF-SP 25/26/B
CATEGORIES:L
END:VEVENT
BEGIN:VEVENT
UID:UZ_PLZ_20260421_1255_504713
DTSTAMP:20260421T125500
DTSTART:20260421T125500
DTEND:20260421T142500
SUMMARY:Pływanie (L): 21WF-SP 24/25
CATEGORIES:L
END:VEVENT
BEGIN:VEVENT
UID:UZ_PLZ_20260421_2015_504651
DTSTAMP:20260421T201500
DTSTART:20260421T201500
DTEND:20260421T214500
SUMMARY:SWFiS / Pływanie (Ć)
CATEGORIES:Ć
END:VEVENT
BEGIN:VEVENT
UID:UZ_PLZ_20260422_0945_504718
DTSTAMP:20260422T094500
DTSTART:20260422T094500
DTEND:20260422T111500
SUMMARY:Teoria i metodyka pływania (L): 11WF-SP 25/26/C
CATEGORIES:L
END:VEVENT
BEGIN:VEVENT
UID:UZ_PLZ_20260422_1100_505282
DTSTAMP:20260422T110000
DTSTART:20260422T110000
DTEND:20260422T153000
SUMMARY:Wychowanie fizyczne (Ć): 11B-SP 25/26
CATEGORIES:Ć
END:VEVENT
BEGIN:VEVENT
UID:UZ_PLZ_20260422_1100_503437
DTSTAMP:20260422T110000
DTSTART:20260422T110000
DTEND:20260422T153000
SUMMARY:Wychowanie fizyczne (Ć): 11BT-SP 25/26
CATEGORIES:Ć
END:VEVENT
BEGIN:VEVENT
UID:UZ_PLZ_20260422_2015_504651
DTSTAMP:20260422T201500
DTSTART:20260422T201500
DTEND:20260422T214500
SUMMARY:SWFiS / Pływanie (Ć)
CATEGORIES:Ć
END:VEVENT
BEGIN:VEVENT
UID:UZ_PLZ_20260423_0945_504718
DTSTAMP:20260423T094500
DTSTART:20260423T094500
DTEND:20260423T111500
SUMMARY:Teoria i metodyka pływania (L): 11WF-SP 25/26/C
CATEGORIES:L
END:VEVENT
BEGIN:VEVENT
UID:UZ_PLZ_20260423_1120_504674
DTSTAMP:20260423T112000
DTSTART:20260423T112000
DTEND:20260423T125000
SUMMARY:Teoria i metodyka pływania (L): 11WF-SP 25/26/A
CATEGORIES:L
END:VEVENT
BEGIN:VEVENT
UID:UZ_PLZ_20260423_1255_504717
DTSTAMP:20260423T125500
DTSTART:20260423T125500
DTEND:20260423T142500
SUMMARY:Teoria i metodyka pływania (L): 11WF-SP 25/26/B
CATEGORIES:L
END:VEVENT
BEGIN:VEVENT
UID:UZ_PLZ_20260424_0800_504652
DTSTAMP:20260424T080000
DTSTART:20260424T080000
DTEND:20260424T092900
SUMMARY:SWFiS / Pływanie (Ć)
CATEGORIES:Ć
END:VEVENT
BEGIN:VEVENT
UID:UZ_PLZ_20260424_0930_504652
DTSTAMP:20260424T093000
DTSTART:20260424T093000
DTEND:20260424T105900
SUMMARY:SWFiS / Pływanie (Ć)
CATEGORIES:Ć
END:VEVENT
BEGIN:VEVENT
UID:UZ_PLZ_20260424_1100_504652
DTSTAMP:20260424T110000
DTSTART:20260424T110000
DTEND:20260424T122900
SUMMARY:SWFiS / Pływanie (Ć)
CATEGORIES:Ć
END:VEVENT
BEGIN:VEVENT
UID:UZ_PLZ_20260425_1815_504770
DTSTAMP:20260425T181500
DTSTART:20260425T181500
DTEND:20260425T203000
SUMMARY:Pływanie (L): 21WF-NP 24/25
CATEGORIES:L
END:VEVENT
BEGIN:VEVENT
UID:UZ_PLZ_20260426_1605_504787
DTSTAMP:20260426T160500
DTSTART:20260426T160500
DTEND:20260426T182000
SUMMARY:Teoria i metodyka pływania (L): 11WF-NP/A
CATEGORIES:L
END:VEVENT
BEGIN:VEVENT
UID:UZ_PLZ_20260426_1825_505624
DTSTAMP:20260426T182500
DTSTART:20260426T182500
DTEND:20260426T204000
SUMMARY:Teoria i metodyka pływania (L): 11WF-NP/B
CATEGORIES:L
END:VEVENT
BEGIN:VEVENT
UID:UZ_PLZ_20260427_0945_504652
DTSTAMP:20260427T094500
DTSTART:20260427T094500
DTEND:20260427T111400
SUMMARY:SWFiS / Pływanie (Ć)
CATEGORIES:Ć
END:VEVENT
BEGIN:VEVENT
UID:UZ_PLZ_20260427_1115_504652
DTSTAMP:20260427T111500
DTSTART:20260427T111500
DTEND:20260427T124400
SUMMARY:SWFiS / Pływanie (Ć)
CATEGORIES:Ć
END:VEVENT
BEGIN:VEVENT
UID:UZ_PLZ_20260427_1300_504652
DTSTAMP:20260427T130000
DTSTART:20260427T130000
DTEND:20260427T143000
SUMMARY:SWFiS / Pływanie (Ć)
CATEGORIES:Ć
END:VEVENT
BEGIN:VEVENT
UID:UZ_PLZ_20260427_1700_503983
DTSTAMP:20260427T170000
DTSTART:20260427T170000
DTEND:20260427T210000
SUMMARY:Wychowanie fizyczne (L): 2 FIZ-JMS 24/25/L1
CATEGORIES:L
END:VEVENT
BEGIN:VEVENT
UID:UZ_PLZ_20260427_1700_503856
DTSTAMP:20260427T170000
DTSTART:20260427T170000
DTEND:20260427T210000
SUMMARY:Wychowanie fizyczne (L): 2 FIZ-JMS 24/25/L2
CATEGORIES:L
END:VEVENT
BEGIN:VEVENT
UID:UZ_PLZ_20260427_2015_504651
DTSTAMP:20260427T201500
DTSTART:20260427T201500
DTEND:20260427T214500
SUMMARY:SWFiS / Pływanie (Ć)
CATEGORIES:Ć
END:VEVENT
BEGIN:VEVENT
UID:UZ_PLZ_20260428_0945_504674
DTSTAMP:20260428T094500
DTSTART:20260428T094500
DTEND:20260428T111500
SUMMARY:Teoria i metodyka pływania (L): 11WF-SP 25/26/A
CATEGORIES:L
END:VEVENT
BEGIN:VEVENT
UID:UZ_PLZ_20260428_1120_504717
DTSTAMP:20260428T112000
DTSTART:20260428T112000
DTEND:20260428T125000
SUMMARY:Teoria i metodyka pływania (L): 11WF-SP 25/26/B
CATEGORIES:L
END:VEVENT
BEGIN:VEVENT
UID:UZ_PLZ_20260428_1255_504713
DTSTAMP:20260428T125500
DTSTART:20260428T125500
DTEND:20260428T142500
SUMMARY:Pływanie (L): 21WF-SP 24/25
CATEGORIES:L
END:VEVENT
BEGIN:VEVENT
UID:UZ_PLZ_20260428_2015_504651
DTSTAMP:20260428T201500
DTSTART:20260428T201500
DTEND:20260428T214500
SUMMARY:SWFiS / Pływanie (Ć)
CATEGORIES:Ć
END:VEVENT
BEGIN:VEVENT
UID:UZ_PLZ_20260429_0800_504652
DTSTAMP:20260429T080000
DTSTART:20260429T080000
DTEND:20260429T092900
SUMMARY:SWFiS / Pływanie (Ć)
CATEGORIES:Ć
END:VEVENT
BEGIN:VEVENT
UID:UZ_PLZ_20260429_0930_504652
DTSTAMP:20260429T093000
DTSTART:20260429T093000
DTEND:20260429T105900
SUMMARY:SWFiS / Pływanie (Ć)
CATEGORIES:Ć
END:VEVENT
BEGIN:VEVENT
UID:UZ_PLZ_20260429_1100_504652
DTSTAMP:20260429T110000
DTSTART:20260429T110000
DTEND:20260429T122900
SUMMARY:SWFiS / Pływanie (Ć)
CATEGORIES:Ć
END:VEVENT
BEGIN:VEVENT
UID:UZ_PLZ_20260504_0945_504652
DTSTAMP:20260504T094500
DTSTART:20260504T094500
DTEND:20260504T111400
SUMMARY:SWFiS / Pływanie (Ć)
CATEGORIES:Ć
END:VEVENT
BEGIN:VEVENT
UID:UZ_PLZ_20260504_1115_504652
DTSTAMP:20260504T111500
DTSTART:20260504T111500
DTEND:20260504T124400
SUMMARY:SWFiS / Pływanie (Ć)
CATEGORIES:Ć
END:VEVENT
BEGIN:VEVENT
UID:UZ_PLZ_20260504_1300_504652
DTSTAMP:20260504T130000
DTSTART:20260504T130000
DTEND:20260504T143000
SUMMARY:SWFiS / Pływanie (Ć)
CATEGORIES:Ć
END:VEVENT
BEGIN:VEVENT
UID:UZ_PLZ_20260504_1700_503983
DTSTAMP:20260504T170000
DTSTART:20260504T170000
DTEND:20260504T210000
SUMMARY:Wychowanie fizyczne (L): 2 FIZ-JMS 24/25/L1
CATEGORIES:L
END:VEVENT
BEGIN:VEVENT
UID:UZ_PLZ_20260504_1700_503856
DTSTAMP:20260504T170000
DTSTART:20260504T170000
DTEND:20260504T210000
SUMMARY:Wychowanie fizyczne (L): 2 FIZ-JMS 24/25/L2
CATEGORIES:L
END:VEVENT
BEGIN:VEVENT
UID:UZ_PLZ_20260504_2015_504651
DTSTAMP:20260504T201500
DTSTART:20260504T201500
DTEND:20260504T214500
SUMMARY:SWFiS / Pływanie (Ć)
CATEGORIES:Ć
END:VEVENT
BEGIN:VEVENT
UID:UZ_PLZ_20260505_1255_504713
DTSTAMP:20260505T125500
DTSTART:20260505T125500
DTEND:20260505T142500
SUMMARY:Pływanie (L): 21WF-SP 24/25
CATEGORIES:L
END:VEVENT
BEGIN:VEVENT
UID:UZ_PLZ_20260505_2015_504651
DTSTAMP:20260505T201500
DTSTART:20260505T201500
DTEND:20260505T214500
SUMMARY:SWFiS / Pływanie (Ć)
CATEGORIES:Ć
END:VEVENT
BEGIN:VEVENT
UID:UZ_PLZ_20260506_1100_505282
DTSTAMP:20260506T110000
DTSTART:20260506T110000
DTEND:20260506T153000
SUMMARY:Wychowanie fizyczne (Ć): 11B-SP 25/26
CATEGORIES:Ć
END:VEVENT
BEGIN:VEVENT
UID:UZ_PLZ_20260506_1100_503437
DTSTAMP:20260506T110000
DTSTART:20260506T110000
DTEND:20260506T153000
SUMMARY:Wychowanie fizyczne (Ć): 11BT-SP 25/26
CATEGORIES:Ć
END:VEVENT
BEGIN:VEVENT
UID:UZ_PLZ_20260506_2015_504651
DTSTAMP:20260506T201500
DTSTART:20260506T201500
DTEND:20260506T214500
SUMMARY:SWFiS / Pływanie (Ć)
CATEGORIES:Ć
END:VEVENT
BEGIN:VEVENT
UID:UZ_PLZ_20260508_0800_504652
DTSTAMP:20260508T080000
DTSTART:20260508T080000
DTEND:20260508T092900
SUMMARY:SWFiS / Pływanie (Ć)
CATEGORIES:Ć
END:VEVENT
BEGIN:VEVENT
UID:UZ_PLZ_20260508_0930_504652
DTSTAMP:20260508T093000
DTSTART:20260508T093000
DTEND:20260508T105900
SUMMARY:SWFiS / Pływanie (Ć)
CATEGORIES:Ć
END:VEVENT
BEGIN:VEVENT
UID:UZ_PLZ_20260508_1100_504652
DTSTAMP:20260508T110000
DTSTART:20260508T110000
DTEND:20260508T122900
SUMMARY:SWFiS / Pływanie (Ć)
CATEGORIES:Ć
END:VEVENT
BEGIN:VEVENT
UID:UZ_PLZ_20260509_1815_504770
DTSTAMP:20260509T181500
DTSTART:20260509T181500
DTEND:20260509T203000
SUMMARY:Pływanie (L): 21WF-NP 24/25
CATEGORIES:L
END:VEVENT
BEGIN:VEVENT
UID:UZ_PLZ_20260510_1605_504787
DTSTAMP:20260510T160500
DTSTART:20260510T160500
DTEND:20260510T182000
SUMMARY:Teoria i metodyka pływania (L): 11WF-NP/A
CATEGORIES:L
END:VEVENT
BEGIN:VEVENT
UID:UZ_PLZ_20260510_1825_505624
DTSTAMP:20260510T182500
DTSTART:20260510T182500
DTEND:20260510T204000
SUMMARY:Teoria i metodyka pływania (L): 11WF-NP/B
CATEGORIES:L
END:VEVENT
BEGIN:VEVENT
UID:UZ_PLZ_20260511_0945_504652
DTSTAMP:20260511T094500
DTSTART:20260511T094500
DTEND:20260511T111400
SUMMARY:SWFiS / Pływanie (Ć)
CATEGORIES:Ć
END:VEVENT
BEGIN:VEVENT
UID:UZ_PLZ_20260511_1115_504652
DTSTAMP:20260511T111500
DTSTART:20260511T111500
DTEND:20260511T124400
SUMMARY:SWFiS / Pływanie (Ć)
CATEGORIES:Ć
END:VEVENT
BEGIN:VEVENT
UID:UZ_PLZ_20260511_1300_504652
DTSTAMP:20260511T130000
DTSTART:20260511T130000
DTEND:20260511T143000
SUMMARY:SWFiS / Pływanie (Ć)
CATEGORIES:Ć
END:VEVENT
BEGIN:VEVENT
UID:UZ_PLZ_20260511_1700_503983
DTSTAMP:20260511T170000
DTSTART:20260511T170000
DTEND:20260511T210000
SUMMARY:Wychowanie fizyczne (L): 2 FIZ-JMS 24/25/L1
CATEGORIES:L
END:VEVENT
BEGIN:VEVENT
UID:UZ_PLZ_20260511_1700_503856
DTSTAMP:20260511T170000
DTSTART:20260511T170000
DTEND:20260511T210000
SUMMARY:Wychowanie fizyczne (L): 2 FIZ-JMS 24/25/L2
CATEGORIES:L
END:VEVENT
BEGIN:VEVENT
UID:UZ_PLZ_20260511_2015_504651
DTSTAMP:20260511T201500
DTSTART:20260511T201500
DTEND:20260511T214500
SUMMARY:SWFiS / Pływanie (Ć)
CATEGORIES:Ć
END:VEVENT
BEGIN:VEVENT
UID:UZ_PLZ_20260512_1255_504713
DTSTAMP:20260512T125500
DTSTART:20260512T125500
DTEND:20260512T142500
SUMMARY:Pływanie (L): 21WF-SP 24/25
CATEGORIES:L
END:VEVENT
BEGIN:VEVENT
UID:UZ_PLZ_20260512_2015_504651
DTSTAMP:20260512T201500
DTSTART:20260512T201500
DTEND:20260512T214500
SUMMARY:SWFiS / Pływanie (Ć)
CATEGORIES:Ć
END:VEVENT
BEGIN:VEVENT
UID:UZ_PLZ_20260513_1100_505282
DTSTAMP:20260513T110000
DTSTART:20260513T110000
DTEND:20260513T153000
SUMMARY:Wychowanie fizyczne (Ć): 11B-SP 25/26
CATEGORIES:Ć
END:VEVENT
BEGIN:VEVENT
UID:UZ_PLZ_20260513_1100_503437
DTSTAMP:20260513T110000
DTSTART:20260513T110000
DTEND:20260513T153000
SUMMARY:Wychowanie fizyczne (Ć): 11BT-SP 25/26
CATEGORIES:Ć
END:VEVENT
BEGIN:VEVENT
UID:UZ_PLZ_20260513_2015_504651
DTSTAMP:20260513T201500
DTSTART:20260513T201500
DTEND:20260513T214500
SUMMARY:SWFiS / Pływanie (Ć)
CATEGORIES:Ć
END:VEVENT
BEGIN:VEVENT
UID:UZ_PLZ_20260515_0800_504652
DTSTAMP:20260515T080000
DTSTART:20260515T080000
DTEND:20260515T092900
SUMMARY:SWFiS / Pływanie (Ć)
CATEGORIES:Ć
END:VEVENT
BEGIN:VEVENT
UID:UZ_PLZ_20260515_0930_504652
DTSTAMP:20260515T093000
DTSTART:20260515T093000
DTEND:20260515T105900
SUMMARY:SWFiS / Pływanie (Ć)
CATEGORIES:Ć
END:VEVENT
BEGIN:VEVENT
UID:UZ_PLZ_20260515_1100_504652
DTSTAMP:20260515T110000
DTSTART:20260515T110000
DTEND:20260515T122900
SUMMARY:SWFiS / Pływanie (Ć)
CATEGORIES:Ć
END:VEVENT
BEGIN:VEVENT
UID:UZ_PLZ_20260516_1815_504770
DTSTAMP:20260516T181500
DTSTART:20260516T181500
DTEND:20260516T203000
SUMMARY:Pływanie (L): 21WF-NP 24/25
CATEGORIES:L
END:VEVENT
BEGIN:VEVENT
UID:UZ_PLZ_20260517_1605_504787
DTSTAMP:20260517T160500
DTSTART:20260517T160500
DTEND:20260517T182000
SUMMARY:Teoria i metodyka pływania (L): 11WF-NP/A
CATEGORIES:L
END:VEVENT
BEGIN:VEVENT
UID:UZ_PLZ_20260517_1825_505624
DTSTAMP:20260517T182500
DTSTART:20260517T182500
DTEND:20260517T204000
SUMMARY:Teoria i metodyka pływania (L): 11WF-NP/B
CATEGORIES:L
END:VEVENT
BEGIN:VEVENT
UID:UZ_PLZ_20260518_0945_504652
DTSTAMP:20260518T094500
DTSTART:20260518T094500
DTEND:20260518T111400
SUMMARY:SWFiS / Pływanie (Ć)
CATEGORIES:Ć
END:VEVENT
BEGIN:VEVENT
UID:UZ_PLZ_20260518_1115_504652
DTSTAMP:20260518T111500
DTSTART:20260518T111500
DTEND:20260518T124400
SUMMARY:SWFiS / Pływanie (Ć)
CATEGORIES:Ć
END:VEVENT
BEGIN:VEVENT
UID:UZ_PLZ_20260518_1300_504652
DTSTAMP:20260518T130000
DTSTART:20260518T130000
DTEND:20260518T143000
SUMMARY:SWFiS / Pływanie (Ć)
CATEGORIES:Ć
END:VEVENT
BEGIN:VEVENT
UID:UZ_PLZ_20260518_1700_503983
DTSTAMP:20260518T170000
DTSTART:20260518T170000
DTEND:20260518T210000
SUMMARY:Wychowanie fizyczne (L): 2 FIZ-JMS 24/25/L1
CATEGORIES:L
END:VEVENT
BEGIN:VEVENT
UID:UZ_PLZ_20260518_1700_503856
DTSTAMP:20260518T170000
DTSTART:20260518T170000
DTEND:20260518T210000
SUMMARY:Wychowanie fizyczne (L): 2 FIZ-JMS 24/25/L2
CATEGORIES:L
END:VEVENT
BEGIN:VEVENT
UID:UZ_PLZ_20260518_2015_504651
DTSTAMP:20260518T201500
DTSTART:20260518T201500
DTEND:20260518T214500
SUMMARY:SWFiS / Pływanie (Ć)
CATEGORIES:Ć
END:VEVENT
BEGIN:VEVENT
UID:UZ_PLZ_20260519_1255_504713
DTSTAMP:20260519T125500
DTSTART:20260519T125500
DTEND:20260519T142500
SUMMARY:Pływanie (L): 21WF-SP 24/25
CATEGORIES:L
END:VEVENT
BEGIN:VEVENT
UID:UZ_PLZ_20260519_2015_504651
DTSTAMP:20260519T201500
DTSTART:20260519T201500
DTEND:20260519T214500
SUMMARY:SWFiS / Pływanie (Ć)
CATEGORIES:Ć
END:VEVENT
BEGIN:VEVENT
UID:UZ_PLZ_20260520_1100_505282
DTSTAMP:20260520T110000
DTSTART:20260520T110000
DTEND:20260520T153000
SUMMARY:Wychowanie fizyczne (Ć): 11B-SP 25/26
CATEGORIES:Ć
END:VEVENT
BEGIN:VEVENT
UID:UZ_PLZ_20260520_1100_503437
DTSTAMP:20260520T110000
DTSTART:20260520T110000
DTEND:20260520T153000
SUMMARY:Wychowanie fizyczne (Ć): 11BT-SP 25/26
CATEGORIES:Ć
END:VEVENT
BEGIN:VEVENT
UID:UZ_PLZ_20260520_2015_504651
DTSTAMP:20260520T201500
DTSTART:20260520T201500
DTEND:20260520T214500
SUMMARY:SWFiS / Pływanie (Ć)
CATEGORIES:Ć
END:VEVENT
BEGIN:VEVENT
UID:UZ_PLZ_20260522_0800_504652
DTSTAMP:20260522T080000
DTSTART:20260522T080000
DTEND:20260522T092900
SUMMARY:SWFiS / Pływanie (Ć)
CATEGORIES:Ć
END:VEVENT
BEGIN:VEVENT
UID:UZ_PLZ_20260522_0930_504652
DTSTAMP:20260522T093000
DTSTART:20260522T093000
DTEND:20260522T105900
SUMMARY:SWFiS / Pływanie (Ć)
CATEGORIES:Ć
END:VEVENT
BEGIN:VEVENT
UID:UZ_PLZ_20260522_1100_504652
DTSTAMP:20260522T110000
DTSTART:20260522T110000
DTEND:20260522T122900
SUMMARY:SWFiS / Pływanie (Ć)
CATEGORIES:Ć
END:VEVENT
BEGIN:VEVENT
UID:UZ_PLZ_20260525_0945_504652
DTSTAMP:20260525T094500
DTSTART:20260525T094500
DTEND:20260525T111400
SUMMARY:SWFiS / Pływanie (Ć)
CATEGORIES:Ć
END:VEVENT
BEGIN:VEVENT
UID:UZ_PLZ_20260525_1115_504652
DTSTAMP:20260525T111500
DTSTART:20260525T111500
DTEND:20260525T124400
SUMMARY:SWFiS / Pływanie (Ć)
CATEGORIES:Ć
END:VEVENT
BEGIN:VEVENT
UID:UZ_PLZ_20260525_1300_504652
DTSTAMP:20260525T130000
DTSTART:20260525T130000
DTEND:20260525T143000
SUMMARY:SWFiS / Pływanie (Ć)
CATEGORIES:Ć
END:VEVENT
BEGIN:VEVENT
UID:UZ_PLZ_20260525_1700_503983
DTSTAMP:20260525T170000
DTSTART:20260525T170000
DTEND:20260525T210000
SUMMARY:Wychowanie fizyczne (L): 2 FIZ-JMS 24/25/L1
CATEGORIES:L
END:VEVENT
BEGIN:VEVENT
UID:UZ_PLZ_20260525_1700_503856
DTSTAMP:20260525T170000
DTSTART:20260525T170000
DTEND:20260525T210000
SUMMARY:Wychowanie fizyczne (L): 2 FIZ-JMS 24/25/L2
CATEGORIES:L
END:VEVENT
BEGIN:VEVENT
UID:UZ_PLZ_20260525_2015_504651
DTSTAMP:20260525T201500
DTSTART:20260525T201500
DTEND:20260525T214500
SUMMARY:SWFiS / Pływanie (Ć)
CATEGORIES:Ć
END:VEVENT
BEGIN:VEVENT
UID:UZ_PLZ_20260526_1255_504713
DTSTAMP:20260526T125500
DTSTART:20260526T125500
DTEND:20260526T142500
SUMMARY:Pływanie (L): 21WF-SP 24/25
CATEGORIES:L
END:VEVENT
BEGIN:VEVENT
UID:UZ_PLZ_20260526_2015_504651
DTSTAMP:20260526T201500
DTSTART:20260526T201500
DTEND:20260526T214500
SUMMARY:SWFiS / Pływanie (Ć)
CATEGORIES:Ć
END:VEVENT
BEGIN:VEVENT
UID:UZ_PLZ_20260527_1100_503437
DTSTAMP:20260527T110000
DTSTART:20260527T110000
DTEND:20260527T153000
SUMMARY:Wychowanie fizyczne (Ć): 11BT-SP 25/26
CATEGORIES:Ć
END:VEVENT
BEGIN:VEVENT
UID:UZ_PLZ_20260527_2015_504651
DTSTAMP:20260527T201500
DTSTART:20260527T201500
DTEND:20260527T214500
SUMMARY:SWFiS / Pływanie (Ć)
CATEGORIES:Ć
END:VEVENT
BEGIN:VEVENT
UID:UZ_PLZ_20260529_0800_504652
DTSTAMP:20260529T080000
DTSTART:20260529T080000
DTEND:20260529T092900
SUMMARY:SWFiS / Pływanie (Ć)
CATEGORIES:Ć
END:VEVENT
BEGIN:VEVENT
UID:UZ_PLZ_20260529_0930_504652
DTSTAMP:20260529T093000
DTSTART:20260529T093000
DTEND:20260529T105900
SUMMARY:SWFiS / Pływanie (Ć)
CATEGORIES:Ć
END:VEVENT
BEGIN:VEVENT
UID:UZ_PLZ_20260529_1100_504652
DTSTAMP:20260529T110000
DTSTART:20260529T110000
DTEND:20260529T122900
SUMMARY:SWFiS / Pływanie (Ć)
CATEGORIES:Ć
END:VEVENT
BEGIN:VEVENT
UID:UZ_PLZ_20260601_0945_504652
DTSTAMP:20260601T094500
DTSTART:20260601T094500
DTEND:20260601T111400
SUMMARY:SWFiS / Pływanie (Ć)
CATEGORIES:Ć
END:VEVENT
BEGIN:VEVENT
UID:UZ_PLZ_20260601_1115_504652
DTSTAMP:20260601T111500
DTSTART:20260601T111500
DTEND:20260601T124400
SUMMARY:SWFiS / Pływanie (Ć)
CATEGORIES:Ć
END:VEVENT
BEGIN:VEVENT
UID:UZ_PLZ_20260601_1300_504652
DTSTAMP:20260601T130000
DTSTART:20260601T130000
DTEND:20260601T143000
SUMMARY:SWFiS / Pływanie (Ć)
CATEGORIES:Ć
END:VEVENT
BEGIN:VEVENT
UID:UZ_PLZ_20260601_1700_503983
DTSTAMP:20260601T170000
DTSTART:20260601T170000
DTEND:20260601T210000
SUMMARY:Wychowanie fizyczne (L): 2 FIZ-JMS 24/25/L1
CATEGORIES:L
END:VEVENT
BEGIN:VEVENT
UID:UZ_PLZ_20260601_1700_503856
DTSTAMP:20260601T170000
DTSTART:20260601T170000
DTEND:20260601T210000
SUMMARY:Wychowanie fizyczne (L): 2 FIZ-JMS 24/25/L2
CATEGORIES:L
END:VEVENT
BEGIN:VEVENT
UID:UZ_PLZ_20260601_2015_504651
DTSTAMP:20260601T201500
DTSTART:20260601T201500
DTEND:20260601T214500
SUMMARY:SWFiS / Pływanie (Ć)
CATEGORIES:Ć
END:VEVENT
BEGIN:VEVENT
UID:UZ_PLZ_20260602_1255_504713
DTSTAMP:20260602T125500
DTSTART:20260602T125500
DTEND:20260602T142500
SUMMARY:Pływanie (L): 21WF-SP 24/25
CATEGORIES:L
END:VEVENT
BEGIN:VEVENT
UID:UZ_PLZ_20260602_2015_504651
DTSTAMP:20260602T201500
DTSTART:20260602T201500
DTEND:20260602T214500
SUMMARY:SWFiS / Pływanie (Ć)
CATEGORIES:Ć
END:VEVENT
BEGIN:VEVENT
UID:UZ_PLZ_20260603_1100_505282
DTSTAMP:20260603T110000
DTSTART:20260603T110000
DTEND:20260603T153000
SUMMARY:Wychowanie fizyczne (Ć): 11B-SP 25/26
CATEGORIES:Ć
END:VEVENT
BEGIN:VEVENT
UID:UZ_PLZ_20260603_1100_503437
DTSTAMP:20260603T110000
DTSTART:20260603T110000
DTEND:20260603T153000
SUMMARY:Wychowanie fizyczne (Ć): 11BT-SP 25/26
CATEGORIES:Ć
END:VEVENT
BEGIN:VEVENT
UID:UZ_PLZ_20260603_2015_504651
DTSTAMP:20260603T201500
DTSTART:20260603T201500
DTEND:20260603T214500
SUMMARY:SWFiS / Pływanie (Ć)
CATEGORIES:Ć
END:VEVENT
BEGIN:VEVENT
UID:UZ_PLZ_20260608_0945_504652
DTSTAMP:20260608T094500
DTSTART:20260608T094500
DTEND:20260608T111400
SUMMARY:SWFiS / Pływanie (Ć)
CATEGORIES:Ć
END:VEVENT
BEGIN:VEVENT
UID:UZ_PLZ_20260608_1115_504652
DTSTAMP:20260608T111500
DTSTART:20260608T111500
DTEND:20260608T124400
SUMMARY:SWFiS / Pływanie (Ć)
CATEGORIES:Ć
END:VEVENT
BEGIN:VEVENT
UID:UZ_PLZ_20260608_1300_504652
DTSTAMP:20260608T130000
DTSTART:20260608T130000
DTEND:20260608T143000
SUMMARY:SWFiS / Pływanie (Ć)
CATEGORIES:Ć
END:VEVENT
BEGIN:VEVENT
UID:UZ_PLZ_20260608_1700_503983
DTSTAMP:20260608T170000
DTSTART:20260608T170000
DTEND:20260608T210000
SUMMARY:Wychowanie fizyczne (L): 2 FIZ-JMS 24/25/L1
CATEGORIES:L
END:VEVENT
BEGIN:VEVENT
UID:UZ_PLZ_20260608_1700_503856
DTSTAMP:20260608T170000
DTSTART:20260608T170000
DTEND:20260608T210000
SUMMARY:Wychowanie fizyczne (L): 2 FIZ-JMS 24/25/L2
CATEGORIES:L
END:VEVENT
BEGIN:VEVENT
UID:UZ_PLZ_20260608_2015_504651
DTSTAMP:20260608T201500
DTSTART:20260608T201500
DTEND:20260608T214500
SUMMARY:SWFiS / Pływanie (Ć)
CATEGORIES:Ć
END:VEVENT
BEGIN:VEVENT
UID:UZ_PLZ_20260609_0945_504674
DTSTAMP:20260609T094500
DTSTART:20260609T094500
DTEND:20260609T111500
SUMMARY:Teoria i metodyka pływania (L): 11WF-SP 25/26/A
CATEGORIES:L
END:VEVENT
BEGIN:VEVENT
UID:UZ_PLZ_20260609_1120_504717
DTSTAMP:20260609T112000
DTSTART:20260609T112000
DTEND:20260609T125000
SUMMARY:Teoria i metodyka pływania (L): 11WF-SP 25/26/B
CATEGORIES:L
END:VEVENT
BEGIN:VEVENT
UID:UZ_PLZ_20260609_1255_504713
DTSTAMP:20260609T125500
DTSTART:20260609T125500
DTEND:20260609T142500
SUMMARY:Pływanie (L): 21WF-SP 24/25
CATEGORIES:L
END:VEVENT
BEGIN:VEVENT
UID:UZ_PLZ_20260609_2015_504651
DTSTAMP:20260609T201500
DTSTART:20260609T201500
DTEND:20260609T214500
SUMMARY:SWFiS / Pływanie (Ć)
CATEGORIES:Ć
END:VEVENT
BEGIN:VEVENT
UID:UZ_PLZ_20260610_0945_504718
DTSTAMP:20260610T094500
DTSTART:20260610T094500
DTEND:20260610T111500
SUMMARY:Teoria i metodyka pływania (L): 11WF-SP 25/26/C
CATEGORIES:L
END:VEVENT
BEGIN:VEVENT
UID:UZ_PLZ_20260610_1100_505282
DTSTAMP:20260610T110000
DTSTART:20260610T110000
DTEND:20260610T153000
SUMMARY:Wychowanie fizyczne (Ć): 11B-SP 25/26
CATEGORIES:Ć
END:VEVENT
BEGIN:VEVENT
UID:UZ_PLZ_20260610_1100_503437
DTSTAMP:20260610T110000
DTSTART:20260610T110000
DTEND:20260610T153000
SUMMARY:Wychowanie fizyczne (Ć): 11BT-SP 25/26
CATEGORIES:Ć
END:VEVENT
BEGIN:VEVENT
UID:UZ_PLZ_20260610_2015_504651
DTSTAMP:20260610T201500
DTSTART:20260610T201500
DTEND:20260610T214500
SUMMARY:SWFiS / Pływanie (Ć)
CATEGORIES:Ć
END:VEVENT
BEGIN:VEVENT
UID:UZ_PLZ_20260612_0800_504652
DTSTAMP:20260612T080000
DTSTART:20260612T080000
DTEND:20260612T092900
SUMMARY:SWFiS / Pływanie (Ć)
CATEGORIES:Ć
END:VEVENT
BEGIN:VEVENT
UID:UZ_PLZ_20260612_0930_504652
DTSTAMP:20260612T093000
DTSTART:20260612T093000
DTEND:20260612T105900
SUMMARY:SWFiS / Pływanie (Ć)
CATEGORIES:Ć
END:VEVENT
BEGIN:VEVENT
UID:UZ_PLZ_20260612_1100_504652
DTSTAMP:20260612T110000
DTSTART:20260612T110000
DTEND:20260612T122900
SUMMARY:SWFiS / Pływanie (Ć)
CATEGORIES:Ć
END:VEVENT
BEGIN:VEVENT
UID:UZ_PLZ_20260615_0945_504652
DTSTAMP:20260615T094500
DTSTART:20260615T094500
DTEND:20260615T111400
SUMMARY:SWFiS / Pływanie (Ć)
CATEGORIES:Ć
END:VEVENT
BEGIN:VEVENT
UID:UZ_PLZ_20260615_1115_504652
DTSTAMP:20260615T111500
DTSTART:20260615T111500
DTEND:20260615T124400
SUMMARY:SWFiS / Pływanie (Ć)
CATEGORIES:Ć
END:VEVENT
BEGIN:VEVENT
UID:UZ_PLZ_20260615_1300_504652
DTSTAMP:20260615T130000
DTSTART:20260615T130000
DTEND:20260615T143000
SUMMARY:SWFiS / Pływanie (Ć)
CATEGORIES:Ć
END:VEVENT
BEGIN:VEVENT
UID:UZ_PLZ_20260615_1700_503983
DTSTAMP:20260615T170000
DTSTART:20260615T170000
DTEND:20260615T210000
SUMMARY:Wychowanie fizyczne (L): 2 FIZ-JMS 24/25/L1
CATEGORIES:L
END:VEVENT
BEGIN:VEVENT
UID:UZ_PLZ_20260615_1700_503856
DTSTAMP:20260615T170000
DTSTART:20260615T170000
DTEND:20260615T210000
SUMMARY:Wychowanie fizyczne (L): 2 FIZ-JMS 24/25/L2
CATEGORIES:L
END:VEVENT
BEGIN:VEVENT
UID:UZ_PLZ_20260615_2015_504651
DTSTAMP:20260615T201500
DTSTART:20260615T201500
DTEND:20260615T214500
SUMMARY:SWFiS / Pływanie (Ć)
CATEGORIES:Ć
END:VEVENT
BEGIN:VEVENT
UID:UZ_PLZ_20260616_0945_504674
DTSTAMP:20260616T094500
DTSTART:20260616T094500
DTEND:20260616T111500
SUMMARY:Teoria i metodyka pływania (L): 11WF-SP 25/26/A
CATEGORIES:L
END:VEVENT
BEGIN:VEVENT
UID:UZ_PLZ_20260616_1120_504717
DTSTAMP:20260616T112000
DTSTART:20260616T112000
DTEND:20260616T125000
SUMMARY:Teoria i metodyka pływania (L): 11WF-SP 25/26/B
CATEGORIES:L
END:VEVENT
BEGIN:VEVENT
UID:UZ_PLZ_20260616_1255_504713
DTSTAMP:20260616T125500
DTSTART:20260616T125500
DTEND:20260616T142500
SUMMARY:Pływanie (L): 21WF-SP 24/25
CATEGORIES:L
END:VEVENT
BEGIN:VEVENT
UID:UZ_PLZ_20260616_2015_504651
DTSTAMP:20260616T201500
DTSTART:20260616T201500
DTEND:20260616T214500
SUMMARY:SWFiS / Pływanie (Ć)
CATEGORIES:Ć
END:VEVENT
BEGIN:VEVENT
UID:UZ_PLZ_20260617_0945_504718
DTSTAMP:20260617T094500
DTSTART:20260617T094500
DTEND:20260617T111500
SUMMARY:Teoria i metodyka pływania (L): 11WF-SP 25/26/C
CATEGORIES:L
END:VEVENT
BEGIN:VEVENT
UID:UZ_PLZ_20260617_1100_505282
DTSTAMP:20260617T110000
DTSTART:20260617T110000
DTEND:20260617T153000
SUMMARY:Wychowanie fizyczne (Ć): 11B-SP 25/26
CATEGORIES:Ć
END:VEVENT
BEGIN:VEVENT
UID:UZ_PLZ_20260617_1100_503437
DTSTAMP:20260617T110000
DTSTART:20260617T110000
DTEND:20260617T153000
SUMMARY:Wychowanie fizyczne (Ć): 11BT-SP 25/26
CATEGORIES:Ć
END:VEVENT
BEGIN:VEVENT
UID:UZ_PLZ_20260617_2015_504651
DTSTAMP:20260617T201500
DTSTART:20260617T201500
DTEND:20260617T214500
SUMMARY:SWFiS / Pływanie (Ć)
CATEGORIES:Ć
END:VEVENT
BEGIN:VEVENT
UID:UZ_PLZ_20260619_0800_504652
DTSTAMP:20260619T080000
DTSTART:20260619T080000
DTEND:20260619T092900
SUMMARY:SWFiS / Pływanie (Ć)
CATEGORIES:Ć
END:VEVENT
BEGIN:VEVENT
UID:UZ_PLZ_20260619_0930_504652
DTSTAMP:20260619T093000
DTSTART:20260619T093000
DTEND:20260619T105900
SUMMARY:SWFiS / Pływanie (Ć)
CATEGORIES:Ć
END:VEVENT
BEGIN:VEVENT
UID:UZ_PLZ_20260619_1100_504652
DTSTAMP:20260619T110000
DTSTART:20260619T110000
DTEND:20260619T122900
SUMMARY:SWFiS / Pływanie (Ć)
CATEGORIES:Ć
END:VEVENT
END:VCALENDAR
