BEGIN:VCALENDAR
TZID:Europe/Warsaw
X-WR-TIMEZONE:Europe/Warsaw
VERSION:2.0
PRODID:-//Uniwersytet Zielonogórski//NONSGML Plan zajęć v1.0//EN
NAME:Plan zajęć - semestr letni 2025/2026
X-WR-CALNAME:Plan zajęć - semestr letni 2025/2026
COLOR:green
CALSCALE:GREGORIAN
BEGIN:VEVENT
UID:UZ_PLZ_20260302_1100_497677
DTSTAMP:20260302T110000
DTSTART:20260302T110000
DTEND:20260302T123000
SUMMARY:Projektowanie układów biomechatronicznych (P): 25IB-BiBwM-SD
CATEGORIES:P
LOCATION:B219 A-11
END:VEVENT
BEGIN:VEVENT
UID:UZ_PLZ_20260304_1100_497752
DTSTAMP:20260304T110000
DTSTART:20260304T110000
DTEND:20260304T140000
SUMMARY:Rezerwacja (R)
CATEGORIES:R
END:VEVENT
BEGIN:VEVENT
UID:UZ_PLZ_20260304_1105_500367
DTSTAMP:20260304T110500
DTSTART:20260304T110500
DTEND:20260304T150000
SUMMARY:Rezerwacja RDN (R)
CATEGORIES:R
END:VEVENT
BEGIN:VEVENT
UID:UZ_PLZ_20260309_0915_497653
DTSTAMP:20260309T091500
DTSTART:20260309T091500
DTEND:20260309T105000
SUMMARY:Projektowanie układów biomechatronicznych (W): 25IB-BiBwM-SD
CATEGORIES:W
LOCATION:B219 A-11
END:VEVENT
BEGIN:VEVENT
UID:UZ_PLZ_20260309_1100_497677
DTSTAMP:20260309T110000
DTSTART:20260309T110000
DTEND:20260309T123000
SUMMARY:Projektowanie układów biomechatronicznych (P): 25IB-BiBwM-SD
CATEGORIES:P
LOCATION:B219 A-11
END:VEVENT
BEGIN:VEVENT
UID:UZ_PLZ_20260311_1100_497752
DTSTAMP:20260311T110000
DTSTART:20260311T110000
DTEND:20260311T140000
SUMMARY:Rezerwacja (R)
CATEGORIES:R
END:VEVENT
BEGIN:VEVENT
UID:UZ_PLZ_20260311_1105_500367
DTSTAMP:20260311T110500
DTSTART:20260311T110500
DTEND:20260311T150000
SUMMARY:Rezerwacja RDN (R)
CATEGORIES:R
END:VEVENT
BEGIN:VEVENT
UID:UZ_PLZ_20260316_1100_497677
DTSTAMP:20260316T110000
DTSTART:20260316T110000
DTEND:20260316T123000
SUMMARY:Projektowanie układów biomechatronicznych (P): 25IB-BiBwM-SD
CATEGORIES:P
LOCATION:B219 A-11
END:VEVENT
BEGIN:VEVENT
UID:UZ_PLZ_20260318_1100_497752
DTSTAMP:20260318T110000
DTSTART:20260318T110000
DTEND:20260318T140000
SUMMARY:Rezerwacja (R)
CATEGORIES:R
END:VEVENT
BEGIN:VEVENT
UID:UZ_PLZ_20260318_1105_500367
DTSTAMP:20260318T110500
DTSTART:20260318T110500
DTEND:20260318T150000
SUMMARY:Rezerwacja RDN (R)
CATEGORIES:R
END:VEVENT
BEGIN:VEVENT
UID:UZ_PLZ_20260323_0915_497653
DTSTAMP:20260323T091500
DTSTART:20260323T091500
DTEND:20260323T105000
SUMMARY:Projektowanie układów biomechatronicznych (W): 25IB-BiBwM-SD
CATEGORIES:W
LOCATION:B219 A-11
END:VEVENT
BEGIN:VEVENT
UID:UZ_PLZ_20260323_1100_497677
DTSTAMP:20260323T110000
DTSTART:20260323T110000
DTEND:20260323T123000
SUMMARY:Projektowanie układów biomechatronicznych (P): 25IB-BiBwM-SD
CATEGORIES:P
LOCATION:B219 A-11
END:VEVENT
BEGIN:VEVENT
UID:UZ_PLZ_20260323_1235_507663
DTSTAMP:20260323T123500
DTSTART:20260323T123500
DTEND:20260323T140500
SUMMARY:Konsultacje (I)
CATEGORIES:I
LOCATION:H241 A-10
END:VEVENT
BEGIN:VEVENT
UID:UZ_PLZ_20260325_1100_497752
DTSTAMP:20260325T110000
DTSTART:20260325T110000
DTEND:20260325T140000
SUMMARY:Rezerwacja (R)
CATEGORIES:R
END:VEVENT
BEGIN:VEVENT
UID:UZ_PLZ_20260325_1105_500367
DTSTAMP:20260325T110500
DTSTART:20260325T110500
DTEND:20260325T150000
SUMMARY:Rezerwacja RDN (R)
CATEGORIES:R
END:VEVENT
BEGIN:VEVENT
UID:UZ_PLZ_20260330_1100_497677
DTSTAMP:20260330T110000
DTSTART:20260330T110000
DTEND:20260330T123000
SUMMARY:Projektowanie układów biomechatronicznych (P): 25IB-BiBwM-SD
CATEGORIES:P
LOCATION:B219 A-11
END:VEVENT
BEGIN:VEVENT
UID:UZ_PLZ_20260330_1235_507663
DTSTAMP:20260330T123500
DTSTART:20260330T123500
DTEND:20260330T140500
SUMMARY:Konsultacje (I)
CATEGORIES:I
LOCATION:H241 A-10
END:VEVENT
BEGIN:VEVENT
UID:UZ_PLZ_20260401_1100_497752
DTSTAMP:20260401T110000
DTSTART:20260401T110000
DTEND:20260401T140000
SUMMARY:Rezerwacja (R)
CATEGORIES:R
END:VEVENT
BEGIN:VEVENT
UID:UZ_PLZ_20260401_1105_500367
DTSTAMP:20260401T110500
DTSTART:20260401T110500
DTEND:20260401T150000
SUMMARY:Rezerwacja RDN (R)
CATEGORIES:R
END:VEVENT
BEGIN:VEVENT
UID:UZ_PLZ_20260408_1100_497752
DTSTAMP:20260408T110000
DTSTART:20260408T110000
DTEND:20260408T140000
SUMMARY:Rezerwacja (R)
CATEGORIES:R
END:VEVENT
BEGIN:VEVENT
UID:UZ_PLZ_20260408_1105_500367
DTSTAMP:20260408T110500
DTSTART:20260408T110500
DTEND:20260408T150000
SUMMARY:Rezerwacja RDN (R)
CATEGORIES:R
END:VEVENT
BEGIN:VEVENT
UID:UZ_PLZ_20260413_1100_497677
DTSTAMP:20260413T110000
DTSTART:20260413T110000
DTEND:20260413T123000
SUMMARY:Projektowanie układów biomechatronicznych (P): 25IB-BiBwM-SD
CATEGORIES:P
LOCATION:B219 A-11
END:VEVENT
BEGIN:VEVENT
UID:UZ_PLZ_20260413_1235_507663
DTSTAMP:20260413T123500
DTSTART:20260413T123500
DTEND:20260413T140500
SUMMARY:Konsultacje (I)
CATEGORIES:I
LOCATION:H241 A-10
END:VEVENT
BEGIN:VEVENT
UID:UZ_PLZ_20260415_1100_497752
DTSTAMP:20260415T110000
DTSTART:20260415T110000
DTEND:20260415T140000
SUMMARY:Rezerwacja (R)
CATEGORIES:R
END:VEVENT
BEGIN:VEVENT
UID:UZ_PLZ_20260415_1105_500367
DTSTAMP:20260415T110500
DTSTART:20260415T110500
DTEND:20260415T150000
SUMMARY:Rezerwacja RDN (R)
CATEGORIES:R
END:VEVENT
BEGIN:VEVENT
UID:UZ_PLZ_20260420_0915_497653
DTSTAMP:20260420T091500
DTSTART:20260420T091500
DTEND:20260420T105000
SUMMARY:Projektowanie układów biomechatronicznych (W): 25IB-BiBwM-SD
CATEGORIES:W
LOCATION:B219 A-11
END:VEVENT
BEGIN:VEVENT
UID:UZ_PLZ_20260420_1100_497677
DTSTAMP:20260420T110000
DTSTART:20260420T110000
DTEND:20260420T123000
SUMMARY:Projektowanie układów biomechatronicznych (P): 25IB-BiBwM-SD
CATEGORIES:P
LOCATION:B219 A-11
END:VEVENT
BEGIN:VEVENT
UID:UZ_PLZ_20260420_1235_507663
DTSTAMP:20260420T123500
DTSTART:20260420T123500
DTEND:20260420T140500
SUMMARY:Konsultacje (I)
CATEGORIES:I
LOCATION:H241 A-10
END:VEVENT
BEGIN:VEVENT
UID:UZ_PLZ_20260422_1100_497752
DTSTAMP:20260422T110000
DTSTART:20260422T110000
DTEND:20260422T140000
SUMMARY:Rezerwacja (R)
CATEGORIES:R
END:VEVENT
BEGIN:VEVENT
UID:UZ_PLZ_20260422_1105_500367
DTSTAMP:20260422T110500
DTSTART:20260422T110500
DTEND:20260422T150000
SUMMARY:Rezerwacja RDN (R)
CATEGORIES:R
END:VEVENT
BEGIN:VEVENT
UID:UZ_PLZ_20260427_1100_497677
DTSTAMP:20260427T110000
DTSTART:20260427T110000
DTEND:20260427T123000
SUMMARY:Projektowanie układów biomechatronicznych (P): 25IB-BiBwM-SD
CATEGORIES:P
LOCATION:B219 A-11
END:VEVENT
BEGIN:VEVENT
UID:UZ_PLZ_20260427_1235_507663
DTSTAMP:20260427T123500
DTSTART:20260427T123500
DTEND:20260427T140500
SUMMARY:Konsultacje (I)
CATEGORIES:I
LOCATION:H241 A-10
END:VEVENT
BEGIN:VEVENT
UID:UZ_PLZ_20260504_0915_497653
DTSTAMP:20260504T091500
DTSTART:20260504T091500
DTEND:20260504T105000
SUMMARY:Projektowanie układów biomechatronicznych (W): 25IB-BiBwM-SD
CATEGORIES:W
LOCATION:B219 A-11
END:VEVENT
BEGIN:VEVENT
UID:UZ_PLZ_20260504_1100_497677
DTSTAMP:20260504T110000
DTSTART:20260504T110000
DTEND:20260504T123000
SUMMARY:Projektowanie układów biomechatronicznych (P): 25IB-BiBwM-SD
CATEGORIES:P
LOCATION:B219 A-11
END:VEVENT
BEGIN:VEVENT
UID:UZ_PLZ_20260504_1235_507663
DTSTAMP:20260504T123500
DTSTART:20260504T123500
DTEND:20260504T140500
SUMMARY:Konsultacje (I)
CATEGORIES:I
LOCATION:H241 A-10
END:VEVENT
BEGIN:VEVENT
UID:UZ_PLZ_20260506_1100_497752
DTSTAMP:20260506T110000
DTSTART:20260506T110000
DTEND:20260506T140000
SUMMARY:Rezerwacja (R)
CATEGORIES:R
END:VEVENT
BEGIN:VEVENT
UID:UZ_PLZ_20260506_1105_500367
DTSTAMP:20260506T110500
DTSTART:20260506T110500
DTEND:20260506T150000
SUMMARY:Rezerwacja RDN (R)
CATEGORIES:R
END:VEVENT
BEGIN:VEVENT
UID:UZ_PLZ_20260511_1100_497677
DTSTAMP:20260511T110000
DTSTART:20260511T110000
DTEND:20260511T123000
SUMMARY:Projektowanie układów biomechatronicznych (P): 25IB-BiBwM-SD
CATEGORIES:P
LOCATION:B219 A-11
END:VEVENT
BEGIN:VEVENT
UID:UZ_PLZ_20260511_1235_507663
DTSTAMP:20260511T123500
DTSTART:20260511T123500
DTEND:20260511T140500
SUMMARY:Konsultacje (I)
CATEGORIES:I
LOCATION:H241 A-10
END:VEVENT
BEGIN:VEVENT
UID:UZ_PLZ_20260513_1100_497752
DTSTAMP:20260513T110000
DTSTART:20260513T110000
DTEND:20260513T140000
SUMMARY:Rezerwacja (R)
CATEGORIES:R
END:VEVENT
BEGIN:VEVENT
UID:UZ_PLZ_20260513_1105_500367
DTSTAMP:20260513T110500
DTSTART:20260513T110500
DTEND:20260513T150000
SUMMARY:Rezerwacja RDN (R)
CATEGORIES:R
END:VEVENT
BEGIN:VEVENT
UID:UZ_PLZ_20260518_0915_497653
DTSTAMP:20260518T091500
DTSTART:20260518T091500
DTEND:20260518T105000
SUMMARY:Projektowanie układów biomechatronicznych (W): 25IB-BiBwM-SD
CATEGORIES:W
LOCATION:B219 A-11
END:VEVENT
BEGIN:VEVENT
UID:UZ_PLZ_20260518_1100_497677
DTSTAMP:20260518T110000
DTSTART:20260518T110000
DTEND:20260518T123000
SUMMARY:Projektowanie układów biomechatronicznych (P): 25IB-BiBwM-SD
CATEGORIES:P
LOCATION:B219 A-11
END:VEVENT
BEGIN:VEVENT
UID:UZ_PLZ_20260518_1235_507663
DTSTAMP:20260518T123500
DTSTART:20260518T123500
DTEND:20260518T140500
SUMMARY:Konsultacje (I)
CATEGORIES:I
LOCATION:H241 A-10
END:VEVENT
BEGIN:VEVENT
UID:UZ_PLZ_20260520_1100_497752
DTSTAMP:20260520T110000
DTSTART:20260520T110000
DTEND:20260520T140000
SUMMARY:Rezerwacja (R)
CATEGORIES:R
END:VEVENT
BEGIN:VEVENT
UID:UZ_PLZ_20260520_1105_500367
DTSTAMP:20260520T110500
DTSTART:20260520T110500
DTEND:20260520T150000
SUMMARY:Rezerwacja RDN (R)
CATEGORIES:R
END:VEVENT
BEGIN:VEVENT
UID:UZ_PLZ_20260525_1100_497677
DTSTAMP:20260525T110000
DTSTART:20260525T110000
DTEND:20260525T123000
SUMMARY:Projektowanie układów biomechatronicznych (P): 25IB-BiBwM-SD
CATEGORIES:P
LOCATION:B219 A-11
END:VEVENT
BEGIN:VEVENT
UID:UZ_PLZ_20260525_1235_507663
DTSTAMP:20260525T123500
DTSTART:20260525T123500
DTEND:20260525T140500
SUMMARY:Konsultacje (I)
CATEGORIES:I
LOCATION:H241 A-10
END:VEVENT
BEGIN:VEVENT
UID:UZ_PLZ_20260527_1100_497752
DTSTAMP:20260527T110000
DTSTART:20260527T110000
DTEND:20260527T140000
SUMMARY:Rezerwacja (R)
CATEGORIES:R
END:VEVENT
BEGIN:VEVENT
UID:UZ_PLZ_20260527_1105_500367
DTSTAMP:20260527T110500
DTSTART:20260527T110500
DTEND:20260527T150000
SUMMARY:Rezerwacja RDN (R)
CATEGORIES:R
END:VEVENT
BEGIN:VEVENT
UID:UZ_PLZ_20260601_0915_497653
DTSTAMP:20260601T091500
DTSTART:20260601T091500
DTEND:20260601T105000
SUMMARY:Projektowanie układów biomechatronicznych (W): 25IB-BiBwM-SD
CATEGORIES:W
LOCATION:B219 A-11
END:VEVENT
BEGIN:VEVENT
UID:UZ_PLZ_20260601_1100_497677
DTSTAMP:20260601T110000
DTSTART:20260601T110000
DTEND:20260601T123000
SUMMARY:Projektowanie układów biomechatronicznych (P): 25IB-BiBwM-SD
CATEGORIES:P
LOCATION:B219 A-11
END:VEVENT
BEGIN:VEVENT
UID:UZ_PLZ_20260601_1235_507663
DTSTAMP:20260601T123500
DTSTART:20260601T123500
DTEND:20260601T140500
SUMMARY:Konsultacje (I)
CATEGORIES:I
LOCATION:H241 A-10
END:VEVENT
BEGIN:VEVENT
UID:UZ_PLZ_20260603_1100_497752
DTSTAMP:20260603T110000
DTSTART:20260603T110000
DTEND:20260603T140000
SUMMARY:Rezerwacja (R)
CATEGORIES:R
END:VEVENT
BEGIN:VEVENT
UID:UZ_PLZ_20260603_1105_500367
DTSTAMP:20260603T110500
DTSTART:20260603T110500
DTEND:20260603T150000
SUMMARY:Rezerwacja RDN (R)
CATEGORIES:R
END:VEVENT
BEGIN:VEVENT
UID:UZ_PLZ_20260608_1100_497677
DTSTAMP:20260608T110000
DTSTART:20260608T110000
DTEND:20260608T123000
SUMMARY:Projektowanie układów biomechatronicznych (P): 25IB-BiBwM-SD
CATEGORIES:P
LOCATION:B219 A-11
END:VEVENT
BEGIN:VEVENT
UID:UZ_PLZ_20260608_1235_507663
DTSTAMP:20260608T123500
DTSTART:20260608T123500
DTEND:20260608T140500
SUMMARY:Konsultacje (I)
CATEGORIES:I
LOCATION:H241 A-10
END:VEVENT
BEGIN:VEVENT
UID:UZ_PLZ_20260610_1100_497752
DTSTAMP:20260610T110000
DTSTART:20260610T110000
DTEND:20260610T140000
SUMMARY:Rezerwacja (R)
CATEGORIES:R
END:VEVENT
BEGIN:VEVENT
UID:UZ_PLZ_20260610_1105_500367
DTSTAMP:20260610T110500
DTSTART:20260610T110500
DTEND:20260610T150000
SUMMARY:Rezerwacja RDN (R)
CATEGORIES:R
END:VEVENT
BEGIN:VEVENT
UID:UZ_PLZ_20260615_0915_497653
DTSTAMP:20260615T091500
DTSTART:20260615T091500
DTEND:20260615T105000
SUMMARY:Projektowanie układów biomechatronicznych (W): 25IB-BiBwM-SD
CATEGORIES:W
LOCATION:B219 A-11
END:VEVENT
BEGIN:VEVENT
UID:UZ_PLZ_20260615_1100_497677
DTSTAMP:20260615T110000
DTSTART:20260615T110000
DTEND:20260615T123000
SUMMARY:Projektowanie układów biomechatronicznych (P): 25IB-BiBwM-SD
CATEGORIES:P
LOCATION:B219 A-11
END:VEVENT
BEGIN:VEVENT
UID:UZ_PLZ_20260615_1235_507663
DTSTAMP:20260615T123500
DTSTART:20260615T123500
DTEND:20260615T140500
SUMMARY:Konsultacje (I)
CATEGORIES:I
LOCATION:H241 A-10
END:VEVENT
BEGIN:VEVENT
UID:UZ_PLZ_20260617_1100_497752
DTSTAMP:20260617T110000
DTSTART:20260617T110000
DTEND:20260617T140000
SUMMARY:Rezerwacja (R)
CATEGORIES:R
END:VEVENT
BEGIN:VEVENT
UID:UZ_PLZ_20260617_1105_500367
DTSTAMP:20260617T110500
DTSTART:20260617T110500
DTEND:20260617T150000
SUMMARY:Rezerwacja RDN (R)
CATEGORIES:R
END:VEVENT
END:VCALENDAR
