BEGIN:VCALENDAR
TZID:Europe/Warsaw
X-WR-TIMEZONE:Europe/Warsaw
VERSION:2.0
PRODID:-//Uniwersytet Zielonogórski//NONSGML Plan zajęć v1.0//EN
NAME:Plan zajęć - semestr letni 2025/2026
X-WR-CALNAME:Plan zajęć - semestr letni 2025/2026
COLOR:green
CALSCALE:GREGORIAN
BEGIN:VEVENT
UID:UZ_PLZ_20260601_1615_507199
DTSTAMP:20260601T161500
DTSTART:20260601T161500
DTEND:20260601T174500
SUMMARY:Rezerwacja (R)
CATEGORIES:R
LOCATION:112 A-29
END:VEVENT
END:VCALENDAR
