BEGIN:VCALENDAR
TZID:Europe/Warsaw
X-WR-TIMEZONE:Europe/Warsaw
VERSION:2.0
PRODID:-//Uniwersytet Zielonogórski//NONSGML Plan zajęć v1.0//EN
NAME:Plan zajęć - semestr letni 2025/2026
X-WR-CALNAME:Plan zajęć - semestr letni 2025/2026
COLOR:green
CALSCALE:GREGORIAN
BEGIN:VEVENT
UID:UZ_PLZ_20260317_0900_507199
DTSTAMP:20260317T090000
DTSTART:20260317T090000
DTEND:20260317T180000
SUMMARY:Rezerwacja (R)
CATEGORIES:R
LOCATION:204 A-29
END:VEVENT
BEGIN:VEVENT
UID:UZ_PLZ_20260318_0730_507194
DTSTAMP:20260318T073000
DTSTART:20260318T073000
DTEND:20260318T140000
SUMMARY:Rezerwacja (R)
CATEGORIES:R
LOCATION:223 A-29
END:VEVENT
BEGIN:VEVENT
UID:UZ_PLZ_20260318_0800_507199
DTSTAMP:20260318T080000
DTSTART:20260318T080000
DTEND:20260318T150000
SUMMARY:Rezerwacja (R)
CATEGORIES:R
LOCATION:204 A-29
END:VEVENT
BEGIN:VEVENT
UID:UZ_PLZ_20260318_0901_507195
DTSTAMP:20260318T090100
DTSTART:20260318T090100
DTEND:20260318T140000
SUMMARY:Rezerwacja (R)
CATEGORIES:R
LOCATION:202 A-29\; 207 A-29\; 216 A-29\; 218 A-29
END:VEVENT
BEGIN:VEVENT
UID:UZ_PLZ_20260601_1615_507199
DTSTAMP:20260601T161500
DTSTART:20260601T161500
DTEND:20260601T174500
SUMMARY:Rezerwacja (R)
CATEGORIES:R
LOCATION:112 A-29
END:VEVENT
END:VCALENDAR
