BEGIN:VCALENDAR
TZID:Europe/Warsaw
X-WR-TIMEZONE:Europe/Warsaw
VERSION:2.0
PRODID:-//Uniwersytet Zielonogórski//NONSGML Plan zajęć v1.0//EN
NAME:Plan zajęć - semestr letni 2025/2026
X-WR-CALNAME:Plan zajęć - semestr letni 2025/2026
COLOR:green
CALSCALE:GREGORIAN
BEGIN:VEVENT
UID:UZ_PLZ_20260426_0740_500615
DTSTAMP:20260426T074000
DTSTART:20260426T074000
DTEND:20260426T090000
SUMMARY:Ocena ryzyka zawodowego (W): 21BHP-NP
CATEGORIES:W
LOCATION:125 A-2
END:VEVENT
BEGIN:VEVENT
UID:UZ_PLZ_20260426_0915_500594
DTSTAMP:20260426T091500
DTSTART:20260426T091500
DTEND:20260426T104500
SUMMARY:Metody i systemy zarządzania bezpieczeństwem i ryzykiem w środowisku pracy (P): 15BHP-ND/A
CATEGORIES:P
LOCATION:125 A-2
DESCRIPTION:<a href="https://classroom.google.com/c/ODU2OTc2MjY3Mzk3">Google Classroom</a> 
END:VEVENT
BEGIN:VEVENT
UID:UZ_PLZ_20260426_1100_500595
DTSTAMP:20260426T110000
DTSTART:20260426T110000
DTEND:20260426T123000
SUMMARY:Metody i systemy zarządzania bezpieczeństwem i ryzykiem w środowisku pracy (P): 15BHP-ND/B
CATEGORIES:P
LOCATION:125 A-2
DESCRIPTION:<a href="https://classroom.google.com/c/ODU2OTc3NTUyODY0">Google Classroom</a> 
END:VEVENT
BEGIN:VEVENT
UID:UZ_PLZ_20260426_1430_500614
DTSTAMP:20260426T143000
DTSTART:20260426T143000
DTEND:20260426T160000
SUMMARY:Ocena ryzyka zawodowego (P): 21BHP-NP
CATEGORIES:P
LOCATION:125 A-2
DESCRIPTION:<a href="https://classroom.google.com/c/ODU2OTk0MTQxNDY0">Google Classroom</a> 
END:VEVENT
BEGIN:VEVENT
UID:UZ_PLZ_20260506_0915_500366
DTSTAMP:20260506T091500
DTSTART:20260506T091500
DTEND:20260506T110000
SUMMARY:Rezerwacja IIM (R)
CATEGORIES:R
END:VEVENT
BEGIN:VEVENT
UID:UZ_PLZ_20260506_1105_500742
DTSTAMP:20260506T110500
DTSTART:20260506T110500
DTEND:20260506T123500
SUMMARY:Ocena ryzyka zawodowego (P): 21BHP-SP
CATEGORIES:P
LOCATION:B312 A-11
DESCRIPTION:<a href="https://classroom.google.com/c/ODU2NDc3NzE4MTI1">Google Classroom</a> 
END:VEVENT
BEGIN:VEVENT
UID:UZ_PLZ_20260506_1245_500758
DTSTAMP:20260506T124500
DTSTART:20260506T124500
DTEND:20260506T142000
SUMMARY:Metody i systemy zarządzania bezpieczeństwem i ryzykiem w środowisku pracy (W): 15BHP-SD
CATEGORIES:W
LOCATION:B312 A-11
END:VEVENT
BEGIN:VEVENT
UID:UZ_PLZ_20260506_1430_500781
DTSTAMP:20260506T143000
DTSTART:20260506T143000
DTEND:20260506T160000
SUMMARY:Metody i systemy zarządzania bezpieczeństwem i ryzykiem w środowisku pracy (P): 15BHP-SD/A
CATEGORIES:P
LOCATION:B312 A-11
DESCRIPTION:<a href="https://classroom.google.com/c/ODU2NTAxMTQ2Mjc4">Google Classroom</a> 
END:VEVENT
BEGIN:VEVENT
UID:UZ_PLZ_20260506_1615_500782
DTSTAMP:20260506T161500
DTSTART:20260506T161500
DTEND:20260506T174500
SUMMARY:Metody i systemy zarządzania bezpieczeństwem i ryzykiem w środowisku pracy (P): 15BHP-SD/B
CATEGORIES:P
LOCATION:B312 A-11
END:VEVENT
BEGIN:VEVENT
UID:UZ_PLZ_20260510_0730_500613
DTSTAMP:20260510T073000
DTSTART:20260510T073000
DTEND:20260510T091000
SUMMARY:Metody i systemy zarządzania bezpieczeństwem i ryzykiem w środowisku pracy (W): 15BHP-ND
CATEGORIES:W
LOCATION:125 A-2
END:VEVENT
BEGIN:VEVENT
UID:UZ_PLZ_20260510_0915_500594
DTSTAMP:20260510T091500
DTSTART:20260510T091500
DTEND:20260510T104500
SUMMARY:Metody i systemy zarządzania bezpieczeństwem i ryzykiem w środowisku pracy (P): 15BHP-ND/A
CATEGORIES:P
LOCATION:125 A-2
DESCRIPTION:<a href="https://classroom.google.com/c/ODU2OTc2MjY3Mzk3">Google Classroom</a> 
END:VEVENT
BEGIN:VEVENT
UID:UZ_PLZ_20260510_1100_500595
DTSTAMP:20260510T110000
DTSTART:20260510T110000
DTEND:20260510T123000
SUMMARY:Metody i systemy zarządzania bezpieczeństwem i ryzykiem w środowisku pracy (P): 15BHP-ND/B
CATEGORIES:P
LOCATION:125 A-2
DESCRIPTION:<a href="https://classroom.google.com/c/ODU2OTc3NTUyODY0">Google Classroom</a> 
END:VEVENT
BEGIN:VEVENT
UID:UZ_PLZ_20260510_1430_500614
DTSTAMP:20260510T143000
DTSTART:20260510T143000
DTEND:20260510T160000
SUMMARY:Ocena ryzyka zawodowego (P): 21BHP-NP
CATEGORIES:P
LOCATION:125 A-2
DESCRIPTION:<a href="https://classroom.google.com/c/ODU2OTk0MTQxNDY0">Google Classroom</a> 
END:VEVENT
BEGIN:VEVENT
UID:UZ_PLZ_20260513_0915_500366
DTSTAMP:20260513T091500
DTSTART:20260513T091500
DTEND:20260513T110000
SUMMARY:Rezerwacja IIM (R)
CATEGORIES:R
END:VEVENT
BEGIN:VEVENT
UID:UZ_PLZ_20260513_1105_500742
DTSTAMP:20260513T110500
DTSTART:20260513T110500
DTEND:20260513T123500
SUMMARY:Ocena ryzyka zawodowego (P): 21BHP-SP
CATEGORIES:P
LOCATION:B312 A-11
DESCRIPTION:<a href="https://classroom.google.com/c/ODU2NDc3NzE4MTI1">Google Classroom</a> 
END:VEVENT
BEGIN:VEVENT
UID:UZ_PLZ_20260513_1250_500706
DTSTAMP:20260513T125000
DTSTART:20260513T125000
DTEND:20260513T141500
SUMMARY:Ocena ryzyka zawodowego (W): 21BHP-SP
CATEGORIES:W
LOCATION:B312 A-11
END:VEVENT
BEGIN:VEVENT
UID:UZ_PLZ_20260513_1430_500781
DTSTAMP:20260513T143000
DTSTART:20260513T143000
DTEND:20260513T160000
SUMMARY:Metody i systemy zarządzania bezpieczeństwem i ryzykiem w środowisku pracy (P): 15BHP-SD/A
CATEGORIES:P
LOCATION:B312 A-11
DESCRIPTION:<a href="https://classroom.google.com/c/ODU2NTAxMTQ2Mjc4">Google Classroom</a> 
END:VEVENT
BEGIN:VEVENT
UID:UZ_PLZ_20260513_1615_500782
DTSTAMP:20260513T161500
DTSTART:20260513T161500
DTEND:20260513T174500
SUMMARY:Metody i systemy zarządzania bezpieczeństwem i ryzykiem w środowisku pracy (P): 15BHP-SD/B
CATEGORIES:P
LOCATION:B312 A-11
END:VEVENT
BEGIN:VEVENT
UID:UZ_PLZ_20260517_0740_500615
DTSTAMP:20260517T074000
DTSTART:20260517T074000
DTEND:20260517T090000
SUMMARY:Ocena ryzyka zawodowego (W): 21BHP-NP
CATEGORIES:W
LOCATION:125 A-2
END:VEVENT
BEGIN:VEVENT
UID:UZ_PLZ_20260517_0915_500594
DTSTAMP:20260517T091500
DTSTART:20260517T091500
DTEND:20260517T104500
SUMMARY:Metody i systemy zarządzania bezpieczeństwem i ryzykiem w środowisku pracy (P): 15BHP-ND/A
CATEGORIES:P
LOCATION:125 A-2
DESCRIPTION:<a href="https://classroom.google.com/c/ODU2OTc2MjY3Mzk3">Google Classroom</a> 
END:VEVENT
BEGIN:VEVENT
UID:UZ_PLZ_20260517_1100_500595
DTSTAMP:20260517T110000
DTSTART:20260517T110000
DTEND:20260517T123000
SUMMARY:Metody i systemy zarządzania bezpieczeństwem i ryzykiem w środowisku pracy (P): 15BHP-ND/B
CATEGORIES:P
LOCATION:125 A-2
DESCRIPTION:<a href="https://classroom.google.com/c/ODU2OTc3NTUyODY0">Google Classroom</a> 
END:VEVENT
BEGIN:VEVENT
UID:UZ_PLZ_20260517_1430_500614
DTSTAMP:20260517T143000
DTSTART:20260517T143000
DTEND:20260517T160000
SUMMARY:Ocena ryzyka zawodowego (P): 21BHP-NP
CATEGORIES:P
LOCATION:125 A-2
DESCRIPTION:<a href="https://classroom.google.com/c/ODU2OTk0MTQxNDY0">Google Classroom</a> 
END:VEVENT
BEGIN:VEVENT
UID:UZ_PLZ_20260520_0915_500366
DTSTAMP:20260520T091500
DTSTART:20260520T091500
DTEND:20260520T110000
SUMMARY:Rezerwacja IIM (R)
CATEGORIES:R
END:VEVENT
BEGIN:VEVENT
UID:UZ_PLZ_20260520_1105_500742
DTSTAMP:20260520T110500
DTSTART:20260520T110500
DTEND:20260520T123500
SUMMARY:Ocena ryzyka zawodowego (P): 21BHP-SP
CATEGORIES:P
LOCATION:B312 A-11
DESCRIPTION:<a href="https://classroom.google.com/c/ODU2NDc3NzE4MTI1">Google Classroom</a> 
END:VEVENT
BEGIN:VEVENT
UID:UZ_PLZ_20260520_1245_500758
DTSTAMP:20260520T124500
DTSTART:20260520T124500
DTEND:20260520T142000
SUMMARY:Metody i systemy zarządzania bezpieczeństwem i ryzykiem w środowisku pracy (W): 15BHP-SD
CATEGORIES:W
LOCATION:B312 A-11
END:VEVENT
BEGIN:VEVENT
UID:UZ_PLZ_20260520_1430_500781
DTSTAMP:20260520T143000
DTSTART:20260520T143000
DTEND:20260520T160000
SUMMARY:Metody i systemy zarządzania bezpieczeństwem i ryzykiem w środowisku pracy (P): 15BHP-SD/A
CATEGORIES:P
LOCATION:B312 A-11
DESCRIPTION:<a href="https://classroom.google.com/c/ODU2NTAxMTQ2Mjc4">Google Classroom</a> 
END:VEVENT
BEGIN:VEVENT
UID:UZ_PLZ_20260520_1615_500782
DTSTAMP:20260520T161500
DTSTART:20260520T161500
DTEND:20260520T174500
SUMMARY:Metody i systemy zarządzania bezpieczeństwem i ryzykiem w środowisku pracy (P): 15BHP-SD/B
CATEGORIES:P
LOCATION:B312 A-11
END:VEVENT
BEGIN:VEVENT
UID:UZ_PLZ_20260527_0915_500366
DTSTAMP:20260527T091500
DTSTART:20260527T091500
DTEND:20260527T110000
SUMMARY:Rezerwacja IIM (R)
CATEGORIES:R
END:VEVENT
BEGIN:VEVENT
UID:UZ_PLZ_20260527_1105_500742
DTSTAMP:20260527T110500
DTSTART:20260527T110500
DTEND:20260527T123500
SUMMARY:Ocena ryzyka zawodowego (P): 21BHP-SP
CATEGORIES:P
LOCATION:B312 A-11
DESCRIPTION:<a href="https://classroom.google.com/c/ODU2NDc3NzE4MTI1">Google Classroom</a> 
END:VEVENT
BEGIN:VEVENT
UID:UZ_PLZ_20260527_1250_500706
DTSTAMP:20260527T125000
DTSTART:20260527T125000
DTEND:20260527T141500
SUMMARY:Ocena ryzyka zawodowego (W): 21BHP-SP
CATEGORIES:W
LOCATION:B312 A-11
END:VEVENT
BEGIN:VEVENT
UID:UZ_PLZ_20260527_1430_500781
DTSTAMP:20260527T143000
DTSTART:20260527T143000
DTEND:20260527T160000
SUMMARY:Metody i systemy zarządzania bezpieczeństwem i ryzykiem w środowisku pracy (P): 15BHP-SD/A
CATEGORIES:P
LOCATION:B312 A-11
DESCRIPTION:<a href="https://classroom.google.com/c/ODU2NTAxMTQ2Mjc4">Google Classroom</a> 
END:VEVENT
BEGIN:VEVENT
UID:UZ_PLZ_20260527_1615_500782
DTSTAMP:20260527T161500
DTSTART:20260527T161500
DTEND:20260527T174500
SUMMARY:Metody i systemy zarządzania bezpieczeństwem i ryzykiem w środowisku pracy (P): 15BHP-SD/B
CATEGORIES:P
LOCATION:B312 A-11
END:VEVENT
BEGIN:VEVENT
UID:UZ_PLZ_20260531_0730_500613
DTSTAMP:20260531T073000
DTSTART:20260531T073000
DTEND:20260531T091000
SUMMARY:Metody i systemy zarządzania bezpieczeństwem i ryzykiem w środowisku pracy (W): 15BHP-ND
CATEGORIES:W
LOCATION:125 A-2
END:VEVENT
BEGIN:VEVENT
UID:UZ_PLZ_20260531_0915_500594
DTSTAMP:20260531T091500
DTSTART:20260531T091500
DTEND:20260531T104500
SUMMARY:Metody i systemy zarządzania bezpieczeństwem i ryzykiem w środowisku pracy (P): 15BHP-ND/A
CATEGORIES:P
LOCATION:125 A-2
DESCRIPTION:<a href="https://classroom.google.com/c/ODU2OTc2MjY3Mzk3">Google Classroom</a> 
END:VEVENT
BEGIN:VEVENT
UID:UZ_PLZ_20260531_1100_500595
DTSTAMP:20260531T110000
DTSTART:20260531T110000
DTEND:20260531T123000
SUMMARY:Metody i systemy zarządzania bezpieczeństwem i ryzykiem w środowisku pracy (P): 15BHP-ND/B
CATEGORIES:P
LOCATION:125 A-2
DESCRIPTION:<a href="https://classroom.google.com/c/ODU2OTc3NTUyODY0">Google Classroom</a> 
END:VEVENT
BEGIN:VEVENT
UID:UZ_PLZ_20260531_1430_500614
DTSTAMP:20260531T143000
DTSTART:20260531T143000
DTEND:20260531T160000
SUMMARY:Ocena ryzyka zawodowego (P): 21BHP-NP
CATEGORIES:P
LOCATION:125 A-2
DESCRIPTION:<a href="https://classroom.google.com/c/ODU2OTk0MTQxNDY0">Google Classroom</a> 
END:VEVENT
BEGIN:VEVENT
UID:UZ_PLZ_20260603_0915_500366
DTSTAMP:20260603T091500
DTSTART:20260603T091500
DTEND:20260603T110000
SUMMARY:Rezerwacja IIM (R)
CATEGORIES:R
END:VEVENT
BEGIN:VEVENT
UID:UZ_PLZ_20260603_1105_500742
DTSTAMP:20260603T110500
DTSTART:20260603T110500
DTEND:20260603T123500
SUMMARY:Ocena ryzyka zawodowego (P): 21BHP-SP
CATEGORIES:P
LOCATION:B312 A-11
DESCRIPTION:<a href="https://classroom.google.com/c/ODU2NDc3NzE4MTI1">Google Classroom</a> 
END:VEVENT
BEGIN:VEVENT
UID:UZ_PLZ_20260603_1245_500758
DTSTAMP:20260603T124500
DTSTART:20260603T124500
DTEND:20260603T142000
SUMMARY:Metody i systemy zarządzania bezpieczeństwem i ryzykiem w środowisku pracy (W): 15BHP-SD
CATEGORIES:W
LOCATION:B312 A-11
END:VEVENT
BEGIN:VEVENT
UID:UZ_PLZ_20260603_1430_500781
DTSTAMP:20260603T143000
DTSTART:20260603T143000
DTEND:20260603T160000
SUMMARY:Metody i systemy zarządzania bezpieczeństwem i ryzykiem w środowisku pracy (P): 15BHP-SD/A
CATEGORIES:P
LOCATION:B312 A-11
DESCRIPTION:<a href="https://classroom.google.com/c/ODU2NTAxMTQ2Mjc4">Google Classroom</a> 
END:VEVENT
BEGIN:VEVENT
UID:UZ_PLZ_20260603_1615_500782
DTSTAMP:20260603T161500
DTSTART:20260603T161500
DTEND:20260603T174500
SUMMARY:Metody i systemy zarządzania bezpieczeństwem i ryzykiem w środowisku pracy (P): 15BHP-SD/B
CATEGORIES:P
LOCATION:B312 A-11
END:VEVENT
BEGIN:VEVENT
UID:UZ_PLZ_20260610_0915_500366
DTSTAMP:20260610T091500
DTSTART:20260610T091500
DTEND:20260610T110000
SUMMARY:Rezerwacja IIM (R)
CATEGORIES:R
END:VEVENT
BEGIN:VEVENT
UID:UZ_PLZ_20260610_1105_500742
DTSTAMP:20260610T110500
DTSTART:20260610T110500
DTEND:20260610T123500
SUMMARY:Ocena ryzyka zawodowego (P): 21BHP-SP
CATEGORIES:P
LOCATION:B312 A-11
DESCRIPTION:<a href="https://classroom.google.com/c/ODU2NDc3NzE4MTI1">Google Classroom</a> 
END:VEVENT
BEGIN:VEVENT
UID:UZ_PLZ_20260610_1250_500706
DTSTAMP:20260610T125000
DTSTART:20260610T125000
DTEND:20260610T141500
SUMMARY:Ocena ryzyka zawodowego (W): 21BHP-SP
CATEGORIES:W
LOCATION:B312 A-11
END:VEVENT
BEGIN:VEVENT
UID:UZ_PLZ_20260610_1430_500781
DTSTAMP:20260610T143000
DTSTART:20260610T143000
DTEND:20260610T160000
SUMMARY:Metody i systemy zarządzania bezpieczeństwem i ryzykiem w środowisku pracy (P): 15BHP-SD/A
CATEGORIES:P
LOCATION:B312 A-11
DESCRIPTION:<a href="https://classroom.google.com/c/ODU2NTAxMTQ2Mjc4">Google Classroom</a> 
END:VEVENT
BEGIN:VEVENT
UID:UZ_PLZ_20260610_1615_500782
DTSTAMP:20260610T161500
DTSTART:20260610T161500
DTEND:20260610T174500
SUMMARY:Metody i systemy zarządzania bezpieczeństwem i ryzykiem w środowisku pracy (P): 15BHP-SD/B
CATEGORIES:P
LOCATION:B312 A-11
END:VEVENT
BEGIN:VEVENT
UID:UZ_PLZ_20260614_0740_500615
DTSTAMP:20260614T074000
DTSTART:20260614T074000
DTEND:20260614T090000
SUMMARY:Ocena ryzyka zawodowego (W): 21BHP-NP
CATEGORIES:W
LOCATION:125 A-2
END:VEVENT
BEGIN:VEVENT
UID:UZ_PLZ_20260614_0915_500594
DTSTAMP:20260614T091500
DTSTART:20260614T091500
DTEND:20260614T104500
SUMMARY:Metody i systemy zarządzania bezpieczeństwem i ryzykiem w środowisku pracy (P): 15BHP-ND/A
CATEGORIES:P
LOCATION:125 A-2
DESCRIPTION:<a href="https://classroom.google.com/c/ODU2OTc2MjY3Mzk3">Google Classroom</a> 
END:VEVENT
BEGIN:VEVENT
UID:UZ_PLZ_20260614_1100_500595
DTSTAMP:20260614T110000
DTSTART:20260614T110000
DTEND:20260614T123000
SUMMARY:Metody i systemy zarządzania bezpieczeństwem i ryzykiem w środowisku pracy (P): 15BHP-ND/B
CATEGORIES:P
LOCATION:125 A-2
DESCRIPTION:<a href="https://classroom.google.com/c/ODU2OTc3NTUyODY0">Google Classroom</a> 
END:VEVENT
BEGIN:VEVENT
UID:UZ_PLZ_20260614_1430_500614
DTSTAMP:20260614T143000
DTSTART:20260614T143000
DTEND:20260614T160000
SUMMARY:Ocena ryzyka zawodowego (P): 21BHP-NP
CATEGORIES:P
LOCATION:125 A-2
DESCRIPTION:<a href="https://classroom.google.com/c/ODU2OTk0MTQxNDY0">Google Classroom</a> 
END:VEVENT
BEGIN:VEVENT
UID:UZ_PLZ_20260617_0915_500366
DTSTAMP:20260617T091500
DTSTART:20260617T091500
DTEND:20260617T110000
SUMMARY:Rezerwacja IIM (R)
CATEGORIES:R
END:VEVENT
BEGIN:VEVENT
UID:UZ_PLZ_20260617_1105_500742
DTSTAMP:20260617T110500
DTSTART:20260617T110500
DTEND:20260617T123500
SUMMARY:Ocena ryzyka zawodowego (P): 21BHP-SP
CATEGORIES:P
LOCATION:B312 A-11
DESCRIPTION:<a href="https://classroom.google.com/c/ODU2NDc3NzE4MTI1">Google Classroom</a> 
END:VEVENT
BEGIN:VEVENT
UID:UZ_PLZ_20260617_1250_500706
DTSTAMP:20260617T125000
DTSTART:20260617T125000
DTEND:20260617T141500
SUMMARY:Ocena ryzyka zawodowego (W): 21BHP-SP
CATEGORIES:W
LOCATION:B312 A-11
END:VEVENT
BEGIN:VEVENT
UID:UZ_PLZ_20260617_1430_500781
DTSTAMP:20260617T143000
DTSTART:20260617T143000
DTEND:20260617T160000
SUMMARY:Metody i systemy zarządzania bezpieczeństwem i ryzykiem w środowisku pracy (P): 15BHP-SD/A
CATEGORIES:P
LOCATION:B312 A-11
DESCRIPTION:<a href="https://classroom.google.com/c/ODU2NTAxMTQ2Mjc4">Google Classroom</a> 
END:VEVENT
BEGIN:VEVENT
UID:UZ_PLZ_20260617_1615_500782
DTSTAMP:20260617T161500
DTSTART:20260617T161500
DTEND:20260617T174500
SUMMARY:Metody i systemy zarządzania bezpieczeństwem i ryzykiem w środowisku pracy (P): 15BHP-SD/B
CATEGORIES:P
LOCATION:B312 A-11
END:VEVENT
END:VCALENDAR
