BEGIN:VCALENDAR
TZID:Europe/Warsaw
X-WR-TIMEZONE:Europe/Warsaw
VERSION:2.0
PRODID:-//Uniwersytet Zielonogórski//NONSGML Plan zajęć v1.0//EN
NAME:Plan zajęć - semestr letni 2025/2026
X-WR-CALNAME:Plan zajęć - semestr letni 2025/2026
COLOR:green
CALSCALE:GREGORIAN
BEGIN:VEVENT
UID:UZ_PLZ_20260425_0740_508171
DTSTAMP:20260425T074000
DTSTART:20260425T074000
DTEND:20260425T091000
SUMMARY:Seminarium powtarzanie ZARZ-NP (S): 31ZARZ-NP
CATEGORIES:S
END:VEVENT
BEGIN:VEVENT
UID:UZ_PLZ_20260425_0915_498635
DTSTAMP:20260425T091500
DTSTART:20260425T091500
DTEND:20260425T100000
SUMMARY:Seminarium dyplomowe 1 (S): 11ZARZ-SRB-ND
CATEGORIES:S
LOCATION:124 A-0
END:VEVENT
BEGIN:VEVENT
UID:UZ_PLZ_20260425_0915_508171
DTSTAMP:20260425T091500
DTSTART:20260425T091500
DTEND:20260425T104500
SUMMARY:Seminarium powtarzanie ZARZ-NP (S): 31ZARZ-NP
CATEGORIES:S
END:VEVENT
BEGIN:VEVENT
UID:UZ_PLZ_20260425_1100_507871
DTSTAMP:20260425T110000
DTSTART:20260425T110000
DTEND:20260425T124000
SUMMARY:Zarządzanie procesami zmian (Ć): 11BN-ZK-ND
CATEGORIES:Ć
LOCATION:F5 A-0
END:VEVENT
BEGIN:VEVENT
UID:UZ_PLZ_20260425_1245_507500
DTSTAMP:20260425T124500
DTSTART:20260425T124500
DTEND:20260425T133000
SUMMARY:Konsultacje (I)
CATEGORIES:I
LOCATION:124 A-0
END:VEVENT
BEGIN:VEVENT
UID:UZ_PLZ_20260426_1100_498227
DTSTAMP:20260426T110000
DTSTART:20260426T110000
DTEND:20260426T123000
SUMMARY:Zarządzanie wiedzą (Ć): 31LOG-ZLP-NP
CATEGORIES:Ć
LOCATION:223 A-29
END:VEVENT
BEGIN:VEVENT
UID:UZ_PLZ_20260426_1250_508171
DTSTAMP:20260426T125000
DTSTART:20260426T125000
DTEND:20260426T142000
SUMMARY:Seminarium powtarzanie ZARZ-NP (S): 31ZARZ-NP
CATEGORIES:S
END:VEVENT
BEGIN:VEVENT
UID:UZ_PLZ_20260426_1430_498363
DTSTAMP:20260426T143000
DTSTART:20260426T143000
DTEND:20260426T160000
SUMMARY:Zarządzanie wiedzą (Ć): 33LOG-TS-NP
CATEGORIES:Ć
LOCATION:223 A-29
END:VEVENT
BEGIN:VEVENT
UID:UZ_PLZ_20260426_1625_498402
DTSTAMP:20260426T162500
DTSTART:20260426T162500
DTEND:20260426T174500
SUMMARY:Zarządzanie wiedzą (W): 31LOG-ZLP-NP\; 32LOG-TS-NP\; 33LOG-TS-NP
CATEGORIES:W
LOCATION:1 A-29
ATTACH:https://classroom.google.com/c/ODUwNDIyODY4MzM3
END:VEVENT
BEGIN:VEVENT
UID:UZ_PLZ_20260426_1800_498446
DTSTAMP:20260426T180000
DTSTART:20260426T180000
DTEND:20260426T193000
SUMMARY:Zarządzanie wiedzą (Ć): 32LOG-TS-NP
CATEGORIES:Ć
LOCATION:223 A-29
END:VEVENT
BEGIN:VEVENT
UID:UZ_PLZ_20260427_1615_498648
DTSTAMP:20260427T161500
DTSTART:20260427T161500
DTEND:20260427T173700
SUMMARY:Seminarium dyplomowe 1 (S): 11ZARZ-SRB-SD\; 12ZARZ-MP-SD
CATEGORIES:S
LOCATION:13 A-5
ATTACH:https://classroom.google.com/c/ODYwNjM2ODczNzAz
END:VEVENT
BEGIN:VEVENT
UID:UZ_PLZ_20260427_1745_498700
DTSTAMP:20260427T174500
DTSTART:20260427T174500
DTEND:20260427T183000
SUMMARY:Seminarium dyplomowe 3 (S): 21ZARZ-ZMŚP-SD
CATEGORIES:S
LOCATION:124 A-0
END:VEVENT
BEGIN:VEVENT
UID:UZ_PLZ_20260428_0730_498148
DTSTAMP:20260428T073000
DTSTART:20260428T073000
DTEND:20260428T090000
SUMMARY:Zarządzanie zmianą (Ć): 33LOG-TS-SP
CATEGORIES:Ć
LOCATION:209 A-29
ATTACH:https://classroom.google.com/c/ODQ5OTU5MDgzMzY3
END:VEVENT
BEGIN:VEVENT
UID:UZ_PLZ_20260428_0915_497926
DTSTAMP:20260428T091500
DTSTART:20260428T091500
DTEND:20260428T104500
SUMMARY:Zarządzanie zmianą (Ć): 32LOG-TS-SP
CATEGORIES:Ć
LOCATION:209 A-29
ATTACH:https://classroom.google.com/c/ODE5MTMxMTE5MjUz
END:VEVENT
BEGIN:VEVENT
UID:UZ_PLZ_20260428_1100_507499
DTSTAMP:20260428T110000
DTSTART:20260428T110000
DTEND:20260428T114500
SUMMARY:Konsultacje (I)
CATEGORIES:I
LOCATION:124 A-0
END:VEVENT
BEGIN:VEVENT
UID:UZ_PLZ_20260428_1150_508026
DTSTAMP:20260428T115000
DTSTART:20260428T115000
DTEND:20260428T123500
SUMMARY:Management of Changes (W)
CATEGORIES:W
LOCATION:124 A-0
END:VEVENT
BEGIN:VEVENT
UID:UZ_PLZ_20260428_1245_497976
DTSTAMP:20260428T124500
DTSTART:20260428T124500
DTEND:20260428T141500
SUMMARY:Zarządzanie zmianą (Ć): 31LOG-ZLP-SP
CATEGORIES:Ć
LOCATION:209 A-29
ATTACH:https://classroom.google.com/c/ODUxMDAyMDU1OTY3
END:VEVENT
BEGIN:VEVENT
UID:UZ_PLZ_20260428_1615_498025
DTSTAMP:20260428T161500
DTSTART:20260428T161500
DTEND:20260428T175500
SUMMARY:Zarządzanie zaangażowaniem pracowników (W): 22LOG-ML-SD(L)
CATEGORIES:W
LOCATION:02a C-2
END:VEVENT
BEGIN:VEVENT
UID:UZ_PLZ_20260428_1800_498147
DTSTAMP:20260428T180000
DTSTART:20260428T180000
DTEND:20260428T192000
SUMMARY:Zarządzanie zaangażowaniem pracowników (Ć): 22LOG-ML-SD(L)
CATEGORIES:Ć
LOCATION:02a C-2
ATTACH:https://classroom.google.com/c/ODU2MzE1Mzg3Mzc1
END:VEVENT
BEGIN:VEVENT
UID:UZ_PLZ_20260504_1030_508026
DTSTAMP:20260504T103000
DTSTART:20260504T103000
DTEND:20260504T123000
SUMMARY:Management of Changes (W)
CATEGORIES:W
LOCATION:124 A-0
END:VEVENT
BEGIN:VEVENT
UID:UZ_PLZ_20260504_1245_498026
DTSTAMP:20260504T124500
DTSTART:20260504T124500
DTEND:20260504T142000
SUMMARY:Zarządzanie zmianą (W): 31LOG-ZLP-SP\; 32LOG-TS-SP\; 33LOG-TS-SP
CATEGORIES:W
LOCATION:1 A-29
END:VEVENT
BEGIN:VEVENT
UID:UZ_PLZ_20260504_1615_498648
DTSTAMP:20260504T161500
DTSTART:20260504T161500
DTEND:20260504T173700
SUMMARY:Seminarium dyplomowe 1 (S): 11ZARZ-SRB-SD\; 12ZARZ-MP-SD
CATEGORIES:S
LOCATION:13 A-5
ATTACH:https://classroom.google.com/c/ODYwNjM2ODczNzAz
END:VEVENT
BEGIN:VEVENT
UID:UZ_PLZ_20260504_1745_498708
DTSTAMP:20260504T174500
DTSTART:20260504T174500
DTEND:20260504T183000
SUMMARY:Seminarium dyplomowe 3 (S): 22ZARZ-SRB-SD
CATEGORIES:S
LOCATION:124 A-0
ATTACH:https://classroom.google.com/c/ODU3ODI5OTQyMjky
END:VEVENT
BEGIN:VEVENT
UID:UZ_PLZ_20260505_0730_498148
DTSTAMP:20260505T073000
DTSTART:20260505T073000
DTEND:20260505T090000
SUMMARY:Zarządzanie zmianą (Ć): 33LOG-TS-SP
CATEGORIES:Ć
LOCATION:209 A-29
ATTACH:https://classroom.google.com/c/ODQ5OTU5MDgzMzY3
END:VEVENT
BEGIN:VEVENT
UID:UZ_PLZ_20260505_0915_497926
DTSTAMP:20260505T091500
DTSTART:20260505T091500
DTEND:20260505T104500
SUMMARY:Zarządzanie zmianą (Ć): 32LOG-TS-SP
CATEGORIES:Ć
LOCATION:209 A-29
ATTACH:https://classroom.google.com/c/ODE5MTMxMTE5MjUz
END:VEVENT
BEGIN:VEVENT
UID:UZ_PLZ_20260505_1100_507499
DTSTAMP:20260505T110000
DTSTART:20260505T110000
DTEND:20260505T114500
SUMMARY:Konsultacje (I)
CATEGORIES:I
LOCATION:124 A-0
END:VEVENT
BEGIN:VEVENT
UID:UZ_PLZ_20260505_1150_508026
DTSTAMP:20260505T115000
DTSTART:20260505T115000
DTEND:20260505T123500
SUMMARY:Management of Changes (W)
CATEGORIES:W
LOCATION:124 A-0
END:VEVENT
BEGIN:VEVENT
UID:UZ_PLZ_20260505_1245_497976
DTSTAMP:20260505T124500
DTSTART:20260505T124500
DTEND:20260505T141500
SUMMARY:Zarządzanie zmianą (Ć): 31LOG-ZLP-SP
CATEGORIES:Ć
LOCATION:209 A-29
ATTACH:https://classroom.google.com/c/ODUxMDAyMDU1OTY3
END:VEVENT
BEGIN:VEVENT
UID:UZ_PLZ_20260510_1010_507500
DTSTAMP:20260510T101000
DTSTART:20260510T101000
DTEND:20260510T105500
SUMMARY:Konsultacje (I)
CATEGORIES:I
LOCATION:124 A-0
END:VEVENT
BEGIN:VEVENT
UID:UZ_PLZ_20260510_1100_498268
DTSTAMP:20260510T110000
DTSTART:20260510T110000
DTEND:20260510T124000
SUMMARY:Zarządzanie procesami zmian (W): 11BN-ZK-ND\; 12BN-AI-ND
CATEGORIES:W
LOCATION:223 A-29
ATTACH:https://classroom.google.com/c/ODUxNjcwMzk1MTk5
END:VEVENT
BEGIN:VEVENT
UID:UZ_PLZ_20260510_1245_498267
DTSTAMP:20260510T124500
DTSTART:20260510T124500
DTEND:20260510T142500
SUMMARY:Zarządzanie procesami zmian (Ć): 12BN-AI-ND
CATEGORIES:Ć
LOCATION:223 A-29
END:VEVENT
BEGIN:VEVENT
UID:UZ_PLZ_20260510_1430_498363
DTSTAMP:20260510T143000
DTSTART:20260510T143000
DTEND:20260510T160000
SUMMARY:Zarządzanie wiedzą (Ć): 33LOG-TS-NP
CATEGORIES:Ć
LOCATION:223 A-29
END:VEVENT
BEGIN:VEVENT
UID:UZ_PLZ_20260510_1615_498441
DTSTAMP:20260510T161500
DTSTART:20260510T161500
DTEND:20260510T175500
SUMMARY:Wykład monograficzny specjalnościowy - Menedżer personalny (W): 21ZARZ-MP-ND
CATEGORIES:W
LOCATION:223 A-29
ATTACH:https://classroom.google.com/c/ODUwMzk5MTQyMDA5
END:VEVENT
BEGIN:VEVENT
UID:UZ_PLZ_20260510_1800_498446
DTSTAMP:20260510T180000
DTSTART:20260510T180000
DTEND:20260510T193000
SUMMARY:Zarządzanie wiedzą (Ć): 32LOG-TS-NP
CATEGORIES:Ć
LOCATION:223 A-29
END:VEVENT
BEGIN:VEVENT
UID:UZ_PLZ_20260510_1945_507871
DTSTAMP:20260510T194500
DTSTART:20260510T194500
DTEND:20260510T211500
SUMMARY:Zarządzanie procesami zmian (Ć): 11BN-ZK-ND
CATEGORIES:Ć
LOCATION:223 A-29
END:VEVENT
BEGIN:VEVENT
UID:UZ_PLZ_20260511_1615_498648
DTSTAMP:20260511T161500
DTSTART:20260511T161500
DTEND:20260511T173700
SUMMARY:Seminarium dyplomowe 1 (S): 11ZARZ-SRB-SD\; 12ZARZ-MP-SD
CATEGORIES:S
LOCATION:13 A-5
ATTACH:https://classroom.google.com/c/ODYwNjM2ODczNzAz
END:VEVENT
BEGIN:VEVENT
UID:UZ_PLZ_20260511_1745_498700
DTSTAMP:20260511T174500
DTSTART:20260511T174500
DTEND:20260511T183000
SUMMARY:Seminarium dyplomowe 3 (S): 21ZARZ-ZMŚP-SD
CATEGORIES:S
LOCATION:124 A-0
END:VEVENT
BEGIN:VEVENT
UID:UZ_PLZ_20260512_0730_498148
DTSTAMP:20260512T073000
DTSTART:20260512T073000
DTEND:20260512T090000
SUMMARY:Zarządzanie zmianą (Ć): 33LOG-TS-SP
CATEGORIES:Ć
LOCATION:209 A-29
ATTACH:https://classroom.google.com/c/ODQ5OTU5MDgzMzY3
END:VEVENT
BEGIN:VEVENT
UID:UZ_PLZ_20260512_0915_497926
DTSTAMP:20260512T091500
DTSTART:20260512T091500
DTEND:20260512T104500
SUMMARY:Zarządzanie zmianą (Ć): 32LOG-TS-SP
CATEGORIES:Ć
LOCATION:209 A-29
ATTACH:https://classroom.google.com/c/ODE5MTMxMTE5MjUz
END:VEVENT
BEGIN:VEVENT
UID:UZ_PLZ_20260512_1100_507499
DTSTAMP:20260512T110000
DTSTART:20260512T110000
DTEND:20260512T114500
SUMMARY:Konsultacje (I)
CATEGORIES:I
LOCATION:124 A-0
END:VEVENT
BEGIN:VEVENT
UID:UZ_PLZ_20260512_1150_508026
DTSTAMP:20260512T115000
DTSTART:20260512T115000
DTEND:20260512T123500
SUMMARY:Management of Changes (W)
CATEGORIES:W
LOCATION:124 A-0
END:VEVENT
BEGIN:VEVENT
UID:UZ_PLZ_20260512_1245_497976
DTSTAMP:20260512T124500
DTSTART:20260512T124500
DTEND:20260512T141500
SUMMARY:Zarządzanie zmianą (Ć): 31LOG-ZLP-SP
CATEGORIES:Ć
LOCATION:209 A-29
ATTACH:https://classroom.google.com/c/ODUxMDAyMDU1OTY3
END:VEVENT
BEGIN:VEVENT
UID:UZ_PLZ_20260512_1615_498025
DTSTAMP:20260512T161500
DTSTART:20260512T161500
DTEND:20260512T175500
SUMMARY:Zarządzanie zaangażowaniem pracowników (W): 22LOG-ML-SD(L)
CATEGORIES:W
LOCATION:02a C-2
END:VEVENT
BEGIN:VEVENT
UID:UZ_PLZ_20260512_1800_498147
DTSTAMP:20260512T180000
DTSTART:20260512T180000
DTEND:20260512T192000
SUMMARY:Zarządzanie zaangażowaniem pracowników (Ć): 22LOG-ML-SD(L)
CATEGORIES:Ć
LOCATION:02a C-2
ATTACH:https://classroom.google.com/c/ODU2MzE1Mzg3Mzc1
END:VEVENT
BEGIN:VEVENT
UID:UZ_PLZ_20260516_0740_508171
DTSTAMP:20260516T074000
DTSTART:20260516T074000
DTEND:20260516T091000
SUMMARY:Seminarium powtarzanie ZARZ-NP (S): 31ZARZ-NP
CATEGORIES:S
END:VEVENT
BEGIN:VEVENT
UID:UZ_PLZ_20260516_0915_498635
DTSTAMP:20260516T091500
DTSTART:20260516T091500
DTEND:20260516T100000
SUMMARY:Seminarium dyplomowe 1 (S): 11ZARZ-SRB-ND
CATEGORIES:S
LOCATION:124 A-0
END:VEVENT
BEGIN:VEVENT
UID:UZ_PLZ_20260516_0915_508171
DTSTAMP:20260516T091500
DTSTART:20260516T091500
DTEND:20260516T104500
SUMMARY:Seminarium powtarzanie ZARZ-NP (S): 31ZARZ-NP
CATEGORIES:S
END:VEVENT
BEGIN:VEVENT
UID:UZ_PLZ_20260516_1100_507871
DTSTAMP:20260516T110000
DTSTART:20260516T110000
DTEND:20260516T124000
SUMMARY:Zarządzanie procesami zmian (Ć): 11BN-ZK-ND
CATEGORIES:Ć
LOCATION:F5 A-0
END:VEVENT
BEGIN:VEVENT
UID:UZ_PLZ_20260516_1245_507500
DTSTAMP:20260516T124500
DTSTART:20260516T124500
DTEND:20260516T133000
SUMMARY:Konsultacje (I)
CATEGORIES:I
LOCATION:124 A-0
END:VEVENT
BEGIN:VEVENT
UID:UZ_PLZ_20260517_1250_508171
DTSTAMP:20260517T125000
DTSTART:20260517T125000
DTEND:20260517T142000
SUMMARY:Seminarium powtarzanie ZARZ-NP (S): 31ZARZ-NP
CATEGORIES:S
END:VEVENT
BEGIN:VEVENT
UID:UZ_PLZ_20260517_1430_498363
DTSTAMP:20260517T143000
DTSTART:20260517T143000
DTEND:20260517T160000
SUMMARY:Zarządzanie wiedzą (Ć): 33LOG-TS-NP
CATEGORIES:Ć
LOCATION:223 A-29
END:VEVENT
BEGIN:VEVENT
UID:UZ_PLZ_20260517_1625_498402
DTSTAMP:20260517T162500
DTSTART:20260517T162500
DTEND:20260517T174500
SUMMARY:Zarządzanie wiedzą (W): 31LOG-ZLP-NP\; 32LOG-TS-NP\; 33LOG-TS-NP
CATEGORIES:W
LOCATION:1 A-29
ATTACH:https://classroom.google.com/c/ODUwNDIyODY4MzM3
END:VEVENT
BEGIN:VEVENT
UID:UZ_PLZ_20260517_1800_498446
DTSTAMP:20260517T180000
DTSTART:20260517T180000
DTEND:20260517T193000
SUMMARY:Zarządzanie wiedzą (Ć): 32LOG-TS-NP
CATEGORIES:Ć
LOCATION:223 A-29
END:VEVENT
BEGIN:VEVENT
UID:UZ_PLZ_20260517_1935_498227
DTSTAMP:20260517T193500
DTSTART:20260517T193500
DTEND:20260517T210500
SUMMARY:Zarządzanie wiedzą (Ć): 31LOG-ZLP-NP
CATEGORIES:Ć
LOCATION:223 A-29
END:VEVENT
BEGIN:VEVENT
UID:UZ_PLZ_20260518_1030_508026
DTSTAMP:20260518T103000
DTSTART:20260518T103000
DTEND:20260518T123000
SUMMARY:Management of Changes (W)
CATEGORIES:W
LOCATION:124 A-0
END:VEVENT
BEGIN:VEVENT
UID:UZ_PLZ_20260518_1245_498026
DTSTAMP:20260518T124500
DTSTART:20260518T124500
DTEND:20260518T142000
SUMMARY:Zarządzanie zmianą (W): 31LOG-ZLP-SP\; 32LOG-TS-SP\; 33LOG-TS-SP
CATEGORIES:W
LOCATION:1 A-29
END:VEVENT
BEGIN:VEVENT
UID:UZ_PLZ_20260518_1615_498648
DTSTAMP:20260518T161500
DTSTART:20260518T161500
DTEND:20260518T173700
SUMMARY:Seminarium dyplomowe 1 (S): 11ZARZ-SRB-SD\; 12ZARZ-MP-SD
CATEGORIES:S
LOCATION:13 A-5
ATTACH:https://classroom.google.com/c/ODYwNjM2ODczNzAz
END:VEVENT
BEGIN:VEVENT
UID:UZ_PLZ_20260518_1745_498708
DTSTAMP:20260518T174500
DTSTART:20260518T174500
DTEND:20260518T183000
SUMMARY:Seminarium dyplomowe 3 (S): 22ZARZ-SRB-SD
CATEGORIES:S
LOCATION:124 A-0
ATTACH:https://classroom.google.com/c/ODU3ODI5OTQyMjky
END:VEVENT
BEGIN:VEVENT
UID:UZ_PLZ_20260519_0730_498148
DTSTAMP:20260519T073000
DTSTART:20260519T073000
DTEND:20260519T090000
SUMMARY:Zarządzanie zmianą (Ć): 33LOG-TS-SP
CATEGORIES:Ć
LOCATION:209 A-29
ATTACH:https://classroom.google.com/c/ODQ5OTU5MDgzMzY3
END:VEVENT
BEGIN:VEVENT
UID:UZ_PLZ_20260519_0915_497926
DTSTAMP:20260519T091500
DTSTART:20260519T091500
DTEND:20260519T104500
SUMMARY:Zarządzanie zmianą (Ć): 32LOG-TS-SP
CATEGORIES:Ć
LOCATION:209 A-29
ATTACH:https://classroom.google.com/c/ODE5MTMxMTE5MjUz
END:VEVENT
BEGIN:VEVENT
UID:UZ_PLZ_20260519_1100_507499
DTSTAMP:20260519T110000
DTSTART:20260519T110000
DTEND:20260519T114500
SUMMARY:Konsultacje (I)
CATEGORIES:I
LOCATION:124 A-0
END:VEVENT
BEGIN:VEVENT
UID:UZ_PLZ_20260519_1150_508026
DTSTAMP:20260519T115000
DTSTART:20260519T115000
DTEND:20260519T123500
SUMMARY:Management of Changes (W)
CATEGORIES:W
LOCATION:124 A-0
END:VEVENT
BEGIN:VEVENT
UID:UZ_PLZ_20260519_1245_497976
DTSTAMP:20260519T124500
DTSTART:20260519T124500
DTEND:20260519T141500
SUMMARY:Zarządzanie zmianą (Ć): 31LOG-ZLP-SP
CATEGORIES:Ć
LOCATION:209 A-29
ATTACH:https://classroom.google.com/c/ODUxMDAyMDU1OTY3
END:VEVENT
BEGIN:VEVENT
UID:UZ_PLZ_20260525_1615_498648
DTSTAMP:20260525T161500
DTSTART:20260525T161500
DTEND:20260525T173700
SUMMARY:Seminarium dyplomowe 1 (S): 11ZARZ-SRB-SD\; 12ZARZ-MP-SD
CATEGORIES:S
LOCATION:13 A-5
ATTACH:https://classroom.google.com/c/ODYwNjM2ODczNzAz
END:VEVENT
BEGIN:VEVENT
UID:UZ_PLZ_20260525_1745_498700
DTSTAMP:20260525T174500
DTSTART:20260525T174500
DTEND:20260525T183000
SUMMARY:Seminarium dyplomowe 3 (S): 21ZARZ-ZMŚP-SD
CATEGORIES:S
LOCATION:124 A-0
END:VEVENT
BEGIN:VEVENT
UID:UZ_PLZ_20260526_0730_498148
DTSTAMP:20260526T073000
DTSTART:20260526T073000
DTEND:20260526T090000
SUMMARY:Zarządzanie zmianą (Ć): 33LOG-TS-SP
CATEGORIES:Ć
LOCATION:209 A-29
ATTACH:https://classroom.google.com/c/ODQ5OTU5MDgzMzY3
END:VEVENT
BEGIN:VEVENT
UID:UZ_PLZ_20260526_0915_497926
DTSTAMP:20260526T091500
DTSTART:20260526T091500
DTEND:20260526T104500
SUMMARY:Zarządzanie zmianą (Ć): 32LOG-TS-SP
CATEGORIES:Ć
LOCATION:209 A-29
ATTACH:https://classroom.google.com/c/ODE5MTMxMTE5MjUz
END:VEVENT
BEGIN:VEVENT
UID:UZ_PLZ_20260526_1100_507499
DTSTAMP:20260526T110000
DTSTART:20260526T110000
DTEND:20260526T114500
SUMMARY:Konsultacje (I)
CATEGORIES:I
LOCATION:124 A-0
END:VEVENT
BEGIN:VEVENT
UID:UZ_PLZ_20260526_1150_508026
DTSTAMP:20260526T115000
DTSTART:20260526T115000
DTEND:20260526T123500
SUMMARY:Management of Changes (W)
CATEGORIES:W
LOCATION:124 A-0
END:VEVENT
BEGIN:VEVENT
UID:UZ_PLZ_20260526_1245_497976
DTSTAMP:20260526T124500
DTSTART:20260526T124500
DTEND:20260526T141500
SUMMARY:Zarządzanie zmianą (Ć): 31LOG-ZLP-SP
CATEGORIES:Ć
LOCATION:209 A-29
ATTACH:https://classroom.google.com/c/ODUxMDAyMDU1OTY3
END:VEVENT
BEGIN:VEVENT
UID:UZ_PLZ_20260526_1615_498025
DTSTAMP:20260526T161500
DTSTART:20260526T161500
DTEND:20260526T175500
SUMMARY:Zarządzanie zaangażowaniem pracowników (W): 22LOG-ML-SD(L)
CATEGORIES:W
LOCATION:02a C-2
END:VEVENT
BEGIN:VEVENT
UID:UZ_PLZ_20260526_1800_498147
DTSTAMP:20260526T180000
DTSTART:20260526T180000
DTEND:20260526T192000
SUMMARY:Zarządzanie zaangażowaniem pracowników (Ć): 22LOG-ML-SD(L)
CATEGORIES:Ć
LOCATION:02a C-2
ATTACH:https://classroom.google.com/c/ODU2MzE1Mzg3Mzc1
END:VEVENT
BEGIN:VEVENT
UID:UZ_PLZ_20260531_1010_507500
DTSTAMP:20260531T101000
DTSTART:20260531T101000
DTEND:20260531T105500
SUMMARY:Konsultacje (I)
CATEGORIES:I
LOCATION:124 A-0
END:VEVENT
BEGIN:VEVENT
UID:UZ_PLZ_20260531_1100_498268
DTSTAMP:20260531T110000
DTSTART:20260531T110000
DTEND:20260531T124000
SUMMARY:Zarządzanie procesami zmian (W): 11BN-ZK-ND\; 12BN-AI-ND
CATEGORIES:W
LOCATION:223 A-29
ATTACH:https://classroom.google.com/c/ODUxNjcwMzk1MTk5
END:VEVENT
BEGIN:VEVENT
UID:UZ_PLZ_20260531_1245_498267
DTSTAMP:20260531T124500
DTSTART:20260531T124500
DTEND:20260531T142500
SUMMARY:Zarządzanie procesami zmian (Ć): 12BN-AI-ND
CATEGORIES:Ć
LOCATION:223 A-29
END:VEVENT
BEGIN:VEVENT
UID:UZ_PLZ_20260531_1430_498363
DTSTAMP:20260531T143000
DTSTART:20260531T143000
DTEND:20260531T160000
SUMMARY:Zarządzanie wiedzą (Ć): 33LOG-TS-NP
CATEGORIES:Ć
LOCATION:223 A-29
END:VEVENT
BEGIN:VEVENT
UID:UZ_PLZ_20260531_1615_498441
DTSTAMP:20260531T161500
DTSTART:20260531T161500
DTEND:20260531T175500
SUMMARY:Wykład monograficzny specjalnościowy - Menedżer personalny (W): 21ZARZ-MP-ND
CATEGORIES:W
LOCATION:223 A-29
ATTACH:https://classroom.google.com/c/ODUwMzk5MTQyMDA5
END:VEVENT
BEGIN:VEVENT
UID:UZ_PLZ_20260531_1800_498446
DTSTAMP:20260531T180000
DTSTART:20260531T180000
DTEND:20260531T193000
SUMMARY:Zarządzanie wiedzą (Ć): 32LOG-TS-NP
CATEGORIES:Ć
LOCATION:223 A-29
END:VEVENT
BEGIN:VEVENT
UID:UZ_PLZ_20260531_1935_498227
DTSTAMP:20260531T193500
DTSTART:20260531T193500
DTEND:20260531T210500
SUMMARY:Zarządzanie wiedzą (Ć): 31LOG-ZLP-NP
CATEGORIES:Ć
LOCATION:223 A-29
END:VEVENT
BEGIN:VEVENT
UID:UZ_PLZ_20260601_1100_498147
DTSTAMP:20260601T110000
DTSTART:20260601T110000
DTEND:20260601T123500
SUMMARY:Zarządzanie zaangażowaniem pracowników (Ć): 22LOG-ML-SD(L)
CATEGORIES:Ć
LOCATION:110/110a A-0
ATTACH:https://classroom.google.com/c/ODU2MzE1Mzg3Mzc1
END:VEVENT
BEGIN:VEVENT
UID:UZ_PLZ_20260601_1245_498026
DTSTAMP:20260601T124500
DTSTART:20260601T124500
DTEND:20260601T142000
SUMMARY:Zarządzanie zmianą (W): 31LOG-ZLP-SP\; 32LOG-TS-SP\; 33LOG-TS-SP
CATEGORIES:W
LOCATION:1 A-29
END:VEVENT
BEGIN:VEVENT
UID:UZ_PLZ_20260601_1615_498648
DTSTAMP:20260601T161500
DTSTART:20260601T161500
DTEND:20260601T173700
SUMMARY:Seminarium dyplomowe 1 (S): 11ZARZ-SRB-SD\; 12ZARZ-MP-SD
CATEGORIES:S
LOCATION:13 A-5
ATTACH:https://classroom.google.com/c/ODYwNjM2ODczNzAz
END:VEVENT
BEGIN:VEVENT
UID:UZ_PLZ_20260602_0730_498148
DTSTAMP:20260602T073000
DTSTART:20260602T073000
DTEND:20260602T090000
SUMMARY:Zarządzanie zmianą (Ć): 33LOG-TS-SP
CATEGORIES:Ć
LOCATION:209 A-29
ATTACH:https://classroom.google.com/c/ODQ5OTU5MDgzMzY3
END:VEVENT
BEGIN:VEVENT
UID:UZ_PLZ_20260602_0915_497926
DTSTAMP:20260602T091500
DTSTART:20260602T091500
DTEND:20260602T104500
SUMMARY:Zarządzanie zmianą (Ć): 32LOG-TS-SP
CATEGORIES:Ć
LOCATION:209 A-29
ATTACH:https://classroom.google.com/c/ODE5MTMxMTE5MjUz
END:VEVENT
BEGIN:VEVENT
UID:UZ_PLZ_20260602_1100_507499
DTSTAMP:20260602T110000
DTSTART:20260602T110000
DTEND:20260602T114500
SUMMARY:Konsultacje (I)
CATEGORIES:I
LOCATION:124 A-0
END:VEVENT
BEGIN:VEVENT
UID:UZ_PLZ_20260602_1150_508026
DTSTAMP:20260602T115000
DTSTART:20260602T115000
DTEND:20260602T123500
SUMMARY:Management of Changes (W)
CATEGORIES:W
LOCATION:124 A-0
END:VEVENT
BEGIN:VEVENT
UID:UZ_PLZ_20260602_1245_497976
DTSTAMP:20260602T124500
DTSTART:20260602T124500
DTEND:20260602T141500
SUMMARY:Zarządzanie zmianą (Ć): 31LOG-ZLP-SP
CATEGORIES:Ć
LOCATION:209 A-29
ATTACH:https://classroom.google.com/c/ODUxMDAyMDU1OTY3
END:VEVENT
BEGIN:VEVENT
UID:UZ_PLZ_20260608_1100_508026
DTSTAMP:20260608T110000
DTSTART:20260608T110000
DTEND:20260608T123000
SUMMARY:Management of Changes (W)
CATEGORIES:W
LOCATION:124 A-0
END:VEVENT
BEGIN:VEVENT
UID:UZ_PLZ_20260608_1245_498025
DTSTAMP:20260608T124500
DTSTART:20260608T124500
DTEND:20260608T141000
SUMMARY:Zarządzanie zaangażowaniem pracowników (W): 22LOG-ML-SD(L)
CATEGORIES:W
LOCATION:110/110a A-0
END:VEVENT
BEGIN:VEVENT
UID:UZ_PLZ_20260608_1615_498648
DTSTAMP:20260608T161500
DTSTART:20260608T161500
DTEND:20260608T173700
SUMMARY:Seminarium dyplomowe 1 (S): 11ZARZ-SRB-SD\; 12ZARZ-MP-SD
CATEGORIES:S
LOCATION:13 A-5
ATTACH:https://classroom.google.com/c/ODYwNjM2ODczNzAz
END:VEVENT
BEGIN:VEVENT
UID:UZ_PLZ_20260608_1745_498700
DTSTAMP:20260608T174500
DTSTART:20260608T174500
DTEND:20260608T183000
SUMMARY:Seminarium dyplomowe 3 (S): 21ZARZ-ZMŚP-SD
CATEGORIES:S
LOCATION:124 A-0
END:VEVENT
BEGIN:VEVENT
UID:UZ_PLZ_20260609_0730_498148
DTSTAMP:20260609T073000
DTSTART:20260609T073000
DTEND:20260609T090000
SUMMARY:Zarządzanie zmianą (Ć): 33LOG-TS-SP
CATEGORIES:Ć
LOCATION:209 A-29
ATTACH:https://classroom.google.com/c/ODQ5OTU5MDgzMzY3
END:VEVENT
BEGIN:VEVENT
UID:UZ_PLZ_20260609_0915_497926
DTSTAMP:20260609T091500
DTSTART:20260609T091500
DTEND:20260609T104500
SUMMARY:Zarządzanie zmianą (Ć): 32LOG-TS-SP
CATEGORIES:Ć
LOCATION:209 A-29
ATTACH:https://classroom.google.com/c/ODE5MTMxMTE5MjUz
END:VEVENT
BEGIN:VEVENT
UID:UZ_PLZ_20260609_1100_507499
DTSTAMP:20260609T110000
DTSTART:20260609T110000
DTEND:20260609T114500
SUMMARY:Konsultacje (I)
CATEGORIES:I
LOCATION:124 A-0
END:VEVENT
BEGIN:VEVENT
UID:UZ_PLZ_20260609_1150_508026
DTSTAMP:20260609T115000
DTSTART:20260609T115000
DTEND:20260609T123500
SUMMARY:Management of Changes (W)
CATEGORIES:W
LOCATION:124 A-0
END:VEVENT
BEGIN:VEVENT
UID:UZ_PLZ_20260609_1245_497976
DTSTAMP:20260609T124500
DTSTART:20260609T124500
DTEND:20260609T141500
SUMMARY:Zarządzanie zmianą (Ć): 31LOG-ZLP-SP
CATEGORIES:Ć
LOCATION:209 A-29
ATTACH:https://classroom.google.com/c/ODUxMDAyMDU1OTY3
END:VEVENT
BEGIN:VEVENT
UID:UZ_PLZ_20260613_0740_508171
DTSTAMP:20260613T074000
DTSTART:20260613T074000
DTEND:20260613T091000
SUMMARY:Seminarium powtarzanie ZARZ-NP (S): 31ZARZ-NP
CATEGORIES:S
END:VEVENT
BEGIN:VEVENT
UID:UZ_PLZ_20260613_0915_498635
DTSTAMP:20260613T091500
DTSTART:20260613T091500
DTEND:20260613T100000
SUMMARY:Seminarium dyplomowe 1 (S): 11ZARZ-SRB-ND
CATEGORIES:S
LOCATION:124 A-0
END:VEVENT
BEGIN:VEVENT
UID:UZ_PLZ_20260613_0915_508171
DTSTAMP:20260613T091500
DTSTART:20260613T091500
DTEND:20260613T104500
SUMMARY:Seminarium powtarzanie ZARZ-NP (S): 31ZARZ-NP
CATEGORIES:S
END:VEVENT
BEGIN:VEVENT
UID:UZ_PLZ_20260613_1100_507871
DTSTAMP:20260613T110000
DTSTART:20260613T110000
DTEND:20260613T124000
SUMMARY:Zarządzanie procesami zmian (Ć): 11BN-ZK-ND
CATEGORIES:Ć
LOCATION:F5 A-0
END:VEVENT
BEGIN:VEVENT
UID:UZ_PLZ_20260613_1245_507500
DTSTAMP:20260613T124500
DTSTART:20260613T124500
DTEND:20260613T133000
SUMMARY:Konsultacje (I)
CATEGORIES:I
LOCATION:124 A-0
END:VEVENT
BEGIN:VEVENT
UID:UZ_PLZ_20260614_1100_498227
DTSTAMP:20260614T110000
DTSTART:20260614T110000
DTEND:20260614T123000
SUMMARY:Zarządzanie wiedzą (Ć): 31LOG-ZLP-NP
CATEGORIES:Ć
LOCATION:223 A-29
END:VEVENT
BEGIN:VEVENT
UID:UZ_PLZ_20260614_1250_508171
DTSTAMP:20260614T125000
DTSTART:20260614T125000
DTEND:20260614T142000
SUMMARY:Seminarium powtarzanie ZARZ-NP (S): 31ZARZ-NP
CATEGORIES:S
END:VEVENT
BEGIN:VEVENT
UID:UZ_PLZ_20260614_1430_498363
DTSTAMP:20260614T143000
DTSTART:20260614T143000
DTEND:20260614T160000
SUMMARY:Zarządzanie wiedzą (Ć): 33LOG-TS-NP
CATEGORIES:Ć
LOCATION:223 A-29
END:VEVENT
BEGIN:VEVENT
UID:UZ_PLZ_20260614_1625_498402
DTSTAMP:20260614T162500
DTSTART:20260614T162500
DTEND:20260614T174500
SUMMARY:Zarządzanie wiedzą (W): 31LOG-ZLP-NP\; 32LOG-TS-NP\; 33LOG-TS-NP
CATEGORIES:W
LOCATION:1 A-29
ATTACH:https://classroom.google.com/c/ODUwNDIyODY4MzM3
END:VEVENT
BEGIN:VEVENT
UID:UZ_PLZ_20260614_1800_498446
DTSTAMP:20260614T180000
DTSTART:20260614T180000
DTEND:20260614T193000
SUMMARY:Zarządzanie wiedzą (Ć): 32LOG-TS-NP
CATEGORIES:Ć
LOCATION:223 A-29
END:VEVENT
BEGIN:VEVENT
UID:UZ_PLZ_20260614_1935_498227
DTSTAMP:20260614T193500
DTSTART:20260614T193500
DTEND:20260614T210500
SUMMARY:Zarządzanie wiedzą (Ć): 31LOG-ZLP-NP
CATEGORIES:Ć
LOCATION:223 A-29
END:VEVENT
BEGIN:VEVENT
UID:UZ_PLZ_20260615_1100_498147
DTSTAMP:20260615T110000
DTSTART:20260615T110000
DTEND:20260615T123500
SUMMARY:Zarządzanie zaangażowaniem pracowników (Ć): 22LOG-ML-SD(L)
CATEGORIES:Ć
LOCATION:110/110a A-0
ATTACH:https://classroom.google.com/c/ODU2MzE1Mzg3Mzc1
END:VEVENT
BEGIN:VEVENT
UID:UZ_PLZ_20260615_1245_498026
DTSTAMP:20260615T124500
DTSTART:20260615T124500
DTEND:20260615T142000
SUMMARY:Zarządzanie zmianą (W): 31LOG-ZLP-SP\; 32LOG-TS-SP\; 33LOG-TS-SP
CATEGORIES:W
LOCATION:1 A-29
END:VEVENT
BEGIN:VEVENT
UID:UZ_PLZ_20260615_1615_498648
DTSTAMP:20260615T161500
DTSTART:20260615T161500
DTEND:20260615T173700
SUMMARY:Seminarium dyplomowe 1 (S): 11ZARZ-SRB-SD\; 12ZARZ-MP-SD
CATEGORIES:S
LOCATION:13 A-5
ATTACH:https://classroom.google.com/c/ODYwNjM2ODczNzAz
END:VEVENT
BEGIN:VEVENT
UID:UZ_PLZ_20260615_1745_498700
DTSTAMP:20260615T174500
DTSTART:20260615T174500
DTEND:20260615T183000
SUMMARY:Seminarium dyplomowe 3 (S): 21ZARZ-ZMŚP-SD
CATEGORIES:S
LOCATION:124 A-0
END:VEVENT
BEGIN:VEVENT
UID:UZ_PLZ_20260616_0730_498148
DTSTAMP:20260616T073000
DTSTART:20260616T073000
DTEND:20260616T090000
SUMMARY:Zarządzanie zmianą (Ć): 33LOG-TS-SP
CATEGORIES:Ć
LOCATION:209 A-29
ATTACH:https://classroom.google.com/c/ODQ5OTU5MDgzMzY3
END:VEVENT
BEGIN:VEVENT
UID:UZ_PLZ_20260616_0915_497926
DTSTAMP:20260616T091500
DTSTART:20260616T091500
DTEND:20260616T104500
SUMMARY:Zarządzanie zmianą (Ć): 32LOG-TS-SP
CATEGORIES:Ć
LOCATION:209 A-29
ATTACH:https://classroom.google.com/c/ODE5MTMxMTE5MjUz
END:VEVENT
BEGIN:VEVENT
UID:UZ_PLZ_20260616_1100_507499
DTSTAMP:20260616T110000
DTSTART:20260616T110000
DTEND:20260616T114500
SUMMARY:Konsultacje (I)
CATEGORIES:I
LOCATION:124 A-0
END:VEVENT
BEGIN:VEVENT
UID:UZ_PLZ_20260616_1150_508026
DTSTAMP:20260616T115000
DTSTART:20260616T115000
DTEND:20260616T123500
SUMMARY:Management of Changes (W)
CATEGORIES:W
LOCATION:124 A-0
END:VEVENT
BEGIN:VEVENT
UID:UZ_PLZ_20260616_1245_497976
DTSTAMP:20260616T124500
DTSTART:20260616T124500
DTEND:20260616T141500
SUMMARY:Zarządzanie zmianą (Ć): 31LOG-ZLP-SP
CATEGORIES:Ć
LOCATION:209 A-29
ATTACH:https://classroom.google.com/c/ODUxMDAyMDU1OTY3
END:VEVENT
BEGIN:VEVENT
UID:UZ_PLZ_20260620_0900_508520
DTSTAMP:20260620T090000
DTSTART:20260620T090000
DTEND:20260620T100000
SUMMARY:Zarządzanie procesami zmian (E): 11BN-ZK-ND\; 12BN-AI-ND
CATEGORIES:E
LOCATION:223 A-29
END:VEVENT
BEGIN:VEVENT
UID:UZ_PLZ_20260904_1800_508520
DTSTAMP:20260904T180000
DTSTART:20260904T180000
DTEND:20260904T190000
SUMMARY:Zarządzanie procesami zmian (E): 11BN-ZK-ND\; 12BN-AI-ND
CATEGORIES:E
LOCATION:223 A-29
END:VEVENT
END:VCALENDAR
