BEGIN:VCALENDAR
TZID:Europe/Warsaw
X-WR-TIMEZONE:Europe/Warsaw
VERSION:2.0
PRODID:-//Uniwersytet Zielonogórski//NONSGML Plan zajęć v1.0//EN
NAME:Plan zajęć - semestr letni 2025/2026
X-WR-CALNAME:Plan zajęć - semestr letni 2025/2026
COLOR:green
CALSCALE:GREGORIAN
BEGIN:VEVENT
UID:UZ_PLZ_20260425_1100_494674
DTSTAMP:20260425T110000
DTSTART:20260425T110000
DTEND:20260425T123000
SUMMARY:Podstawy socjologii i metody badań socjologicznych (W): 11ADM-NP 25/26
CATEGORIES:W
LOCATION:004 A-41
X-ALT-DESC;FMTTYPE=text/html:<html><body><a href="https://classroom.google.com/c/Nzk0MTg1ODU0MTQ3">Google Classroom</a> </body></html>
END:VEVENT
BEGIN:VEVENT
UID:UZ_PLZ_20260426_1300_501968
DTSTAMP:20260426T130000
DTSTART:20260426T130000
DTEND:20260426T151500
SUMMARY:Współczesne problemy socjologii (Ć): 21PED-POWiP-ND
CATEGORIES:Ć
LOCATION:31 A-16
X-ALT-DESC;FMTTYPE=text/html:<html><body><a href="https://classroom.google.com/c/ODQ3MTE4NDg3ODAy">Google Classroom</a> </body></html>
END:VEVENT
BEGIN:VEVENT
UID:UZ_PLZ_20260428_0945_501520
DTSTAMP:20260428T094500
DTSTART:20260428T094500
DTEND:20260428T111500
SUMMARY:Współczesne problemy socjologii edukacji (W): 21PED-POWiP-SP
CATEGORIES:W
LOCATION:221 A-20
X-ALT-DESC;FMTTYPE=text/html:<html><body><a href="https://classroom.google.com/c/ODQ3MzM1NjQ2OTIw">Google Classroom</a> </body></html>
END:VEVENT
BEGIN:VEVENT
UID:UZ_PLZ_20260428_1130_502346
DTSTAMP:20260428T113000
DTSTART:20260428T113000
DTEND:20260428T130000
SUMMARY:Dyżur pracowniczy (I)
CATEGORIES:I
END:VEVENT
BEGIN:VEVENT
UID:UZ_PLZ_20260428_1320_501476
DTSTAMP:20260428T132000
DTSTART:20260428T132000
DTEND:20260428T144500
SUMMARY:Współczesne problemy socjologii (Ć): 21PED-POWiP-SD\; 21PED-PSiS-SD
CATEGORIES:Ć
LOCATION:11 A-16
X-ALT-DESC;FMTTYPE=text/html:<html><body><a href="https://classroom.google.com/c/ODQ3MzUxODM1MzI5">Google Classroom</a> </body></html>
END:VEVENT
BEGIN:VEVENT
UID:UZ_PLZ_20260428_1500_501444
DTSTAMP:20260428T150000
DTSTART:20260428T150000
DTEND:20260428T162500
SUMMARY:Socjologia społeczności terytorialnej (Ć): 21PED-PSiS-SD
CATEGORIES:Ć
LOCATION:11 A-16
X-ALT-DESC;FMTTYPE=text/html:<html><body><a href="https://classroom.google.com/c/ODQ3MzU0MTgwODc2">Google Classroom</a> </body></html>
END:VEVENT
BEGIN:VEVENT
UID:UZ_PLZ_20260504_1130_502268
DTSTAMP:20260504T113000
DTSTART:20260504T113000
DTEND:20260504T144500
SUMMARY:Wykład monograficzny 3 (W): 3 SOC-SP 23/24
CATEGORIES:W
LOCATION:302R A-17
X-ALT-DESC;FMTTYPE=text/html:<html><body><a href="https://classroom.google.com/c/ODQ3MTE0NzIwMDA2">Google Classroom</a> </body></html>
END:VEVENT
BEGIN:VEVENT
UID:UZ_PLZ_20260504_1500_501503
DTSTAMP:20260504T150000
DTSTART:20260504T150000
DTEND:20260504T162500
SUMMARY:Współczesne problemy socjologii (Ć): 21PED-LOG-SD
CATEGORIES:Ć
LOCATION:48 A-16
X-ALT-DESC;FMTTYPE=text/html:<html><body><a href="https://classroom.google.com/c/ODQ3MTE1MzU4ODk3">Google Classroom</a> </body></html>
END:VEVENT
BEGIN:VEVENT
UID:UZ_PLZ_20260505_0945_501520
DTSTAMP:20260505T094500
DTSTART:20260505T094500
DTEND:20260505T111500
SUMMARY:Współczesne problemy socjologii edukacji (W): 21PED-POWiP-SP
CATEGORIES:W
LOCATION:221 A-20
X-ALT-DESC;FMTTYPE=text/html:<html><body><a href="https://classroom.google.com/c/ODQ3MzM1NjQ2OTIw">Google Classroom</a> </body></html>
END:VEVENT
BEGIN:VEVENT
UID:UZ_PLZ_20260505_1130_502346
DTSTAMP:20260505T113000
DTSTART:20260505T113000
DTEND:20260505T130000
SUMMARY:Dyżur pracowniczy (I)
CATEGORIES:I
END:VEVENT
BEGIN:VEVENT
UID:UZ_PLZ_20260505_1130_504565
DTSTAMP:20260505T113000
DTSTART:20260505T113000
DTEND:20260505T130000
SUMMARY:Rada Dyscypliny (I)
CATEGORIES:I
LOCATION:302R A-17
END:VEVENT
BEGIN:VEVENT
UID:UZ_PLZ_20260506_0945_502265
DTSTAMP:20260506T094500
DTSTART:20260506T094500
DTEND:20260506T111500
SUMMARY:Socjologia wizualna (Ć): 2 SOC SD 24/25
CATEGORIES:Ć
LOCATION:29 A-16
X-ALT-DESC;FMTTYPE=text/html:<html><body><a href="https://classroom.google.com/c/ODQ3MzU3NTY1NzM5">Google Classroom</a> </body></html>
END:VEVENT
BEGIN:VEVENT
UID:UZ_PLZ_20260506_1120_507076
DTSTAMP:20260506T112000
DTSTART:20260506T112000
DTEND:20260506T122000
SUMMARY:Konsultacje (I)
CATEGORIES:I
LOCATION:205R A-17
END:VEVENT
BEGIN:VEVENT
UID:UZ_PLZ_20260506_1245_494816
DTSTAMP:20260506T124500
DTSTART:20260506T124500
DTEND:20260506T141500
SUMMARY:Podstawy socjologii i metody badań socjologicznych (W): 11ADM-SP 25/26
CATEGORIES:W
LOCATION:204 A-41
X-ALT-DESC;FMTTYPE=text/html:<html><body><a href="https://classroom.google.com/c/ODQ3MzQ3MDY3MjM1">Google Classroom</a> </body></html>
END:VEVENT
BEGIN:VEVENT
UID:UZ_PLZ_20260506_1430_507076
DTSTAMP:20260506T143000
DTSTART:20260506T143000
DTEND:20260506T150000
SUMMARY:Konsultacje (I)
CATEGORIES:I
LOCATION:205R A-17
END:VEVENT
BEGIN:VEVENT
UID:UZ_PLZ_20260506_1500_502288
DTSTAMP:20260506T150000
DTSTART:20260506T150000
DTEND:20260506T163000
SUMMARY:Klasyczne lektury socjologiczne (K): 2 SOC-SP 24/25
CATEGORIES:K
LOCATION:29 A-16
X-ALT-DESC;FMTTYPE=text/html:<html><body><a href="https://classroom.google.com/c/Nzk0MTg1Njc3MTEw">Google Classroom</a> </body></html>
END:VEVENT
BEGIN:VEVENT
UID:UZ_PLZ_20260509_1100_494674
DTSTAMP:20260509T110000
DTSTART:20260509T110000
DTEND:20260509T123000
SUMMARY:Podstawy socjologii i metody badań socjologicznych (W): 11ADM-NP 25/26
CATEGORIES:W
LOCATION:004 A-41
X-ALT-DESC;FMTTYPE=text/html:<html><body><a href="https://classroom.google.com/c/Nzk0MTg1ODU0MTQ3">Google Classroom</a> </body></html>
END:VEVENT
BEGIN:VEVENT
UID:UZ_PLZ_20260512_0945_501520
DTSTAMP:20260512T094500
DTSTART:20260512T094500
DTEND:20260512T111500
SUMMARY:Współczesne problemy socjologii edukacji (W): 21PED-POWiP-SP
CATEGORIES:W
LOCATION:221 A-20
X-ALT-DESC;FMTTYPE=text/html:<html><body><a href="https://classroom.google.com/c/ODQ3MzM1NjQ2OTIw">Google Classroom</a> </body></html>
END:VEVENT
BEGIN:VEVENT
UID:UZ_PLZ_20260512_1130_502346
DTSTAMP:20260512T113000
DTSTART:20260512T113000
DTEND:20260512T130000
SUMMARY:Dyżur pracowniczy (I)
CATEGORIES:I
END:VEVENT
BEGIN:VEVENT
UID:UZ_PLZ_20260512_1320_501476
DTSTAMP:20260512T132000
DTSTART:20260512T132000
DTEND:20260512T144500
SUMMARY:Współczesne problemy socjologii (Ć): 21PED-POWiP-SD\; 21PED-PSiS-SD
CATEGORIES:Ć
LOCATION:11 A-16
X-ALT-DESC;FMTTYPE=text/html:<html><body><a href="https://classroom.google.com/c/ODQ3MzUxODM1MzI5">Google Classroom</a> </body></html>
END:VEVENT
BEGIN:VEVENT
UID:UZ_PLZ_20260512_1500_501444
DTSTAMP:20260512T150000
DTSTART:20260512T150000
DTEND:20260512T162500
SUMMARY:Socjologia społeczności terytorialnej (Ć): 21PED-PSiS-SD
CATEGORIES:Ć
LOCATION:11 A-16
X-ALT-DESC;FMTTYPE=text/html:<html><body><a href="https://classroom.google.com/c/ODQ3MzU0MTgwODc2">Google Classroom</a> </body></html>
END:VEVENT
BEGIN:VEVENT
UID:UZ_PLZ_20260513_0945_502265
DTSTAMP:20260513T094500
DTSTART:20260513T094500
DTEND:20260513T111500
SUMMARY:Socjologia wizualna (Ć): 2 SOC SD 24/25
CATEGORIES:Ć
LOCATION:29 A-16
X-ALT-DESC;FMTTYPE=text/html:<html><body><a href="https://classroom.google.com/c/ODQ3MzU3NTY1NzM5">Google Classroom</a> </body></html>
END:VEVENT
BEGIN:VEVENT
UID:UZ_PLZ_20260513_1120_507076
DTSTAMP:20260513T112000
DTSTART:20260513T112000
DTEND:20260513T122000
SUMMARY:Konsultacje (I)
CATEGORIES:I
LOCATION:205R A-17
END:VEVENT
BEGIN:VEVENT
UID:UZ_PLZ_20260513_1245_494816
DTSTAMP:20260513T124500
DTSTART:20260513T124500
DTEND:20260513T141500
SUMMARY:Podstawy socjologii i metody badań socjologicznych (W): 11ADM-SP 25/26
CATEGORIES:W
LOCATION:204 A-41
X-ALT-DESC;FMTTYPE=text/html:<html><body><a href="https://classroom.google.com/c/ODQ3MzQ3MDY3MjM1">Google Classroom</a> </body></html>
END:VEVENT
BEGIN:VEVENT
UID:UZ_PLZ_20260513_1430_507076
DTSTAMP:20260513T143000
DTSTART:20260513T143000
DTEND:20260513T150000
SUMMARY:Konsultacje (I)
CATEGORIES:I
LOCATION:205R A-17
END:VEVENT
BEGIN:VEVENT
UID:UZ_PLZ_20260513_1500_502288
DTSTAMP:20260513T150000
DTSTART:20260513T150000
DTEND:20260513T163000
SUMMARY:Klasyczne lektury socjologiczne (K): 2 SOC-SP 24/25
CATEGORIES:K
LOCATION:29 A-16
X-ALT-DESC;FMTTYPE=text/html:<html><body><a href="https://classroom.google.com/c/Nzk0MTg1Njc3MTEw">Google Classroom</a> </body></html>
END:VEVENT
BEGIN:VEVENT
UID:UZ_PLZ_20260516_1100_494674
DTSTAMP:20260516T110000
DTSTART:20260516T110000
DTEND:20260516T123000
SUMMARY:Podstawy socjologii i metody badań socjologicznych (W): 11ADM-NP 25/26
CATEGORIES:W
LOCATION:004 A-41
X-ALT-DESC;FMTTYPE=text/html:<html><body><a href="https://classroom.google.com/c/Nzk0MTg1ODU0MTQ3">Google Classroom</a> </body></html>
END:VEVENT
BEGIN:VEVENT
UID:UZ_PLZ_20260518_1130_502268
DTSTAMP:20260518T113000
DTSTART:20260518T113000
DTEND:20260518T144500
SUMMARY:Wykład monograficzny 3 (W): 3 SOC-SP 23/24
CATEGORIES:W
LOCATION:302R A-17
X-ALT-DESC;FMTTYPE=text/html:<html><body><a href="https://classroom.google.com/c/ODQ3MTE0NzIwMDA2">Google Classroom</a> </body></html>
END:VEVENT
BEGIN:VEVENT
UID:UZ_PLZ_20260518_1500_501503
DTSTAMP:20260518T150000
DTSTART:20260518T150000
DTEND:20260518T162500
SUMMARY:Współczesne problemy socjologii (Ć): 21PED-LOG-SD
CATEGORIES:Ć
LOCATION:48 A-16
X-ALT-DESC;FMTTYPE=text/html:<html><body><a href="https://classroom.google.com/c/ODQ3MTE1MzU4ODk3">Google Classroom</a> </body></html>
END:VEVENT
BEGIN:VEVENT
UID:UZ_PLZ_20260519_0945_501520
DTSTAMP:20260519T094500
DTSTART:20260519T094500
DTEND:20260519T111500
SUMMARY:Współczesne problemy socjologii edukacji (W): 21PED-POWiP-SP
CATEGORIES:W
LOCATION:221 A-20
X-ALT-DESC;FMTTYPE=text/html:<html><body><a href="https://classroom.google.com/c/ODQ3MzM1NjQ2OTIw">Google Classroom</a> </body></html>
END:VEVENT
BEGIN:VEVENT
UID:UZ_PLZ_20260519_1130_502346
DTSTAMP:20260519T113000
DTSTART:20260519T113000
DTEND:20260519T130000
SUMMARY:Dyżur pracowniczy (I)
CATEGORIES:I
END:VEVENT
BEGIN:VEVENT
UID:UZ_PLZ_20260520_0945_502265
DTSTAMP:20260520T094500
DTSTART:20260520T094500
DTEND:20260520T111500
SUMMARY:Socjologia wizualna (Ć): 2 SOC SD 24/25
CATEGORIES:Ć
LOCATION:29 A-16
X-ALT-DESC;FMTTYPE=text/html:<html><body><a href="https://classroom.google.com/c/ODQ3MzU3NTY1NzM5">Google Classroom</a> </body></html>
END:VEVENT
BEGIN:VEVENT
UID:UZ_PLZ_20260520_1120_507076
DTSTAMP:20260520T112000
DTSTART:20260520T112000
DTEND:20260520T122000
SUMMARY:Konsultacje (I)
CATEGORIES:I
LOCATION:205R A-17
END:VEVENT
BEGIN:VEVENT
UID:UZ_PLZ_20260520_1245_494816
DTSTAMP:20260520T124500
DTSTART:20260520T124500
DTEND:20260520T141500
SUMMARY:Podstawy socjologii i metody badań socjologicznych (W): 11ADM-SP 25/26
CATEGORIES:W
LOCATION:204 A-41
X-ALT-DESC;FMTTYPE=text/html:<html><body><a href="https://classroom.google.com/c/ODQ3MzQ3MDY3MjM1">Google Classroom</a> </body></html>
END:VEVENT
BEGIN:VEVENT
UID:UZ_PLZ_20260520_1430_507076
DTSTAMP:20260520T143000
DTSTART:20260520T143000
DTEND:20260520T150000
SUMMARY:Konsultacje (I)
CATEGORIES:I
LOCATION:205R A-17
END:VEVENT
BEGIN:VEVENT
UID:UZ_PLZ_20260520_1500_502288
DTSTAMP:20260520T150000
DTSTART:20260520T150000
DTEND:20260520T163000
SUMMARY:Klasyczne lektury socjologiczne (K): 2 SOC-SP 24/25
CATEGORIES:K
LOCATION:29 A-16
X-ALT-DESC;FMTTYPE=text/html:<html><body><a href="https://classroom.google.com/c/Nzk0MTg1Njc3MTEw">Google Classroom</a> </body></html>
END:VEVENT
BEGIN:VEVENT
UID:UZ_PLZ_20260526_0945_501520
DTSTAMP:20260526T094500
DTSTART:20260526T094500
DTEND:20260526T111500
SUMMARY:Współczesne problemy socjologii edukacji (W): 21PED-POWiP-SP
CATEGORIES:W
LOCATION:221 A-20
X-ALT-DESC;FMTTYPE=text/html:<html><body><a href="https://classroom.google.com/c/ODQ3MzM1NjQ2OTIw">Google Classroom</a> </body></html>
END:VEVENT
BEGIN:VEVENT
UID:UZ_PLZ_20260526_1130_502346
DTSTAMP:20260526T113000
DTSTART:20260526T113000
DTEND:20260526T130000
SUMMARY:Dyżur pracowniczy (I)
CATEGORIES:I
END:VEVENT
BEGIN:VEVENT
UID:UZ_PLZ_20260526_1320_501476
DTSTAMP:20260526T132000
DTSTART:20260526T132000
DTEND:20260526T144500
SUMMARY:Współczesne problemy socjologii (Ć): 21PED-POWiP-SD\; 21PED-PSiS-SD
CATEGORIES:Ć
LOCATION:11 A-16
X-ALT-DESC;FMTTYPE=text/html:<html><body><a href="https://classroom.google.com/c/ODQ3MzUxODM1MzI5">Google Classroom</a> </body></html>
END:VEVENT
BEGIN:VEVENT
UID:UZ_PLZ_20260526_1500_501444
DTSTAMP:20260526T150000
DTSTART:20260526T150000
DTEND:20260526T162500
SUMMARY:Socjologia społeczności terytorialnej (Ć): 21PED-PSiS-SD
CATEGORIES:Ć
LOCATION:11 A-16
X-ALT-DESC;FMTTYPE=text/html:<html><body><a href="https://classroom.google.com/c/ODQ3MzU0MTgwODc2">Google Classroom</a> </body></html>
END:VEVENT
BEGIN:VEVENT
UID:UZ_PLZ_20260527_0945_502265
DTSTAMP:20260527T094500
DTSTART:20260527T094500
DTEND:20260527T111500
SUMMARY:Socjologia wizualna (Ć): 2 SOC SD 24/25
CATEGORIES:Ć
LOCATION:29 A-16
X-ALT-DESC;FMTTYPE=text/html:<html><body><a href="https://classroom.google.com/c/ODQ3MzU3NTY1NzM5">Google Classroom</a> </body></html>
END:VEVENT
BEGIN:VEVENT
UID:UZ_PLZ_20260527_1120_507076
DTSTAMP:20260527T112000
DTSTART:20260527T112000
DTEND:20260527T122000
SUMMARY:Konsultacje (I)
CATEGORIES:I
LOCATION:205R A-17
END:VEVENT
BEGIN:VEVENT
UID:UZ_PLZ_20260527_1245_494816
DTSTAMP:20260527T124500
DTSTART:20260527T124500
DTEND:20260527T141500
SUMMARY:Podstawy socjologii i metody badań socjologicznych (W): 11ADM-SP 25/26
CATEGORIES:W
LOCATION:204 A-41
X-ALT-DESC;FMTTYPE=text/html:<html><body><a href="https://classroom.google.com/c/ODQ3MzQ3MDY3MjM1">Google Classroom</a> </body></html>
END:VEVENT
BEGIN:VEVENT
UID:UZ_PLZ_20260527_1430_507076
DTSTAMP:20260527T143000
DTSTART:20260527T143000
DTEND:20260527T150000
SUMMARY:Konsultacje (I)
CATEGORIES:I
LOCATION:205R A-17
END:VEVENT
BEGIN:VEVENT
UID:UZ_PLZ_20260527_1500_502288
DTSTAMP:20260527T150000
DTSTART:20260527T150000
DTEND:20260527T163000
SUMMARY:Klasyczne lektury socjologiczne (K): 2 SOC-SP 24/25
CATEGORIES:K
LOCATION:29 A-16
X-ALT-DESC;FMTTYPE=text/html:<html><body><a href="https://classroom.google.com/c/Nzk0MTg1Njc3MTEw">Google Classroom</a> </body></html>
END:VEVENT
BEGIN:VEVENT
UID:UZ_PLZ_20260530_1100_494674
DTSTAMP:20260530T110000
DTSTART:20260530T110000
DTEND:20260530T123000
SUMMARY:Podstawy socjologii i metody badań socjologicznych (W): 11ADM-NP 25/26
CATEGORIES:W
LOCATION:004 A-41
X-ALT-DESC;FMTTYPE=text/html:<html><body><a href="https://classroom.google.com/c/Nzk0MTg1ODU0MTQ3">Google Classroom</a> </body></html>
END:VEVENT
BEGIN:VEVENT
UID:UZ_PLZ_20260601_1130_502268
DTSTAMP:20260601T113000
DTSTART:20260601T113000
DTEND:20260601T144500
SUMMARY:Wykład monograficzny 3 (W): 3 SOC-SP 23/24
CATEGORIES:W
LOCATION:302R A-17
X-ALT-DESC;FMTTYPE=text/html:<html><body><a href="https://classroom.google.com/c/ODQ3MTE0NzIwMDA2">Google Classroom</a> </body></html>
END:VEVENT
BEGIN:VEVENT
UID:UZ_PLZ_20260601_1500_501503
DTSTAMP:20260601T150000
DTSTART:20260601T150000
DTEND:20260601T162500
SUMMARY:Współczesne problemy socjologii (Ć): 21PED-LOG-SD
CATEGORIES:Ć
LOCATION:48 A-16
X-ALT-DESC;FMTTYPE=text/html:<html><body><a href="https://classroom.google.com/c/ODQ3MTE1MzU4ODk3">Google Classroom</a> </body></html>
END:VEVENT
BEGIN:VEVENT
UID:UZ_PLZ_20260602_0945_501520
DTSTAMP:20260602T094500
DTSTART:20260602T094500
DTEND:20260602T111500
SUMMARY:Współczesne problemy socjologii edukacji (W): 21PED-POWiP-SP
CATEGORIES:W
LOCATION:221 A-20
X-ALT-DESC;FMTTYPE=text/html:<html><body><a href="https://classroom.google.com/c/ODQ3MzM1NjQ2OTIw">Google Classroom</a> </body></html>
END:VEVENT
BEGIN:VEVENT
UID:UZ_PLZ_20260602_1130_502346
DTSTAMP:20260602T113000
DTSTART:20260602T113000
DTEND:20260602T130000
SUMMARY:Dyżur pracowniczy (I)
CATEGORIES:I
END:VEVENT
BEGIN:VEVENT
UID:UZ_PLZ_20260602_1130_504565
DTSTAMP:20260602T113000
DTSTART:20260602T113000
DTEND:20260602T130000
SUMMARY:Rada Dyscypliny (I)
CATEGORIES:I
LOCATION:302R A-17
END:VEVENT
BEGIN:VEVENT
UID:UZ_PLZ_20260603_0945_502265
DTSTAMP:20260603T094500
DTSTART:20260603T094500
DTEND:20260603T111500
SUMMARY:Socjologia wizualna (Ć): 2 SOC SD 24/25
CATEGORIES:Ć
LOCATION:29 A-16
X-ALT-DESC;FMTTYPE=text/html:<html><body><a href="https://classroom.google.com/c/ODQ3MzU3NTY1NzM5">Google Classroom</a> </body></html>
END:VEVENT
BEGIN:VEVENT
UID:UZ_PLZ_20260603_1120_507076
DTSTAMP:20260603T112000
DTSTART:20260603T112000
DTEND:20260603T122000
SUMMARY:Konsultacje (I)
CATEGORIES:I
LOCATION:205R A-17
END:VEVENT
BEGIN:VEVENT
UID:UZ_PLZ_20260603_1245_494816
DTSTAMP:20260603T124500
DTSTART:20260603T124500
DTEND:20260603T141500
SUMMARY:Podstawy socjologii i metody badań socjologicznych (W): 11ADM-SP 25/26
CATEGORIES:W
LOCATION:204 A-41
X-ALT-DESC;FMTTYPE=text/html:<html><body><a href="https://classroom.google.com/c/ODQ3MzQ3MDY3MjM1">Google Classroom</a> </body></html>
END:VEVENT
BEGIN:VEVENT
UID:UZ_PLZ_20260603_1430_507076
DTSTAMP:20260603T143000
DTSTART:20260603T143000
DTEND:20260603T150000
SUMMARY:Konsultacje (I)
CATEGORIES:I
LOCATION:205R A-17
END:VEVENT
BEGIN:VEVENT
UID:UZ_PLZ_20260603_1500_502288
DTSTAMP:20260603T150000
DTSTART:20260603T150000
DTEND:20260603T163000
SUMMARY:Klasyczne lektury socjologiczne (K): 2 SOC-SP 24/25
CATEGORIES:K
LOCATION:29 A-16
X-ALT-DESC;FMTTYPE=text/html:<html><body><a href="https://classroom.google.com/c/Nzk0MTg1Njc3MTEw">Google Classroom</a> </body></html>
END:VEVENT
BEGIN:VEVENT
UID:UZ_PLZ_20260609_0945_501520
DTSTAMP:20260609T094500
DTSTART:20260609T094500
DTEND:20260609T111500
SUMMARY:Współczesne problemy socjologii edukacji (W): 21PED-POWiP-SP
CATEGORIES:W
LOCATION:221 A-20
X-ALT-DESC;FMTTYPE=text/html:<html><body><a href="https://classroom.google.com/c/ODQ3MzM1NjQ2OTIw">Google Classroom</a> </body></html>
END:VEVENT
BEGIN:VEVENT
UID:UZ_PLZ_20260609_1130_502346
DTSTAMP:20260609T113000
DTSTART:20260609T113000
DTEND:20260609T130000
SUMMARY:Dyżur pracowniczy (I)
CATEGORIES:I
END:VEVENT
BEGIN:VEVENT
UID:UZ_PLZ_20260609_1320_501476
DTSTAMP:20260609T132000
DTSTART:20260609T132000
DTEND:20260609T144500
SUMMARY:Współczesne problemy socjologii (Ć): 21PED-POWiP-SD\; 21PED-PSiS-SD
CATEGORIES:Ć
LOCATION:11 A-16
X-ALT-DESC;FMTTYPE=text/html:<html><body><a href="https://classroom.google.com/c/ODQ3MzUxODM1MzI5">Google Classroom</a> </body></html>
END:VEVENT
BEGIN:VEVENT
UID:UZ_PLZ_20260609_1500_501444
DTSTAMP:20260609T150000
DTSTART:20260609T150000
DTEND:20260609T162500
SUMMARY:Socjologia społeczności terytorialnej (Ć): 21PED-PSiS-SD
CATEGORIES:Ć
LOCATION:11 A-16
X-ALT-DESC;FMTTYPE=text/html:<html><body><a href="https://classroom.google.com/c/ODQ3MzU0MTgwODc2">Google Classroom</a> </body></html>
END:VEVENT
BEGIN:VEVENT
UID:UZ_PLZ_20260610_0945_502265
DTSTAMP:20260610T094500
DTSTART:20260610T094500
DTEND:20260610T111500
SUMMARY:Socjologia wizualna (Ć): 2 SOC SD 24/25
CATEGORIES:Ć
LOCATION:29 A-16
X-ALT-DESC;FMTTYPE=text/html:<html><body><a href="https://classroom.google.com/c/ODQ3MzU3NTY1NzM5">Google Classroom</a> </body></html>
END:VEVENT
BEGIN:VEVENT
UID:UZ_PLZ_20260610_1120_507076
DTSTAMP:20260610T112000
DTSTART:20260610T112000
DTEND:20260610T122000
SUMMARY:Konsultacje (I)
CATEGORIES:I
LOCATION:205R A-17
END:VEVENT
BEGIN:VEVENT
UID:UZ_PLZ_20260610_1245_494816
DTSTAMP:20260610T124500
DTSTART:20260610T124500
DTEND:20260610T141500
SUMMARY:Podstawy socjologii i metody badań socjologicznych (W): 11ADM-SP 25/26
CATEGORIES:W
LOCATION:204 A-41
X-ALT-DESC;FMTTYPE=text/html:<html><body><a href="https://classroom.google.com/c/ODQ3MzQ3MDY3MjM1">Google Classroom</a> </body></html>
END:VEVENT
BEGIN:VEVENT
UID:UZ_PLZ_20260610_1430_507076
DTSTAMP:20260610T143000
DTSTART:20260610T143000
DTEND:20260610T150000
SUMMARY:Konsultacje (I)
CATEGORIES:I
LOCATION:205R A-17
END:VEVENT
BEGIN:VEVENT
UID:UZ_PLZ_20260610_1500_502288
DTSTAMP:20260610T150000
DTSTART:20260610T150000
DTEND:20260610T163000
SUMMARY:Klasyczne lektury socjologiczne (K): 2 SOC-SP 24/25
CATEGORIES:K
LOCATION:29 A-16
X-ALT-DESC;FMTTYPE=text/html:<html><body><a href="https://classroom.google.com/c/Nzk0MTg1Njc3MTEw">Google Classroom</a> </body></html>
END:VEVENT
BEGIN:VEVENT
UID:UZ_PLZ_20260613_1100_494674
DTSTAMP:20260613T110000
DTSTART:20260613T110000
DTEND:20260613T123000
SUMMARY:Podstawy socjologii i metody badań socjologicznych (W): 11ADM-NP 25/26
CATEGORIES:W
LOCATION:004 A-41
X-ALT-DESC;FMTTYPE=text/html:<html><body><a href="https://classroom.google.com/c/Nzk0MTg1ODU0MTQ3">Google Classroom</a> </body></html>
END:VEVENT
BEGIN:VEVENT
UID:UZ_PLZ_20260615_1130_502268
DTSTAMP:20260615T113000
DTSTART:20260615T113000
DTEND:20260615T144500
SUMMARY:Wykład monograficzny 3 (W): 3 SOC-SP 23/24
CATEGORIES:W
LOCATION:302R A-17
X-ALT-DESC;FMTTYPE=text/html:<html><body><a href="https://classroom.google.com/c/ODQ3MTE0NzIwMDA2">Google Classroom</a> </body></html>
END:VEVENT
BEGIN:VEVENT
UID:UZ_PLZ_20260615_1500_501503
DTSTAMP:20260615T150000
DTSTART:20260615T150000
DTEND:20260615T162500
SUMMARY:Współczesne problemy socjologii (Ć): 21PED-LOG-SD
CATEGORIES:Ć
LOCATION:48 A-16
X-ALT-DESC;FMTTYPE=text/html:<html><body><a href="https://classroom.google.com/c/ODQ3MTE1MzU4ODk3">Google Classroom</a> </body></html>
END:VEVENT
BEGIN:VEVENT
UID:UZ_PLZ_20260616_0945_501520
DTSTAMP:20260616T094500
DTSTART:20260616T094500
DTEND:20260616T111500
SUMMARY:Współczesne problemy socjologii edukacji (W): 21PED-POWiP-SP
CATEGORIES:W
LOCATION:221 A-20
X-ALT-DESC;FMTTYPE=text/html:<html><body><a href="https://classroom.google.com/c/ODQ3MzM1NjQ2OTIw">Google Classroom</a> </body></html>
END:VEVENT
BEGIN:VEVENT
UID:UZ_PLZ_20260616_1130_502346
DTSTAMP:20260616T113000
DTSTART:20260616T113000
DTEND:20260616T130000
SUMMARY:Dyżur pracowniczy (I)
CATEGORIES:I
END:VEVENT
BEGIN:VEVENT
UID:UZ_PLZ_20260617_0945_502265
DTSTAMP:20260617T094500
DTSTART:20260617T094500
DTEND:20260617T111500
SUMMARY:Socjologia wizualna (Ć): 2 SOC SD 24/25
CATEGORIES:Ć
LOCATION:29 A-16
X-ALT-DESC;FMTTYPE=text/html:<html><body><a href="https://classroom.google.com/c/ODQ3MzU3NTY1NzM5">Google Classroom</a> </body></html>
END:VEVENT
BEGIN:VEVENT
UID:UZ_PLZ_20260617_1120_507076
DTSTAMP:20260617T112000
DTSTART:20260617T112000
DTEND:20260617T122000
SUMMARY:Konsultacje (I)
CATEGORIES:I
LOCATION:205R A-17
END:VEVENT
BEGIN:VEVENT
UID:UZ_PLZ_20260617_1245_494816
DTSTAMP:20260617T124500
DTSTART:20260617T124500
DTEND:20260617T141500
SUMMARY:Podstawy socjologii i metody badań socjologicznych (W): 11ADM-SP 25/26
CATEGORIES:W
LOCATION:204 A-41
X-ALT-DESC;FMTTYPE=text/html:<html><body><a href="https://classroom.google.com/c/ODQ3MzQ3MDY3MjM1">Google Classroom</a> </body></html>
END:VEVENT
BEGIN:VEVENT
UID:UZ_PLZ_20260617_1430_507076
DTSTAMP:20260617T143000
DTSTART:20260617T143000
DTEND:20260617T150000
SUMMARY:Konsultacje (I)
CATEGORIES:I
LOCATION:205R A-17
END:VEVENT
BEGIN:VEVENT
UID:UZ_PLZ_20260617_1500_502288
DTSTAMP:20260617T150000
DTSTART:20260617T150000
DTEND:20260617T163000
SUMMARY:Klasyczne lektury socjologiczne (K): 2 SOC-SP 24/25
CATEGORIES:K
LOCATION:29 A-16
X-ALT-DESC;FMTTYPE=text/html:<html><body><a href="https://classroom.google.com/c/Nzk0MTg1Njc3MTEw">Google Classroom</a> </body></html>
END:VEVENT
END:VCALENDAR
