BEGIN:VCALENDAR
TZID:Europe/Warsaw
X-WR-TIMEZONE:Europe/Warsaw
VERSION:2.0
PRODID:-//Uniwersytet Zielonogórski//NONSGML Plan zajęć v1.0//EN
NAME:Plan zajęć - semestr letni 2025/2026
X-WR-CALNAME:Plan zajęć - semestr letni 2025/2026
COLOR:green
CALSCALE:GREGORIAN
BEGIN:VEVENT
UID:UZ_PLZ_20260302_1130_502296
DTSTAMP:20260302T113000
DTSTART:20260302T113000
DTEND:20260302T130000
SUMMARY:Edycja raportów i wizualizacja danych (L): 2 SOC-SP 24/25
CATEGORIES:L
LOCATION:12a A-16
X-ALT-DESC;FMTTYPE=text/html:<html><body><a href="https://classroom.google.com/c/Nzk2OTU5NjI2NTMz">Google Classroom</a> </body></html>
END:VEVENT
BEGIN:VEVENT
UID:UZ_PLZ_20260302_1315_502298
DTSTAMP:20260302T131500
DTSTART:20260302T131500
DTEND:20260302T144500
SUMMARY:Raporty\, wizualizacja i prezentacja danych (L): 1 PS SD 25/26
CATEGORIES:L
LOCATION:12a A-16
X-ALT-DESC;FMTTYPE=text/html:<html><body><a href="https://classroom.google.com/c/ODU3MDczOTQ2MzEz">Google Classroom</a> </body></html>
END:VEVENT
BEGIN:VEVENT
UID:UZ_PLZ_20260303_0945_506726
DTSTAMP:20260303T094500
DTSTART:20260303T094500
DTEND:20260303T111500
SUMMARY:Konsultacje (I)
CATEGORIES:I
LOCATION:201R A-17
END:VEVENT
BEGIN:VEVENT
UID:UZ_PLZ_20260303_0945_505530
DTSTAMP:20260303T094500
DTSTART:20260303T094500
DTEND:20260303T111500
SUMMARY:Seminarium doktoranckie (S): 11SDNHiS-25/Socj
CATEGORIES:S
END:VEVENT
BEGIN:VEVENT
UID:UZ_PLZ_20260303_1130_502346
DTSTAMP:20260303T113000
DTSTART:20260303T113000
DTEND:20260303T130000
SUMMARY:Dyżur pracowniczy (I)
CATEGORIES:I
END:VEVENT
BEGIN:VEVENT
UID:UZ_PLZ_20260309_1130_502296
DTSTAMP:20260309T113000
DTSTART:20260309T113000
DTEND:20260309T130000
SUMMARY:Edycja raportów i wizualizacja danych (L): 2 SOC-SP 24/25
CATEGORIES:L
LOCATION:12a A-16
X-ALT-DESC;FMTTYPE=text/html:<html><body><a href="https://classroom.google.com/c/Nzk2OTU5NjI2NTMz">Google Classroom</a> </body></html>
END:VEVENT
BEGIN:VEVENT
UID:UZ_PLZ_20260310_0945_506726
DTSTAMP:20260310T094500
DTSTART:20260310T094500
DTEND:20260310T111500
SUMMARY:Konsultacje (I)
CATEGORIES:I
LOCATION:201R A-17
END:VEVENT
BEGIN:VEVENT
UID:UZ_PLZ_20260310_0945_505530
DTSTAMP:20260310T094500
DTSTART:20260310T094500
DTEND:20260310T111500
SUMMARY:Seminarium doktoranckie (S): 11SDNHiS-25/Socj
CATEGORIES:S
END:VEVENT
BEGIN:VEVENT
UID:UZ_PLZ_20260310_1130_502346
DTSTAMP:20260310T113000
DTSTART:20260310T113000
DTEND:20260310T130000
SUMMARY:Dyżur pracowniczy (I)
CATEGORIES:I
END:VEVENT
BEGIN:VEVENT
UID:UZ_PLZ_20260310_1130_504565
DTSTAMP:20260310T113000
DTSTART:20260310T113000
DTEND:20260310T130000
SUMMARY:Rada Dyscypliny (I)
CATEGORIES:I
LOCATION:302R A-17
END:VEVENT
BEGIN:VEVENT
UID:UZ_PLZ_20260316_1130_502296
DTSTAMP:20260316T113000
DTSTART:20260316T113000
DTEND:20260316T130000
SUMMARY:Edycja raportów i wizualizacja danych (L): 2 SOC-SP 24/25
CATEGORIES:L
LOCATION:12a A-16
X-ALT-DESC;FMTTYPE=text/html:<html><body><a href="https://classroom.google.com/c/Nzk2OTU5NjI2NTMz">Google Classroom</a> </body></html>
END:VEVENT
BEGIN:VEVENT
UID:UZ_PLZ_20260316_1315_502298
DTSTAMP:20260316T131500
DTSTART:20260316T131500
DTEND:20260316T144500
SUMMARY:Raporty\, wizualizacja i prezentacja danych (L): 1 PS SD 25/26
CATEGORIES:L
LOCATION:12a A-16
X-ALT-DESC;FMTTYPE=text/html:<html><body><a href="https://classroom.google.com/c/ODU3MDczOTQ2MzEz">Google Classroom</a> </body></html>
END:VEVENT
BEGIN:VEVENT
UID:UZ_PLZ_20260317_0945_506726
DTSTAMP:20260317T094500
DTSTART:20260317T094500
DTEND:20260317T111500
SUMMARY:Konsultacje (I)
CATEGORIES:I
LOCATION:201R A-17
END:VEVENT
BEGIN:VEVENT
UID:UZ_PLZ_20260317_0945_505530
DTSTAMP:20260317T094500
DTSTART:20260317T094500
DTEND:20260317T111500
SUMMARY:Seminarium doktoranckie (S): 11SDNHiS-25/Socj
CATEGORIES:S
END:VEVENT
BEGIN:VEVENT
UID:UZ_PLZ_20260317_1130_502346
DTSTAMP:20260317T113000
DTSTART:20260317T113000
DTEND:20260317T130000
SUMMARY:Dyżur pracowniczy (I)
CATEGORIES:I
END:VEVENT
BEGIN:VEVENT
UID:UZ_PLZ_20260323_1130_502296
DTSTAMP:20260323T113000
DTSTART:20260323T113000
DTEND:20260323T130000
SUMMARY:Edycja raportów i wizualizacja danych (L): 2 SOC-SP 24/25
CATEGORIES:L
LOCATION:12a A-16
X-ALT-DESC;FMTTYPE=text/html:<html><body><a href="https://classroom.google.com/c/Nzk2OTU5NjI2NTMz">Google Classroom</a> </body></html>
END:VEVENT
BEGIN:VEVENT
UID:UZ_PLZ_20260323_1315_502298
DTSTAMP:20260323T131500
DTSTART:20260323T131500
DTEND:20260323T154000
SUMMARY:Raporty\, wizualizacja i prezentacja danych (L): 1 PS SD 25/26
CATEGORIES:L
LOCATION:12a A-16
X-ALT-DESC;FMTTYPE=text/html:<html><body><a href="https://classroom.google.com/c/ODU3MDczOTQ2MzEz">Google Classroom</a> </body></html>
END:VEVENT
BEGIN:VEVENT
UID:UZ_PLZ_20260324_0945_506726
DTSTAMP:20260324T094500
DTSTART:20260324T094500
DTEND:20260324T111500
SUMMARY:Konsultacje (I)
CATEGORIES:I
LOCATION:201R A-17
END:VEVENT
BEGIN:VEVENT
UID:UZ_PLZ_20260324_0945_505530
DTSTAMP:20260324T094500
DTSTART:20260324T094500
DTEND:20260324T111500
SUMMARY:Seminarium doktoranckie (S): 11SDNHiS-25/Socj
CATEGORIES:S
END:VEVENT
BEGIN:VEVENT
UID:UZ_PLZ_20260324_1130_502346
DTSTAMP:20260324T113000
DTSTART:20260324T113000
DTEND:20260324T130000
SUMMARY:Dyżur pracowniczy (I)
CATEGORIES:I
END:VEVENT
BEGIN:VEVENT
UID:UZ_PLZ_20260330_1130_502296
DTSTAMP:20260330T113000
DTSTART:20260330T113000
DTEND:20260330T130000
SUMMARY:Edycja raportów i wizualizacja danych (L): 2 SOC-SP 24/25
CATEGORIES:L
LOCATION:12a A-16
X-ALT-DESC;FMTTYPE=text/html:<html><body><a href="https://classroom.google.com/c/Nzk2OTU5NjI2NTMz">Google Classroom</a> </body></html>
END:VEVENT
BEGIN:VEVENT
UID:UZ_PLZ_20260330_1315_502298
DTSTAMP:20260330T131500
DTSTART:20260330T131500
DTEND:20260330T144500
SUMMARY:Raporty\, wizualizacja i prezentacja danych (L): 1 PS SD 25/26
CATEGORIES:L
LOCATION:12a A-16
X-ALT-DESC;FMTTYPE=text/html:<html><body><a href="https://classroom.google.com/c/ODU3MDczOTQ2MzEz">Google Classroom</a> </body></html>
END:VEVENT
BEGIN:VEVENT
UID:UZ_PLZ_20260331_0945_506726
DTSTAMP:20260331T094500
DTSTART:20260331T094500
DTEND:20260331T111500
SUMMARY:Konsultacje (I)
CATEGORIES:I
LOCATION:201R A-17
END:VEVENT
BEGIN:VEVENT
UID:UZ_PLZ_20260331_0945_505530
DTSTAMP:20260331T094500
DTSTART:20260331T094500
DTEND:20260331T111500
SUMMARY:Seminarium doktoranckie (S): 11SDNHiS-25/Socj
CATEGORIES:S
END:VEVENT
BEGIN:VEVENT
UID:UZ_PLZ_20260331_1130_502346
DTSTAMP:20260331T113000
DTSTART:20260331T113000
DTEND:20260331T130000
SUMMARY:Dyżur pracowniczy (I)
CATEGORIES:I
END:VEVENT
BEGIN:VEVENT
UID:UZ_PLZ_20260413_1130_502296
DTSTAMP:20260413T113000
DTSTART:20260413T113000
DTEND:20260413T130000
SUMMARY:Edycja raportów i wizualizacja danych (L): 2 SOC-SP 24/25
CATEGORIES:L
LOCATION:12a A-16
X-ALT-DESC;FMTTYPE=text/html:<html><body><a href="https://classroom.google.com/c/Nzk2OTU5NjI2NTMz">Google Classroom</a> </body></html>
END:VEVENT
BEGIN:VEVENT
UID:UZ_PLZ_20260414_0945_506726
DTSTAMP:20260414T094500
DTSTART:20260414T094500
DTEND:20260414T111500
SUMMARY:Konsultacje (I)
CATEGORIES:I
LOCATION:201R A-17
END:VEVENT
BEGIN:VEVENT
UID:UZ_PLZ_20260414_0945_505530
DTSTAMP:20260414T094500
DTSTART:20260414T094500
DTEND:20260414T111500
SUMMARY:Seminarium doktoranckie (S): 11SDNHiS-25/Socj
CATEGORIES:S
END:VEVENT
BEGIN:VEVENT
UID:UZ_PLZ_20260414_1130_502346
DTSTAMP:20260414T113000
DTSTART:20260414T113000
DTEND:20260414T130000
SUMMARY:Dyżur pracowniczy (I)
CATEGORIES:I
END:VEVENT
BEGIN:VEVENT
UID:UZ_PLZ_20260420_1130_502296
DTSTAMP:20260420T113000
DTSTART:20260420T113000
DTEND:20260420T130000
SUMMARY:Edycja raportów i wizualizacja danych (L): 2 SOC-SP 24/25
CATEGORIES:L
LOCATION:12a A-16
X-ALT-DESC;FMTTYPE=text/html:<html><body><a href="https://classroom.google.com/c/Nzk2OTU5NjI2NTMz">Google Classroom</a> </body></html>
END:VEVENT
BEGIN:VEVENT
UID:UZ_PLZ_20260420_1315_502298
DTSTAMP:20260420T131500
DTSTART:20260420T131500
DTEND:20260420T154000
SUMMARY:Raporty\, wizualizacja i prezentacja danych (L): 1 PS SD 25/26
CATEGORIES:L
LOCATION:12a A-16
X-ALT-DESC;FMTTYPE=text/html:<html><body><a href="https://classroom.google.com/c/ODU3MDczOTQ2MzEz">Google Classroom</a> </body></html>
END:VEVENT
BEGIN:VEVENT
UID:UZ_PLZ_20260421_0945_506726
DTSTAMP:20260421T094500
DTSTART:20260421T094500
DTEND:20260421T111500
SUMMARY:Konsultacje (I)
CATEGORIES:I
LOCATION:201R A-17
END:VEVENT
BEGIN:VEVENT
UID:UZ_PLZ_20260421_0945_505530
DTSTAMP:20260421T094500
DTSTART:20260421T094500
DTEND:20260421T111500
SUMMARY:Seminarium doktoranckie (S): 11SDNHiS-25/Socj
CATEGORIES:S
END:VEVENT
BEGIN:VEVENT
UID:UZ_PLZ_20260421_1130_502346
DTSTAMP:20260421T113000
DTSTART:20260421T113000
DTEND:20260421T130000
SUMMARY:Dyżur pracowniczy (I)
CATEGORIES:I
END:VEVENT
BEGIN:VEVENT
UID:UZ_PLZ_20260427_1130_502296
DTSTAMP:20260427T113000
DTSTART:20260427T113000
DTEND:20260427T130000
SUMMARY:Edycja raportów i wizualizacja danych (L): 2 SOC-SP 24/25
CATEGORIES:L
LOCATION:12a A-16
X-ALT-DESC;FMTTYPE=text/html:<html><body><a href="https://classroom.google.com/c/Nzk2OTU5NjI2NTMz">Google Classroom</a> </body></html>
END:VEVENT
BEGIN:VEVENT
UID:UZ_PLZ_20260427_1315_502298
DTSTAMP:20260427T131500
DTSTART:20260427T131500
DTEND:20260427T144500
SUMMARY:Raporty\, wizualizacja i prezentacja danych (L): 1 PS SD 25/26
CATEGORIES:L
LOCATION:12a A-16
X-ALT-DESC;FMTTYPE=text/html:<html><body><a href="https://classroom.google.com/c/ODU3MDczOTQ2MzEz">Google Classroom</a> </body></html>
END:VEVENT
BEGIN:VEVENT
UID:UZ_PLZ_20260428_0945_506726
DTSTAMP:20260428T094500
DTSTART:20260428T094500
DTEND:20260428T111500
SUMMARY:Konsultacje (I)
CATEGORIES:I
LOCATION:201R A-17
END:VEVENT
BEGIN:VEVENT
UID:UZ_PLZ_20260428_0945_505530
DTSTAMP:20260428T094500
DTSTART:20260428T094500
DTEND:20260428T111500
SUMMARY:Seminarium doktoranckie (S): 11SDNHiS-25/Socj
CATEGORIES:S
END:VEVENT
BEGIN:VEVENT
UID:UZ_PLZ_20260428_1130_502346
DTSTAMP:20260428T113000
DTSTART:20260428T113000
DTEND:20260428T130000
SUMMARY:Dyżur pracowniczy (I)
CATEGORIES:I
END:VEVENT
BEGIN:VEVENT
UID:UZ_PLZ_20260504_1130_502296
DTSTAMP:20260504T113000
DTSTART:20260504T113000
DTEND:20260504T130000
SUMMARY:Edycja raportów i wizualizacja danych (L): 2 SOC-SP 24/25
CATEGORIES:L
LOCATION:12a A-16
X-ALT-DESC;FMTTYPE=text/html:<html><body><a href="https://classroom.google.com/c/Nzk2OTU5NjI2NTMz">Google Classroom</a> </body></html>
END:VEVENT
BEGIN:VEVENT
UID:UZ_PLZ_20260504_1315_502298
DTSTAMP:20260504T131500
DTSTART:20260504T131500
DTEND:20260504T144500
SUMMARY:Raporty\, wizualizacja i prezentacja danych (L): 1 PS SD 25/26
CATEGORIES:L
LOCATION:12a A-16
X-ALT-DESC;FMTTYPE=text/html:<html><body><a href="https://classroom.google.com/c/ODU3MDczOTQ2MzEz">Google Classroom</a> </body></html>
END:VEVENT
BEGIN:VEVENT
UID:UZ_PLZ_20260505_0945_506726
DTSTAMP:20260505T094500
DTSTART:20260505T094500
DTEND:20260505T111500
SUMMARY:Konsultacje (I)
CATEGORIES:I
LOCATION:201R A-17
END:VEVENT
BEGIN:VEVENT
UID:UZ_PLZ_20260505_0945_505530
DTSTAMP:20260505T094500
DTSTART:20260505T094500
DTEND:20260505T111500
SUMMARY:Seminarium doktoranckie (S): 11SDNHiS-25/Socj
CATEGORIES:S
END:VEVENT
BEGIN:VEVENT
UID:UZ_PLZ_20260505_1130_502346
DTSTAMP:20260505T113000
DTSTART:20260505T113000
DTEND:20260505T130000
SUMMARY:Dyżur pracowniczy (I)
CATEGORIES:I
END:VEVENT
BEGIN:VEVENT
UID:UZ_PLZ_20260505_1130_504565
DTSTAMP:20260505T113000
DTSTART:20260505T113000
DTEND:20260505T130000
SUMMARY:Rada Dyscypliny (I)
CATEGORIES:I
LOCATION:302R A-17
END:VEVENT
BEGIN:VEVENT
UID:UZ_PLZ_20260511_1130_502296
DTSTAMP:20260511T113000
DTSTART:20260511T113000
DTEND:20260511T130000
SUMMARY:Edycja raportów i wizualizacja danych (L): 2 SOC-SP 24/25
CATEGORIES:L
LOCATION:12a A-16
X-ALT-DESC;FMTTYPE=text/html:<html><body><a href="https://classroom.google.com/c/Nzk2OTU5NjI2NTMz">Google Classroom</a> </body></html>
END:VEVENT
BEGIN:VEVENT
UID:UZ_PLZ_20260511_1315_502298
DTSTAMP:20260511T131500
DTSTART:20260511T131500
DTEND:20260511T162500
SUMMARY:Raporty\, wizualizacja i prezentacja danych (L): 1 PS SD 25/26
CATEGORIES:L
LOCATION:12a A-16
X-ALT-DESC;FMTTYPE=text/html:<html><body><a href="https://classroom.google.com/c/ODU3MDczOTQ2MzEz">Google Classroom</a> </body></html>
END:VEVENT
BEGIN:VEVENT
UID:UZ_PLZ_20260512_0945_506726
DTSTAMP:20260512T094500
DTSTART:20260512T094500
DTEND:20260512T111500
SUMMARY:Konsultacje (I)
CATEGORIES:I
LOCATION:201R A-17
END:VEVENT
BEGIN:VEVENT
UID:UZ_PLZ_20260512_0945_505530
DTSTAMP:20260512T094500
DTSTART:20260512T094500
DTEND:20260512T111500
SUMMARY:Seminarium doktoranckie (S): 11SDNHiS-25/Socj
CATEGORIES:S
END:VEVENT
BEGIN:VEVENT
UID:UZ_PLZ_20260512_1130_502346
DTSTAMP:20260512T113000
DTSTART:20260512T113000
DTEND:20260512T130000
SUMMARY:Dyżur pracowniczy (I)
CATEGORIES:I
END:VEVENT
BEGIN:VEVENT
UID:UZ_PLZ_20260518_1130_502296
DTSTAMP:20260518T113000
DTSTART:20260518T113000
DTEND:20260518T130000
SUMMARY:Edycja raportów i wizualizacja danych (L): 2 SOC-SP 24/25
CATEGORIES:L
LOCATION:12a A-16
X-ALT-DESC;FMTTYPE=text/html:<html><body><a href="https://classroom.google.com/c/Nzk2OTU5NjI2NTMz">Google Classroom</a> </body></html>
END:VEVENT
BEGIN:VEVENT
UID:UZ_PLZ_20260518_1315_502298
DTSTAMP:20260518T131500
DTSTART:20260518T131500
DTEND:20260518T144500
SUMMARY:Raporty\, wizualizacja i prezentacja danych (L): 1 PS SD 25/26
CATEGORIES:L
LOCATION:12a A-16
X-ALT-DESC;FMTTYPE=text/html:<html><body><a href="https://classroom.google.com/c/ODU3MDczOTQ2MzEz">Google Classroom</a> </body></html>
END:VEVENT
BEGIN:VEVENT
UID:UZ_PLZ_20260519_0945_506726
DTSTAMP:20260519T094500
DTSTART:20260519T094500
DTEND:20260519T111500
SUMMARY:Konsultacje (I)
CATEGORIES:I
LOCATION:201R A-17
END:VEVENT
BEGIN:VEVENT
UID:UZ_PLZ_20260519_0945_505530
DTSTAMP:20260519T094500
DTSTART:20260519T094500
DTEND:20260519T111500
SUMMARY:Seminarium doktoranckie (S): 11SDNHiS-25/Socj
CATEGORIES:S
END:VEVENT
BEGIN:VEVENT
UID:UZ_PLZ_20260519_1130_502346
DTSTAMP:20260519T113000
DTSTART:20260519T113000
DTEND:20260519T130000
SUMMARY:Dyżur pracowniczy (I)
CATEGORIES:I
END:VEVENT
BEGIN:VEVENT
UID:UZ_PLZ_20260525_1130_502296
DTSTAMP:20260525T113000
DTSTART:20260525T113000
DTEND:20260525T130000
SUMMARY:Edycja raportów i wizualizacja danych (L): 2 SOC-SP 24/25
CATEGORIES:L
LOCATION:12a A-16
X-ALT-DESC;FMTTYPE=text/html:<html><body><a href="https://classroom.google.com/c/Nzk2OTU5NjI2NTMz">Google Classroom</a> </body></html>
END:VEVENT
BEGIN:VEVENT
UID:UZ_PLZ_20260525_1315_502298
DTSTAMP:20260525T131500
DTSTART:20260525T131500
DTEND:20260525T144500
SUMMARY:Raporty\, wizualizacja i prezentacja danych (L): 1 PS SD 25/26
CATEGORIES:L
LOCATION:12a A-16
X-ALT-DESC;FMTTYPE=text/html:<html><body><a href="https://classroom.google.com/c/ODU3MDczOTQ2MzEz">Google Classroom</a> </body></html>
END:VEVENT
BEGIN:VEVENT
UID:UZ_PLZ_20260526_0945_506726
DTSTAMP:20260526T094500
DTSTART:20260526T094500
DTEND:20260526T111500
SUMMARY:Konsultacje (I)
CATEGORIES:I
LOCATION:201R A-17
END:VEVENT
BEGIN:VEVENT
UID:UZ_PLZ_20260526_0945_505530
DTSTAMP:20260526T094500
DTSTART:20260526T094500
DTEND:20260526T111500
SUMMARY:Seminarium doktoranckie (S): 11SDNHiS-25/Socj
CATEGORIES:S
END:VEVENT
BEGIN:VEVENT
UID:UZ_PLZ_20260526_1130_502346
DTSTAMP:20260526T113000
DTSTART:20260526T113000
DTEND:20260526T130000
SUMMARY:Dyżur pracowniczy (I)
CATEGORIES:I
END:VEVENT
BEGIN:VEVENT
UID:UZ_PLZ_20260601_1130_502296
DTSTAMP:20260601T113000
DTSTART:20260601T113000
DTEND:20260601T130000
SUMMARY:Edycja raportów i wizualizacja danych (L): 2 SOC-SP 24/25
CATEGORIES:L
LOCATION:12a A-16
X-ALT-DESC;FMTTYPE=text/html:<html><body><a href="https://classroom.google.com/c/Nzk2OTU5NjI2NTMz">Google Classroom</a> </body></html>
END:VEVENT
BEGIN:VEVENT
UID:UZ_PLZ_20260601_1315_502298
DTSTAMP:20260601T131500
DTSTART:20260601T131500
DTEND:20260601T144500
SUMMARY:Raporty\, wizualizacja i prezentacja danych (L): 1 PS SD 25/26
CATEGORIES:L
LOCATION:12a A-16
X-ALT-DESC;FMTTYPE=text/html:<html><body><a href="https://classroom.google.com/c/ODU3MDczOTQ2MzEz">Google Classroom</a> </body></html>
END:VEVENT
BEGIN:VEVENT
UID:UZ_PLZ_20260602_0945_506726
DTSTAMP:20260602T094500
DTSTART:20260602T094500
DTEND:20260602T111500
SUMMARY:Konsultacje (I)
CATEGORIES:I
LOCATION:201R A-17
END:VEVENT
BEGIN:VEVENT
UID:UZ_PLZ_20260602_0945_505530
DTSTAMP:20260602T094500
DTSTART:20260602T094500
DTEND:20260602T111500
SUMMARY:Seminarium doktoranckie (S): 11SDNHiS-25/Socj
CATEGORIES:S
END:VEVENT
BEGIN:VEVENT
UID:UZ_PLZ_20260602_1130_502346
DTSTAMP:20260602T113000
DTSTART:20260602T113000
DTEND:20260602T130000
SUMMARY:Dyżur pracowniczy (I)
CATEGORIES:I
END:VEVENT
BEGIN:VEVENT
UID:UZ_PLZ_20260602_1130_504565
DTSTAMP:20260602T113000
DTSTART:20260602T113000
DTEND:20260602T130000
SUMMARY:Rada Dyscypliny (I)
CATEGORIES:I
LOCATION:302R A-17
END:VEVENT
BEGIN:VEVENT
UID:UZ_PLZ_20260608_1130_502296
DTSTAMP:20260608T113000
DTSTART:20260608T113000
DTEND:20260608T130000
SUMMARY:Edycja raportów i wizualizacja danych (L): 2 SOC-SP 24/25
CATEGORIES:L
LOCATION:12a A-16
X-ALT-DESC;FMTTYPE=text/html:<html><body><a href="https://classroom.google.com/c/Nzk2OTU5NjI2NTMz">Google Classroom</a> </body></html>
END:VEVENT
BEGIN:VEVENT
UID:UZ_PLZ_20260608_1315_502298
DTSTAMP:20260608T131500
DTSTART:20260608T131500
DTEND:20260608T144500
SUMMARY:Raporty\, wizualizacja i prezentacja danych (L): 1 PS SD 25/26
CATEGORIES:L
LOCATION:12a A-16
X-ALT-DESC;FMTTYPE=text/html:<html><body><a href="https://classroom.google.com/c/ODU3MDczOTQ2MzEz">Google Classroom</a> </body></html>
END:VEVENT
BEGIN:VEVENT
UID:UZ_PLZ_20260609_0945_506726
DTSTAMP:20260609T094500
DTSTART:20260609T094500
DTEND:20260609T111500
SUMMARY:Konsultacje (I)
CATEGORIES:I
LOCATION:201R A-17
END:VEVENT
BEGIN:VEVENT
UID:UZ_PLZ_20260609_0945_505530
DTSTAMP:20260609T094500
DTSTART:20260609T094500
DTEND:20260609T111500
SUMMARY:Seminarium doktoranckie (S): 11SDNHiS-25/Socj
CATEGORIES:S
END:VEVENT
BEGIN:VEVENT
UID:UZ_PLZ_20260609_1130_502346
DTSTAMP:20260609T113000
DTSTART:20260609T113000
DTEND:20260609T130000
SUMMARY:Dyżur pracowniczy (I)
CATEGORIES:I
END:VEVENT
BEGIN:VEVENT
UID:UZ_PLZ_20260615_1130_502296
DTSTAMP:20260615T113000
DTSTART:20260615T113000
DTEND:20260615T130000
SUMMARY:Edycja raportów i wizualizacja danych (L): 2 SOC-SP 24/25
CATEGORIES:L
LOCATION:12a A-16
X-ALT-DESC;FMTTYPE=text/html:<html><body><a href="https://classroom.google.com/c/Nzk2OTU5NjI2NTMz">Google Classroom</a> </body></html>
END:VEVENT
BEGIN:VEVENT
UID:UZ_PLZ_20260615_1315_502298
DTSTAMP:20260615T131500
DTSTART:20260615T131500
DTEND:20260615T144500
SUMMARY:Raporty\, wizualizacja i prezentacja danych (L): 1 PS SD 25/26
CATEGORIES:L
LOCATION:12a A-16
X-ALT-DESC;FMTTYPE=text/html:<html><body><a href="https://classroom.google.com/c/ODU3MDczOTQ2MzEz">Google Classroom</a> </body></html>
END:VEVENT
BEGIN:VEVENT
UID:UZ_PLZ_20260616_0945_506726
DTSTAMP:20260616T094500
DTSTART:20260616T094500
DTEND:20260616T111500
SUMMARY:Konsultacje (I)
CATEGORIES:I
LOCATION:201R A-17
END:VEVENT
BEGIN:VEVENT
UID:UZ_PLZ_20260616_0945_505530
DTSTAMP:20260616T094500
DTSTART:20260616T094500
DTEND:20260616T111500
SUMMARY:Seminarium doktoranckie (S): 11SDNHiS-25/Socj
CATEGORIES:S
END:VEVENT
BEGIN:VEVENT
UID:UZ_PLZ_20260616_1130_502346
DTSTAMP:20260616T113000
DTSTART:20260616T113000
DTEND:20260616T130000
SUMMARY:Dyżur pracowniczy (I)
CATEGORIES:I
END:VEVENT
END:VCALENDAR
