BEGIN:VCALENDAR
TZID:Europe/Warsaw
X-WR-TIMEZONE:Europe/Warsaw
VERSION:2.0
PRODID:-//Uniwersytet Zielonogórski//NONSGML Plan zajęć v1.0//EN
NAME:Plan zajęć - semestr zimowy 2025/2026
X-WR-CALNAME:Plan zajęć - semestr zimowy 2025/2026
COLOR:green
CALSCALE:GREGORIAN
BEGIN:VEVENT
UID:UZ_PLZ_20251002_0915_485038
DTSTAMP:20251002T091500
DTSTART:20251002T091500
DTEND:20251002T104500
SUMMARY:Systemy wbudowane (W): 31IB-SP
CATEGORIES:W
LOCATION:105 A-2
END:VEVENT
BEGIN:VEVENT
UID:UZ_PLZ_20251006_0915_481568
DTSTAMP:20251006T091500
DTSTART:20251006T091500
DTEND:20251006T104500
SUMMARY:Seminarium Instytutowe IMEI (R)
CATEGORIES:R
LOCATION:6a A-2
END:VEVENT
BEGIN:VEVENT
UID:UZ_PLZ_20251007_1245_484279
DTSTAMP:20251007T124500
DTSTART:20251007T124500
DTEND:20251007T141500
SUMMARY:Seminarium dyplomowe II (S): 42INF-ISM-SP/B
CATEGORIES:S
LOCATION:128 A-2
END:VEVENT
BEGIN:VEVENT
UID:UZ_PLZ_20251007_1430_484209
DTSTAMP:20251007T143000
DTSTART:20251007T143000
DTEND:20251007T160500
SUMMARY:Systemy wbudowane (W): 31INF-PSI-SP\; 32INF-ISM-SP\; 33INF-SSI-SP\; 34INF-SSI-SP
CATEGORIES:W
LOCATION:115 A-2
END:VEVENT
BEGIN:VEVENT
UID:UZ_PLZ_20251007_1615_484208
DTSTAMP:20251007T161500
DTSTART:20251007T161500
DTEND:20251007T174500
SUMMARY:Seminarium dyplomowe II (S): 11INF-IK-SD(L)
CATEGORIES:S
LOCATION:128 A-2
END:VEVENT
BEGIN:VEVENT
UID:UZ_PLZ_20251009_0915_485038
DTSTAMP:20251009T091500
DTSTART:20251009T091500
DTEND:20251009T104500
SUMMARY:Systemy wbudowane (W): 31IB-SP
CATEGORIES:W
LOCATION:105 A-2
END:VEVENT
BEGIN:VEVENT
UID:UZ_PLZ_20251011_1245_487487
DTSTAMP:20251011T124500
DTSTART:20251011T124500
DTEND:20251011T140500
SUMMARY:Systemy wbudowane (W): 31INF-ISM-NP
CATEGORIES:W
LOCATION:125 A-2
END:VEVENT
BEGIN:VEVENT
UID:UZ_PLZ_20251011_1430_487174
DTSTAMP:20251011T143000
DTSTART:20251011T143000
DTEND:20251011T155000
SUMMARY:Systemy wbudowane (W): 31AiR-PSAiR-NP
CATEGORIES:W
LOCATION:125 A-2
END:VEVENT
BEGIN:VEVENT
UID:UZ_PLZ_20251011_1615_492514
DTSTAMP:20251011T161500
DTSTART:20251011T161500
DTEND:20251011T174500
SUMMARY:Seminarium dyplomowe II (S): 41INF-ISM-NP/A
CATEGORIES:S
LOCATION:128 A-2
END:VEVENT
BEGIN:VEVENT
UID:UZ_PLZ_20251013_0915_481568
DTSTAMP:20251013T091500
DTSTART:20251013T091500
DTEND:20251013T104500
SUMMARY:Seminarium Instytutowe IMEI (R)
CATEGORIES:R
LOCATION:6a A-2
END:VEVENT
BEGIN:VEVENT
UID:UZ_PLZ_20251014_1245_484279
DTSTAMP:20251014T124500
DTSTART:20251014T124500
DTEND:20251014T141500
SUMMARY:Seminarium dyplomowe II (S): 42INF-ISM-SP/B
CATEGORIES:S
LOCATION:128 A-2
END:VEVENT
BEGIN:VEVENT
UID:UZ_PLZ_20251014_1430_484061
DTSTAMP:20251014T143000
DTSTART:20251014T143000
DTEND:20251014T155500
SUMMARY:Systemy wbudowane (W): 32AiR-PSAiR-SP
CATEGORIES:W
LOCATION:106 A-2
END:VEVENT
BEGIN:VEVENT
UID:UZ_PLZ_20251014_1615_484208
DTSTAMP:20251014T161500
DTSTART:20251014T161500
DTEND:20251014T174500
SUMMARY:Seminarium dyplomowe II (S): 11INF-IK-SD(L)
CATEGORIES:S
LOCATION:128 A-2
END:VEVENT
BEGIN:VEVENT
UID:UZ_PLZ_20251016_0915_485038
DTSTAMP:20251016T091500
DTSTART:20251016T091500
DTEND:20251016T104500
SUMMARY:Systemy wbudowane (W): 31IB-SP
CATEGORIES:W
LOCATION:105 A-2
END:VEVENT
BEGIN:VEVENT
UID:UZ_PLZ_20251020_0915_481568
DTSTAMP:20251020T091500
DTSTART:20251020T091500
DTEND:20251020T104500
SUMMARY:Seminarium Instytutowe IMEI (R)
CATEGORIES:R
LOCATION:6a A-2
END:VEVENT
BEGIN:VEVENT
UID:UZ_PLZ_20251021_1245_484279
DTSTAMP:20251021T124500
DTSTART:20251021T124500
DTEND:20251021T141500
SUMMARY:Seminarium dyplomowe II (S): 42INF-ISM-SP/B
CATEGORIES:S
LOCATION:128 A-2
END:VEVENT
BEGIN:VEVENT
UID:UZ_PLZ_20251021_1430_484209
DTSTAMP:20251021T143000
DTSTART:20251021T143000
DTEND:20251021T160500
SUMMARY:Systemy wbudowane (W): 31INF-PSI-SP\; 32INF-ISM-SP\; 33INF-SSI-SP\; 34INF-SSI-SP
CATEGORIES:W
LOCATION:115 A-2
END:VEVENT
BEGIN:VEVENT
UID:UZ_PLZ_20251021_1615_484208
DTSTAMP:20251021T161500
DTSTART:20251021T161500
DTEND:20251021T174500
SUMMARY:Seminarium dyplomowe II (S): 11INF-IK-SD(L)
CATEGORIES:S
LOCATION:128 A-2
END:VEVENT
BEGIN:VEVENT
UID:UZ_PLZ_20251023_0915_485038
DTSTAMP:20251023T091500
DTSTART:20251023T091500
DTEND:20251023T104500
SUMMARY:Systemy wbudowane (W): 31IB-SP
CATEGORIES:W
LOCATION:105 A-2
END:VEVENT
BEGIN:VEVENT
UID:UZ_PLZ_20251025_1615_492514
DTSTAMP:20251025T161500
DTSTART:20251025T161500
DTEND:20251025T174500
SUMMARY:Seminarium dyplomowe II (S): 41INF-ISM-NP/A
CATEGORIES:S
LOCATION:128 A-2
END:VEVENT
BEGIN:VEVENT
UID:UZ_PLZ_20251027_0915_481568
DTSTAMP:20251027T091500
DTSTART:20251027T091500
DTEND:20251027T104500
SUMMARY:Seminarium Instytutowe IMEI (R)
CATEGORIES:R
LOCATION:6a A-2
END:VEVENT
BEGIN:VEVENT
UID:UZ_PLZ_20251028_1245_484279
DTSTAMP:20251028T124500
DTSTART:20251028T124500
DTEND:20251028T141500
SUMMARY:Seminarium dyplomowe II (S): 42INF-ISM-SP/B
CATEGORIES:S
LOCATION:128 A-2
END:VEVENT
BEGIN:VEVENT
UID:UZ_PLZ_20251028_1430_484061
DTSTAMP:20251028T143000
DTSTART:20251028T143000
DTEND:20251028T155500
SUMMARY:Systemy wbudowane (W): 32AiR-PSAiR-SP
CATEGORIES:W
LOCATION:106 A-2
END:VEVENT
BEGIN:VEVENT
UID:UZ_PLZ_20251028_1615_484208
DTSTAMP:20251028T161500
DTSTART:20251028T161500
DTEND:20251028T174500
SUMMARY:Seminarium dyplomowe II (S): 11INF-IK-SD(L)
CATEGORIES:S
LOCATION:128 A-2
END:VEVENT
BEGIN:VEVENT
UID:UZ_PLZ_20251030_0915_485038
DTSTAMP:20251030T091500
DTSTART:20251030T091500
DTEND:20251030T104500
SUMMARY:Systemy wbudowane (W): 31IB-SP
CATEGORIES:W
LOCATION:105 A-2
END:VEVENT
BEGIN:VEVENT
UID:UZ_PLZ_20251103_0915_481568
DTSTAMP:20251103T091500
DTSTART:20251103T091500
DTEND:20251103T104500
SUMMARY:Seminarium Instytutowe IMEI (R)
CATEGORIES:R
LOCATION:6a A-2
END:VEVENT
BEGIN:VEVENT
UID:UZ_PLZ_20251104_1245_484279
DTSTAMP:20251104T124500
DTSTART:20251104T124500
DTEND:20251104T141500
SUMMARY:Seminarium dyplomowe II (S): 42INF-ISM-SP/B
CATEGORIES:S
LOCATION:128 A-2
END:VEVENT
BEGIN:VEVENT
UID:UZ_PLZ_20251104_1430_484209
DTSTAMP:20251104T143000
DTSTART:20251104T143000
DTEND:20251104T160500
SUMMARY:Systemy wbudowane (W): 31INF-PSI-SP\; 32INF-ISM-SP\; 33INF-SSI-SP\; 34INF-SSI-SP
CATEGORIES:W
LOCATION:115 A-2
END:VEVENT
BEGIN:VEVENT
UID:UZ_PLZ_20251104_1615_484208
DTSTAMP:20251104T161500
DTSTART:20251104T161500
DTEND:20251104T174500
SUMMARY:Seminarium dyplomowe II (S): 11INF-IK-SD(L)
CATEGORIES:S
LOCATION:128 A-2
END:VEVENT
BEGIN:VEVENT
UID:UZ_PLZ_20251104_1800_494176
DTSTAMP:20251104T180000
DTSTART:20251104T180000
DTEND:20251104T190000
SUMMARY:Konsultacje (I)
CATEGORIES:I
LOCATION:311 A-2
END:VEVENT
BEGIN:VEVENT
UID:UZ_PLZ_20251106_0915_485038
DTSTAMP:20251106T091500
DTSTART:20251106T091500
DTEND:20251106T104500
SUMMARY:Systemy wbudowane (W): 31IB-SP
CATEGORIES:W
LOCATION:105 A-2
END:VEVENT
BEGIN:VEVENT
UID:UZ_PLZ_20251108_1245_487487
DTSTAMP:20251108T124500
DTSTART:20251108T124500
DTEND:20251108T140500
SUMMARY:Systemy wbudowane (W): 31INF-ISM-NP
CATEGORIES:W
LOCATION:125 A-2
END:VEVENT
BEGIN:VEVENT
UID:UZ_PLZ_20251108_1430_487174
DTSTAMP:20251108T143000
DTSTART:20251108T143000
DTEND:20251108T155000
SUMMARY:Systemy wbudowane (W): 31AiR-PSAiR-NP
CATEGORIES:W
LOCATION:125 A-2
END:VEVENT
BEGIN:VEVENT
UID:UZ_PLZ_20251108_1615_492514
DTSTAMP:20251108T161500
DTSTART:20251108T161500
DTEND:20251108T174500
SUMMARY:Seminarium dyplomowe II (S): 41INF-ISM-NP/A
CATEGORIES:S
LOCATION:128 A-2
END:VEVENT
BEGIN:VEVENT
UID:UZ_PLZ_20251108_1800_494177
DTSTAMP:20251108T180000
DTSTART:20251108T180000
DTEND:20251108T190000
SUMMARY:Konsultacje (I)
CATEGORIES:I
LOCATION:311 A-2
END:VEVENT
BEGIN:VEVENT
UID:UZ_PLZ_20251113_0915_481568
DTSTAMP:20251113T091500
DTSTART:20251113T091500
DTEND:20251113T104500
SUMMARY:Seminarium Instytutowe IMEI (R)
CATEGORIES:R
LOCATION:6a A-2
END:VEVENT
BEGIN:VEVENT
UID:UZ_PLZ_20251114_1245_484279
DTSTAMP:20251114T124500
DTSTART:20251114T124500
DTEND:20251114T141500
SUMMARY:Seminarium dyplomowe II (S): 42INF-ISM-SP/B
CATEGORIES:S
LOCATION:128 A-2
END:VEVENT
BEGIN:VEVENT
UID:UZ_PLZ_20251114_1430_484061
DTSTAMP:20251114T143000
DTSTART:20251114T143000
DTEND:20251114T155500
SUMMARY:Systemy wbudowane (W): 32AiR-PSAiR-SP
CATEGORIES:W
LOCATION:106 A-2
END:VEVENT
BEGIN:VEVENT
UID:UZ_PLZ_20251114_1615_484208
DTSTAMP:20251114T161500
DTSTART:20251114T161500
DTEND:20251114T174500
SUMMARY:Seminarium dyplomowe II (S): 11INF-IK-SD(L)
CATEGORIES:S
LOCATION:128 A-2
END:VEVENT
BEGIN:VEVENT
UID:UZ_PLZ_20251114_1800_494176
DTSTAMP:20251114T180000
DTSTART:20251114T180000
DTEND:20251114T190000
SUMMARY:Konsultacje (I)
CATEGORIES:I
LOCATION:311 A-2
END:VEVENT
BEGIN:VEVENT
UID:UZ_PLZ_20251117_0915_481568
DTSTAMP:20251117T091500
DTSTART:20251117T091500
DTEND:20251117T104500
SUMMARY:Seminarium Instytutowe IMEI (R)
CATEGORIES:R
LOCATION:6a A-2
END:VEVENT
BEGIN:VEVENT
UID:UZ_PLZ_20251118_1245_484279
DTSTAMP:20251118T124500
DTSTART:20251118T124500
DTEND:20251118T141500
SUMMARY:Seminarium dyplomowe II (S): 42INF-ISM-SP/B
CATEGORIES:S
LOCATION:128 A-2
END:VEVENT
BEGIN:VEVENT
UID:UZ_PLZ_20251118_1430_484209
DTSTAMP:20251118T143000
DTSTART:20251118T143000
DTEND:20251118T160500
SUMMARY:Systemy wbudowane (W): 31INF-PSI-SP\; 32INF-ISM-SP\; 33INF-SSI-SP\; 34INF-SSI-SP
CATEGORIES:W
LOCATION:115 A-2
END:VEVENT
BEGIN:VEVENT
UID:UZ_PLZ_20251118_1615_484208
DTSTAMP:20251118T161500
DTSTART:20251118T161500
DTEND:20251118T174500
SUMMARY:Seminarium dyplomowe II (S): 11INF-IK-SD(L)
CATEGORIES:S
LOCATION:128 A-2
END:VEVENT
BEGIN:VEVENT
UID:UZ_PLZ_20251118_1800_494176
DTSTAMP:20251118T180000
DTSTART:20251118T180000
DTEND:20251118T190000
SUMMARY:Konsultacje (I)
CATEGORIES:I
LOCATION:311 A-2
END:VEVENT
BEGIN:VEVENT
UID:UZ_PLZ_20251120_0915_485038
DTSTAMP:20251120T091500
DTSTART:20251120T091500
DTEND:20251120T104500
SUMMARY:Systemy wbudowane (W): 31IB-SP
CATEGORIES:W
LOCATION:105 A-2
END:VEVENT
BEGIN:VEVENT
UID:UZ_PLZ_20251122_1615_492514
DTSTAMP:20251122T161500
DTSTART:20251122T161500
DTEND:20251122T174500
SUMMARY:Seminarium dyplomowe II (S): 41INF-ISM-NP/A
CATEGORIES:S
LOCATION:128 A-2
END:VEVENT
BEGIN:VEVENT
UID:UZ_PLZ_20251122_1800_494177
DTSTAMP:20251122T180000
DTSTART:20251122T180000
DTEND:20251122T190000
SUMMARY:Konsultacje (I)
CATEGORIES:I
LOCATION:311 A-2
END:VEVENT
BEGIN:VEVENT
UID:UZ_PLZ_20251124_0915_481568
DTSTAMP:20251124T091500
DTSTART:20251124T091500
DTEND:20251124T104500
SUMMARY:Seminarium Instytutowe IMEI (R)
CATEGORIES:R
LOCATION:6a A-2
END:VEVENT
BEGIN:VEVENT
UID:UZ_PLZ_20251125_1245_484279
DTSTAMP:20251125T124500
DTSTART:20251125T124500
DTEND:20251125T141500
SUMMARY:Seminarium dyplomowe II (S): 42INF-ISM-SP/B
CATEGORIES:S
LOCATION:128 A-2
END:VEVENT
BEGIN:VEVENT
UID:UZ_PLZ_20251125_1430_484061
DTSTAMP:20251125T143000
DTSTART:20251125T143000
DTEND:20251125T155500
SUMMARY:Systemy wbudowane (W): 32AiR-PSAiR-SP
CATEGORIES:W
LOCATION:106 A-2
END:VEVENT
BEGIN:VEVENT
UID:UZ_PLZ_20251125_1615_484208
DTSTAMP:20251125T161500
DTSTART:20251125T161500
DTEND:20251125T174500
SUMMARY:Seminarium dyplomowe II (S): 11INF-IK-SD(L)
CATEGORIES:S
LOCATION:128 A-2
END:VEVENT
BEGIN:VEVENT
UID:UZ_PLZ_20251125_1800_494176
DTSTAMP:20251125T180000
DTSTART:20251125T180000
DTEND:20251125T190000
SUMMARY:Konsultacje (I)
CATEGORIES:I
LOCATION:311 A-2
END:VEVENT
BEGIN:VEVENT
UID:UZ_PLZ_20251127_0915_485038
DTSTAMP:20251127T091500
DTSTART:20251127T091500
DTEND:20251127T104500
SUMMARY:Systemy wbudowane (W): 31IB-SP
CATEGORIES:W
LOCATION:105 A-2
END:VEVENT
BEGIN:VEVENT
UID:UZ_PLZ_20251201_0915_481568
DTSTAMP:20251201T091500
DTSTART:20251201T091500
DTEND:20251201T104500
SUMMARY:Seminarium Instytutowe IMEI (R)
CATEGORIES:R
LOCATION:6a A-2
END:VEVENT
BEGIN:VEVENT
UID:UZ_PLZ_20251202_1245_484279
DTSTAMP:20251202T124500
DTSTART:20251202T124500
DTEND:20251202T141500
SUMMARY:Seminarium dyplomowe II (S): 42INF-ISM-SP/B
CATEGORIES:S
LOCATION:128 A-2
END:VEVENT
BEGIN:VEVENT
UID:UZ_PLZ_20251202_1430_484209
DTSTAMP:20251202T143000
DTSTART:20251202T143000
DTEND:20251202T160500
SUMMARY:Systemy wbudowane (W): 31INF-PSI-SP\; 32INF-ISM-SP\; 33INF-SSI-SP\; 34INF-SSI-SP
CATEGORIES:W
LOCATION:115 A-2
END:VEVENT
BEGIN:VEVENT
UID:UZ_PLZ_20251202_1615_484208
DTSTAMP:20251202T161500
DTSTART:20251202T161500
DTEND:20251202T174500
SUMMARY:Seminarium dyplomowe II (S): 11INF-IK-SD(L)
CATEGORIES:S
LOCATION:128 A-2
END:VEVENT
BEGIN:VEVENT
UID:UZ_PLZ_20251202_1800_494176
DTSTAMP:20251202T180000
DTSTART:20251202T180000
DTEND:20251202T190000
SUMMARY:Konsultacje (I)
CATEGORIES:I
LOCATION:311 A-2
END:VEVENT
BEGIN:VEVENT
UID:UZ_PLZ_20251204_0915_485038
DTSTAMP:20251204T091500
DTSTART:20251204T091500
DTEND:20251204T104500
SUMMARY:Systemy wbudowane (W): 31IB-SP
CATEGORIES:W
LOCATION:105 A-2
END:VEVENT
BEGIN:VEVENT
UID:UZ_PLZ_20251206_1245_487487
DTSTAMP:20251206T124500
DTSTART:20251206T124500
DTEND:20251206T140500
SUMMARY:Systemy wbudowane (W): 31INF-ISM-NP
CATEGORIES:W
LOCATION:125 A-2
END:VEVENT
BEGIN:VEVENT
UID:UZ_PLZ_20251206_1430_487174
DTSTAMP:20251206T143000
DTSTART:20251206T143000
DTEND:20251206T155000
SUMMARY:Systemy wbudowane (W): 31AiR-PSAiR-NP
CATEGORIES:W
LOCATION:125 A-2
END:VEVENT
BEGIN:VEVENT
UID:UZ_PLZ_20251206_1615_492514
DTSTAMP:20251206T161500
DTSTART:20251206T161500
DTEND:20251206T174500
SUMMARY:Seminarium dyplomowe II (S): 41INF-ISM-NP/A
CATEGORIES:S
LOCATION:128 A-2
END:VEVENT
BEGIN:VEVENT
UID:UZ_PLZ_20251206_1800_494177
DTSTAMP:20251206T180000
DTSTART:20251206T180000
DTEND:20251206T190000
SUMMARY:Konsultacje (I)
CATEGORIES:I
LOCATION:311 A-2
END:VEVENT
BEGIN:VEVENT
UID:UZ_PLZ_20251208_0915_481568
DTSTAMP:20251208T091500
DTSTART:20251208T091500
DTEND:20251208T104500
SUMMARY:Seminarium Instytutowe IMEI (R)
CATEGORIES:R
LOCATION:6a A-2
END:VEVENT
BEGIN:VEVENT
UID:UZ_PLZ_20251209_1245_484279
DTSTAMP:20251209T124500
DTSTART:20251209T124500
DTEND:20251209T141500
SUMMARY:Seminarium dyplomowe II (S): 42INF-ISM-SP/B
CATEGORIES:S
LOCATION:128 A-2
END:VEVENT
BEGIN:VEVENT
UID:UZ_PLZ_20251209_1430_484061
DTSTAMP:20251209T143000
DTSTART:20251209T143000
DTEND:20251209T155500
SUMMARY:Systemy wbudowane (W): 32AiR-PSAiR-SP
CATEGORIES:W
LOCATION:106 A-2
END:VEVENT
BEGIN:VEVENT
UID:UZ_PLZ_20251209_1800_494176
DTSTAMP:20251209T180000
DTSTART:20251209T180000
DTEND:20251209T190000
SUMMARY:Konsultacje (I)
CATEGORIES:I
LOCATION:311 A-2
END:VEVENT
BEGIN:VEVENT
UID:UZ_PLZ_20251211_0915_485038
DTSTAMP:20251211T091500
DTSTART:20251211T091500
DTEND:20251211T104500
SUMMARY:Systemy wbudowane (W): 31IB-SP
CATEGORIES:W
LOCATION:105 A-2
END:VEVENT
BEGIN:VEVENT
UID:UZ_PLZ_20251213_1615_492514
DTSTAMP:20251213T161500
DTSTART:20251213T161500
DTEND:20251213T174500
SUMMARY:Seminarium dyplomowe II (S): 41INF-ISM-NP/A
CATEGORIES:S
LOCATION:128 A-2
END:VEVENT
BEGIN:VEVENT
UID:UZ_PLZ_20251213_1800_494177
DTSTAMP:20251213T180000
DTSTART:20251213T180000
DTEND:20251213T190000
SUMMARY:Konsultacje (I)
CATEGORIES:I
LOCATION:311 A-2
END:VEVENT
BEGIN:VEVENT
UID:UZ_PLZ_20251215_0915_481568
DTSTAMP:20251215T091500
DTSTART:20251215T091500
DTEND:20251215T104500
SUMMARY:Seminarium Instytutowe IMEI (R)
CATEGORIES:R
LOCATION:6a A-2
END:VEVENT
BEGIN:VEVENT
UID:UZ_PLZ_20251216_1245_484279
DTSTAMP:20251216T124500
DTSTART:20251216T124500
DTEND:20251216T141500
SUMMARY:Seminarium dyplomowe II (S): 42INF-ISM-SP/B
CATEGORIES:S
LOCATION:128 A-2
END:VEVENT
BEGIN:VEVENT
UID:UZ_PLZ_20251216_1430_484209
DTSTAMP:20251216T143000
DTSTART:20251216T143000
DTEND:20251216T160500
SUMMARY:Systemy wbudowane (W): 31INF-PSI-SP\; 32INF-ISM-SP\; 33INF-SSI-SP\; 34INF-SSI-SP
CATEGORIES:W
LOCATION:115 A-2
END:VEVENT
BEGIN:VEVENT
UID:UZ_PLZ_20251216_1800_494176
DTSTAMP:20251216T180000
DTSTART:20251216T180000
DTEND:20251216T190000
SUMMARY:Konsultacje (I)
CATEGORIES:I
LOCATION:311 A-2
END:VEVENT
BEGIN:VEVENT
UID:UZ_PLZ_20251218_0915_485038
DTSTAMP:20251218T091500
DTSTART:20251218T091500
DTEND:20251218T104500
SUMMARY:Systemy wbudowane (W): 31IB-SP
CATEGORIES:W
LOCATION:105 A-2
END:VEVENT
BEGIN:VEVENT
UID:UZ_PLZ_20260107_1245_484279
DTSTAMP:20260107T124500
DTSTART:20260107T124500
DTEND:20260107T141500
SUMMARY:Seminarium dyplomowe II (S): 42INF-ISM-SP/B
CATEGORIES:S
LOCATION:128 A-2
END:VEVENT
BEGIN:VEVENT
UID:UZ_PLZ_20260107_1430_484061
DTSTAMP:20260107T143000
DTSTART:20260107T143000
DTEND:20260107T155500
SUMMARY:Systemy wbudowane (W): 32AiR-PSAiR-SP
CATEGORIES:W
LOCATION:106 A-2
END:VEVENT
BEGIN:VEVENT
UID:UZ_PLZ_20260107_1615_484208
DTSTAMP:20260107T161500
DTSTART:20260107T161500
DTEND:20260107T174500
SUMMARY:Seminarium dyplomowe II (S): 11INF-IK-SD(L)
CATEGORIES:S
LOCATION:128 A-2
END:VEVENT
BEGIN:VEVENT
UID:UZ_PLZ_20260107_1800_494176
DTSTAMP:20260107T180000
DTSTART:20260107T180000
DTEND:20260107T190000
SUMMARY:Konsultacje (I)
CATEGORIES:I
LOCATION:311 A-2
END:VEVENT
BEGIN:VEVENT
UID:UZ_PLZ_20260108_0915_485038
DTSTAMP:20260108T091500
DTSTART:20260108T091500
DTEND:20260108T104500
SUMMARY:Systemy wbudowane (W): 31IB-SP
CATEGORIES:W
LOCATION:105 A-2
END:VEVENT
BEGIN:VEVENT
UID:UZ_PLZ_20260110_1245_487487
DTSTAMP:20260110T124500
DTSTART:20260110T124500
DTEND:20260110T140500
SUMMARY:Systemy wbudowane (W): 31INF-ISM-NP
CATEGORIES:W
LOCATION:125 A-2
END:VEVENT
BEGIN:VEVENT
UID:UZ_PLZ_20260110_1430_487174
DTSTAMP:20260110T143000
DTSTART:20260110T143000
DTEND:20260110T155000
SUMMARY:Systemy wbudowane (W): 31AiR-PSAiR-NP
CATEGORIES:W
LOCATION:125 A-2
END:VEVENT
BEGIN:VEVENT
UID:UZ_PLZ_20260110_1615_492514
DTSTAMP:20260110T161500
DTSTART:20260110T161500
DTEND:20260110T174500
SUMMARY:Seminarium dyplomowe II (S): 41INF-ISM-NP/A
CATEGORIES:S
LOCATION:128 A-2
END:VEVENT
BEGIN:VEVENT
UID:UZ_PLZ_20260110_1800_494177
DTSTAMP:20260110T180000
DTSTART:20260110T180000
DTEND:20260110T190000
SUMMARY:Konsultacje (I)
CATEGORIES:I
LOCATION:311 A-2
END:VEVENT
BEGIN:VEVENT
UID:UZ_PLZ_20260112_0915_481568
DTSTAMP:20260112T091500
DTSTART:20260112T091500
DTEND:20260112T104500
SUMMARY:Seminarium Instytutowe IMEI (R)
CATEGORIES:R
LOCATION:6a A-2
END:VEVENT
BEGIN:VEVENT
UID:UZ_PLZ_20260113_1245_484279
DTSTAMP:20260113T124500
DTSTART:20260113T124500
DTEND:20260113T141500
SUMMARY:Seminarium dyplomowe II (S): 42INF-ISM-SP/B
CATEGORIES:S
LOCATION:128 A-2
END:VEVENT
BEGIN:VEVENT
UID:UZ_PLZ_20260113_1430_484209
DTSTAMP:20260113T143000
DTSTART:20260113T143000
DTEND:20260113T160500
SUMMARY:Systemy wbudowane (W): 31INF-PSI-SP\; 32INF-ISM-SP\; 33INF-SSI-SP\; 34INF-SSI-SP
CATEGORIES:W
LOCATION:115 A-2
END:VEVENT
BEGIN:VEVENT
UID:UZ_PLZ_20260113_1800_494176
DTSTAMP:20260113T180000
DTSTART:20260113T180000
DTEND:20260113T190000
SUMMARY:Konsultacje (I)
CATEGORIES:I
LOCATION:311 A-2
END:VEVENT
BEGIN:VEVENT
UID:UZ_PLZ_20260115_0915_485038
DTSTAMP:20260115T091500
DTSTART:20260115T091500
DTEND:20260115T104500
SUMMARY:Systemy wbudowane (W): 31IB-SP
CATEGORIES:W
LOCATION:105 A-2
END:VEVENT
BEGIN:VEVENT
UID:UZ_PLZ_20260117_1615_492514
DTSTAMP:20260117T161500
DTSTART:20260117T161500
DTEND:20260117T174500
SUMMARY:Seminarium dyplomowe II (S): 41INF-ISM-NP/A
CATEGORIES:S
LOCATION:128 A-2
END:VEVENT
BEGIN:VEVENT
UID:UZ_PLZ_20260117_1800_494177
DTSTAMP:20260117T180000
DTSTART:20260117T180000
DTEND:20260117T190000
SUMMARY:Konsultacje (I)
CATEGORIES:I
LOCATION:311 A-2
END:VEVENT
BEGIN:VEVENT
UID:UZ_PLZ_20260119_0915_481568
DTSTAMP:20260119T091500
DTSTART:20260119T091500
DTEND:20260119T104500
SUMMARY:Seminarium Instytutowe IMEI (R)
CATEGORIES:R
LOCATION:6a A-2
END:VEVENT
BEGIN:VEVENT
UID:UZ_PLZ_20260120_1245_484279
DTSTAMP:20260120T124500
DTSTART:20260120T124500
DTEND:20260120T141500
SUMMARY:Seminarium dyplomowe II (S): 42INF-ISM-SP/B
CATEGORIES:S
LOCATION:128 A-2
END:VEVENT
BEGIN:VEVENT
UID:UZ_PLZ_20260120_1430_484061
DTSTAMP:20260120T143000
DTSTART:20260120T143000
DTEND:20260120T155500
SUMMARY:Systemy wbudowane (W): 32AiR-PSAiR-SP
CATEGORIES:W
LOCATION:106 A-2
END:VEVENT
BEGIN:VEVENT
UID:UZ_PLZ_20260120_1615_484208
DTSTAMP:20260120T161500
DTSTART:20260120T161500
DTEND:20260120T174500
SUMMARY:Seminarium dyplomowe II (S): 11INF-IK-SD(L)
CATEGORIES:S
LOCATION:128 A-2
END:VEVENT
BEGIN:VEVENT
UID:UZ_PLZ_20260120_1800_494176
DTSTAMP:20260120T180000
DTSTART:20260120T180000
DTEND:20260120T190000
SUMMARY:Konsultacje (I)
CATEGORIES:I
LOCATION:311 A-2
END:VEVENT
BEGIN:VEVENT
UID:UZ_PLZ_20260122_0915_485038
DTSTAMP:20260122T091500
DTSTART:20260122T091500
DTEND:20260122T104500
SUMMARY:Systemy wbudowane (W): 31IB-SP
CATEGORIES:W
LOCATION:105 A-2
END:VEVENT
BEGIN:VEVENT
UID:UZ_PLZ_20260126_0915_481568
DTSTAMP:20260126T091500
DTSTART:20260126T091500
DTEND:20260126T104500
SUMMARY:Seminarium Instytutowe IMEI (R)
CATEGORIES:R
LOCATION:6a A-2
END:VEVENT
BEGIN:VEVENT
UID:UZ_PLZ_20260127_1245_484279
DTSTAMP:20260127T124500
DTSTART:20260127T124500
DTEND:20260127T141500
SUMMARY:Seminarium dyplomowe II (S): 42INF-ISM-SP/B
CATEGORIES:S
LOCATION:128 A-2
END:VEVENT
BEGIN:VEVENT
UID:UZ_PLZ_20260127_1430_484061
DTSTAMP:20260127T143000
DTSTART:20260127T143000
DTEND:20260127T155500
SUMMARY:Systemy wbudowane (W): 32AiR-PSAiR-SP
CATEGORIES:W
LOCATION:106 A-2
END:VEVENT
BEGIN:VEVENT
UID:UZ_PLZ_20260127_1615_484208
DTSTAMP:20260127T161500
DTSTART:20260127T161500
DTEND:20260127T174500
SUMMARY:Seminarium dyplomowe II (S): 11INF-IK-SD(L)
CATEGORIES:S
LOCATION:128 A-2
END:VEVENT
BEGIN:VEVENT
UID:UZ_PLZ_20260127_1800_494176
DTSTAMP:20260127T180000
DTSTART:20260127T180000
DTEND:20260127T190000
SUMMARY:Konsultacje (I)
CATEGORIES:I
LOCATION:311 A-2
END:VEVENT
BEGIN:VEVENT
UID:UZ_PLZ_20260129_0915_485038
DTSTAMP:20260129T091500
DTSTART:20260129T091500
DTEND:20260129T104500
SUMMARY:Systemy wbudowane (W): 31IB-SP
CATEGORIES:W
LOCATION:105 A-2
END:VEVENT
BEGIN:VEVENT
UID:UZ_PLZ_20260131_1245_487487
DTSTAMP:20260131T124500
DTSTART:20260131T124500
DTEND:20260131T140500
SUMMARY:Systemy wbudowane (W): 31INF-ISM-NP
CATEGORIES:W
LOCATION:125 A-2
END:VEVENT
BEGIN:VEVENT
UID:UZ_PLZ_20260131_1430_487174
DTSTAMP:20260131T143000
DTSTART:20260131T143000
DTEND:20260131T155000
SUMMARY:Systemy wbudowane (W): 31AiR-PSAiR-NP
CATEGORIES:W
LOCATION:125 A-2
END:VEVENT
BEGIN:VEVENT
UID:UZ_PLZ_20260131_1615_492514
DTSTAMP:20260131T161500
DTSTART:20260131T161500
DTEND:20260131T174500
SUMMARY:Seminarium dyplomowe II (S): 41INF-ISM-NP/A
CATEGORIES:S
LOCATION:128 A-2
END:VEVENT
BEGIN:VEVENT
UID:UZ_PLZ_20260131_1800_494177
DTSTAMP:20260131T180000
DTSTART:20260131T180000
DTEND:20260131T190000
SUMMARY:Konsultacje (I)
CATEGORIES:I
LOCATION:311 A-2
END:VEVENT
BEGIN:VEVENT
UID:UZ_PLZ_20260202_0915_481568
DTSTAMP:20260202T091500
DTSTART:20260202T091500
DTEND:20260202T104500
SUMMARY:Seminarium Instytutowe IMEI (R)
CATEGORIES:R
LOCATION:6a A-2
END:VEVENT
BEGIN:VEVENT
UID:UZ_PLZ_20260212_1000_503788
DTSTAMP:20260212T100000
DTSTART:20260212T100000
DTEND:20260212T120000
SUMMARY:Systemy wbudowane (E): 31IB-SP
CATEGORIES:E
LOCATION:105 A-2
END:VEVENT
BEGIN:VEVENT
UID:UZ_PLZ_20260213_1100_499535
DTSTAMP:20260213T110000
DTSTART:20260213T110000
DTEND:20260213T130000
SUMMARY:Systemy wbudowane (E): 31INF-PSI-SP\; 32INF-ISM-SP\; 33INF-SSI-SP\; 34INF-SSI-SP
CATEGORIES:E
LOCATION:115 A-2
END:VEVENT
BEGIN:VEVENT
UID:UZ_PLZ_20260214_1100_499532
DTSTAMP:20260214T110000
DTSTART:20260214T110000
DTEND:20260214T130000
SUMMARY:Systemy wbudowane (E): 31INF-ISM-NP
CATEGORIES:E
LOCATION:105 A-2
END:VEVENT
BEGIN:VEVENT
UID:UZ_PLZ_20260219_1000_503788
DTSTAMP:20260219T100000
DTSTART:20260219T100000
DTEND:20260219T120000
SUMMARY:Systemy wbudowane (E): 31IB-SP
CATEGORIES:E
LOCATION:105 A-2
END:VEVENT
BEGIN:VEVENT
UID:UZ_PLZ_20260220_1100_499535
DTSTAMP:20260220T110000
DTSTART:20260220T110000
DTEND:20260220T130000
SUMMARY:Systemy wbudowane (E): 31INF-PSI-SP\; 32INF-ISM-SP\; 33INF-SSI-SP\; 34INF-SSI-SP
CATEGORIES:E
LOCATION:115 A-2
END:VEVENT
BEGIN:VEVENT
UID:UZ_PLZ_20260221_1100_499532
DTSTAMP:20260221T110000
DTSTART:20260221T110000
DTEND:20260221T130000
SUMMARY:Systemy wbudowane (E): 31INF-ISM-NP
CATEGORIES:E
LOCATION:128 A-2
END:VEVENT
END:VCALENDAR
