BEGIN:VCALENDAR
TZID:Europe/Warsaw
X-WR-TIMEZONE:Europe/Warsaw
VERSION:2.0
PRODID:-//Uniwersytet Zielonogórski//NONSGML Plan zajęć v1.0//EN
NAME:Plan zajęć - semestr letni 2025/2026
X-WR-CALNAME:Plan zajęć - semestr letni 2025/2026
COLOR:green
CALSCALE:GREGORIAN
BEGIN:VEVENT
UID:UZ_PLZ_20260426_1615_495673
DTSTAMP:20260426T161500
DTSTART:20260426T161500
DTEND:20260426T173500
SUMMARY:Handel i usługi internetowe (W): 21E-B-NP
CATEGORIES:W
LOCATION:128 A-2
DESCRIPTION:<a href="https://classroom.google.com/c/ODUwNDEyNjA4MTI2">Google Classroom</a> 
END:VEVENT
BEGIN:VEVENT
UID:UZ_PLZ_20260426_1800_495677
DTSTAMP:20260426T180000
DTSTART:20260426T180000
DTEND:20260426T193000
SUMMARY:Handel i usługi internetowe (L): 21E-B-NP
CATEGORIES:L
LOCATION:211 A-2
DESCRIPTION:<a href="https://classroom.google.com/c/ODUwNDEyNjA4MTI2">Google Classroom</a> 
END:VEVENT
BEGIN:VEVENT
UID:UZ_PLZ_20260428_1245_495214
DTSTAMP:20260428T124500
DTSTART:20260428T124500
DTEND:20260428T141000
SUMMARY:Handel i usługi internetowe (W): 21E-B-SP
CATEGORIES:W
LOCATION:109 A-2
DESCRIPTION:<a href="https://classroom.google.com/c/ODQ3MzU5MTA5ODI4">Google Classroom</a> 
END:VEVENT
BEGIN:VEVENT
UID:UZ_PLZ_20260430_0910_495222
DTSTAMP:20260430T091000
DTSTART:20260430T091000
DTEND:20260430T104000
SUMMARY:Handel i usługi internetowe (L): 21E-B-SP  /A
CATEGORIES:L
LOCATION:211 A-2
DESCRIPTION:<a href="https://classroom.google.com/c/ODQ3MzU5MTA5ODI4">Google Classroom</a> 
END:VEVENT
BEGIN:VEVENT
UID:UZ_PLZ_20260430_1045_497761
DTSTAMP:20260430T104500
DTSTART:20260430T104500
DTEND:20260430T120000
SUMMARY:Seminarium Instytutowe ISSI (R)
CATEGORIES:R
LOCATION:412 A-2
END:VEVENT
BEGIN:VEVENT
UID:UZ_PLZ_20260505_1245_495237
DTSTAMP:20260505T124500
DTSTART:20260505T124500
DTEND:20260505T142000
SUMMARY:Handel i usługi internetowe (P): 21E-B-SP  /A
CATEGORIES:P
LOCATION:211 A-2
DESCRIPTION:<a href="https://classroom.google.com/c/ODQ3MzU5MTA5ODI4">Google Classroom</a> 
END:VEVENT
BEGIN:VEVENT
UID:UZ_PLZ_20260506_0915_495225
DTSTAMP:20260506T091500
DTSTART:20260506T091500
DTEND:20260506T105000
SUMMARY:Projekt reklamy elektronicznej (P): 11E-B-SP/A
CATEGORIES:P
LOCATION:308 A-2
DESCRIPTION:<a href="https://classroom.google.com/c/ODQ3MzcyMTgzMjg5">Google Classroom</a> 
END:VEVENT
BEGIN:VEVENT
UID:UZ_PLZ_20260506_1100_495264
DTSTAMP:20260506T110000
DTSTART:20260506T110000
DTEND:20260506T123500
SUMMARY:Projekt reklamy elektronicznej (P): 11E-B-SP/B
CATEGORIES:P
LOCATION:308 A-2
DESCRIPTION:<a href="https://classroom.google.com/c/ODQ3MzcyMTgzMjg5">Google Classroom</a> 
END:VEVENT
BEGIN:VEVENT
UID:UZ_PLZ_20260507_0910_495222
DTSTAMP:20260507T091000
DTSTART:20260507T091000
DTEND:20260507T104000
SUMMARY:Handel i usługi internetowe (L): 21E-B-SP  /A
CATEGORIES:L
LOCATION:211 A-2
DESCRIPTION:<a href="https://classroom.google.com/c/ODQ3MzU5MTA5ODI4">Google Classroom</a> 
END:VEVENT
BEGIN:VEVENT
UID:UZ_PLZ_20260507_1045_497761
DTSTAMP:20260507T104500
DTSTART:20260507T104500
DTEND:20260507T120000
SUMMARY:Seminarium Instytutowe ISSI (R)
CATEGORIES:R
LOCATION:412 A-2
END:VEVENT
BEGIN:VEVENT
UID:UZ_PLZ_20260510_1610_495672
DTSTAMP:20260510T161000
DTSTART:20260510T161000
DTEND:20260510T175000
SUMMARY:Handel i usługi internetowe (P): 21E-B-NP
CATEGORIES:P
LOCATION:211 A-2
DESCRIPTION:<a href="https://classroom.google.com/c/ODUwNDEyNjA4MTI2">Google Classroom</a> 
END:VEVENT
BEGIN:VEVENT
UID:UZ_PLZ_20260510_1800_495677
DTSTAMP:20260510T180000
DTSTART:20260510T180000
DTEND:20260510T193000
SUMMARY:Handel i usługi internetowe (L): 21E-B-NP
CATEGORIES:L
LOCATION:211 A-2
DESCRIPTION:<a href="https://classroom.google.com/c/ODUwNDEyNjA4MTI2">Google Classroom</a> 
END:VEVENT
BEGIN:VEVENT
UID:UZ_PLZ_20260512_1245_495214
DTSTAMP:20260512T124500
DTSTART:20260512T124500
DTEND:20260512T141000
SUMMARY:Handel i usługi internetowe (W): 21E-B-SP
CATEGORIES:W
LOCATION:109 A-2
DESCRIPTION:<a href="https://classroom.google.com/c/ODQ3MzU5MTA5ODI4">Google Classroom</a> 
END:VEVENT
BEGIN:VEVENT
UID:UZ_PLZ_20260514_0910_495222
DTSTAMP:20260514T091000
DTSTART:20260514T091000
DTEND:20260514T104000
SUMMARY:Handel i usługi internetowe (L): 21E-B-SP  /A
CATEGORIES:L
LOCATION:211 A-2
DESCRIPTION:<a href="https://classroom.google.com/c/ODQ3MzU5MTA5ODI4">Google Classroom</a> 
END:VEVENT
BEGIN:VEVENT
UID:UZ_PLZ_20260514_1045_497761
DTSTAMP:20260514T104500
DTSTART:20260514T104500
DTEND:20260514T120000
SUMMARY:Seminarium Instytutowe ISSI (R)
CATEGORIES:R
LOCATION:412 A-2
END:VEVENT
BEGIN:VEVENT
UID:UZ_PLZ_20260517_1615_495673
DTSTAMP:20260517T161500
DTSTART:20260517T161500
DTEND:20260517T173500
SUMMARY:Handel i usługi internetowe (W): 21E-B-NP
CATEGORIES:W
LOCATION:128 A-2
DESCRIPTION:<a href="https://classroom.google.com/c/ODUwNDEyNjA4MTI2">Google Classroom</a> 
END:VEVENT
BEGIN:VEVENT
UID:UZ_PLZ_20260517_1800_495677
DTSTAMP:20260517T180000
DTSTART:20260517T180000
DTEND:20260517T193000
SUMMARY:Handel i usługi internetowe (L): 21E-B-NP
CATEGORIES:L
LOCATION:211 A-2
DESCRIPTION:<a href="https://classroom.google.com/c/ODUwNDEyNjA4MTI2">Google Classroom</a> 
END:VEVENT
BEGIN:VEVENT
UID:UZ_PLZ_20260519_1245_495237
DTSTAMP:20260519T124500
DTSTART:20260519T124500
DTEND:20260519T142000
SUMMARY:Handel i usługi internetowe (P): 21E-B-SP  /A
CATEGORIES:P
LOCATION:211 A-2
DESCRIPTION:<a href="https://classroom.google.com/c/ODQ3MzU5MTA5ODI4">Google Classroom</a> 
END:VEVENT
BEGIN:VEVENT
UID:UZ_PLZ_20260520_0915_495225
DTSTAMP:20260520T091500
DTSTART:20260520T091500
DTEND:20260520T105000
SUMMARY:Projekt reklamy elektronicznej (P): 11E-B-SP/A
CATEGORIES:P
LOCATION:308 A-2
DESCRIPTION:<a href="https://classroom.google.com/c/ODQ3MzcyMTgzMjg5">Google Classroom</a> 
END:VEVENT
BEGIN:VEVENT
UID:UZ_PLZ_20260520_1100_495264
DTSTAMP:20260520T110000
DTSTART:20260520T110000
DTEND:20260520T123500
SUMMARY:Projekt reklamy elektronicznej (P): 11E-B-SP/B
CATEGORIES:P
LOCATION:308 A-2
DESCRIPTION:<a href="https://classroom.google.com/c/ODQ3MzcyMTgzMjg5">Google Classroom</a> 
END:VEVENT
BEGIN:VEVENT
UID:UZ_PLZ_20260521_0910_495222
DTSTAMP:20260521T091000
DTSTART:20260521T091000
DTEND:20260521T104000
SUMMARY:Handel i usługi internetowe (L): 21E-B-SP  /A
CATEGORIES:L
LOCATION:211 A-2
DESCRIPTION:<a href="https://classroom.google.com/c/ODQ3MzU5MTA5ODI4">Google Classroom</a> 
END:VEVENT
BEGIN:VEVENT
UID:UZ_PLZ_20260521_1045_497761
DTSTAMP:20260521T104500
DTSTART:20260521T104500
DTEND:20260521T120000
SUMMARY:Seminarium Instytutowe ISSI (R)
CATEGORIES:R
LOCATION:412 A-2
END:VEVENT
BEGIN:VEVENT
UID:UZ_PLZ_20260526_1245_495214
DTSTAMP:20260526T124500
DTSTART:20260526T124500
DTEND:20260526T141000
SUMMARY:Handel i usługi internetowe (W): 21E-B-SP
CATEGORIES:W
LOCATION:109 A-2
DESCRIPTION:<a href="https://classroom.google.com/c/ODQ3MzU5MTA5ODI4">Google Classroom</a> 
END:VEVENT
BEGIN:VEVENT
UID:UZ_PLZ_20260528_0910_495222
DTSTAMP:20260528T091000
DTSTART:20260528T091000
DTEND:20260528T104000
SUMMARY:Handel i usługi internetowe (L): 21E-B-SP  /A
CATEGORIES:L
LOCATION:211 A-2
DESCRIPTION:<a href="https://classroom.google.com/c/ODQ3MzU5MTA5ODI4">Google Classroom</a> 
END:VEVENT
BEGIN:VEVENT
UID:UZ_PLZ_20260528_1045_497761
DTSTAMP:20260528T104500
DTSTART:20260528T104500
DTEND:20260528T120000
SUMMARY:Seminarium Instytutowe ISSI (R)
CATEGORIES:R
LOCATION:412 A-2
END:VEVENT
BEGIN:VEVENT
UID:UZ_PLZ_20260531_1610_495672
DTSTAMP:20260531T161000
DTSTART:20260531T161000
DTEND:20260531T175000
SUMMARY:Handel i usługi internetowe (P): 21E-B-NP
CATEGORIES:P
LOCATION:211 A-2
DESCRIPTION:<a href="https://classroom.google.com/c/ODUwNDEyNjA4MTI2">Google Classroom</a> 
END:VEVENT
BEGIN:VEVENT
UID:UZ_PLZ_20260531_1800_495677
DTSTAMP:20260531T180000
DTSTART:20260531T180000
DTEND:20260531T193000
SUMMARY:Handel i usługi internetowe (L): 21E-B-NP
CATEGORIES:L
LOCATION:211 A-2
DESCRIPTION:<a href="https://classroom.google.com/c/ODUwNDEyNjA4MTI2">Google Classroom</a> 
END:VEVENT
BEGIN:VEVENT
UID:UZ_PLZ_20260602_1245_495237
DTSTAMP:20260602T124500
DTSTART:20260602T124500
DTEND:20260602T142000
SUMMARY:Handel i usługi internetowe (P): 21E-B-SP  /A
CATEGORIES:P
LOCATION:211 A-2
DESCRIPTION:<a href="https://classroom.google.com/c/ODQ3MzU5MTA5ODI4">Google Classroom</a> 
END:VEVENT
BEGIN:VEVENT
UID:UZ_PLZ_20260603_0915_495225
DTSTAMP:20260603T091500
DTSTART:20260603T091500
DTEND:20260603T105000
SUMMARY:Projekt reklamy elektronicznej (P): 11E-B-SP/A
CATEGORIES:P
LOCATION:308 A-2
DESCRIPTION:<a href="https://classroom.google.com/c/ODQ3MzcyMTgzMjg5">Google Classroom</a> 
END:VEVENT
BEGIN:VEVENT
UID:UZ_PLZ_20260603_1100_495264
DTSTAMP:20260603T110000
DTSTART:20260603T110000
DTEND:20260603T123500
SUMMARY:Projekt reklamy elektronicznej (P): 11E-B-SP/B
CATEGORIES:P
LOCATION:308 A-2
DESCRIPTION:<a href="https://classroom.google.com/c/ODQ3MzcyMTgzMjg5">Google Classroom</a> 
END:VEVENT
BEGIN:VEVENT
UID:UZ_PLZ_20260609_1245_495214
DTSTAMP:20260609T124500
DTSTART:20260609T124500
DTEND:20260609T141000
SUMMARY:Handel i usługi internetowe (W): 21E-B-SP
CATEGORIES:W
LOCATION:109 A-2
DESCRIPTION:<a href="https://classroom.google.com/c/ODQ3MzU5MTA5ODI4">Google Classroom</a> 
END:VEVENT
BEGIN:VEVENT
UID:UZ_PLZ_20260611_0910_495222
DTSTAMP:20260611T091000
DTSTART:20260611T091000
DTEND:20260611T104000
SUMMARY:Handel i usługi internetowe (L): 21E-B-SP  /A
CATEGORIES:L
LOCATION:211 A-2
DESCRIPTION:<a href="https://classroom.google.com/c/ODQ3MzU5MTA5ODI4">Google Classroom</a> 
END:VEVENT
BEGIN:VEVENT
UID:UZ_PLZ_20260611_1045_497761
DTSTAMP:20260611T104500
DTSTART:20260611T104500
DTEND:20260611T120000
SUMMARY:Seminarium Instytutowe ISSI (R)
CATEGORIES:R
LOCATION:412 A-2
END:VEVENT
BEGIN:VEVENT
UID:UZ_PLZ_20260614_1615_495673
DTSTAMP:20260614T161500
DTSTART:20260614T161500
DTEND:20260614T173500
SUMMARY:Handel i usługi internetowe (W): 21E-B-NP
CATEGORIES:W
LOCATION:128 A-2
DESCRIPTION:<a href="https://classroom.google.com/c/ODUwNDEyNjA4MTI2">Google Classroom</a> 
END:VEVENT
BEGIN:VEVENT
UID:UZ_PLZ_20260614_1800_495677
DTSTAMP:20260614T180000
DTSTART:20260614T180000
DTEND:20260614T193000
SUMMARY:Handel i usługi internetowe (L): 21E-B-NP
CATEGORIES:L
LOCATION:211 A-2
DESCRIPTION:<a href="https://classroom.google.com/c/ODUwNDEyNjA4MTI2">Google Classroom</a> 
END:VEVENT
BEGIN:VEVENT
UID:UZ_PLZ_20260616_1245_495237
DTSTAMP:20260616T124500
DTSTART:20260616T124500
DTEND:20260616T142000
SUMMARY:Handel i usługi internetowe (P): 21E-B-SP  /A
CATEGORIES:P
LOCATION:211 A-2
DESCRIPTION:<a href="https://classroom.google.com/c/ODQ3MzU5MTA5ODI4">Google Classroom</a> 
END:VEVENT
BEGIN:VEVENT
UID:UZ_PLZ_20260618_0910_495222
DTSTAMP:20260618T091000
DTSTART:20260618T091000
DTEND:20260618T104000
SUMMARY:Handel i usługi internetowe (L): 21E-B-SP  /A
CATEGORIES:L
LOCATION:211 A-2
DESCRIPTION:<a href="https://classroom.google.com/c/ODQ3MzU5MTA5ODI4">Google Classroom</a> 
END:VEVENT
BEGIN:VEVENT
UID:UZ_PLZ_20260618_1045_497761
DTSTAMP:20260618T104500
DTSTART:20260618T104500
DTEND:20260618T120000
SUMMARY:Seminarium Instytutowe ISSI (R)
CATEGORIES:R
LOCATION:412 A-2
END:VEVENT
END:VCALENDAR
