BEGIN:VCALENDAR
TZID:Europe/Warsaw
X-WR-TIMEZONE:Europe/Warsaw
VERSION:2.0
PRODID:-//Uniwersytet Zielonogórski//NONSGML Plan zajęć v1.0//EN
NAME:Plan zajęć - semestr letni 2025/2026
X-WR-CALNAME:Plan zajęć - semestr letni 2025/2026
COLOR:green
CALSCALE:GREGORIAN
BEGIN:VEVENT
UID:UZ_PLZ_20260426_0730_499727
DTSTAMP:20260426T073000
DTSTART:20260426T073000
DTEND:20260426T090000
SUMMARY:Metodologia projektowania innowacyjnych systemów technicznych (P): 31MiBM-KM-NP
CATEGORIES:P
LOCATION:B401 A-11
ATTACH:https://classroom.google.com/c/ODUwNDAwMTIwMjQz
END:VEVENT
BEGIN:VEVENT
UID:UZ_PLZ_20260426_0915_499727
DTSTAMP:20260426T091500
DTSTART:20260426T091500
DTEND:20260426T104500
SUMMARY:Metodologia projektowania innowacyjnych systemów technicznych (P): 31MiBM-KM-NP
CATEGORIES:P
LOCATION:B401 A-11
ATTACH:https://classroom.google.com/c/ODUwNDAwMTIwMjQz
END:VEVENT
BEGIN:VEVENT
UID:UZ_PLZ_20260426_1100_499826
DTSTAMP:20260426T110000
DTSTART:20260426T110000
DTEND:20260426T123000
SUMMARY:Zarządzanie projektami (P): 31MiBM-KM-NP
CATEGORIES:P
LOCATION:B401 A-11
ATTACH:https://classroom.google.com/c/ODUwMzk5OTQ3NzM3
END:VEVENT
BEGIN:VEVENT
UID:UZ_PLZ_20260426_1245_499826
DTSTAMP:20260426T124500
DTSTART:20260426T124500
DTEND:20260426T141500
SUMMARY:Zarządzanie projektami (P): 31MiBM-KM-NP
CATEGORIES:P
LOCATION:B401 A-11
ATTACH:https://classroom.google.com/c/ODUwMzk5OTQ3NzM3
END:VEVENT
BEGIN:VEVENT
UID:UZ_PLZ_20260426_1430_499788
DTSTAMP:20260426T143000
DTSTART:20260426T143000
DTEND:20260426T164500
SUMMARY:Komputerowe wspomaganie projektowania CAD (L): 11MiBM-NP/A
CATEGORIES:L
LOCATION:B401 A-11
ATTACH:https://classroom.google.com/c/ODUwNDA1NjIwMjc0
END:VEVENT
BEGIN:VEVENT
UID:UZ_PLZ_20260426_1650_499806
DTSTAMP:20260426T165000
DTSTART:20260426T165000
DTEND:20260426T190500
SUMMARY:Komputerowe wspomaganie projektowania CAD (L): 11MiBM-NP/B
CATEGORIES:L
LOCATION:B401 A-11
ATTACH:https://classroom.google.com/c/Nzk2NDY1MzA5NDM5
END:VEVENT
BEGIN:VEVENT
UID:UZ_PLZ_20260428_0915_499703
DTSTAMP:20260428T091500
DTSTART:20260428T091500
DTEND:20260428T104000
SUMMARY:Projektowanie i budowa bezzałogowych statków powietrznych (W): 31IL-BSP-SP
CATEGORIES:W
LOCATION:B104 A-11
ATTACH:https://classroom.google.com/c/ODUwNDA1MzUyOTk0
END:VEVENT
BEGIN:VEVENT
UID:UZ_PLZ_20260428_1100_499595
DTSTAMP:20260428T110000
DTSTART:20260428T110000
DTEND:20260428T123000
SUMMARY:Projektowanie i budowa bezzałogowych statków powietrznych (P): 31IL-BSP-SP
CATEGORIES:P
LOCATION:B301 A-11
ATTACH:https://classroom.google.com/c/ODUwNDA1NzY4OTQ1
END:VEVENT
BEGIN:VEVENT
UID:UZ_PLZ_20260428_1245_499676
DTSTAMP:20260428T124500
DTSTART:20260428T124500
DTEND:20260428T141500
SUMMARY:Komputerowe wspomaganie projektowania CAD (L): 11IL-SP
CATEGORIES:L
LOCATION:B301 A-11
ATTACH:https://classroom.google.com/c/ODUwNDA1NDQyNjc2
END:VEVENT
BEGIN:VEVENT
UID:UZ_PLZ_20260428_1430_499643
DTSTAMP:20260428T143000
DTSTART:20260428T143000
DTEND:20260428T160000
SUMMARY:Metodologia projektowania innowacyjnych systemów technicznych (W): 31MiBM-KM-SP
CATEGORIES:W
LOCATION:B301 A-11
ATTACH:https://classroom.google.com/c/ODUwMzg5NzAyMjA1
END:VEVENT
BEGIN:VEVENT
UID:UZ_PLZ_20260428_1615_499620
DTSTAMP:20260428T161500
DTSTART:20260428T161500
DTEND:20260428T174500
SUMMARY:Metodologia projektowania innowacyjnych systemów technicznych (P): 31MiBM-KM-SP
CATEGORIES:P
LOCATION:B301 A-11
ATTACH:https://classroom.google.com/c/ODUwNDE2Njg3NjMz
END:VEVENT
BEGIN:VEVENT
UID:UZ_PLZ_20260505_1100_499595
DTSTAMP:20260505T110000
DTSTART:20260505T110000
DTEND:20260505T123000
SUMMARY:Projektowanie i budowa bezzałogowych statków powietrznych (P): 31IL-BSP-SP
CATEGORIES:P
LOCATION:B301 A-11
ATTACH:https://classroom.google.com/c/ODUwNDA1NzY4OTQ1
END:VEVENT
BEGIN:VEVENT
UID:UZ_PLZ_20260505_1245_499676
DTSTAMP:20260505T124500
DTSTART:20260505T124500
DTEND:20260505T141500
SUMMARY:Komputerowe wspomaganie projektowania CAD (L): 11IL-SP
CATEGORIES:L
LOCATION:B301 A-11
ATTACH:https://classroom.google.com/c/ODUwNDA1NDQyNjc2
END:VEVENT
BEGIN:VEVENT
UID:UZ_PLZ_20260505_1430_499643
DTSTAMP:20260505T143000
DTSTART:20260505T143000
DTEND:20260505T160000
SUMMARY:Metodologia projektowania innowacyjnych systemów technicznych (W): 31MiBM-KM-SP
CATEGORIES:W
LOCATION:B301 A-11
ATTACH:https://classroom.google.com/c/ODUwMzg5NzAyMjA1
END:VEVENT
BEGIN:VEVENT
UID:UZ_PLZ_20260505_1615_499620
DTSTAMP:20260505T161500
DTSTART:20260505T161500
DTEND:20260505T174500
SUMMARY:Metodologia projektowania innowacyjnych systemów technicznych (P): 31MiBM-KM-SP
CATEGORIES:P
LOCATION:B301 A-11
ATTACH:https://classroom.google.com/c/ODUwNDE2Njg3NjMz
END:VEVENT
BEGIN:VEVENT
UID:UZ_PLZ_20260506_0915_500365
DTSTAMP:20260506T091500
DTSTART:20260506T091500
DTEND:20260506T150000
SUMMARY:Rezerwacja Kierownictwo IIM (R)
CATEGORIES:R
END:VEVENT
BEGIN:VEVENT
UID:UZ_PLZ_20260510_0730_499791
DTSTAMP:20260510T073000
DTSTART:20260510T073000
DTEND:20260510T090000
SUMMARY:Metodologia projektowania innowacyjnych systemów technicznych (W): 31MiBM-KM-NP
CATEGORIES:W
LOCATION:B401 A-11
ATTACH:https://classroom.google.com/c/ODUwMzk5OTQzNDQ4
END:VEVENT
BEGIN:VEVENT
UID:UZ_PLZ_20260510_0915_499791
DTSTAMP:20260510T091500
DTSTART:20260510T091500
DTEND:20260510T104500
SUMMARY:Metodologia projektowania innowacyjnych systemów technicznych (W): 31MiBM-KM-NP
CATEGORIES:W
LOCATION:B401 A-11
ATTACH:https://classroom.google.com/c/ODUwMzk5OTQzNDQ4
END:VEVENT
BEGIN:VEVENT
UID:UZ_PLZ_20260510_1100_499721
DTSTAMP:20260510T110000
DTSTART:20260510T110000
DTEND:20260510T123000
SUMMARY:Zarządzanie projektami (W): 31MiBM-KM-NP
CATEGORIES:W
LOCATION:B401 A-11
ATTACH:https://classroom.google.com/c/ODUwMzk5OTE3NjE1
END:VEVENT
BEGIN:VEVENT
UID:UZ_PLZ_20260510_1245_499721
DTSTAMP:20260510T124500
DTSTART:20260510T124500
DTEND:20260510T141500
SUMMARY:Zarządzanie projektami (W): 31MiBM-KM-NP
CATEGORIES:W
LOCATION:B401 A-11
ATTACH:https://classroom.google.com/c/ODUwMzk5OTE3NjE1
END:VEVENT
BEGIN:VEVENT
UID:UZ_PLZ_20260510_1430_499788
DTSTAMP:20260510T143000
DTSTART:20260510T143000
DTEND:20260510T164500
SUMMARY:Komputerowe wspomaganie projektowania CAD (L): 11MiBM-NP/A
CATEGORIES:L
LOCATION:B401 A-11
ATTACH:https://classroom.google.com/c/ODUwNDA1NjIwMjc0
END:VEVENT
BEGIN:VEVENT
UID:UZ_PLZ_20260510_1650_499806
DTSTAMP:20260510T165000
DTSTART:20260510T165000
DTEND:20260510T190500
SUMMARY:Komputerowe wspomaganie projektowania CAD (L): 11MiBM-NP/B
CATEGORIES:L
LOCATION:B401 A-11
ATTACH:https://classroom.google.com/c/Nzk2NDY1MzA5NDM5
END:VEVENT
BEGIN:VEVENT
UID:UZ_PLZ_20260512_0915_499703
DTSTAMP:20260512T091500
DTSTART:20260512T091500
DTEND:20260512T104000
SUMMARY:Projektowanie i budowa bezzałogowych statków powietrznych (W): 31IL-BSP-SP
CATEGORIES:W
LOCATION:B104 A-11
ATTACH:https://classroom.google.com/c/ODUwNDA1MzUyOTk0
END:VEVENT
BEGIN:VEVENT
UID:UZ_PLZ_20260512_1100_499595
DTSTAMP:20260512T110000
DTSTART:20260512T110000
DTEND:20260512T123000
SUMMARY:Projektowanie i budowa bezzałogowych statków powietrznych (P): 31IL-BSP-SP
CATEGORIES:P
LOCATION:B301 A-11
ATTACH:https://classroom.google.com/c/ODUwNDA1NzY4OTQ1
END:VEVENT
BEGIN:VEVENT
UID:UZ_PLZ_20260512_1245_499676
DTSTAMP:20260512T124500
DTSTART:20260512T124500
DTEND:20260512T141500
SUMMARY:Komputerowe wspomaganie projektowania CAD (L): 11IL-SP
CATEGORIES:L
LOCATION:B301 A-11
ATTACH:https://classroom.google.com/c/ODUwNDA1NDQyNjc2
END:VEVENT
BEGIN:VEVENT
UID:UZ_PLZ_20260512_1430_499643
DTSTAMP:20260512T143000
DTSTART:20260512T143000
DTEND:20260512T160000
SUMMARY:Metodologia projektowania innowacyjnych systemów technicznych (W): 31MiBM-KM-SP
CATEGORIES:W
LOCATION:B301 A-11
ATTACH:https://classroom.google.com/c/ODUwMzg5NzAyMjA1
END:VEVENT
BEGIN:VEVENT
UID:UZ_PLZ_20260512_1615_499620
DTSTAMP:20260512T161500
DTSTART:20260512T161500
DTEND:20260512T174500
SUMMARY:Metodologia projektowania innowacyjnych systemów technicznych (P): 31MiBM-KM-SP
CATEGORIES:P
LOCATION:B301 A-11
ATTACH:https://classroom.google.com/c/ODUwNDE2Njg3NjMz
END:VEVENT
BEGIN:VEVENT
UID:UZ_PLZ_20260513_0915_500365
DTSTAMP:20260513T091500
DTSTART:20260513T091500
DTEND:20260513T150000
SUMMARY:Rezerwacja Kierownictwo IIM (R)
CATEGORIES:R
END:VEVENT
BEGIN:VEVENT
UID:UZ_PLZ_20260517_0730_499727
DTSTAMP:20260517T073000
DTSTART:20260517T073000
DTEND:20260517T090000
SUMMARY:Metodologia projektowania innowacyjnych systemów technicznych (P): 31MiBM-KM-NP
CATEGORIES:P
LOCATION:B401 A-11
ATTACH:https://classroom.google.com/c/ODUwNDAwMTIwMjQz
END:VEVENT
BEGIN:VEVENT
UID:UZ_PLZ_20260517_0915_499727
DTSTAMP:20260517T091500
DTSTART:20260517T091500
DTEND:20260517T104500
SUMMARY:Metodologia projektowania innowacyjnych systemów technicznych (P): 31MiBM-KM-NP
CATEGORIES:P
LOCATION:B401 A-11
ATTACH:https://classroom.google.com/c/ODUwNDAwMTIwMjQz
END:VEVENT
BEGIN:VEVENT
UID:UZ_PLZ_20260517_1100_499826
DTSTAMP:20260517T110000
DTSTART:20260517T110000
DTEND:20260517T123000
SUMMARY:Zarządzanie projektami (P): 31MiBM-KM-NP
CATEGORIES:P
LOCATION:B401 A-11
ATTACH:https://classroom.google.com/c/ODUwMzk5OTQ3NzM3
END:VEVENT
BEGIN:VEVENT
UID:UZ_PLZ_20260517_1245_499826
DTSTAMP:20260517T124500
DTSTART:20260517T124500
DTEND:20260517T141500
SUMMARY:Zarządzanie projektami (P): 31MiBM-KM-NP
CATEGORIES:P
LOCATION:B401 A-11
ATTACH:https://classroom.google.com/c/ODUwMzk5OTQ3NzM3
END:VEVENT
BEGIN:VEVENT
UID:UZ_PLZ_20260517_1430_499788
DTSTAMP:20260517T143000
DTSTART:20260517T143000
DTEND:20260517T164500
SUMMARY:Komputerowe wspomaganie projektowania CAD (L): 11MiBM-NP/A
CATEGORIES:L
LOCATION:B401 A-11
ATTACH:https://classroom.google.com/c/ODUwNDA1NjIwMjc0
END:VEVENT
BEGIN:VEVENT
UID:UZ_PLZ_20260517_1650_499806
DTSTAMP:20260517T165000
DTSTART:20260517T165000
DTEND:20260517T190500
SUMMARY:Komputerowe wspomaganie projektowania CAD (L): 11MiBM-NP/B
CATEGORIES:L
LOCATION:B401 A-11
ATTACH:https://classroom.google.com/c/Nzk2NDY1MzA5NDM5
END:VEVENT
BEGIN:VEVENT
UID:UZ_PLZ_20260519_1100_499595
DTSTAMP:20260519T110000
DTSTART:20260519T110000
DTEND:20260519T123000
SUMMARY:Projektowanie i budowa bezzałogowych statków powietrznych (P): 31IL-BSP-SP
CATEGORIES:P
LOCATION:B301 A-11
ATTACH:https://classroom.google.com/c/ODUwNDA1NzY4OTQ1
END:VEVENT
BEGIN:VEVENT
UID:UZ_PLZ_20260519_1245_499676
DTSTAMP:20260519T124500
DTSTART:20260519T124500
DTEND:20260519T141500
SUMMARY:Komputerowe wspomaganie projektowania CAD (L): 11IL-SP
CATEGORIES:L
LOCATION:B301 A-11
ATTACH:https://classroom.google.com/c/ODUwNDA1NDQyNjc2
END:VEVENT
BEGIN:VEVENT
UID:UZ_PLZ_20260519_1430_499643
DTSTAMP:20260519T143000
DTSTART:20260519T143000
DTEND:20260519T160000
SUMMARY:Metodologia projektowania innowacyjnych systemów technicznych (W): 31MiBM-KM-SP
CATEGORIES:W
LOCATION:B301 A-11
ATTACH:https://classroom.google.com/c/ODUwMzg5NzAyMjA1
END:VEVENT
BEGIN:VEVENT
UID:UZ_PLZ_20260519_1615_499620
DTSTAMP:20260519T161500
DTSTART:20260519T161500
DTEND:20260519T174500
SUMMARY:Metodologia projektowania innowacyjnych systemów technicznych (P): 31MiBM-KM-SP
CATEGORIES:P
LOCATION:B301 A-11
ATTACH:https://classroom.google.com/c/ODUwNDE2Njg3NjMz
END:VEVENT
BEGIN:VEVENT
UID:UZ_PLZ_20260520_0915_500365
DTSTAMP:20260520T091500
DTSTART:20260520T091500
DTEND:20260520T150000
SUMMARY:Rezerwacja Kierownictwo IIM (R)
CATEGORIES:R
END:VEVENT
BEGIN:VEVENT
UID:UZ_PLZ_20260526_0915_499703
DTSTAMP:20260526T091500
DTSTART:20260526T091500
DTEND:20260526T104000
SUMMARY:Projektowanie i budowa bezzałogowych statków powietrznych (W): 31IL-BSP-SP
CATEGORIES:W
LOCATION:B104 A-11
ATTACH:https://classroom.google.com/c/ODUwNDA1MzUyOTk0
END:VEVENT
BEGIN:VEVENT
UID:UZ_PLZ_20260526_1100_499595
DTSTAMP:20260526T110000
DTSTART:20260526T110000
DTEND:20260526T123000
SUMMARY:Projektowanie i budowa bezzałogowych statków powietrznych (P): 31IL-BSP-SP
CATEGORIES:P
LOCATION:B301 A-11
ATTACH:https://classroom.google.com/c/ODUwNDA1NzY4OTQ1
END:VEVENT
BEGIN:VEVENT
UID:UZ_PLZ_20260526_1245_499676
DTSTAMP:20260526T124500
DTSTART:20260526T124500
DTEND:20260526T141500
SUMMARY:Komputerowe wspomaganie projektowania CAD (L): 11IL-SP
CATEGORIES:L
LOCATION:B301 A-11
ATTACH:https://classroom.google.com/c/ODUwNDA1NDQyNjc2
END:VEVENT
BEGIN:VEVENT
UID:UZ_PLZ_20260526_1430_499643
DTSTAMP:20260526T143000
DTSTART:20260526T143000
DTEND:20260526T160000
SUMMARY:Metodologia projektowania innowacyjnych systemów technicznych (W): 31MiBM-KM-SP
CATEGORIES:W
LOCATION:B301 A-11
ATTACH:https://classroom.google.com/c/ODUwMzg5NzAyMjA1
END:VEVENT
BEGIN:VEVENT
UID:UZ_PLZ_20260526_1615_499620
DTSTAMP:20260526T161500
DTSTART:20260526T161500
DTEND:20260526T174500
SUMMARY:Metodologia projektowania innowacyjnych systemów technicznych (P): 31MiBM-KM-SP
CATEGORIES:P
LOCATION:B301 A-11
ATTACH:https://classroom.google.com/c/ODUwNDE2Njg3NjMz
END:VEVENT
BEGIN:VEVENT
UID:UZ_PLZ_20260527_0915_500365
DTSTAMP:20260527T091500
DTSTART:20260527T091500
DTEND:20260527T150000
SUMMARY:Rezerwacja Kierownictwo IIM (R)
CATEGORIES:R
END:VEVENT
BEGIN:VEVENT
UID:UZ_PLZ_20260531_0730_499791
DTSTAMP:20260531T073000
DTSTART:20260531T073000
DTEND:20260531T090000
SUMMARY:Metodologia projektowania innowacyjnych systemów technicznych (W): 31MiBM-KM-NP
CATEGORIES:W
LOCATION:B401 A-11
ATTACH:https://classroom.google.com/c/ODUwMzk5OTQzNDQ4
END:VEVENT
BEGIN:VEVENT
UID:UZ_PLZ_20260531_0915_499791
DTSTAMP:20260531T091500
DTSTART:20260531T091500
DTEND:20260531T104500
SUMMARY:Metodologia projektowania innowacyjnych systemów technicznych (W): 31MiBM-KM-NP
CATEGORIES:W
LOCATION:B401 A-11
ATTACH:https://classroom.google.com/c/ODUwMzk5OTQzNDQ4
END:VEVENT
BEGIN:VEVENT
UID:UZ_PLZ_20260531_1100_499721
DTSTAMP:20260531T110000
DTSTART:20260531T110000
DTEND:20260531T123000
SUMMARY:Zarządzanie projektami (W): 31MiBM-KM-NP
CATEGORIES:W
LOCATION:B401 A-11
ATTACH:https://classroom.google.com/c/ODUwMzk5OTE3NjE1
END:VEVENT
BEGIN:VEVENT
UID:UZ_PLZ_20260531_1245_499721
DTSTAMP:20260531T124500
DTSTART:20260531T124500
DTEND:20260531T141500
SUMMARY:Zarządzanie projektami (W): 31MiBM-KM-NP
CATEGORIES:W
LOCATION:B401 A-11
ATTACH:https://classroom.google.com/c/ODUwMzk5OTE3NjE1
END:VEVENT
BEGIN:VEVENT
UID:UZ_PLZ_20260531_1430_499788
DTSTAMP:20260531T143000
DTSTART:20260531T143000
DTEND:20260531T164500
SUMMARY:Komputerowe wspomaganie projektowania CAD (L): 11MiBM-NP/A
CATEGORIES:L
LOCATION:B401 A-11
ATTACH:https://classroom.google.com/c/ODUwNDA1NjIwMjc0
END:VEVENT
BEGIN:VEVENT
UID:UZ_PLZ_20260531_1650_499806
DTSTAMP:20260531T165000
DTSTART:20260531T165000
DTEND:20260531T190500
SUMMARY:Komputerowe wspomaganie projektowania CAD (L): 11MiBM-NP/B
CATEGORIES:L
LOCATION:B401 A-11
ATTACH:https://classroom.google.com/c/Nzk2NDY1MzA5NDM5
END:VEVENT
BEGIN:VEVENT
UID:UZ_PLZ_20260602_1100_499595
DTSTAMP:20260602T110000
DTSTART:20260602T110000
DTEND:20260602T123000
SUMMARY:Projektowanie i budowa bezzałogowych statków powietrznych (P): 31IL-BSP-SP
CATEGORIES:P
LOCATION:B301 A-11
ATTACH:https://classroom.google.com/c/ODUwNDA1NzY4OTQ1
END:VEVENT
BEGIN:VEVENT
UID:UZ_PLZ_20260602_1245_499676
DTSTAMP:20260602T124500
DTSTART:20260602T124500
DTEND:20260602T141500
SUMMARY:Komputerowe wspomaganie projektowania CAD (L): 11IL-SP
CATEGORIES:L
LOCATION:B301 A-11
ATTACH:https://classroom.google.com/c/ODUwNDA1NDQyNjc2
END:VEVENT
BEGIN:VEVENT
UID:UZ_PLZ_20260602_1430_499643
DTSTAMP:20260602T143000
DTSTART:20260602T143000
DTEND:20260602T160000
SUMMARY:Metodologia projektowania innowacyjnych systemów technicznych (W): 31MiBM-KM-SP
CATEGORIES:W
LOCATION:B301 A-11
ATTACH:https://classroom.google.com/c/ODUwMzg5NzAyMjA1
END:VEVENT
BEGIN:VEVENT
UID:UZ_PLZ_20260602_1615_499620
DTSTAMP:20260602T161500
DTSTART:20260602T161500
DTEND:20260602T174500
SUMMARY:Metodologia projektowania innowacyjnych systemów technicznych (P): 31MiBM-KM-SP
CATEGORIES:P
LOCATION:B301 A-11
ATTACH:https://classroom.google.com/c/ODUwNDE2Njg3NjMz
END:VEVENT
BEGIN:VEVENT
UID:UZ_PLZ_20260603_0915_500365
DTSTAMP:20260603T091500
DTSTART:20260603T091500
DTEND:20260603T150000
SUMMARY:Rezerwacja Kierownictwo IIM (R)
CATEGORIES:R
END:VEVENT
BEGIN:VEVENT
UID:UZ_PLZ_20260609_0915_499703
DTSTAMP:20260609T091500
DTSTART:20260609T091500
DTEND:20260609T104000
SUMMARY:Projektowanie i budowa bezzałogowych statków powietrznych (W): 31IL-BSP-SP
CATEGORIES:W
LOCATION:B104 A-11
ATTACH:https://classroom.google.com/c/ODUwNDA1MzUyOTk0
END:VEVENT
BEGIN:VEVENT
UID:UZ_PLZ_20260609_1100_499595
DTSTAMP:20260609T110000
DTSTART:20260609T110000
DTEND:20260609T123000
SUMMARY:Projektowanie i budowa bezzałogowych statków powietrznych (P): 31IL-BSP-SP
CATEGORIES:P
LOCATION:B301 A-11
ATTACH:https://classroom.google.com/c/ODUwNDA1NzY4OTQ1
END:VEVENT
BEGIN:VEVENT
UID:UZ_PLZ_20260609_1245_499676
DTSTAMP:20260609T124500
DTSTART:20260609T124500
DTEND:20260609T141500
SUMMARY:Komputerowe wspomaganie projektowania CAD (L): 11IL-SP
CATEGORIES:L
LOCATION:B301 A-11
ATTACH:https://classroom.google.com/c/ODUwNDA1NDQyNjc2
END:VEVENT
BEGIN:VEVENT
UID:UZ_PLZ_20260609_1430_499643
DTSTAMP:20260609T143000
DTSTART:20260609T143000
DTEND:20260609T160000
SUMMARY:Metodologia projektowania innowacyjnych systemów technicznych (W): 31MiBM-KM-SP
CATEGORIES:W
LOCATION:B301 A-11
ATTACH:https://classroom.google.com/c/ODUwMzg5NzAyMjA1
END:VEVENT
BEGIN:VEVENT
UID:UZ_PLZ_20260609_1615_499620
DTSTAMP:20260609T161500
DTSTART:20260609T161500
DTEND:20260609T174500
SUMMARY:Metodologia projektowania innowacyjnych systemów technicznych (P): 31MiBM-KM-SP
CATEGORIES:P
LOCATION:B301 A-11
ATTACH:https://classroom.google.com/c/ODUwNDE2Njg3NjMz
END:VEVENT
BEGIN:VEVENT
UID:UZ_PLZ_20260610_0915_500365
DTSTAMP:20260610T091500
DTSTART:20260610T091500
DTEND:20260610T150000
SUMMARY:Rezerwacja Kierownictwo IIM (R)
CATEGORIES:R
END:VEVENT
BEGIN:VEVENT
UID:UZ_PLZ_20260614_0730_499727
DTSTAMP:20260614T073000
DTSTART:20260614T073000
DTEND:20260614T090000
SUMMARY:Metodologia projektowania innowacyjnych systemów technicznych (P): 31MiBM-KM-NP
CATEGORIES:P
LOCATION:B401 A-11
ATTACH:https://classroom.google.com/c/ODUwNDAwMTIwMjQz
END:VEVENT
BEGIN:VEVENT
UID:UZ_PLZ_20260614_0915_499727
DTSTAMP:20260614T091500
DTSTART:20260614T091500
DTEND:20260614T104500
SUMMARY:Metodologia projektowania innowacyjnych systemów technicznych (P): 31MiBM-KM-NP
CATEGORIES:P
LOCATION:B401 A-11
ATTACH:https://classroom.google.com/c/ODUwNDAwMTIwMjQz
END:VEVENT
BEGIN:VEVENT
UID:UZ_PLZ_20260614_1100_499826
DTSTAMP:20260614T110000
DTSTART:20260614T110000
DTEND:20260614T123000
SUMMARY:Zarządzanie projektami (P): 31MiBM-KM-NP
CATEGORIES:P
LOCATION:B401 A-11
ATTACH:https://classroom.google.com/c/ODUwMzk5OTQ3NzM3
END:VEVENT
BEGIN:VEVENT
UID:UZ_PLZ_20260614_1245_499826
DTSTAMP:20260614T124500
DTSTART:20260614T124500
DTEND:20260614T141500
SUMMARY:Zarządzanie projektami (P): 31MiBM-KM-NP
CATEGORIES:P
LOCATION:B401 A-11
ATTACH:https://classroom.google.com/c/ODUwMzk5OTQ3NzM3
END:VEVENT
BEGIN:VEVENT
UID:UZ_PLZ_20260614_1430_499788
DTSTAMP:20260614T143000
DTSTART:20260614T143000
DTEND:20260614T164500
SUMMARY:Komputerowe wspomaganie projektowania CAD (L): 11MiBM-NP/A
CATEGORIES:L
LOCATION:B401 A-11
ATTACH:https://classroom.google.com/c/ODUwNDA1NjIwMjc0
END:VEVENT
BEGIN:VEVENT
UID:UZ_PLZ_20260614_1650_499806
DTSTAMP:20260614T165000
DTSTART:20260614T165000
DTEND:20260614T190500
SUMMARY:Komputerowe wspomaganie projektowania CAD (L): 11MiBM-NP/B
CATEGORIES:L
LOCATION:B401 A-11
ATTACH:https://classroom.google.com/c/Nzk2NDY1MzA5NDM5
END:VEVENT
BEGIN:VEVENT
UID:UZ_PLZ_20260616_1100_499595
DTSTAMP:20260616T110000
DTSTART:20260616T110000
DTEND:20260616T123000
SUMMARY:Projektowanie i budowa bezzałogowych statków powietrznych (P): 31IL-BSP-SP
CATEGORIES:P
LOCATION:B301 A-11
ATTACH:https://classroom.google.com/c/ODUwNDA1NzY4OTQ1
END:VEVENT
BEGIN:VEVENT
UID:UZ_PLZ_20260616_1245_499676
DTSTAMP:20260616T124500
DTSTART:20260616T124500
DTEND:20260616T141500
SUMMARY:Komputerowe wspomaganie projektowania CAD (L): 11IL-SP
CATEGORIES:L
LOCATION:B301 A-11
ATTACH:https://classroom.google.com/c/ODUwNDA1NDQyNjc2
END:VEVENT
BEGIN:VEVENT
UID:UZ_PLZ_20260616_1430_499643
DTSTAMP:20260616T143000
DTSTART:20260616T143000
DTEND:20260616T160000
SUMMARY:Metodologia projektowania innowacyjnych systemów technicznych (W): 31MiBM-KM-SP
CATEGORIES:W
LOCATION:B301 A-11
ATTACH:https://classroom.google.com/c/ODUwMzg5NzAyMjA1
END:VEVENT
BEGIN:VEVENT
UID:UZ_PLZ_20260616_1615_499620
DTSTAMP:20260616T161500
DTSTART:20260616T161500
DTEND:20260616T174500
SUMMARY:Metodologia projektowania innowacyjnych systemów technicznych (P): 31MiBM-KM-SP
CATEGORIES:P
LOCATION:B301 A-11
ATTACH:https://classroom.google.com/c/ODUwNDE2Njg3NjMz
END:VEVENT
BEGIN:VEVENT
UID:UZ_PLZ_20260617_0915_500365
DTSTAMP:20260617T091500
DTSTART:20260617T091500
DTEND:20260617T150000
SUMMARY:Rezerwacja Kierownictwo IIM (R)
CATEGORIES:R
END:VEVENT
END:VCALENDAR
