BEGIN:VCALENDAR
TZID:Europe/Warsaw
X-WR-TIMEZONE:Europe/Warsaw
VERSION:2.0
PRODID:-//Uniwersytet Zielonogórski//NONSGML Plan zajęć v1.0//EN
NAME:Plan zajęć - semestr zimowy 2025/2026
X-WR-CALNAME:Plan zajęć - semestr zimowy 2025/2026
COLOR:green
CALSCALE:GREGORIAN
BEGIN:VEVENT
UID:UZ_PLZ_20251002_1315_492643
DTSTAMP:20251002T131500
DTSTART:20251002T131500
DTEND:20251002T153000
SUMMARY:Tendencje rozwojowe w naukach humanistycznych i społecznych (cz. 1) (W): 11SDNHiS-25
CATEGORIES:W
LOCATION:302R A-17
END:VEVENT
BEGIN:VEVENT
UID:UZ_PLZ_20251005_1315_484499
DTSTAMP:20251005T131500
DTSTART:20251005T131500
DTEND:20251005T144500
SUMMARY:Przedmiot do wyboru - Języki świata: cechy uniwersalne i specjalne (L): 31F-GER-NP23/PWW
CATEGORIES:L
LOCATION:K A-20
END:VEVENT
BEGIN:VEVENT
UID:UZ_PLZ_20251006_0945_484447
DTSTAMP:20251006T094500
DTSTART:20251006T094500
DTEND:20251006T111500
SUMMARY:Gramatyka opisowa języka niemieckiego I (W): 21F-GER-SP24
CATEGORIES:W
LOCATION:120 A-20
END:VEVENT
BEGIN:VEVENT
UID:UZ_PLZ_20251006_1130_484471
DTSTAMP:20251006T113000
DTSTART:20251006T113000
DTEND:20251006T130000
SUMMARY:Gramatyka opisowa języka niemieckiego I (Ć): 21F-GER-SP24
CATEGORIES:Ć
LOCATION:120 A-20
END:VEVENT
BEGIN:VEVENT
UID:UZ_PLZ_20251006_1315_492298
DTSTAMP:20251006T131500
DTSTART:20251006T131500
DTEND:20251006T144500
SUMMARY:Wybrane aspekty językoznawstwa ogólnego (Ć): 11F-GER-SD25
CATEGORIES:Ć
LOCATION:120 A-20
END:VEVENT
BEGIN:VEVENT
UID:UZ_PLZ_20251013_0945_484447
DTSTAMP:20251013T094500
DTSTART:20251013T094500
DTEND:20251013T111500
SUMMARY:Gramatyka opisowa języka niemieckiego I (W): 21F-GER-SP24
CATEGORIES:W
LOCATION:120 A-20
END:VEVENT
BEGIN:VEVENT
UID:UZ_PLZ_20251013_1130_484471
DTSTAMP:20251013T113000
DTSTART:20251013T113000
DTEND:20251013T130000
SUMMARY:Gramatyka opisowa języka niemieckiego I (Ć): 21F-GER-SP24
CATEGORIES:Ć
LOCATION:120 A-20
END:VEVENT
BEGIN:VEVENT
UID:UZ_PLZ_20251013_1315_492298
DTSTAMP:20251013T131500
DTSTART:20251013T131500
DTEND:20251013T144500
SUMMARY:Wybrane aspekty językoznawstwa ogólnego (Ć): 11F-GER-SD25
CATEGORIES:Ć
LOCATION:120 A-20
END:VEVENT
BEGIN:VEVENT
UID:UZ_PLZ_20251014_0945_492625
DTSTAMP:20251014T094500
DTSTART:20251014T094500
DTEND:20251014T111500
SUMMARY:Seminarium doktoranckie (S): 21-SDNHiS-24/Jęz
CATEGORIES:S
END:VEVENT
BEGIN:VEVENT
UID:UZ_PLZ_20251014_1130_493540
DTSTAMP:20251014T113000
DTSTART:20251014T113000
DTEND:20251014T130000
SUMMARY:Konsultacje (I)
CATEGORIES:I
LOCATION:230 A-20
END:VEVENT
BEGIN:VEVENT
UID:UZ_PLZ_20251019_1315_484499
DTSTAMP:20251019T131500
DTSTART:20251019T131500
DTEND:20251019T144500
SUMMARY:Przedmiot do wyboru - Języki świata: cechy uniwersalne i specjalne (L): 31F-GER-NP23/PWW
CATEGORIES:L
LOCATION:K A-20
END:VEVENT
BEGIN:VEVENT
UID:UZ_PLZ_20251020_0945_484447
DTSTAMP:20251020T094500
DTSTART:20251020T094500
DTEND:20251020T111500
SUMMARY:Gramatyka opisowa języka niemieckiego I (W): 21F-GER-SP24
CATEGORIES:W
LOCATION:120 A-20
END:VEVENT
BEGIN:VEVENT
UID:UZ_PLZ_20251020_1130_484471
DTSTAMP:20251020T113000
DTSTART:20251020T113000
DTEND:20251020T130000
SUMMARY:Gramatyka opisowa języka niemieckiego I (Ć): 21F-GER-SP24
CATEGORIES:Ć
LOCATION:120 A-20
END:VEVENT
BEGIN:VEVENT
UID:UZ_PLZ_20251020_1315_492298
DTSTAMP:20251020T131500
DTSTART:20251020T131500
DTEND:20251020T144500
SUMMARY:Wybrane aspekty językoznawstwa ogólnego (Ć): 11F-GER-SD25
CATEGORIES:Ć
LOCATION:120 A-20
END:VEVENT
BEGIN:VEVENT
UID:UZ_PLZ_20251021_1130_493540
DTSTAMP:20251021T113000
DTSTART:20251021T113000
DTEND:20251021T130000
SUMMARY:Konsultacje (I)
CATEGORIES:I
LOCATION:230 A-20
END:VEVENT
BEGIN:VEVENT
UID:UZ_PLZ_20251026_1315_484499
DTSTAMP:20251026T131500
DTSTART:20251026T131500
DTEND:20251026T144500
SUMMARY:Przedmiot do wyboru - Języki świata: cechy uniwersalne i specjalne (L): 31F-GER-NP23/PWW
CATEGORIES:L
LOCATION:K A-20
END:VEVENT
BEGIN:VEVENT
UID:UZ_PLZ_20251027_0945_484447
DTSTAMP:20251027T094500
DTSTART:20251027T094500
DTEND:20251027T111500
SUMMARY:Gramatyka opisowa języka niemieckiego I (W): 21F-GER-SP24
CATEGORIES:W
LOCATION:120 A-20
END:VEVENT
BEGIN:VEVENT
UID:UZ_PLZ_20251027_1130_484471
DTSTAMP:20251027T113000
DTSTART:20251027T113000
DTEND:20251027T130000
SUMMARY:Gramatyka opisowa języka niemieckiego I (Ć): 21F-GER-SP24
CATEGORIES:Ć
LOCATION:120 A-20
END:VEVENT
BEGIN:VEVENT
UID:UZ_PLZ_20251027_1315_492298
DTSTAMP:20251027T131500
DTSTART:20251027T131500
DTEND:20251027T144500
SUMMARY:Wybrane aspekty językoznawstwa ogólnego (Ć): 11F-GER-SD25
CATEGORIES:Ć
LOCATION:120 A-20
END:VEVENT
BEGIN:VEVENT
UID:UZ_PLZ_20251028_0945_492625
DTSTAMP:20251028T094500
DTSTART:20251028T094500
DTEND:20251028T111500
SUMMARY:Seminarium doktoranckie (S): 21-SDNHiS-24/Jęz
CATEGORIES:S
END:VEVENT
BEGIN:VEVENT
UID:UZ_PLZ_20251028_1130_493540
DTSTAMP:20251028T113000
DTSTART:20251028T113000
DTEND:20251028T130000
SUMMARY:Konsultacje (I)
CATEGORIES:I
LOCATION:230 A-20
END:VEVENT
BEGIN:VEVENT
UID:UZ_PLZ_20251103_0945_484447
DTSTAMP:20251103T094500
DTSTART:20251103T094500
DTEND:20251103T111500
SUMMARY:Gramatyka opisowa języka niemieckiego I (W): 21F-GER-SP24
CATEGORIES:W
LOCATION:120 A-20
END:VEVENT
BEGIN:VEVENT
UID:UZ_PLZ_20251103_1130_484471
DTSTAMP:20251103T113000
DTSTART:20251103T113000
DTEND:20251103T130000
SUMMARY:Gramatyka opisowa języka niemieckiego I (Ć): 21F-GER-SP24
CATEGORIES:Ć
LOCATION:120 A-20
END:VEVENT
BEGIN:VEVENT
UID:UZ_PLZ_20251103_1315_492298
DTSTAMP:20251103T131500
DTSTART:20251103T131500
DTEND:20251103T144500
SUMMARY:Wybrane aspekty językoznawstwa ogólnego (Ć): 11F-GER-SD25
CATEGORIES:Ć
LOCATION:120 A-20
END:VEVENT
BEGIN:VEVENT
UID:UZ_PLZ_20251104_1130_493540
DTSTAMP:20251104T113000
DTSTART:20251104T113000
DTEND:20251104T130000
SUMMARY:Konsultacje (I)
CATEGORIES:I
LOCATION:230 A-20
END:VEVENT
BEGIN:VEVENT
UID:UZ_PLZ_20251113_0945_484447
DTSTAMP:20251113T094500
DTSTART:20251113T094500
DTEND:20251113T111500
SUMMARY:Gramatyka opisowa języka niemieckiego I (W): 21F-GER-SP24
CATEGORIES:W
LOCATION:120 A-20
END:VEVENT
BEGIN:VEVENT
UID:UZ_PLZ_20251113_1130_484471
DTSTAMP:20251113T113000
DTSTART:20251113T113000
DTEND:20251113T130000
SUMMARY:Gramatyka opisowa języka niemieckiego I (Ć): 21F-GER-SP24
CATEGORIES:Ć
LOCATION:120 A-20
END:VEVENT
BEGIN:VEVENT
UID:UZ_PLZ_20251113_1315_492298
DTSTAMP:20251113T131500
DTSTART:20251113T131500
DTEND:20251113T144500
SUMMARY:Wybrane aspekty językoznawstwa ogólnego (Ć): 11F-GER-SD25
CATEGORIES:Ć
LOCATION:120 A-20
END:VEVENT
BEGIN:VEVENT
UID:UZ_PLZ_20251114_0945_492625
DTSTAMP:20251114T094500
DTSTART:20251114T094500
DTEND:20251114T111500
SUMMARY:Seminarium doktoranckie (S): 21-SDNHiS-24/Jęz
CATEGORIES:S
END:VEVENT
BEGIN:VEVENT
UID:UZ_PLZ_20251114_1130_493540
DTSTAMP:20251114T113000
DTSTART:20251114T113000
DTEND:20251114T130000
SUMMARY:Konsultacje (I)
CATEGORIES:I
LOCATION:230 A-20
END:VEVENT
BEGIN:VEVENT
UID:UZ_PLZ_20251116_1315_484499
DTSTAMP:20251116T131500
DTSTART:20251116T131500
DTEND:20251116T144500
SUMMARY:Przedmiot do wyboru - Języki świata: cechy uniwersalne i specjalne (L): 31F-GER-NP23/PWW
CATEGORIES:L
LOCATION:K A-20
END:VEVENT
BEGIN:VEVENT
UID:UZ_PLZ_20251117_0945_484447
DTSTAMP:20251117T094500
DTSTART:20251117T094500
DTEND:20251117T111500
SUMMARY:Gramatyka opisowa języka niemieckiego I (W): 21F-GER-SP24
CATEGORIES:W
LOCATION:120 A-20
END:VEVENT
BEGIN:VEVENT
UID:UZ_PLZ_20251117_1130_484471
DTSTAMP:20251117T113000
DTSTART:20251117T113000
DTEND:20251117T130000
SUMMARY:Gramatyka opisowa języka niemieckiego I (Ć): 21F-GER-SP24
CATEGORIES:Ć
LOCATION:120 A-20
END:VEVENT
BEGIN:VEVENT
UID:UZ_PLZ_20251117_1315_492298
DTSTAMP:20251117T131500
DTSTART:20251117T131500
DTEND:20251117T144500
SUMMARY:Wybrane aspekty językoznawstwa ogólnego (Ć): 11F-GER-SD25
CATEGORIES:Ć
LOCATION:120 A-20
END:VEVENT
BEGIN:VEVENT
UID:UZ_PLZ_20251118_1130_493540
DTSTAMP:20251118T113000
DTSTART:20251118T113000
DTEND:20251118T130000
SUMMARY:Konsultacje (I)
CATEGORIES:I
LOCATION:230 A-20
END:VEVENT
BEGIN:VEVENT
UID:UZ_PLZ_20251120_1315_492643
DTSTAMP:20251120T131500
DTSTART:20251120T131500
DTEND:20251120T144500
SUMMARY:Tendencje rozwojowe w naukach humanistycznych i społecznych (cz. 1) (W): 11SDNHiS-25
CATEGORIES:W
LOCATION:302R A-17
END:VEVENT
BEGIN:VEVENT
UID:UZ_PLZ_20251123_1315_484499
DTSTAMP:20251123T131500
DTSTART:20251123T131500
DTEND:20251123T144500
SUMMARY:Przedmiot do wyboru - Języki świata: cechy uniwersalne i specjalne (L): 31F-GER-NP23/PWW
CATEGORIES:L
LOCATION:K A-20
END:VEVENT
BEGIN:VEVENT
UID:UZ_PLZ_20251124_0945_484447
DTSTAMP:20251124T094500
DTSTART:20251124T094500
DTEND:20251124T111500
SUMMARY:Gramatyka opisowa języka niemieckiego I (W): 21F-GER-SP24
CATEGORIES:W
LOCATION:120 A-20
END:VEVENT
BEGIN:VEVENT
UID:UZ_PLZ_20251124_1130_484471
DTSTAMP:20251124T113000
DTSTART:20251124T113000
DTEND:20251124T130000
SUMMARY:Gramatyka opisowa języka niemieckiego I (Ć): 21F-GER-SP24
CATEGORIES:Ć
LOCATION:120 A-20
END:VEVENT
BEGIN:VEVENT
UID:UZ_PLZ_20251124_1315_492298
DTSTAMP:20251124T131500
DTSTART:20251124T131500
DTEND:20251124T144500
SUMMARY:Wybrane aspekty językoznawstwa ogólnego (Ć): 11F-GER-SD25
CATEGORIES:Ć
LOCATION:120 A-20
END:VEVENT
BEGIN:VEVENT
UID:UZ_PLZ_20251125_0945_492625
DTSTAMP:20251125T094500
DTSTART:20251125T094500
DTEND:20251125T111500
SUMMARY:Seminarium doktoranckie (S): 21-SDNHiS-24/Jęz
CATEGORIES:S
END:VEVENT
BEGIN:VEVENT
UID:UZ_PLZ_20251125_1130_493540
DTSTAMP:20251125T113000
DTSTART:20251125T113000
DTEND:20251125T130000
SUMMARY:Konsultacje (I)
CATEGORIES:I
LOCATION:230 A-20
END:VEVENT
BEGIN:VEVENT
UID:UZ_PLZ_20251201_0945_484447
DTSTAMP:20251201T094500
DTSTART:20251201T094500
DTEND:20251201T111500
SUMMARY:Gramatyka opisowa języka niemieckiego I (W): 21F-GER-SP24
CATEGORIES:W
LOCATION:120 A-20
END:VEVENT
BEGIN:VEVENT
UID:UZ_PLZ_20251201_1130_484471
DTSTAMP:20251201T113000
DTSTART:20251201T113000
DTEND:20251201T130000
SUMMARY:Gramatyka opisowa języka niemieckiego I (Ć): 21F-GER-SP24
CATEGORIES:Ć
LOCATION:120 A-20
END:VEVENT
BEGIN:VEVENT
UID:UZ_PLZ_20251201_1315_492298
DTSTAMP:20251201T131500
DTSTART:20251201T131500
DTEND:20251201T144500
SUMMARY:Wybrane aspekty językoznawstwa ogólnego (Ć): 11F-GER-SD25
CATEGORIES:Ć
LOCATION:120 A-20
END:VEVENT
BEGIN:VEVENT
UID:UZ_PLZ_20251202_1130_493540
DTSTAMP:20251202T113000
DTSTART:20251202T113000
DTEND:20251202T130000
SUMMARY:Konsultacje (I)
CATEGORIES:I
LOCATION:230 A-20
END:VEVENT
BEGIN:VEVENT
UID:UZ_PLZ_20251207_1315_484499
DTSTAMP:20251207T131500
DTSTART:20251207T131500
DTEND:20251207T144500
SUMMARY:Przedmiot do wyboru - Języki świata: cechy uniwersalne i specjalne (L): 31F-GER-NP23/PWW
CATEGORIES:L
LOCATION:K A-20
END:VEVENT
BEGIN:VEVENT
UID:UZ_PLZ_20251208_0945_484447
DTSTAMP:20251208T094500
DTSTART:20251208T094500
DTEND:20251208T111500
SUMMARY:Gramatyka opisowa języka niemieckiego I (W): 21F-GER-SP24
CATEGORIES:W
LOCATION:120 A-20
END:VEVENT
BEGIN:VEVENT
UID:UZ_PLZ_20251208_1130_484471
DTSTAMP:20251208T113000
DTSTART:20251208T113000
DTEND:20251208T130000
SUMMARY:Gramatyka opisowa języka niemieckiego I (Ć): 21F-GER-SP24
CATEGORIES:Ć
LOCATION:120 A-20
END:VEVENT
BEGIN:VEVENT
UID:UZ_PLZ_20251208_1315_492298
DTSTAMP:20251208T131500
DTSTART:20251208T131500
DTEND:20251208T144500
SUMMARY:Wybrane aspekty językoznawstwa ogólnego (Ć): 11F-GER-SD25
CATEGORIES:Ć
LOCATION:120 A-20
END:VEVENT
BEGIN:VEVENT
UID:UZ_PLZ_20251209_0945_492625
DTSTAMP:20251209T094500
DTSTART:20251209T094500
DTEND:20251209T111500
SUMMARY:Seminarium doktoranckie (S): 21-SDNHiS-24/Jęz
CATEGORIES:S
END:VEVENT
BEGIN:VEVENT
UID:UZ_PLZ_20251209_1130_493540
DTSTAMP:20251209T113000
DTSTART:20251209T113000
DTEND:20251209T130000
SUMMARY:Konsultacje (I)
CATEGORIES:I
LOCATION:230 A-20
END:VEVENT
BEGIN:VEVENT
UID:UZ_PLZ_20251211_1545_492631
DTSTAMP:20251211T154500
DTSTART:20251211T154500
DTEND:20251211T171500
SUMMARY:Tendencje rozwojowe w naukach humanistycznych i społecznych (cz. 2) (K): 11SDNHiS-25/Jęz
CATEGORIES:K
LOCATION:302R A-17
END:VEVENT
BEGIN:VEVENT
UID:UZ_PLZ_20251214_1315_484499
DTSTAMP:20251214T131500
DTSTART:20251214T131500
DTEND:20251214T144500
SUMMARY:Przedmiot do wyboru - Języki świata: cechy uniwersalne i specjalne (L): 31F-GER-NP23/PWW
CATEGORIES:L
LOCATION:K A-20
END:VEVENT
BEGIN:VEVENT
UID:UZ_PLZ_20251215_0945_484447
DTSTAMP:20251215T094500
DTSTART:20251215T094500
DTEND:20251215T111500
SUMMARY:Gramatyka opisowa języka niemieckiego I (W): 21F-GER-SP24
CATEGORIES:W
LOCATION:120 A-20
END:VEVENT
BEGIN:VEVENT
UID:UZ_PLZ_20251215_1130_484471
DTSTAMP:20251215T113000
DTSTART:20251215T113000
DTEND:20251215T130000
SUMMARY:Gramatyka opisowa języka niemieckiego I (Ć): 21F-GER-SP24
CATEGORIES:Ć
LOCATION:120 A-20
END:VEVENT
BEGIN:VEVENT
UID:UZ_PLZ_20251215_1315_492298
DTSTAMP:20251215T131500
DTSTART:20251215T131500
DTEND:20251215T144500
SUMMARY:Wybrane aspekty językoznawstwa ogólnego (Ć): 11F-GER-SD25
CATEGORIES:Ć
LOCATION:120 A-20
END:VEVENT
BEGIN:VEVENT
UID:UZ_PLZ_20251216_1130_493540
DTSTAMP:20251216T113000
DTSTART:20251216T113000
DTEND:20251216T130000
SUMMARY:Konsultacje (I)
CATEGORIES:I
LOCATION:230 A-20
END:VEVENT
BEGIN:VEVENT
UID:UZ_PLZ_20260107_0945_492625
DTSTAMP:20260107T094500
DTSTART:20260107T094500
DTEND:20260107T111500
SUMMARY:Seminarium doktoranckie (S): 21-SDNHiS-24/Jęz
CATEGORIES:S
END:VEVENT
BEGIN:VEVENT
UID:UZ_PLZ_20260107_1130_493540
DTSTAMP:20260107T113000
DTSTART:20260107T113000
DTEND:20260107T130000
SUMMARY:Konsultacje (I)
CATEGORIES:I
LOCATION:230 A-20
END:VEVENT
BEGIN:VEVENT
UID:UZ_PLZ_20260108_1545_492631
DTSTAMP:20260108T154500
DTSTART:20260108T154500
DTEND:20260108T180000
SUMMARY:Tendencje rozwojowe w naukach humanistycznych i społecznych (cz. 2) (K): 11SDNHiS-25/Jęz
CATEGORIES:K
LOCATION:302R A-17
END:VEVENT
BEGIN:VEVENT
UID:UZ_PLZ_20260111_1315_484499
DTSTAMP:20260111T131500
DTSTART:20260111T131500
DTEND:20260111T144500
SUMMARY:Przedmiot do wyboru - Języki świata: cechy uniwersalne i specjalne (L): 31F-GER-NP23/PWW
CATEGORIES:L
LOCATION:K A-20
END:VEVENT
BEGIN:VEVENT
UID:UZ_PLZ_20260112_0945_484447
DTSTAMP:20260112T094500
DTSTART:20260112T094500
DTEND:20260112T111500
SUMMARY:Gramatyka opisowa języka niemieckiego I (W): 21F-GER-SP24
CATEGORIES:W
LOCATION:120 A-20
END:VEVENT
BEGIN:VEVENT
UID:UZ_PLZ_20260112_1130_484471
DTSTAMP:20260112T113000
DTSTART:20260112T113000
DTEND:20260112T130000
SUMMARY:Gramatyka opisowa języka niemieckiego I (Ć): 21F-GER-SP24
CATEGORIES:Ć
LOCATION:120 A-20
END:VEVENT
BEGIN:VEVENT
UID:UZ_PLZ_20260112_1315_492298
DTSTAMP:20260112T131500
DTSTART:20260112T131500
DTEND:20260112T144500
SUMMARY:Wybrane aspekty językoznawstwa ogólnego (Ć): 11F-GER-SD25
CATEGORIES:Ć
LOCATION:120 A-20
END:VEVENT
BEGIN:VEVENT
UID:UZ_PLZ_20260113_1130_493540
DTSTAMP:20260113T113000
DTSTART:20260113T113000
DTEND:20260113T130000
SUMMARY:Konsultacje (I)
CATEGORIES:I
LOCATION:230 A-20
END:VEVENT
BEGIN:VEVENT
UID:UZ_PLZ_20260119_0945_484447
DTSTAMP:20260119T094500
DTSTART:20260119T094500
DTEND:20260119T111500
SUMMARY:Gramatyka opisowa języka niemieckiego I (W): 21F-GER-SP24
CATEGORIES:W
LOCATION:120 A-20
END:VEVENT
BEGIN:VEVENT
UID:UZ_PLZ_20260119_1130_484471
DTSTAMP:20260119T113000
DTSTART:20260119T113000
DTEND:20260119T130000
SUMMARY:Gramatyka opisowa języka niemieckiego I (Ć): 21F-GER-SP24
CATEGORIES:Ć
LOCATION:120 A-20
END:VEVENT
BEGIN:VEVENT
UID:UZ_PLZ_20260119_1315_492298
DTSTAMP:20260119T131500
DTSTART:20260119T131500
DTEND:20260119T144500
SUMMARY:Wybrane aspekty językoznawstwa ogólnego (Ć): 11F-GER-SD25
CATEGORIES:Ć
LOCATION:120 A-20
END:VEVENT
BEGIN:VEVENT
UID:UZ_PLZ_20260120_0945_492625
DTSTAMP:20260120T094500
DTSTART:20260120T094500
DTEND:20260120T111500
SUMMARY:Seminarium doktoranckie (S): 21-SDNHiS-24/Jęz
CATEGORIES:S
END:VEVENT
BEGIN:VEVENT
UID:UZ_PLZ_20260120_1130_493540
DTSTAMP:20260120T113000
DTSTART:20260120T113000
DTEND:20260120T130000
SUMMARY:Konsultacje (I)
CATEGORIES:I
LOCATION:230 A-20
END:VEVENT
BEGIN:VEVENT
UID:UZ_PLZ_20260122_1545_492631
DTSTAMP:20260122T154500
DTSTART:20260122T154500
DTEND:20260122T180000
SUMMARY:Tendencje rozwojowe w naukach humanistycznych i społecznych (cz. 2) (K): 11SDNHiS-25/Jęz
CATEGORIES:K
LOCATION:302R A-17
END:VEVENT
BEGIN:VEVENT
UID:UZ_PLZ_20260125_1315_484499
DTSTAMP:20260125T131500
DTSTART:20260125T131500
DTEND:20260125T144500
SUMMARY:Przedmiot do wyboru - Języki świata: cechy uniwersalne i specjalne (L): 31F-GER-NP23/PWW
CATEGORIES:L
LOCATION:K A-20
END:VEVENT
BEGIN:VEVENT
UID:UZ_PLZ_20260126_0945_484447
DTSTAMP:20260126T094500
DTSTART:20260126T094500
DTEND:20260126T111500
SUMMARY:Gramatyka opisowa języka niemieckiego I (W): 21F-GER-SP24
CATEGORIES:W
LOCATION:120 A-20
END:VEVENT
BEGIN:VEVENT
UID:UZ_PLZ_20260126_1130_484471
DTSTAMP:20260126T113000
DTSTART:20260126T113000
DTEND:20260126T130000
SUMMARY:Gramatyka opisowa języka niemieckiego I (Ć): 21F-GER-SP24
CATEGORIES:Ć
LOCATION:120 A-20
END:VEVENT
BEGIN:VEVENT
UID:UZ_PLZ_20260126_1315_492298
DTSTAMP:20260126T131500
DTSTART:20260126T131500
DTEND:20260126T144500
SUMMARY:Wybrane aspekty językoznawstwa ogólnego (Ć): 11F-GER-SD25
CATEGORIES:Ć
LOCATION:120 A-20
END:VEVENT
BEGIN:VEVENT
UID:UZ_PLZ_20260127_0945_492625
DTSTAMP:20260127T094500
DTSTART:20260127T094500
DTEND:20260127T103000
SUMMARY:Seminarium doktoranckie (S): 21-SDNHiS-24/Jęz
CATEGORIES:S
END:VEVENT
BEGIN:VEVENT
UID:UZ_PLZ_20260127_1130_493540
DTSTAMP:20260127T113000
DTSTART:20260127T113000
DTEND:20260127T130000
SUMMARY:Konsultacje (I)
CATEGORIES:I
LOCATION:230 A-20
END:VEVENT
BEGIN:VEVENT
UID:UZ_PLZ_20260202_0945_484447
DTSTAMP:20260202T094500
DTSTART:20260202T094500
DTEND:20260202T111500
SUMMARY:Gramatyka opisowa języka niemieckiego I (W): 21F-GER-SP24
CATEGORIES:W
LOCATION:120 A-20
END:VEVENT
BEGIN:VEVENT
UID:UZ_PLZ_20260202_1130_484471
DTSTAMP:20260202T113000
DTSTART:20260202T113000
DTEND:20260202T130000
SUMMARY:Gramatyka opisowa języka niemieckiego I (Ć): 21F-GER-SP24
CATEGORIES:Ć
LOCATION:120 A-20
END:VEVENT
BEGIN:VEVENT
UID:UZ_PLZ_20260202_1315_492298
DTSTAMP:20260202T131500
DTSTART:20260202T131500
DTEND:20260202T144500
SUMMARY:Wybrane aspekty językoznawstwa ogólnego (Ć): 11F-GER-SD25
CATEGORIES:Ć
LOCATION:120 A-20
END:VEVENT
BEGIN:VEVENT
UID:UZ_PLZ_20260203_1000_497722
DTSTAMP:20260203T100000
DTSTART:20260203T100000
DTEND:20260203T113000
SUMMARY:Gramatyka opisowa języka niemieckiego I (E): 21F-GER-SP24
CATEGORIES:E
LOCATION:K A-20
END:VEVENT
BEGIN:VEVENT
UID:UZ_PLZ_20260204_1000_497723
DTSTAMP:20260204T100000
DTSTART:20260204T100000
DTEND:20260204T113000
SUMMARY:Historia językoznawstwa i metody analizy lingwistycznej (E): 11F-GER-SD25/JĘZ
CATEGORIES:E
LOCATION:K A-20
END:VEVENT
BEGIN:VEVENT
UID:UZ_PLZ_20260224_1000_497722
DTSTAMP:20260224T100000
DTSTART:20260224T100000
DTEND:20260224T110000
SUMMARY:Gramatyka opisowa języka niemieckiego I (E): 21F-GER-SP24
CATEGORIES:E
LOCATION:K A-20
END:VEVENT
BEGIN:VEVENT
UID:UZ_PLZ_20260225_1000_497723
DTSTAMP:20260225T100000
DTSTART:20260225T100000
DTEND:20260225T110000
SUMMARY:Historia językoznawstwa i metody analizy lingwistycznej (E): 11F-GER-SD25/JĘZ
CATEGORIES:E
LOCATION:K A-20
END:VEVENT
END:VCALENDAR
