BEGIN:VCALENDAR
TZID:Europe/Warsaw
X-WR-TIMEZONE:Europe/Warsaw
VERSION:2.0
PRODID:-//Uniwersytet Zielonogórski//NONSGML Plan zajęć v1.0//EN
NAME:Plan zajęć - semestr letni 2025/2026
X-WR-CALNAME:Plan zajęć - semestr letni 2025/2026
COLOR:green
CALSCALE:GREGORIAN
BEGIN:VEVENT
UID:UZ_PLZ_20260302_0945_499423
DTSTAMP:20260302T094500
DTSTART:20260302T094500
DTEND:20260302T111500
SUMMARY:Historia języka niemieckiego (W): 31F-GER-SP23
CATEGORIES:W
LOCATION:K A-20
END:VEVENT
BEGIN:VEVENT
UID:UZ_PLZ_20260303_0945_499431
DTSTAMP:20260303T094500
DTSTART:20260303T094500
DTEND:20260303T111500
SUMMARY:Gramatyka opisowa języka niemieckiego II (W): 21F-GER-SP24
CATEGORIES:W
LOCATION:120 A-20
END:VEVENT
BEGIN:VEVENT
UID:UZ_PLZ_20260303_1315_505532
DTSTAMP:20260303T131500
DTSTART:20260303T131500
DTEND:20260303T144500
SUMMARY:Seminarium doktoranckie (S): 21-SDNHiS-24/Jęz
CATEGORIES:S
END:VEVENT
BEGIN:VEVENT
UID:UZ_PLZ_20260307_1130_499449
DTSTAMP:20260307T113000
DTSTART:20260307T113000
DTEND:20260307T130000
SUMMARY:Historia języka niemieckiego (W): 31F-GER-NP23
CATEGORIES:W
LOCATION:K A-20
END:VEVENT
BEGIN:VEVENT
UID:UZ_PLZ_20260307_1315_499453
DTSTAMP:20260307T131500
DTSTART:20260307T131500
DTEND:20260307T144500
SUMMARY:Historia języka niemieckiego (Ć): 31F-GER-NP23
CATEGORIES:Ć
LOCATION:K A-20
END:VEVENT
BEGIN:VEVENT
UID:UZ_PLZ_20260307_1500_499455
DTSTAMP:20260307T150000
DTSTART:20260307T150000
DTEND:20260307T163000
SUMMARY:Przedmiot do wyboru - Socjolingwistyka (L): 31F-GER-NP23/PWW
CATEGORIES:L
LOCATION:K A-20
END:VEVENT
BEGIN:VEVENT
UID:UZ_PLZ_20260309_0945_499423
DTSTAMP:20260309T094500
DTSTART:20260309T094500
DTEND:20260309T111500
SUMMARY:Historia języka niemieckiego (W): 31F-GER-SP23
CATEGORIES:W
LOCATION:K A-20
END:VEVENT
BEGIN:VEVENT
UID:UZ_PLZ_20260310_0945_499431
DTSTAMP:20260310T094500
DTSTART:20260310T094500
DTEND:20260310T111500
SUMMARY:Gramatyka opisowa języka niemieckiego II (W): 21F-GER-SP24
CATEGORIES:W
LOCATION:120 A-20
END:VEVENT
BEGIN:VEVENT
UID:UZ_PLZ_20260310_1130_507393
DTSTAMP:20260310T113000
DTSTART:20260310T113000
DTEND:20260310T130000
SUMMARY:Konsultacje (I)
CATEGORIES:I
LOCATION:230 A-20
END:VEVENT
BEGIN:VEVENT
UID:UZ_PLZ_20260316_0945_499423
DTSTAMP:20260316T094500
DTSTART:20260316T094500
DTEND:20260316T111500
SUMMARY:Historia języka niemieckiego (W): 31F-GER-SP23
CATEGORIES:W
LOCATION:K A-20
END:VEVENT
BEGIN:VEVENT
UID:UZ_PLZ_20260317_0945_499431
DTSTAMP:20260317T094500
DTSTART:20260317T094500
DTEND:20260317T111500
SUMMARY:Gramatyka opisowa języka niemieckiego II (W): 21F-GER-SP24
CATEGORIES:W
LOCATION:120 A-20
END:VEVENT
BEGIN:VEVENT
UID:UZ_PLZ_20260317_1130_507393
DTSTAMP:20260317T113000
DTSTART:20260317T113000
DTEND:20260317T130000
SUMMARY:Konsultacje (I)
CATEGORIES:I
LOCATION:230 A-20
END:VEVENT
BEGIN:VEVENT
UID:UZ_PLZ_20260317_1315_505532
DTSTAMP:20260317T131500
DTSTART:20260317T131500
DTEND:20260317T144500
SUMMARY:Seminarium doktoranckie (S): 21-SDNHiS-24/Jęz
CATEGORIES:S
END:VEVENT
BEGIN:VEVENT
UID:UZ_PLZ_20260321_1130_499449
DTSTAMP:20260321T113000
DTSTART:20260321T113000
DTEND:20260321T130000
SUMMARY:Historia języka niemieckiego (W): 31F-GER-NP23
CATEGORIES:W
LOCATION:K A-20
END:VEVENT
BEGIN:VEVENT
UID:UZ_PLZ_20260321_1315_499453
DTSTAMP:20260321T131500
DTSTART:20260321T131500
DTEND:20260321T144500
SUMMARY:Historia języka niemieckiego (Ć): 31F-GER-NP23
CATEGORIES:Ć
LOCATION:K A-20
END:VEVENT
BEGIN:VEVENT
UID:UZ_PLZ_20260321_1500_499455
DTSTAMP:20260321T150000
DTSTART:20260321T150000
DTEND:20260321T163000
SUMMARY:Przedmiot do wyboru - Socjolingwistyka (L): 31F-GER-NP23/PWW
CATEGORIES:L
LOCATION:K A-20
END:VEVENT
BEGIN:VEVENT
UID:UZ_PLZ_20260323_0945_499423
DTSTAMP:20260323T094500
DTSTART:20260323T094500
DTEND:20260323T111500
SUMMARY:Historia języka niemieckiego (W): 31F-GER-SP23
CATEGORIES:W
LOCATION:K A-20
END:VEVENT
BEGIN:VEVENT
UID:UZ_PLZ_20260324_0945_499431
DTSTAMP:20260324T094500
DTSTART:20260324T094500
DTEND:20260324T111500
SUMMARY:Gramatyka opisowa języka niemieckiego II (W): 21F-GER-SP24
CATEGORIES:W
LOCATION:120 A-20
END:VEVENT
BEGIN:VEVENT
UID:UZ_PLZ_20260324_1130_507393
DTSTAMP:20260324T113000
DTSTART:20260324T113000
DTEND:20260324T130000
SUMMARY:Konsultacje (I)
CATEGORIES:I
LOCATION:230 A-20
END:VEVENT
BEGIN:VEVENT
UID:UZ_PLZ_20260328_1130_499449
DTSTAMP:20260328T113000
DTSTART:20260328T113000
DTEND:20260328T130000
SUMMARY:Historia języka niemieckiego (W): 31F-GER-NP23
CATEGORIES:W
LOCATION:K A-20
END:VEVENT
BEGIN:VEVENT
UID:UZ_PLZ_20260328_1315_499453
DTSTAMP:20260328T131500
DTSTART:20260328T131500
DTEND:20260328T144500
SUMMARY:Historia języka niemieckiego (Ć): 31F-GER-NP23
CATEGORIES:Ć
LOCATION:K A-20
END:VEVENT
BEGIN:VEVENT
UID:UZ_PLZ_20260328_1500_499455
DTSTAMP:20260328T150000
DTSTART:20260328T150000
DTEND:20260328T163000
SUMMARY:Przedmiot do wyboru - Socjolingwistyka (L): 31F-GER-NP23/PWW
CATEGORIES:L
LOCATION:K A-20
END:VEVENT
BEGIN:VEVENT
UID:UZ_PLZ_20260330_0945_499423
DTSTAMP:20260330T094500
DTSTART:20260330T094500
DTEND:20260330T111500
SUMMARY:Historia języka niemieckiego (W): 31F-GER-SP23
CATEGORIES:W
LOCATION:K A-20
END:VEVENT
BEGIN:VEVENT
UID:UZ_PLZ_20260331_0945_499431
DTSTAMP:20260331T094500
DTSTART:20260331T094500
DTEND:20260331T111500
SUMMARY:Gramatyka opisowa języka niemieckiego II (W): 21F-GER-SP24
CATEGORIES:W
LOCATION:120 A-20
END:VEVENT
BEGIN:VEVENT
UID:UZ_PLZ_20260331_1130_507393
DTSTAMP:20260331T113000
DTSTART:20260331T113000
DTEND:20260331T130000
SUMMARY:Konsultacje (I)
CATEGORIES:I
LOCATION:230 A-20
END:VEVENT
BEGIN:VEVENT
UID:UZ_PLZ_20260331_1315_505532
DTSTAMP:20260331T131500
DTSTART:20260331T131500
DTEND:20260331T144500
SUMMARY:Seminarium doktoranckie (S): 21-SDNHiS-24/Jęz
CATEGORIES:S
END:VEVENT
BEGIN:VEVENT
UID:UZ_PLZ_20260402_1315_505452
DTSTAMP:20260402T131500
DTSTART:20260402T131500
DTEND:20260402T153000
SUMMARY:Tendencje rozwojowe w naukach humanistycznych i społecznych (cz. 1) (W): 11SDNHiS-25
CATEGORIES:W
LOCATION:302R A-17
END:VEVENT
BEGIN:VEVENT
UID:UZ_PLZ_20260409_1315_505452
DTSTAMP:20260409T131500
DTSTART:20260409T131500
DTEND:20260409T144500
SUMMARY:Tendencje rozwojowe w naukach humanistycznych i społecznych (cz. 1) (W): 11SDNHiS-25
CATEGORIES:W
LOCATION:302R A-17
END:VEVENT
BEGIN:VEVENT
UID:UZ_PLZ_20260411_1130_499449
DTSTAMP:20260411T113000
DTSTART:20260411T113000
DTEND:20260411T130000
SUMMARY:Historia języka niemieckiego (W): 31F-GER-NP23
CATEGORIES:W
LOCATION:K A-20
END:VEVENT
BEGIN:VEVENT
UID:UZ_PLZ_20260411_1315_499453
DTSTAMP:20260411T131500
DTSTART:20260411T131500
DTEND:20260411T144500
SUMMARY:Historia języka niemieckiego (Ć): 31F-GER-NP23
CATEGORIES:Ć
LOCATION:K A-20
END:VEVENT
BEGIN:VEVENT
UID:UZ_PLZ_20260411_1500_499455
DTSTAMP:20260411T150000
DTSTART:20260411T150000
DTEND:20260411T163000
SUMMARY:Przedmiot do wyboru - Socjolingwistyka (L): 31F-GER-NP23/PWW
CATEGORIES:L
LOCATION:K A-20
END:VEVENT
BEGIN:VEVENT
UID:UZ_PLZ_20260413_0945_499423
DTSTAMP:20260413T094500
DTSTART:20260413T094500
DTEND:20260413T111500
SUMMARY:Historia języka niemieckiego (W): 31F-GER-SP23
CATEGORIES:W
LOCATION:K A-20
END:VEVENT
BEGIN:VEVENT
UID:UZ_PLZ_20260414_0945_499431
DTSTAMP:20260414T094500
DTSTART:20260414T094500
DTEND:20260414T111500
SUMMARY:Gramatyka opisowa języka niemieckiego II (W): 21F-GER-SP24
CATEGORIES:W
LOCATION:120 A-20
END:VEVENT
BEGIN:VEVENT
UID:UZ_PLZ_20260414_1130_507393
DTSTAMP:20260414T113000
DTSTART:20260414T113000
DTEND:20260414T130000
SUMMARY:Konsultacje (I)
CATEGORIES:I
LOCATION:230 A-20
END:VEVENT
BEGIN:VEVENT
UID:UZ_PLZ_20260414_1315_505532
DTSTAMP:20260414T131500
DTSTART:20260414T131500
DTEND:20260414T144500
SUMMARY:Seminarium doktoranckie (S): 21-SDNHiS-24/Jęz
CATEGORIES:S
END:VEVENT
BEGIN:VEVENT
UID:UZ_PLZ_20260418_1130_499449
DTSTAMP:20260418T113000
DTSTART:20260418T113000
DTEND:20260418T130000
SUMMARY:Historia języka niemieckiego (W): 31F-GER-NP23
CATEGORIES:W
LOCATION:K A-20
END:VEVENT
BEGIN:VEVENT
UID:UZ_PLZ_20260418_1315_499453
DTSTAMP:20260418T131500
DTSTART:20260418T131500
DTEND:20260418T144500
SUMMARY:Historia języka niemieckiego (Ć): 31F-GER-NP23
CATEGORIES:Ć
LOCATION:K A-20
END:VEVENT
BEGIN:VEVENT
UID:UZ_PLZ_20260418_1500_499455
DTSTAMP:20260418T150000
DTSTART:20260418T150000
DTEND:20260418T163000
SUMMARY:Przedmiot do wyboru - Socjolingwistyka (L): 31F-GER-NP23/PWW
CATEGORIES:L
LOCATION:K A-20
END:VEVENT
BEGIN:VEVENT
UID:UZ_PLZ_20260420_0945_499423
DTSTAMP:20260420T094500
DTSTART:20260420T094500
DTEND:20260420T111500
SUMMARY:Historia języka niemieckiego (W): 31F-GER-SP23
CATEGORIES:W
LOCATION:K A-20
END:VEVENT
BEGIN:VEVENT
UID:UZ_PLZ_20260421_0945_499431
DTSTAMP:20260421T094500
DTSTART:20260421T094500
DTEND:20260421T111500
SUMMARY:Gramatyka opisowa języka niemieckiego II (W): 21F-GER-SP24
CATEGORIES:W
LOCATION:120 A-20
END:VEVENT
BEGIN:VEVENT
UID:UZ_PLZ_20260421_1130_507393
DTSTAMP:20260421T113000
DTSTART:20260421T113000
DTEND:20260421T130000
SUMMARY:Konsultacje (I)
CATEGORIES:I
LOCATION:230 A-20
END:VEVENT
BEGIN:VEVENT
UID:UZ_PLZ_20260425_1130_499449
DTSTAMP:20260425T113000
DTSTART:20260425T113000
DTEND:20260425T130000
SUMMARY:Historia języka niemieckiego (W): 31F-GER-NP23
CATEGORIES:W
LOCATION:K A-20
END:VEVENT
BEGIN:VEVENT
UID:UZ_PLZ_20260425_1315_499453
DTSTAMP:20260425T131500
DTSTART:20260425T131500
DTEND:20260425T144500
SUMMARY:Historia języka niemieckiego (Ć): 31F-GER-NP23
CATEGORIES:Ć
LOCATION:K A-20
END:VEVENT
BEGIN:VEVENT
UID:UZ_PLZ_20260425_1500_499455
DTSTAMP:20260425T150000
DTSTART:20260425T150000
DTEND:20260425T163000
SUMMARY:Przedmiot do wyboru - Socjolingwistyka (L): 31F-GER-NP23/PWW
CATEGORIES:L
LOCATION:K A-20
END:VEVENT
BEGIN:VEVENT
UID:UZ_PLZ_20260427_0945_499423
DTSTAMP:20260427T094500
DTSTART:20260427T094500
DTEND:20260427T111500
SUMMARY:Historia języka niemieckiego (W): 31F-GER-SP23
CATEGORIES:W
LOCATION:K A-20
END:VEVENT
BEGIN:VEVENT
UID:UZ_PLZ_20260428_0945_499431
DTSTAMP:20260428T094500
DTSTART:20260428T094500
DTEND:20260428T111500
SUMMARY:Gramatyka opisowa języka niemieckiego II (W): 21F-GER-SP24
CATEGORIES:W
LOCATION:120 A-20
END:VEVENT
BEGIN:VEVENT
UID:UZ_PLZ_20260428_1130_507393
DTSTAMP:20260428T113000
DTSTART:20260428T113000
DTEND:20260428T130000
SUMMARY:Konsultacje (I)
CATEGORIES:I
LOCATION:230 A-20
END:VEVENT
BEGIN:VEVENT
UID:UZ_PLZ_20260428_1315_505532
DTSTAMP:20260428T131500
DTSTART:20260428T131500
DTEND:20260428T144500
SUMMARY:Seminarium doktoranckie (S): 21-SDNHiS-24/Jęz
CATEGORIES:S
END:VEVENT
BEGIN:VEVENT
UID:UZ_PLZ_20260504_0945_499423
DTSTAMP:20260504T094500
DTSTART:20260504T094500
DTEND:20260504T111500
SUMMARY:Historia języka niemieckiego (W): 31F-GER-SP23
CATEGORIES:W
LOCATION:K A-20
END:VEVENT
BEGIN:VEVENT
UID:UZ_PLZ_20260505_0945_499431
DTSTAMP:20260505T094500
DTSTART:20260505T094500
DTEND:20260505T111500
SUMMARY:Gramatyka opisowa języka niemieckiego II (W): 21F-GER-SP24
CATEGORIES:W
LOCATION:120 A-20
END:VEVENT
BEGIN:VEVENT
UID:UZ_PLZ_20260505_1130_507393
DTSTAMP:20260505T113000
DTSTART:20260505T113000
DTEND:20260505T130000
SUMMARY:Konsultacje (I)
CATEGORIES:I
LOCATION:230 A-20
END:VEVENT
BEGIN:VEVENT
UID:UZ_PLZ_20260509_1130_499449
DTSTAMP:20260509T113000
DTSTART:20260509T113000
DTEND:20260509T130000
SUMMARY:Historia języka niemieckiego (W): 31F-GER-NP23
CATEGORIES:W
LOCATION:K A-20
END:VEVENT
BEGIN:VEVENT
UID:UZ_PLZ_20260509_1315_499453
DTSTAMP:20260509T131500
DTSTART:20260509T131500
DTEND:20260509T144500
SUMMARY:Historia języka niemieckiego (Ć): 31F-GER-NP23
CATEGORIES:Ć
LOCATION:K A-20
END:VEVENT
BEGIN:VEVENT
UID:UZ_PLZ_20260509_1500_499455
DTSTAMP:20260509T150000
DTSTART:20260509T150000
DTEND:20260509T163000
SUMMARY:Przedmiot do wyboru - Socjolingwistyka (L): 31F-GER-NP23/PWW
CATEGORIES:L
LOCATION:K A-20
END:VEVENT
BEGIN:VEVENT
UID:UZ_PLZ_20260511_0945_499423
DTSTAMP:20260511T094500
DTSTART:20260511T094500
DTEND:20260511T111500
SUMMARY:Historia języka niemieckiego (W): 31F-GER-SP23
CATEGORIES:W
LOCATION:K A-20
END:VEVENT
BEGIN:VEVENT
UID:UZ_PLZ_20260512_0945_499431
DTSTAMP:20260512T094500
DTSTART:20260512T094500
DTEND:20260512T111500
SUMMARY:Gramatyka opisowa języka niemieckiego II (W): 21F-GER-SP24
CATEGORIES:W
LOCATION:120 A-20
END:VEVENT
BEGIN:VEVENT
UID:UZ_PLZ_20260512_1130_507393
DTSTAMP:20260512T113000
DTSTART:20260512T113000
DTEND:20260512T130000
SUMMARY:Konsultacje (I)
CATEGORIES:I
LOCATION:230 A-20
END:VEVENT
BEGIN:VEVENT
UID:UZ_PLZ_20260512_1315_505532
DTSTAMP:20260512T131500
DTSTART:20260512T131500
DTEND:20260512T144500
SUMMARY:Seminarium doktoranckie (S): 21-SDNHiS-24/Jęz
CATEGORIES:S
END:VEVENT
BEGIN:VEVENT
UID:UZ_PLZ_20260514_1045_505452
DTSTAMP:20260514T104500
DTSTART:20260514T104500
DTEND:20260514T130000
SUMMARY:Tendencje rozwojowe w naukach humanistycznych i społecznych (cz. 1) (W): 11SDNHiS-25
CATEGORIES:W
LOCATION:302R A-17
END:VEVENT
BEGIN:VEVENT
UID:UZ_PLZ_20260516_1130_499449
DTSTAMP:20260516T113000
DTSTART:20260516T113000
DTEND:20260516T130000
SUMMARY:Historia języka niemieckiego (W): 31F-GER-NP23
CATEGORIES:W
LOCATION:K A-20
END:VEVENT
BEGIN:VEVENT
UID:UZ_PLZ_20260516_1315_499453
DTSTAMP:20260516T131500
DTSTART:20260516T131500
DTEND:20260516T144500
SUMMARY:Historia języka niemieckiego (Ć): 31F-GER-NP23
CATEGORIES:Ć
LOCATION:K A-20
END:VEVENT
BEGIN:VEVENT
UID:UZ_PLZ_20260516_1500_499455
DTSTAMP:20260516T150000
DTSTART:20260516T150000
DTEND:20260516T163000
SUMMARY:Przedmiot do wyboru - Socjolingwistyka (L): 31F-GER-NP23/PWW
CATEGORIES:L
LOCATION:K A-20
END:VEVENT
BEGIN:VEVENT
UID:UZ_PLZ_20260518_0945_499423
DTSTAMP:20260518T094500
DTSTART:20260518T094500
DTEND:20260518T111500
SUMMARY:Historia języka niemieckiego (W): 31F-GER-SP23
CATEGORIES:W
LOCATION:K A-20
END:VEVENT
BEGIN:VEVENT
UID:UZ_PLZ_20260519_0945_499431
DTSTAMP:20260519T094500
DTSTART:20260519T094500
DTEND:20260519T111500
SUMMARY:Gramatyka opisowa języka niemieckiego II (W): 21F-GER-SP24
CATEGORIES:W
LOCATION:120 A-20
END:VEVENT
BEGIN:VEVENT
UID:UZ_PLZ_20260519_1130_507393
DTSTAMP:20260519T113000
DTSTART:20260519T113000
DTEND:20260519T130000
SUMMARY:Konsultacje (I)
CATEGORIES:I
LOCATION:230 A-20
END:VEVENT
BEGIN:VEVENT
UID:UZ_PLZ_20260525_0945_499423
DTSTAMP:20260525T094500
DTSTART:20260525T094500
DTEND:20260525T111500
SUMMARY:Historia języka niemieckiego (W): 31F-GER-SP23
CATEGORIES:W
LOCATION:K A-20
END:VEVENT
BEGIN:VEVENT
UID:UZ_PLZ_20260526_0945_499431
DTSTAMP:20260526T094500
DTSTART:20260526T094500
DTEND:20260526T111500
SUMMARY:Gramatyka opisowa języka niemieckiego II (W): 21F-GER-SP24
CATEGORIES:W
LOCATION:120 A-20
END:VEVENT
BEGIN:VEVENT
UID:UZ_PLZ_20260526_1130_507393
DTSTAMP:20260526T113000
DTSTART:20260526T113000
DTEND:20260526T130000
SUMMARY:Konsultacje (I)
CATEGORIES:I
LOCATION:230 A-20
END:VEVENT
BEGIN:VEVENT
UID:UZ_PLZ_20260526_1315_505532
DTSTAMP:20260526T131500
DTSTART:20260526T131500
DTEND:20260526T144500
SUMMARY:Seminarium doktoranckie (S): 21-SDNHiS-24/Jęz
CATEGORIES:S
END:VEVENT
BEGIN:VEVENT
UID:UZ_PLZ_20260530_1130_499449
DTSTAMP:20260530T113000
DTSTART:20260530T113000
DTEND:20260530T130000
SUMMARY:Historia języka niemieckiego (W): 31F-GER-NP23
CATEGORIES:W
LOCATION:K A-20
END:VEVENT
BEGIN:VEVENT
UID:UZ_PLZ_20260530_1315_499453
DTSTAMP:20260530T131500
DTSTART:20260530T131500
DTEND:20260530T144500
SUMMARY:Historia języka niemieckiego (Ć): 31F-GER-NP23
CATEGORIES:Ć
LOCATION:K A-20
END:VEVENT
BEGIN:VEVENT
UID:UZ_PLZ_20260530_1500_499455
DTSTAMP:20260530T150000
DTSTART:20260530T150000
DTEND:20260530T163000
SUMMARY:Przedmiot do wyboru - Socjolingwistyka (L): 31F-GER-NP23/PWW
CATEGORIES:L
LOCATION:K A-20
END:VEVENT
BEGIN:VEVENT
UID:UZ_PLZ_20260601_0945_499423
DTSTAMP:20260601T094500
DTSTART:20260601T094500
DTEND:20260601T111500
SUMMARY:Historia języka niemieckiego (W): 31F-GER-SP23
CATEGORIES:W
LOCATION:K A-20
END:VEVENT
BEGIN:VEVENT
UID:UZ_PLZ_20260602_0945_499431
DTSTAMP:20260602T094500
DTSTART:20260602T094500
DTEND:20260602T111500
SUMMARY:Gramatyka opisowa języka niemieckiego II (W): 21F-GER-SP24
CATEGORIES:W
LOCATION:120 A-20
END:VEVENT
BEGIN:VEVENT
UID:UZ_PLZ_20260602_1130_507393
DTSTAMP:20260602T113000
DTSTART:20260602T113000
DTEND:20260602T130000
SUMMARY:Konsultacje (I)
CATEGORIES:I
LOCATION:230 A-20
END:VEVENT
BEGIN:VEVENT
UID:UZ_PLZ_20260608_0945_499423
DTSTAMP:20260608T094500
DTSTART:20260608T094500
DTEND:20260608T111500
SUMMARY:Historia języka niemieckiego (W): 31F-GER-SP23
CATEGORIES:W
LOCATION:K A-20
END:VEVENT
BEGIN:VEVENT
UID:UZ_PLZ_20260609_0945_499431
DTSTAMP:20260609T094500
DTSTART:20260609T094500
DTEND:20260609T111500
SUMMARY:Gramatyka opisowa języka niemieckiego II (W): 21F-GER-SP24
CATEGORIES:W
LOCATION:120 A-20
END:VEVENT
BEGIN:VEVENT
UID:UZ_PLZ_20260609_1130_507393
DTSTAMP:20260609T113000
DTSTART:20260609T113000
DTEND:20260609T130000
SUMMARY:Konsultacje (I)
CATEGORIES:I
LOCATION:230 A-20
END:VEVENT
BEGIN:VEVENT
UID:UZ_PLZ_20260609_1315_505532
DTSTAMP:20260609T131500
DTSTART:20260609T131500
DTEND:20260609T140000
SUMMARY:Seminarium doktoranckie (S): 21-SDNHiS-24/Jęz
CATEGORIES:S
END:VEVENT
BEGIN:VEVENT
UID:UZ_PLZ_20260615_0945_499423
DTSTAMP:20260615T094500
DTSTART:20260615T094500
DTEND:20260615T111500
SUMMARY:Historia języka niemieckiego (W): 31F-GER-SP23
CATEGORIES:W
LOCATION:K A-20
END:VEVENT
BEGIN:VEVENT
UID:UZ_PLZ_20260616_0945_499431
DTSTAMP:20260616T094500
DTSTART:20260616T094500
DTEND:20260616T111500
SUMMARY:Gramatyka opisowa języka niemieckiego II (W): 21F-GER-SP24
CATEGORIES:W
LOCATION:120 A-20
END:VEVENT
BEGIN:VEVENT
UID:UZ_PLZ_20260616_1130_507393
DTSTAMP:20260616T113000
DTSTART:20260616T113000
DTEND:20260616T130000
SUMMARY:Konsultacje (I)
CATEGORIES:I
LOCATION:230 A-20
END:VEVENT
END:VCALENDAR
