BEGIN:VCALENDAR
TZID:Europe/Warsaw
X-WR-TIMEZONE:Europe/Warsaw
VERSION:2.0
PRODID:-//Uniwersytet Zielonogórski//NONSGML Plan zajęć v1.0//EN
NAME:Plan zajęć - semestr letni 2025/2026
X-WR-CALNAME:Plan zajęć - semestr letni 2025/2026
COLOR:green
CALSCALE:GREGORIAN
BEGIN:VEVENT
UID:UZ_PLZ_20260423_0915_506783
DTSTAMP:20260423T091500
DTSTART:20260423T091500
DTEND:20260423T104500
SUMMARY:Seminarium naukowe (I)
CATEGORIES:I
LOCATION:218 A-29
END:VEVENT
BEGIN:VEVENT
UID:UZ_PLZ_20260423_1800_505113
DTSTAMP:20260423T180000
DTSTART:20260423T180000
DTEND:20260423T210000
SUMMARY:Diploma Seminar 3/Seminarium dyplomowe 3 (S): 21IiE-SD
CATEGORIES:S
LOCATION:118 A-29
END:VEVENT
BEGIN:VEVENT
UID:UZ_PLZ_20260424_1945_505140
DTSTAMP:20260424T194500
DTSTART:20260424T194500
DTEND:20260424T211500
SUMMARY:Inżynierski projekt dyplomowy 1 (S): 31ID-SP
CATEGORIES:S
LOCATION:218 A-29
END:VEVENT
BEGIN:VEVENT
UID:UZ_PLZ_20260427_0915_505082
DTSTAMP:20260427T091500
DTSTART:20260427T091500
DTEND:20260427T104500
SUMMARY:Metody reprezentacyjne/Representative Methods (W): 21IiE-SD
CATEGORIES:W
LOCATION:112 A-29
END:VEVENT
BEGIN:VEVENT
UID:UZ_PLZ_20260427_1100_504992
DTSTAMP:20260427T110000
DTSTART:20260427T110000
DTEND:20260427T123000
SUMMARY:Control Theory 1 (W): WMIiE-E-2025/2026
CATEGORIES:W
LOCATION:219 A-29
END:VEVENT
BEGIN:VEVENT
UID:UZ_PLZ_20260427_1245_504992
DTSTAMP:20260427T124500
DTSTART:20260427T124500
DTEND:20260427T133000
SUMMARY:Control Theory 1 (W): WMIiE-E-2025/2026
CATEGORIES:W
LOCATION:219 A-29
END:VEVENT
BEGIN:VEVENT
UID:UZ_PLZ_20260428_1430_505121
DTSTAMP:20260428T143000
DTSTART:20260428T143000
DTEND:20260428T160000
SUMMARY:Metody reprezentacyjne/Representative Methods (W): 11ID-SD
CATEGORIES:W
LOCATION:207 A-29
END:VEVENT
BEGIN:VEVENT
UID:UZ_PLZ_20260428_1615_505081
DTSTAMP:20260428T161500
DTSTART:20260428T161500
DTEND:20260428T174500
SUMMARY:Metody reprezentacyjne/Representative Methods (L): 11ID-SD
CATEGORIES:L
LOCATION:205 A-29
END:VEVENT
BEGIN:VEVENT
UID:UZ_PLZ_20260428_1800_505008
DTSTAMP:20260428T180000
DTSTART:20260428T180000
DTEND:20260428T210000
SUMMARY:Seminarium dyplomowe 2 (S): 21ID-SD
CATEGORIES:S
LOCATION:118 A-29
END:VEVENT
BEGIN:VEVENT
UID:UZ_PLZ_20260428_1945_505011
DTSTAMP:20260428T194500
DTSTART:20260428T194500
DTEND:20260428T211500
SUMMARY:Seminarium specjalistyczne 3 (S): 21IiE-SD
CATEGORIES:S
LOCATION:213 A-29
END:VEVENT
BEGIN:VEVENT
UID:UZ_PLZ_20260429_1945_505140
DTSTAMP:20260429T194500
DTSTART:20260429T194500
DTEND:20260429T211500
SUMMARY:Inżynierski projekt dyplomowy 1 (S): 31ID-SP
CATEGORIES:S
LOCATION:218 A-29
END:VEVENT
BEGIN:VEVENT
UID:UZ_PLZ_20260430_0915_506783
DTSTAMP:20260430T091500
DTSTART:20260430T091500
DTEND:20260430T104500
SUMMARY:Seminarium naukowe (I)
CATEGORIES:I
LOCATION:218 A-29
END:VEVENT
BEGIN:VEVENT
UID:UZ_PLZ_20260430_1800_505113
DTSTAMP:20260430T180000
DTSTART:20260430T180000
DTEND:20260430T210000
SUMMARY:Diploma Seminar 3/Seminarium dyplomowe 3 (S): 21IiE-SD
CATEGORIES:S
LOCATION:118 A-29
END:VEVENT
BEGIN:VEVENT
UID:UZ_PLZ_20260504_0730_505103
DTSTAMP:20260504T073000
DTSTART:20260504T073000
DTEND:20260504T090500
SUMMARY:Metody reprezentacyjne/Representative Methods (L): 21IiE-SD
CATEGORIES:L
LOCATION:112 A-29
END:VEVENT
BEGIN:VEVENT
UID:UZ_PLZ_20260504_0915_505082
DTSTAMP:20260504T091500
DTSTART:20260504T091500
DTEND:20260504T104500
SUMMARY:Metody reprezentacyjne/Representative Methods (W): 21IiE-SD
CATEGORIES:W
LOCATION:112 A-29
END:VEVENT
BEGIN:VEVENT
UID:UZ_PLZ_20260504_1100_504992
DTSTAMP:20260504T110000
DTSTART:20260504T110000
DTEND:20260504T123000
SUMMARY:Control Theory 1 (W): WMIiE-E-2025/2026
CATEGORIES:W
LOCATION:219 A-29
END:VEVENT
BEGIN:VEVENT
UID:UZ_PLZ_20260504_1245_504992
DTSTAMP:20260504T124500
DTSTART:20260504T124500
DTEND:20260504T133000
SUMMARY:Control Theory 1 (W): WMIiE-E-2025/2026
CATEGORIES:W
LOCATION:219 A-29
END:VEVENT
BEGIN:VEVENT
UID:UZ_PLZ_20260505_1430_505121
DTSTAMP:20260505T143000
DTSTART:20260505T143000
DTEND:20260505T160000
SUMMARY:Metody reprezentacyjne/Representative Methods (W): 11ID-SD
CATEGORIES:W
LOCATION:207 A-29
END:VEVENT
BEGIN:VEVENT
UID:UZ_PLZ_20260505_1615_505081
DTSTAMP:20260505T161500
DTSTART:20260505T161500
DTEND:20260505T174500
SUMMARY:Metody reprezentacyjne/Representative Methods (L): 11ID-SD
CATEGORIES:L
LOCATION:205 A-29
END:VEVENT
BEGIN:VEVENT
UID:UZ_PLZ_20260505_1800_505008
DTSTAMP:20260505T180000
DTSTART:20260505T180000
DTEND:20260505T210000
SUMMARY:Seminarium dyplomowe 2 (S): 21ID-SD
CATEGORIES:S
LOCATION:118 A-29
END:VEVENT
BEGIN:VEVENT
UID:UZ_PLZ_20260505_1945_505011
DTSTAMP:20260505T194500
DTSTART:20260505T194500
DTEND:20260505T211500
SUMMARY:Seminarium specjalistyczne 3 (S): 21IiE-SD
CATEGORIES:S
LOCATION:213 A-29
END:VEVENT
BEGIN:VEVENT
UID:UZ_PLZ_20260506_1245_506748
DTSTAMP:20260506T124500
DTSTART:20260506T124500
DTEND:20260506T141500
SUMMARY:Dyżur pracowniczy (I)
CATEGORIES:I
END:VEVENT
BEGIN:VEVENT
UID:UZ_PLZ_20260506_1945_505061
DTSTAMP:20260506T194500
DTSTART:20260506T194500
DTEND:20260506T211500
SUMMARY:Seminarium specjalistyczne 2 (S): 21ID-SD
CATEGORIES:S
LOCATION:118 A-29
END:VEVENT
BEGIN:VEVENT
UID:UZ_PLZ_20260507_0915_506783
DTSTAMP:20260507T091500
DTSTART:20260507T091500
DTEND:20260507T104500
SUMMARY:Seminarium naukowe (I)
CATEGORIES:I
LOCATION:218 A-29
END:VEVENT
BEGIN:VEVENT
UID:UZ_PLZ_20260507_1800_505113
DTSTAMP:20260507T180000
DTSTART:20260507T180000
DTEND:20260507T210000
SUMMARY:Diploma Seminar 3/Seminarium dyplomowe 3 (S): 21IiE-SD
CATEGORIES:S
LOCATION:118 A-29
END:VEVENT
BEGIN:VEVENT
UID:UZ_PLZ_20260508_1945_505140
DTSTAMP:20260508T194500
DTSTART:20260508T194500
DTEND:20260508T211500
SUMMARY:Inżynierski projekt dyplomowy 1 (S): 31ID-SP
CATEGORIES:S
LOCATION:218 A-29
END:VEVENT
BEGIN:VEVENT
UID:UZ_PLZ_20260509_0730_502972
DTSTAMP:20260509T073000
DTSTART:20260509T073000
DTEND:20260509T090000
SUMMARY:Matematyka II (W): 11EN-NP
CATEGORIES:W
LOCATION:202 A-29
END:VEVENT
BEGIN:VEVENT
UID:UZ_PLZ_20260509_0915_502964
DTSTAMP:20260509T091500
DTSTART:20260509T091500
DTEND:20260509T104500
SUMMARY:Matematyka II (Ć): 11EN-NP
CATEGORIES:Ć
LOCATION:202 A-29
END:VEVENT
BEGIN:VEVENT
UID:UZ_PLZ_20260510_0730_502972
DTSTAMP:20260510T073000
DTSTART:20260510T073000
DTEND:20260510T090000
SUMMARY:Matematyka II (W): 11EN-NP
CATEGORIES:W
LOCATION:202 A-29
END:VEVENT
BEGIN:VEVENT
UID:UZ_PLZ_20260510_0910_502964
DTSTAMP:20260510T091000
DTSTART:20260510T091000
DTEND:20260510T104000
SUMMARY:Matematyka II (Ć): 11EN-NP
CATEGORIES:Ć
LOCATION:202 A-29
END:VEVENT
BEGIN:VEVENT
UID:UZ_PLZ_20260510_1100_498434
DTSTAMP:20260510T110000
DTSTART:20260510T110000
DTEND:20260510T124000
SUMMARY:Statystyka matematyczna (W): 11ZARZ-SRB-ND
CATEGORIES:W
LOCATION:202 A-29
END:VEVENT
BEGIN:VEVENT
UID:UZ_PLZ_20260510_1430_498474
DTSTAMP:20260510T143000
DTSTART:20260510T143000
DTEND:20260510T161000
SUMMARY:Statystyka matematyczna (Ć): 11ZARZ-SRB-ND
CATEGORIES:Ć
LOCATION:202 A-29
END:VEVENT
BEGIN:VEVENT
UID:UZ_PLZ_20260511_0915_505082
DTSTAMP:20260511T091500
DTSTART:20260511T091500
DTEND:20260511T104500
SUMMARY:Metody reprezentacyjne/Representative Methods (W): 21IiE-SD
CATEGORIES:W
LOCATION:112 A-29
END:VEVENT
BEGIN:VEVENT
UID:UZ_PLZ_20260511_1100_504992
DTSTAMP:20260511T110000
DTSTART:20260511T110000
DTEND:20260511T123000
SUMMARY:Control Theory 1 (W): WMIiE-E-2025/2026
CATEGORIES:W
LOCATION:219 A-29
END:VEVENT
BEGIN:VEVENT
UID:UZ_PLZ_20260511_1245_504992
DTSTAMP:20260511T124500
DTSTART:20260511T124500
DTEND:20260511T133000
SUMMARY:Control Theory 1 (W): WMIiE-E-2025/2026
CATEGORIES:W
LOCATION:219 A-29
END:VEVENT
BEGIN:VEVENT
UID:UZ_PLZ_20260512_1430_505121
DTSTAMP:20260512T143000
DTSTART:20260512T143000
DTEND:20260512T160000
SUMMARY:Metody reprezentacyjne/Representative Methods (W): 11ID-SD
CATEGORIES:W
LOCATION:207 A-29
END:VEVENT
BEGIN:VEVENT
UID:UZ_PLZ_20260512_1615_505081
DTSTAMP:20260512T161500
DTSTART:20260512T161500
DTEND:20260512T174500
SUMMARY:Metody reprezentacyjne/Representative Methods (L): 11ID-SD
CATEGORIES:L
LOCATION:205 A-29
END:VEVENT
BEGIN:VEVENT
UID:UZ_PLZ_20260512_1800_505008
DTSTAMP:20260512T180000
DTSTART:20260512T180000
DTEND:20260512T210000
SUMMARY:Seminarium dyplomowe 2 (S): 21ID-SD
CATEGORIES:S
LOCATION:118 A-29
END:VEVENT
BEGIN:VEVENT
UID:UZ_PLZ_20260512_1945_505011
DTSTAMP:20260512T194500
DTSTART:20260512T194500
DTEND:20260512T211500
SUMMARY:Seminarium specjalistyczne 3 (S): 21IiE-SD
CATEGORIES:S
LOCATION:213 A-29
END:VEVENT
BEGIN:VEVENT
UID:UZ_PLZ_20260513_1245_506748
DTSTAMP:20260513T124500
DTSTART:20260513T124500
DTEND:20260513T141500
SUMMARY:Dyżur pracowniczy (I)
CATEGORIES:I
END:VEVENT
BEGIN:VEVENT
UID:UZ_PLZ_20260513_1945_505061
DTSTAMP:20260513T194500
DTSTART:20260513T194500
DTEND:20260513T211500
SUMMARY:Seminarium specjalistyczne 2 (S): 21ID-SD
CATEGORIES:S
LOCATION:118 A-29
END:VEVENT
BEGIN:VEVENT
UID:UZ_PLZ_20260514_0915_506783
DTSTAMP:20260514T091500
DTSTART:20260514T091500
DTEND:20260514T104500
SUMMARY:Seminarium naukowe (I)
CATEGORIES:I
LOCATION:218 A-29
END:VEVENT
BEGIN:VEVENT
UID:UZ_PLZ_20260514_1800_505113
DTSTAMP:20260514T180000
DTSTART:20260514T180000
DTEND:20260514T210000
SUMMARY:Diploma Seminar 3/Seminarium dyplomowe 3 (S): 21IiE-SD
CATEGORIES:S
LOCATION:118 A-29
END:VEVENT
BEGIN:VEVENT
UID:UZ_PLZ_20260515_1945_505140
DTSTAMP:20260515T194500
DTSTART:20260515T194500
DTEND:20260515T211500
SUMMARY:Inżynierski projekt dyplomowy 1 (S): 31ID-SP
CATEGORIES:S
LOCATION:218 A-29
END:VEVENT
BEGIN:VEVENT
UID:UZ_PLZ_20260517_0730_502972
DTSTAMP:20260517T073000
DTSTART:20260517T073000
DTEND:20260517T090000
SUMMARY:Matematyka II (W): 11EN-NP
CATEGORIES:W
LOCATION:202 A-29
END:VEVENT
BEGIN:VEVENT
UID:UZ_PLZ_20260517_0910_502964
DTSTAMP:20260517T091000
DTSTART:20260517T091000
DTEND:20260517T104000
SUMMARY:Matematyka II (Ć): 11EN-NP
CATEGORIES:Ć
LOCATION:202 A-29
END:VEVENT
BEGIN:VEVENT
UID:UZ_PLZ_20260518_0730_505103
DTSTAMP:20260518T073000
DTSTART:20260518T073000
DTEND:20260518T090500
SUMMARY:Metody reprezentacyjne/Representative Methods (L): 21IiE-SD
CATEGORIES:L
LOCATION:112 A-29
END:VEVENT
BEGIN:VEVENT
UID:UZ_PLZ_20260518_0915_505082
DTSTAMP:20260518T091500
DTSTART:20260518T091500
DTEND:20260518T104500
SUMMARY:Metody reprezentacyjne/Representative Methods (W): 21IiE-SD
CATEGORIES:W
LOCATION:112 A-29
END:VEVENT
BEGIN:VEVENT
UID:UZ_PLZ_20260518_1100_504992
DTSTAMP:20260518T110000
DTSTART:20260518T110000
DTEND:20260518T123000
SUMMARY:Control Theory 1 (W): WMIiE-E-2025/2026
CATEGORIES:W
LOCATION:219 A-29
END:VEVENT
BEGIN:VEVENT
UID:UZ_PLZ_20260518_1245_504992
DTSTAMP:20260518T124500
DTSTART:20260518T124500
DTEND:20260518T133000
SUMMARY:Control Theory 1 (W): WMIiE-E-2025/2026
CATEGORIES:W
LOCATION:219 A-29
END:VEVENT
BEGIN:VEVENT
UID:UZ_PLZ_20260519_1430_505121
DTSTAMP:20260519T143000
DTSTART:20260519T143000
DTEND:20260519T160000
SUMMARY:Metody reprezentacyjne/Representative Methods (W): 11ID-SD
CATEGORIES:W
LOCATION:207 A-29
END:VEVENT
BEGIN:VEVENT
UID:UZ_PLZ_20260519_1615_505081
DTSTAMP:20260519T161500
DTSTART:20260519T161500
DTEND:20260519T174500
SUMMARY:Metody reprezentacyjne/Representative Methods (L): 11ID-SD
CATEGORIES:L
LOCATION:205 A-29
END:VEVENT
BEGIN:VEVENT
UID:UZ_PLZ_20260519_1800_505008
DTSTAMP:20260519T180000
DTSTART:20260519T180000
DTEND:20260519T210000
SUMMARY:Seminarium dyplomowe 2 (S): 21ID-SD
CATEGORIES:S
LOCATION:118 A-29
END:VEVENT
BEGIN:VEVENT
UID:UZ_PLZ_20260519_1945_505011
DTSTAMP:20260519T194500
DTSTART:20260519T194500
DTEND:20260519T211500
SUMMARY:Seminarium specjalistyczne 3 (S): 21IiE-SD
CATEGORIES:S
LOCATION:213 A-29
END:VEVENT
BEGIN:VEVENT
UID:UZ_PLZ_20260520_1245_506748
DTSTAMP:20260520T124500
DTSTART:20260520T124500
DTEND:20260520T141500
SUMMARY:Dyżur pracowniczy (I)
CATEGORIES:I
END:VEVENT
BEGIN:VEVENT
UID:UZ_PLZ_20260520_1945_505061
DTSTAMP:20260520T194500
DTSTART:20260520T194500
DTEND:20260520T211500
SUMMARY:Seminarium specjalistyczne 2 (S): 21ID-SD
CATEGORIES:S
LOCATION:118 A-29
END:VEVENT
BEGIN:VEVENT
UID:UZ_PLZ_20260521_0915_506783
DTSTAMP:20260521T091500
DTSTART:20260521T091500
DTEND:20260521T104500
SUMMARY:Seminarium naukowe (I)
CATEGORIES:I
LOCATION:218 A-29
END:VEVENT
BEGIN:VEVENT
UID:UZ_PLZ_20260521_1800_505113
DTSTAMP:20260521T180000
DTSTART:20260521T180000
DTEND:20260521T210000
SUMMARY:Diploma Seminar 3/Seminarium dyplomowe 3 (S): 21IiE-SD
CATEGORIES:S
LOCATION:118 A-29
END:VEVENT
BEGIN:VEVENT
UID:UZ_PLZ_20260522_1945_505140
DTSTAMP:20260522T194500
DTSTART:20260522T194500
DTEND:20260522T211500
SUMMARY:Inżynierski projekt dyplomowy 1 (S): 31ID-SP
CATEGORIES:S
LOCATION:218 A-29
END:VEVENT
BEGIN:VEVENT
UID:UZ_PLZ_20260525_0915_505082
DTSTAMP:20260525T091500
DTSTART:20260525T091500
DTEND:20260525T104500
SUMMARY:Metody reprezentacyjne/Representative Methods (W): 21IiE-SD
CATEGORIES:W
LOCATION:112 A-29
END:VEVENT
BEGIN:VEVENT
UID:UZ_PLZ_20260525_1100_504992
DTSTAMP:20260525T110000
DTSTART:20260525T110000
DTEND:20260525T123000
SUMMARY:Control Theory 1 (W): WMIiE-E-2025/2026
CATEGORIES:W
LOCATION:219 A-29
END:VEVENT
BEGIN:VEVENT
UID:UZ_PLZ_20260525_1245_504992
DTSTAMP:20260525T124500
DTSTART:20260525T124500
DTEND:20260525T133000
SUMMARY:Control Theory 1 (W): WMIiE-E-2025/2026
CATEGORIES:W
LOCATION:219 A-29
END:VEVENT
BEGIN:VEVENT
UID:UZ_PLZ_20260526_1430_505121
DTSTAMP:20260526T143000
DTSTART:20260526T143000
DTEND:20260526T160000
SUMMARY:Metody reprezentacyjne/Representative Methods (W): 11ID-SD
CATEGORIES:W
LOCATION:207 A-29
END:VEVENT
BEGIN:VEVENT
UID:UZ_PLZ_20260526_1615_505081
DTSTAMP:20260526T161500
DTSTART:20260526T161500
DTEND:20260526T174500
SUMMARY:Metody reprezentacyjne/Representative Methods (L): 11ID-SD
CATEGORIES:L
LOCATION:205 A-29
END:VEVENT
BEGIN:VEVENT
UID:UZ_PLZ_20260526_1800_505008
DTSTAMP:20260526T180000
DTSTART:20260526T180000
DTEND:20260526T210000
SUMMARY:Seminarium dyplomowe 2 (S): 21ID-SD
CATEGORIES:S
LOCATION:118 A-29
END:VEVENT
BEGIN:VEVENT
UID:UZ_PLZ_20260526_1945_505011
DTSTAMP:20260526T194500
DTSTART:20260526T194500
DTEND:20260526T211500
SUMMARY:Seminarium specjalistyczne 3 (S): 21IiE-SD
CATEGORIES:S
LOCATION:213 A-29
END:VEVENT
BEGIN:VEVENT
UID:UZ_PLZ_20260527_1245_506748
DTSTAMP:20260527T124500
DTSTART:20260527T124500
DTEND:20260527T141500
SUMMARY:Dyżur pracowniczy (I)
CATEGORIES:I
END:VEVENT
BEGIN:VEVENT
UID:UZ_PLZ_20260527_1945_505061
DTSTAMP:20260527T194500
DTSTART:20260527T194500
DTEND:20260527T211500
SUMMARY:Seminarium specjalistyczne 2 (S): 21ID-SD
CATEGORIES:S
LOCATION:118 A-29
END:VEVENT
BEGIN:VEVENT
UID:UZ_PLZ_20260528_0915_506783
DTSTAMP:20260528T091500
DTSTART:20260528T091500
DTEND:20260528T104500
SUMMARY:Seminarium naukowe (I)
CATEGORIES:I
LOCATION:218 A-29
END:VEVENT
BEGIN:VEVENT
UID:UZ_PLZ_20260528_1800_505113
DTSTAMP:20260528T180000
DTSTART:20260528T180000
DTEND:20260528T210000
SUMMARY:Diploma Seminar 3/Seminarium dyplomowe 3 (S): 21IiE-SD
CATEGORIES:S
LOCATION:118 A-29
END:VEVENT
BEGIN:VEVENT
UID:UZ_PLZ_20260529_1945_505140
DTSTAMP:20260529T194500
DTSTART:20260529T194500
DTEND:20260529T211500
SUMMARY:Inżynierski projekt dyplomowy 1 (S): 31ID-SP
CATEGORIES:S
LOCATION:218 A-29
END:VEVENT
BEGIN:VEVENT
UID:UZ_PLZ_20260531_0730_502972
DTSTAMP:20260531T073000
DTSTART:20260531T073000
DTEND:20260531T090000
SUMMARY:Matematyka II (W): 11EN-NP
CATEGORIES:W
LOCATION:202 A-29
END:VEVENT
BEGIN:VEVENT
UID:UZ_PLZ_20260531_0910_502964
DTSTAMP:20260531T091000
DTSTART:20260531T091000
DTEND:20260531T104000
SUMMARY:Matematyka II (Ć): 11EN-NP
CATEGORIES:Ć
LOCATION:202 A-29
END:VEVENT
BEGIN:VEVENT
UID:UZ_PLZ_20260531_1100_498434
DTSTAMP:20260531T110000
DTSTART:20260531T110000
DTEND:20260531T124000
SUMMARY:Statystyka matematyczna (W): 11ZARZ-SRB-ND
CATEGORIES:W
LOCATION:202 A-29
END:VEVENT
BEGIN:VEVENT
UID:UZ_PLZ_20260531_1430_498474
DTSTAMP:20260531T143000
DTSTART:20260531T143000
DTEND:20260531T161000
SUMMARY:Statystyka matematyczna (Ć): 11ZARZ-SRB-ND
CATEGORIES:Ć
LOCATION:202 A-29
END:VEVENT
BEGIN:VEVENT
UID:UZ_PLZ_20260601_0730_505103
DTSTAMP:20260601T073000
DTSTART:20260601T073000
DTEND:20260601T090500
SUMMARY:Metody reprezentacyjne/Representative Methods (L): 21IiE-SD
CATEGORIES:L
LOCATION:112 A-29
END:VEVENT
BEGIN:VEVENT
UID:UZ_PLZ_20260601_0915_505082
DTSTAMP:20260601T091500
DTSTART:20260601T091500
DTEND:20260601T104500
SUMMARY:Metody reprezentacyjne/Representative Methods (W): 21IiE-SD
CATEGORIES:W
LOCATION:112 A-29
END:VEVENT
BEGIN:VEVENT
UID:UZ_PLZ_20260601_1100_504992
DTSTAMP:20260601T110000
DTSTART:20260601T110000
DTEND:20260601T123000
SUMMARY:Control Theory 1 (W): WMIiE-E-2025/2026
CATEGORIES:W
LOCATION:219 A-29
END:VEVENT
BEGIN:VEVENT
UID:UZ_PLZ_20260601_1245_504992
DTSTAMP:20260601T124500
DTSTART:20260601T124500
DTEND:20260601T133000
SUMMARY:Control Theory 1 (W): WMIiE-E-2025/2026
CATEGORIES:W
LOCATION:219 A-29
END:VEVENT
BEGIN:VEVENT
UID:UZ_PLZ_20260602_1430_505121
DTSTAMP:20260602T143000
DTSTART:20260602T143000
DTEND:20260602T160000
SUMMARY:Metody reprezentacyjne/Representative Methods (W): 11ID-SD
CATEGORIES:W
LOCATION:207 A-29
END:VEVENT
BEGIN:VEVENT
UID:UZ_PLZ_20260602_1615_505081
DTSTAMP:20260602T161500
DTSTART:20260602T161500
DTEND:20260602T174500
SUMMARY:Metody reprezentacyjne/Representative Methods (L): 11ID-SD
CATEGORIES:L
LOCATION:205 A-29
END:VEVENT
BEGIN:VEVENT
UID:UZ_PLZ_20260602_1800_505008
DTSTAMP:20260602T180000
DTSTART:20260602T180000
DTEND:20260602T210000
SUMMARY:Seminarium dyplomowe 2 (S): 21ID-SD
CATEGORIES:S
LOCATION:118 A-29
END:VEVENT
BEGIN:VEVENT
UID:UZ_PLZ_20260602_1945_505011
DTSTAMP:20260602T194500
DTSTART:20260602T194500
DTEND:20260602T211500
SUMMARY:Seminarium specjalistyczne 3 (S): 21IiE-SD
CATEGORIES:S
LOCATION:213 A-29
END:VEVENT
BEGIN:VEVENT
UID:UZ_PLZ_20260603_1245_506748
DTSTAMP:20260603T124500
DTSTART:20260603T124500
DTEND:20260603T141500
SUMMARY:Dyżur pracowniczy (I)
CATEGORIES:I
END:VEVENT
BEGIN:VEVENT
UID:UZ_PLZ_20260603_1945_505061
DTSTAMP:20260603T194500
DTSTART:20260603T194500
DTEND:20260603T211500
SUMMARY:Seminarium specjalistyczne 2 (S): 21ID-SD
CATEGORIES:S
LOCATION:118 A-29
END:VEVENT
BEGIN:VEVENT
UID:UZ_PLZ_20260608_0915_505082
DTSTAMP:20260608T091500
DTSTART:20260608T091500
DTEND:20260608T104500
SUMMARY:Metody reprezentacyjne/Representative Methods (W): 21IiE-SD
CATEGORIES:W
LOCATION:112 A-29
END:VEVENT
BEGIN:VEVENT
UID:UZ_PLZ_20260608_1100_504992
DTSTAMP:20260608T110000
DTSTART:20260608T110000
DTEND:20260608T123000
SUMMARY:Control Theory 1 (W): WMIiE-E-2025/2026
CATEGORIES:W
LOCATION:219 A-29
END:VEVENT
BEGIN:VEVENT
UID:UZ_PLZ_20260608_1245_504992
DTSTAMP:20260608T124500
DTSTART:20260608T124500
DTEND:20260608T133000
SUMMARY:Control Theory 1 (W): WMIiE-E-2025/2026
CATEGORIES:W
LOCATION:219 A-29
END:VEVENT
BEGIN:VEVENT
UID:UZ_PLZ_20260609_1430_505121
DTSTAMP:20260609T143000
DTSTART:20260609T143000
DTEND:20260609T160000
SUMMARY:Metody reprezentacyjne/Representative Methods (W): 11ID-SD
CATEGORIES:W
LOCATION:207 A-29
END:VEVENT
BEGIN:VEVENT
UID:UZ_PLZ_20260609_1615_505081
DTSTAMP:20260609T161500
DTSTART:20260609T161500
DTEND:20260609T174500
SUMMARY:Metody reprezentacyjne/Representative Methods (L): 11ID-SD
CATEGORIES:L
LOCATION:205 A-29
END:VEVENT
BEGIN:VEVENT
UID:UZ_PLZ_20260609_1800_505008
DTSTAMP:20260609T180000
DTSTART:20260609T180000
DTEND:20260609T210000
SUMMARY:Seminarium dyplomowe 2 (S): 21ID-SD
CATEGORIES:S
LOCATION:118 A-29
END:VEVENT
BEGIN:VEVENT
UID:UZ_PLZ_20260609_1945_505011
DTSTAMP:20260609T194500
DTSTART:20260609T194500
DTEND:20260609T211500
SUMMARY:Seminarium specjalistyczne 3 (S): 21IiE-SD
CATEGORIES:S
LOCATION:213 A-29
END:VEVENT
BEGIN:VEVENT
UID:UZ_PLZ_20260610_1245_506748
DTSTAMP:20260610T124500
DTSTART:20260610T124500
DTEND:20260610T141500
SUMMARY:Dyżur pracowniczy (I)
CATEGORIES:I
END:VEVENT
BEGIN:VEVENT
UID:UZ_PLZ_20260610_1945_505061
DTSTAMP:20260610T194500
DTSTART:20260610T194500
DTEND:20260610T211500
SUMMARY:Seminarium specjalistyczne 2 (S): 21ID-SD
CATEGORIES:S
LOCATION:118 A-29
END:VEVENT
BEGIN:VEVENT
UID:UZ_PLZ_20260611_0915_506783
DTSTAMP:20260611T091500
DTSTART:20260611T091500
DTEND:20260611T104500
SUMMARY:Seminarium naukowe (I)
CATEGORIES:I
LOCATION:218 A-29
END:VEVENT
BEGIN:VEVENT
UID:UZ_PLZ_20260611_1800_505113
DTSTAMP:20260611T180000
DTSTART:20260611T180000
DTEND:20260611T210000
SUMMARY:Diploma Seminar 3/Seminarium dyplomowe 3 (S): 21IiE-SD
CATEGORIES:S
LOCATION:118 A-29
END:VEVENT
BEGIN:VEVENT
UID:UZ_PLZ_20260612_1945_505140
DTSTAMP:20260612T194500
DTSTART:20260612T194500
DTEND:20260612T211500
SUMMARY:Inżynierski projekt dyplomowy 1 (S): 31ID-SP
CATEGORIES:S
LOCATION:218 A-29
END:VEVENT
BEGIN:VEVENT
UID:UZ_PLZ_20260614_0730_502972
DTSTAMP:20260614T073000
DTSTART:20260614T073000
DTEND:20260614T090000
SUMMARY:Matematyka II (W): 11EN-NP
CATEGORIES:W
LOCATION:202 A-29
END:VEVENT
BEGIN:VEVENT
UID:UZ_PLZ_20260614_0910_502964
DTSTAMP:20260614T091000
DTSTART:20260614T091000
DTEND:20260614T104000
SUMMARY:Matematyka II (Ć): 11EN-NP
CATEGORIES:Ć
LOCATION:202 A-29
END:VEVENT
BEGIN:VEVENT
UID:UZ_PLZ_20260615_0730_505103
DTSTAMP:20260615T073000
DTSTART:20260615T073000
DTEND:20260615T090500
SUMMARY:Metody reprezentacyjne/Representative Methods (L): 21IiE-SD
CATEGORIES:L
LOCATION:112 A-29
END:VEVENT
BEGIN:VEVENT
UID:UZ_PLZ_20260615_0915_505082
DTSTAMP:20260615T091500
DTSTART:20260615T091500
DTEND:20260615T104500
SUMMARY:Metody reprezentacyjne/Representative Methods (W): 21IiE-SD
CATEGORIES:W
LOCATION:112 A-29
END:VEVENT
BEGIN:VEVENT
UID:UZ_PLZ_20260615_1100_504992
DTSTAMP:20260615T110000
DTSTART:20260615T110000
DTEND:20260615T123000
SUMMARY:Control Theory 1 (W): WMIiE-E-2025/2026
CATEGORIES:W
LOCATION:219 A-29
END:VEVENT
BEGIN:VEVENT
UID:UZ_PLZ_20260615_1245_504992
DTSTAMP:20260615T124500
DTSTART:20260615T124500
DTEND:20260615T133000
SUMMARY:Control Theory 1 (W): WMIiE-E-2025/2026
CATEGORIES:W
LOCATION:219 A-29
END:VEVENT
BEGIN:VEVENT
UID:UZ_PLZ_20260616_1430_505121
DTSTAMP:20260616T143000
DTSTART:20260616T143000
DTEND:20260616T160000
SUMMARY:Metody reprezentacyjne/Representative Methods (W): 11ID-SD
CATEGORIES:W
LOCATION:207 A-29
END:VEVENT
BEGIN:VEVENT
UID:UZ_PLZ_20260616_1615_505081
DTSTAMP:20260616T161500
DTSTART:20260616T161500
DTEND:20260616T174500
SUMMARY:Metody reprezentacyjne/Representative Methods (L): 11ID-SD
CATEGORIES:L
LOCATION:205 A-29
END:VEVENT
BEGIN:VEVENT
UID:UZ_PLZ_20260616_1800_505008
DTSTAMP:20260616T180000
DTSTART:20260616T180000
DTEND:20260616T210000
SUMMARY:Seminarium dyplomowe 2 (S): 21ID-SD
CATEGORIES:S
LOCATION:118 A-29
END:VEVENT
BEGIN:VEVENT
UID:UZ_PLZ_20260616_1945_505011
DTSTAMP:20260616T194500
DTSTART:20260616T194500
DTEND:20260616T211500
SUMMARY:Seminarium specjalistyczne 3 (S): 21IiE-SD
CATEGORIES:S
LOCATION:213 A-29
END:VEVENT
BEGIN:VEVENT
UID:UZ_PLZ_20260617_1245_506748
DTSTAMP:20260617T124500
DTSTART:20260617T124500
DTEND:20260617T141500
SUMMARY:Dyżur pracowniczy (I)
CATEGORIES:I
END:VEVENT
BEGIN:VEVENT
UID:UZ_PLZ_20260617_1945_505061
DTSTAMP:20260617T194500
DTSTART:20260617T194500
DTEND:20260617T211500
SUMMARY:Seminarium specjalistyczne 2 (S): 21ID-SD
CATEGORIES:S
LOCATION:118 A-29
END:VEVENT
BEGIN:VEVENT
UID:UZ_PLZ_20260618_0915_506783
DTSTAMP:20260618T091500
DTSTART:20260618T091500
DTEND:20260618T104500
SUMMARY:Seminarium naukowe (I)
CATEGORIES:I
LOCATION:218 A-29
END:VEVENT
BEGIN:VEVENT
UID:UZ_PLZ_20260618_1800_505113
DTSTAMP:20260618T180000
DTSTART:20260618T180000
DTEND:20260618T210000
SUMMARY:Diploma Seminar 3/Seminarium dyplomowe 3 (S): 21IiE-SD
CATEGORIES:S
LOCATION:118 A-29
END:VEVENT
BEGIN:VEVENT
UID:UZ_PLZ_20260619_1945_505140
DTSTAMP:20260619T194500
DTSTART:20260619T194500
DTEND:20260619T211500
SUMMARY:Inżynierski projekt dyplomowy 1 (S): 31ID-SP
CATEGORIES:S
LOCATION:218 A-29
END:VEVENT
BEGIN:VEVENT
UID:UZ_PLZ_20260621_0900_508596
DTSTAMP:20260621T090000
DTSTART:20260621T090000
DTEND:20260621T104500
SUMMARY:Statystyka matematyczna (E): 11ZARZ-SRB-ND
CATEGORIES:E
LOCATION:3 A-29
END:VEVENT
BEGIN:VEVENT
UID:UZ_PLZ_20260621_1100_508095
DTSTAMP:20260621T110000
DTSTART:20260621T110000
DTEND:20260621T125500
SUMMARY:Matematyka II (E): 11EN-NP
CATEGORIES:E
LOCATION:202 A-29
END:VEVENT
BEGIN:VEVENT
UID:UZ_PLZ_20260622_1000_508301
DTSTAMP:20260622T100000
DTSTART:20260622T100000
DTEND:20260622T115500
SUMMARY:Metody reprezentacyjne/Representative Methods (E): 11ID-SD
CATEGORIES:E
LOCATION:205 A-29
END:VEVENT
BEGIN:VEVENT
UID:UZ_PLZ_20260902_1300_508301
DTSTAMP:20260902T130000
DTSTART:20260902T130000
DTEND:20260902T145500
SUMMARY:Metody reprezentacyjne/Representative Methods (E): 11ID-SD
CATEGORIES:E
LOCATION:205 A-29
END:VEVENT
BEGIN:VEVENT
UID:UZ_PLZ_20260906_0900_508596
DTSTAMP:20260906T090000
DTSTART:20260906T090000
DTEND:20260906T104500
SUMMARY:Statystyka matematyczna (E): 11ZARZ-SRB-ND
CATEGORIES:E
LOCATION:202 A-29
END:VEVENT
BEGIN:VEVENT
UID:UZ_PLZ_20260906_1100_508095
DTSTAMP:20260906T110000
DTSTART:20260906T110000
DTEND:20260906T125500
SUMMARY:Matematyka II (E): 11EN-NP
CATEGORIES:E
LOCATION:202 A-29
END:VEVENT
END:VCALENDAR
