BEGIN:VCALENDAR
TZID:Europe/Warsaw
X-WR-TIMEZONE:Europe/Warsaw
VERSION:2.0
PRODID:-//Uniwersytet Zielonogórski//NONSGML Plan zajęć v1.0//EN
NAME:Plan zajęć - semestr letni 2025/2026
X-WR-CALNAME:Plan zajęć - semestr letni 2025/2026
COLOR:green
CALSCALE:GREGORIAN
BEGIN:VEVENT
UID:UZ_PLZ_20260423_0915_499589
DTSTAMP:20260423T091500
DTSTART:20260423T091500
DTEND:20260423T104500
SUMMARY:Komputerowe wspomaganie programowania obrabiarek CNC (L): 25MiBM-TM-SD
CATEGORIES:L
LOCATION:B420 A-11
END:VEVENT
BEGIN:VEVENT
UID:UZ_PLZ_20260424_1900_504612
DTSTAMP:20260424T190000
DTSTART:20260424T190000
DTEND:20260424T202400
SUMMARY:AZS / Sporty halowe (Ć)
CATEGORIES:Ć
LOCATION:00011 A-1
END:VEVENT
BEGIN:VEVENT
UID:UZ_PLZ_20260425_0730_499812
DTSTAMP:20260425T073000
DTSTART:20260425T073000
DTEND:20260425T090000
SUMMARY:Technologie wytwarzania 3D (L): 25MiBM-EM-ND
CATEGORIES:L
LOCATION:B420 A-11
END:VEVENT
BEGIN:VEVENT
UID:UZ_PLZ_20260425_0915_499722
DTSTAMP:20260425T091500
DTSTART:20260425T091500
DTEND:20260425T113000
SUMMARY:Zastosowanie MES w analizach inżynierskich (P): 25MiBM-EM-ND
CATEGORIES:P
LOCATION:B420 A-11
END:VEVENT
BEGIN:VEVENT
UID:UZ_PLZ_20260425_1145_499731
DTSTAMP:20260425T114500
DTSTART:20260425T114500
DTEND:20260425T140000
SUMMARY:Wykorzystanie technik komputerowych w eksploatacji (L): 31MiBM-EM-NP
CATEGORIES:L
LOCATION:B420 A-11
END:VEVENT
BEGIN:VEVENT
UID:UZ_PLZ_20260425_1415_499740
DTSTAMP:20260425T141500
DTSTART:20260425T141500
DTEND:20260425T154500
SUMMARY:Pneumatyczne i hydrauliczne układy sterowania maszyn (W): 31MiBM-EM-NP
CATEGORIES:W
LOCATION:B420 A-11
END:VEVENT
BEGIN:VEVENT
UID:UZ_PLZ_20260425_1615_499744
DTSTAMP:20260425T161500
DTSTART:20260425T161500
DTEND:20260425T174500
SUMMARY:Technologiczne aspekty projektowania maszyn (P): 31MiBM-KM-NP
CATEGORIES:P
LOCATION:B420 A-11
END:VEVENT
BEGIN:VEVENT
UID:UZ_PLZ_20260425_1800_499757
DTSTAMP:20260425T180000
DTSTART:20260425T180000
DTEND:20260425T193000
SUMMARY:Podstawy konstrukcji 3D (L): 31MiBM-TM-NP
CATEGORIES:L
LOCATION:B420 A-11
END:VEVENT
BEGIN:VEVENT
UID:UZ_PLZ_20260428_0915_499688
DTSTAMP:20260428T091500
DTSTART:20260428T091500
DTEND:20260428T104500
SUMMARY:Technologiczne aspekty projektowania maszyn (P): 31MiBM-KM-SP
CATEGORIES:P
LOCATION:B420 A-11
END:VEVENT
BEGIN:VEVENT
UID:UZ_PLZ_20260428_1100_499634
DTSTAMP:20260428T110000
DTSTART:20260428T110000
DTEND:20260428T122500
SUMMARY:Pneumatyczne i hydrauliczne układy sterowania maszyn (W): 31MiBM-EM-SP
CATEGORIES:W
LOCATION:B311 A-11
END:VEVENT
BEGIN:VEVENT
UID:UZ_PLZ_20260428_1245_499673
DTSTAMP:20260428T124500
DTSTART:20260428T124500
DTEND:20260428T141500
SUMMARY:Wykorzystanie technik komputerowych w eksploatacji (L): 31MiBM-EM-SP
CATEGORIES:L
LOCATION:B420 A-11
END:VEVENT
BEGIN:VEVENT
UID:UZ_PLZ_20260428_1430_499673
DTSTAMP:20260428T143000
DTSTART:20260428T143000
DTEND:20260428T155500
SUMMARY:Wykorzystanie technik komputerowych w eksploatacji (L): 31MiBM-EM-SP
CATEGORIES:L
LOCATION:B420 A-11
END:VEVENT
BEGIN:VEVENT
UID:UZ_PLZ_20260430_0915_499589
DTSTAMP:20260430T091500
DTSTART:20260430T091500
DTEND:20260430T104500
SUMMARY:Komputerowe wspomaganie programowania obrabiarek CNC (L): 25MiBM-TM-SD
CATEGORIES:L
LOCATION:B420 A-11
END:VEVENT
BEGIN:VEVENT
UID:UZ_PLZ_20260430_1100_499681
DTSTAMP:20260430T110000
DTSTART:20260430T110000
DTEND:20260430T122500
SUMMARY:Obrabiarki sterowane numerycznie (W): 25MiBM-TM-SD
CATEGORIES:W
LOCATION:B118 A-11
END:VEVENT
BEGIN:VEVENT
UID:UZ_PLZ_20260501_1900_504612
DTSTAMP:20260501T190000
DTSTART:20260501T190000
DTEND:20260501T202400
SUMMARY:AZS / Sporty halowe (Ć)
CATEGORIES:Ć
LOCATION:00011 A-1
END:VEVENT
BEGIN:VEVENT
UID:UZ_PLZ_20260505_0915_499688
DTSTAMP:20260505T091500
DTSTART:20260505T091500
DTEND:20260505T104500
SUMMARY:Technologiczne aspekty projektowania maszyn (P): 31MiBM-KM-SP
CATEGORIES:P
LOCATION:B420 A-11
END:VEVENT
BEGIN:VEVENT
UID:UZ_PLZ_20260505_1100_499666
DTSTAMP:20260505T110000
DTSTART:20260505T110000
DTEND:20260505T123500
SUMMARY:Pneumatyczne i hydrauliczne układy sterowania maszyn (Ć): 31MiBM-EM-SP
CATEGORIES:Ć
LOCATION:B420 A-11
END:VEVENT
BEGIN:VEVENT
UID:UZ_PLZ_20260505_1245_499673
DTSTAMP:20260505T124500
DTSTART:20260505T124500
DTEND:20260505T141500
SUMMARY:Wykorzystanie technik komputerowych w eksploatacji (L): 31MiBM-EM-SP
CATEGORIES:L
LOCATION:B420 A-11
END:VEVENT
BEGIN:VEVENT
UID:UZ_PLZ_20260506_0915_500365
DTSTAMP:20260506T091500
DTSTART:20260506T091500
DTEND:20260506T150000
SUMMARY:Rezerwacja Kierownictwo IIM (R)
CATEGORIES:R
END:VEVENT
BEGIN:VEVENT
UID:UZ_PLZ_20260507_0915_499589
DTSTAMP:20260507T091500
DTSTART:20260507T091500
DTEND:20260507T104500
SUMMARY:Komputerowe wspomaganie programowania obrabiarek CNC (L): 25MiBM-TM-SD
CATEGORIES:L
LOCATION:B420 A-11
END:VEVENT
BEGIN:VEVENT
UID:UZ_PLZ_20260508_1900_504612
DTSTAMP:20260508T190000
DTSTART:20260508T190000
DTEND:20260508T202400
SUMMARY:AZS / Sporty halowe (Ć)
CATEGORIES:Ć
LOCATION:00011 A-1
END:VEVENT
BEGIN:VEVENT
UID:UZ_PLZ_20260509_0730_499812
DTSTAMP:20260509T073000
DTSTART:20260509T073000
DTEND:20260509T090000
SUMMARY:Technologie wytwarzania 3D (L): 25MiBM-EM-ND
CATEGORIES:L
LOCATION:B420 A-11
END:VEVENT
BEGIN:VEVENT
UID:UZ_PLZ_20260509_0915_499722
DTSTAMP:20260509T091500
DTSTART:20260509T091500
DTEND:20260509T113000
SUMMARY:Zastosowanie MES w analizach inżynierskich (P): 25MiBM-EM-ND
CATEGORIES:P
LOCATION:B420 A-11
END:VEVENT
BEGIN:VEVENT
UID:UZ_PLZ_20260509_1145_499731
DTSTAMP:20260509T114500
DTSTART:20260509T114500
DTEND:20260509T140000
SUMMARY:Wykorzystanie technik komputerowych w eksploatacji (L): 31MiBM-EM-NP
CATEGORIES:L
LOCATION:B420 A-11
END:VEVENT
BEGIN:VEVENT
UID:UZ_PLZ_20260509_1415_499739
DTSTAMP:20260509T141500
DTSTART:20260509T141500
DTEND:20260509T154500
SUMMARY:Pneumatyczne i hydrauliczne układy sterowania maszyn (Ć): 31MiBM-EM-NP
CATEGORIES:Ć
LOCATION:B420 A-11
END:VEVENT
BEGIN:VEVENT
UID:UZ_PLZ_20260509_1615_499744
DTSTAMP:20260509T161500
DTSTART:20260509T161500
DTEND:20260509T174500
SUMMARY:Technologiczne aspekty projektowania maszyn (P): 31MiBM-KM-NP
CATEGORIES:P
LOCATION:B420 A-11
END:VEVENT
BEGIN:VEVENT
UID:UZ_PLZ_20260509_1800_499757
DTSTAMP:20260509T180000
DTSTART:20260509T180000
DTEND:20260509T193000
SUMMARY:Podstawy konstrukcji 3D (L): 31MiBM-TM-NP
CATEGORIES:L
LOCATION:B420 A-11
END:VEVENT
BEGIN:VEVENT
UID:UZ_PLZ_20260512_0915_499688
DTSTAMP:20260512T091500
DTSTART:20260512T091500
DTEND:20260512T104500
SUMMARY:Technologiczne aspekty projektowania maszyn (P): 31MiBM-KM-SP
CATEGORIES:P
LOCATION:B420 A-11
END:VEVENT
BEGIN:VEVENT
UID:UZ_PLZ_20260512_1100_499634
DTSTAMP:20260512T110000
DTSTART:20260512T110000
DTEND:20260512T122500
SUMMARY:Pneumatyczne i hydrauliczne układy sterowania maszyn (W): 31MiBM-EM-SP
CATEGORIES:W
LOCATION:B311 A-11
END:VEVENT
BEGIN:VEVENT
UID:UZ_PLZ_20260512_1245_499673
DTSTAMP:20260512T124500
DTSTART:20260512T124500
DTEND:20260512T141500
SUMMARY:Wykorzystanie technik komputerowych w eksploatacji (L): 31MiBM-EM-SP
CATEGORIES:L
LOCATION:B420 A-11
END:VEVENT
BEGIN:VEVENT
UID:UZ_PLZ_20260512_1430_499673
DTSTAMP:20260512T143000
DTSTART:20260512T143000
DTEND:20260512T155500
SUMMARY:Wykorzystanie technik komputerowych w eksploatacji (L): 31MiBM-EM-SP
CATEGORIES:L
LOCATION:B420 A-11
END:VEVENT
BEGIN:VEVENT
UID:UZ_PLZ_20260513_0915_500365
DTSTAMP:20260513T091500
DTSTART:20260513T091500
DTEND:20260513T150000
SUMMARY:Rezerwacja Kierownictwo IIM (R)
CATEGORIES:R
END:VEVENT
BEGIN:VEVENT
UID:UZ_PLZ_20260514_0915_499589
DTSTAMP:20260514T091500
DTSTART:20260514T091500
DTEND:20260514T104500
SUMMARY:Komputerowe wspomaganie programowania obrabiarek CNC (L): 25MiBM-TM-SD
CATEGORIES:L
LOCATION:B420 A-11
END:VEVENT
BEGIN:VEVENT
UID:UZ_PLZ_20260514_1100_499681
DTSTAMP:20260514T110000
DTSTART:20260514T110000
DTEND:20260514T122500
SUMMARY:Obrabiarki sterowane numerycznie (W): 25MiBM-TM-SD
CATEGORIES:W
LOCATION:B118 A-11
END:VEVENT
BEGIN:VEVENT
UID:UZ_PLZ_20260515_1900_504612
DTSTAMP:20260515T190000
DTSTART:20260515T190000
DTEND:20260515T202400
SUMMARY:AZS / Sporty halowe (Ć)
CATEGORIES:Ć
LOCATION:00011 A-1
END:VEVENT
BEGIN:VEVENT
UID:UZ_PLZ_20260516_0730_499812
DTSTAMP:20260516T073000
DTSTART:20260516T073000
DTEND:20260516T090000
SUMMARY:Technologie wytwarzania 3D (L): 25MiBM-EM-ND
CATEGORIES:L
LOCATION:B420 A-11
END:VEVENT
BEGIN:VEVENT
UID:UZ_PLZ_20260516_0915_499722
DTSTAMP:20260516T091500
DTSTART:20260516T091500
DTEND:20260516T113000
SUMMARY:Zastosowanie MES w analizach inżynierskich (P): 25MiBM-EM-ND
CATEGORIES:P
LOCATION:B420 A-11
END:VEVENT
BEGIN:VEVENT
UID:UZ_PLZ_20260516_1145_499731
DTSTAMP:20260516T114500
DTSTART:20260516T114500
DTEND:20260516T140000
SUMMARY:Wykorzystanie technik komputerowych w eksploatacji (L): 31MiBM-EM-NP
CATEGORIES:L
LOCATION:B420 A-11
END:VEVENT
BEGIN:VEVENT
UID:UZ_PLZ_20260516_1415_499740
DTSTAMP:20260516T141500
DTSTART:20260516T141500
DTEND:20260516T154500
SUMMARY:Pneumatyczne i hydrauliczne układy sterowania maszyn (W): 31MiBM-EM-NP
CATEGORIES:W
LOCATION:B420 A-11
END:VEVENT
BEGIN:VEVENT
UID:UZ_PLZ_20260516_1615_499744
DTSTAMP:20260516T161500
DTSTART:20260516T161500
DTEND:20260516T174500
SUMMARY:Technologiczne aspekty projektowania maszyn (P): 31MiBM-KM-NP
CATEGORIES:P
LOCATION:B420 A-11
END:VEVENT
BEGIN:VEVENT
UID:UZ_PLZ_20260516_1800_499757
DTSTAMP:20260516T180000
DTSTART:20260516T180000
DTEND:20260516T193000
SUMMARY:Podstawy konstrukcji 3D (L): 31MiBM-TM-NP
CATEGORIES:L
LOCATION:B420 A-11
END:VEVENT
BEGIN:VEVENT
UID:UZ_PLZ_20260519_0915_499688
DTSTAMP:20260519T091500
DTSTART:20260519T091500
DTEND:20260519T104500
SUMMARY:Technologiczne aspekty projektowania maszyn (P): 31MiBM-KM-SP
CATEGORIES:P
LOCATION:B420 A-11
END:VEVENT
BEGIN:VEVENT
UID:UZ_PLZ_20260519_1100_499666
DTSTAMP:20260519T110000
DTSTART:20260519T110000
DTEND:20260519T123500
SUMMARY:Pneumatyczne i hydrauliczne układy sterowania maszyn (Ć): 31MiBM-EM-SP
CATEGORIES:Ć
LOCATION:B420 A-11
END:VEVENT
BEGIN:VEVENT
UID:UZ_PLZ_20260519_1245_499673
DTSTAMP:20260519T124500
DTSTART:20260519T124500
DTEND:20260519T141500
SUMMARY:Wykorzystanie technik komputerowych w eksploatacji (L): 31MiBM-EM-SP
CATEGORIES:L
LOCATION:B420 A-11
END:VEVENT
BEGIN:VEVENT
UID:UZ_PLZ_20260520_0915_500365
DTSTAMP:20260520T091500
DTSTART:20260520T091500
DTEND:20260520T150000
SUMMARY:Rezerwacja Kierownictwo IIM (R)
CATEGORIES:R
END:VEVENT
BEGIN:VEVENT
UID:UZ_PLZ_20260521_0915_499589
DTSTAMP:20260521T091500
DTSTART:20260521T091500
DTEND:20260521T104500
SUMMARY:Komputerowe wspomaganie programowania obrabiarek CNC (L): 25MiBM-TM-SD
CATEGORIES:L
LOCATION:B420 A-11
END:VEVENT
BEGIN:VEVENT
UID:UZ_PLZ_20260522_1900_504612
DTSTAMP:20260522T190000
DTSTART:20260522T190000
DTEND:20260522T202400
SUMMARY:AZS / Sporty halowe (Ć)
CATEGORIES:Ć
LOCATION:00011 A-1
END:VEVENT
BEGIN:VEVENT
UID:UZ_PLZ_20260526_0915_499688
DTSTAMP:20260526T091500
DTSTART:20260526T091500
DTEND:20260526T104500
SUMMARY:Technologiczne aspekty projektowania maszyn (P): 31MiBM-KM-SP
CATEGORIES:P
LOCATION:B420 A-11
END:VEVENT
BEGIN:VEVENT
UID:UZ_PLZ_20260526_1100_499634
DTSTAMP:20260526T110000
DTSTART:20260526T110000
DTEND:20260526T122500
SUMMARY:Pneumatyczne i hydrauliczne układy sterowania maszyn (W): 31MiBM-EM-SP
CATEGORIES:W
LOCATION:B311 A-11
END:VEVENT
BEGIN:VEVENT
UID:UZ_PLZ_20260526_1245_499673
DTSTAMP:20260526T124500
DTSTART:20260526T124500
DTEND:20260526T141500
SUMMARY:Wykorzystanie technik komputerowych w eksploatacji (L): 31MiBM-EM-SP
CATEGORIES:L
LOCATION:B420 A-11
END:VEVENT
BEGIN:VEVENT
UID:UZ_PLZ_20260526_1430_499673
DTSTAMP:20260526T143000
DTSTART:20260526T143000
DTEND:20260526T155500
SUMMARY:Wykorzystanie technik komputerowych w eksploatacji (L): 31MiBM-EM-SP
CATEGORIES:L
LOCATION:B420 A-11
END:VEVENT
BEGIN:VEVENT
UID:UZ_PLZ_20260527_0915_500365
DTSTAMP:20260527T091500
DTSTART:20260527T091500
DTEND:20260527T150000
SUMMARY:Rezerwacja Kierownictwo IIM (R)
CATEGORIES:R
END:VEVENT
BEGIN:VEVENT
UID:UZ_PLZ_20260528_0915_499589
DTSTAMP:20260528T091500
DTSTART:20260528T091500
DTEND:20260528T104500
SUMMARY:Komputerowe wspomaganie programowania obrabiarek CNC (L): 25MiBM-TM-SD
CATEGORIES:L
LOCATION:B420 A-11
END:VEVENT
BEGIN:VEVENT
UID:UZ_PLZ_20260528_1100_499681
DTSTAMP:20260528T110000
DTSTART:20260528T110000
DTEND:20260528T122500
SUMMARY:Obrabiarki sterowane numerycznie (W): 25MiBM-TM-SD
CATEGORIES:W
LOCATION:B118 A-11
END:VEVENT
BEGIN:VEVENT
UID:UZ_PLZ_20260529_1900_504612
DTSTAMP:20260529T190000
DTSTART:20260529T190000
DTEND:20260529T202400
SUMMARY:AZS / Sporty halowe (Ć)
CATEGORIES:Ć
LOCATION:00011 A-1
END:VEVENT
BEGIN:VEVENT
UID:UZ_PLZ_20260530_0730_499812
DTSTAMP:20260530T073000
DTSTART:20260530T073000
DTEND:20260530T090000
SUMMARY:Technologie wytwarzania 3D (L): 25MiBM-EM-ND
CATEGORIES:L
LOCATION:B420 A-11
END:VEVENT
BEGIN:VEVENT
UID:UZ_PLZ_20260530_0915_499722
DTSTAMP:20260530T091500
DTSTART:20260530T091500
DTEND:20260530T113000
SUMMARY:Zastosowanie MES w analizach inżynierskich (P): 25MiBM-EM-ND
CATEGORIES:P
LOCATION:B420 A-11
END:VEVENT
BEGIN:VEVENT
UID:UZ_PLZ_20260530_1145_499731
DTSTAMP:20260530T114500
DTSTART:20260530T114500
DTEND:20260530T140000
SUMMARY:Wykorzystanie technik komputerowych w eksploatacji (L): 31MiBM-EM-NP
CATEGORIES:L
LOCATION:B420 A-11
END:VEVENT
BEGIN:VEVENT
UID:UZ_PLZ_20260530_1415_499739
DTSTAMP:20260530T141500
DTSTART:20260530T141500
DTEND:20260530T154500
SUMMARY:Pneumatyczne i hydrauliczne układy sterowania maszyn (Ć): 31MiBM-EM-NP
CATEGORIES:Ć
LOCATION:B420 A-11
END:VEVENT
BEGIN:VEVENT
UID:UZ_PLZ_20260530_1615_499744
DTSTAMP:20260530T161500
DTSTART:20260530T161500
DTEND:20260530T174500
SUMMARY:Technologiczne aspekty projektowania maszyn (P): 31MiBM-KM-NP
CATEGORIES:P
LOCATION:B420 A-11
END:VEVENT
BEGIN:VEVENT
UID:UZ_PLZ_20260530_1800_499757
DTSTAMP:20260530T180000
DTSTART:20260530T180000
DTEND:20260530T193000
SUMMARY:Podstawy konstrukcji 3D (L): 31MiBM-TM-NP
CATEGORIES:L
LOCATION:B420 A-11
END:VEVENT
BEGIN:VEVENT
UID:UZ_PLZ_20260602_0915_499688
DTSTAMP:20260602T091500
DTSTART:20260602T091500
DTEND:20260602T104500
SUMMARY:Technologiczne aspekty projektowania maszyn (P): 31MiBM-KM-SP
CATEGORIES:P
LOCATION:B420 A-11
END:VEVENT
BEGIN:VEVENT
UID:UZ_PLZ_20260602_1100_499666
DTSTAMP:20260602T110000
DTSTART:20260602T110000
DTEND:20260602T123500
SUMMARY:Pneumatyczne i hydrauliczne układy sterowania maszyn (Ć): 31MiBM-EM-SP
CATEGORIES:Ć
LOCATION:B420 A-11
END:VEVENT
BEGIN:VEVENT
UID:UZ_PLZ_20260602_1245_499673
DTSTAMP:20260602T124500
DTSTART:20260602T124500
DTEND:20260602T141500
SUMMARY:Wykorzystanie technik komputerowych w eksploatacji (L): 31MiBM-EM-SP
CATEGORIES:L
LOCATION:B420 A-11
END:VEVENT
BEGIN:VEVENT
UID:UZ_PLZ_20260603_0915_500365
DTSTAMP:20260603T091500
DTSTART:20260603T091500
DTEND:20260603T150000
SUMMARY:Rezerwacja Kierownictwo IIM (R)
CATEGORIES:R
END:VEVENT
BEGIN:VEVENT
UID:UZ_PLZ_20260605_1900_504612
DTSTAMP:20260605T190000
DTSTART:20260605T190000
DTEND:20260605T202400
SUMMARY:AZS / Sporty halowe (Ć)
CATEGORIES:Ć
LOCATION:00011 A-1
END:VEVENT
BEGIN:VEVENT
UID:UZ_PLZ_20260609_0915_499688
DTSTAMP:20260609T091500
DTSTART:20260609T091500
DTEND:20260609T104500
SUMMARY:Technologiczne aspekty projektowania maszyn (P): 31MiBM-KM-SP
CATEGORIES:P
LOCATION:B420 A-11
END:VEVENT
BEGIN:VEVENT
UID:UZ_PLZ_20260609_1100_499634
DTSTAMP:20260609T110000
DTSTART:20260609T110000
DTEND:20260609T122500
SUMMARY:Pneumatyczne i hydrauliczne układy sterowania maszyn (W): 31MiBM-EM-SP
CATEGORIES:W
LOCATION:B311 A-11
END:VEVENT
BEGIN:VEVENT
UID:UZ_PLZ_20260609_1245_499673
DTSTAMP:20260609T124500
DTSTART:20260609T124500
DTEND:20260609T141500
SUMMARY:Wykorzystanie technik komputerowych w eksploatacji (L): 31MiBM-EM-SP
CATEGORIES:L
LOCATION:B420 A-11
END:VEVENT
BEGIN:VEVENT
UID:UZ_PLZ_20260609_1430_499673
DTSTAMP:20260609T143000
DTSTART:20260609T143000
DTEND:20260609T155500
SUMMARY:Wykorzystanie technik komputerowych w eksploatacji (L): 31MiBM-EM-SP
CATEGORIES:L
LOCATION:B420 A-11
END:VEVENT
BEGIN:VEVENT
UID:UZ_PLZ_20260610_0915_500365
DTSTAMP:20260610T091500
DTSTART:20260610T091500
DTEND:20260610T150000
SUMMARY:Rezerwacja Kierownictwo IIM (R)
CATEGORIES:R
END:VEVENT
BEGIN:VEVENT
UID:UZ_PLZ_20260611_0915_499589
DTSTAMP:20260611T091500
DTSTART:20260611T091500
DTEND:20260611T104500
SUMMARY:Komputerowe wspomaganie programowania obrabiarek CNC (L): 25MiBM-TM-SD
CATEGORIES:L
LOCATION:B420 A-11
END:VEVENT
BEGIN:VEVENT
UID:UZ_PLZ_20260611_1100_499681
DTSTAMP:20260611T110000
DTSTART:20260611T110000
DTEND:20260611T122500
SUMMARY:Obrabiarki sterowane numerycznie (W): 25MiBM-TM-SD
CATEGORIES:W
LOCATION:B118 A-11
END:VEVENT
BEGIN:VEVENT
UID:UZ_PLZ_20260612_1900_504612
DTSTAMP:20260612T190000
DTSTART:20260612T190000
DTEND:20260612T202400
SUMMARY:AZS / Sporty halowe (Ć)
CATEGORIES:Ć
LOCATION:00011 A-1
END:VEVENT
BEGIN:VEVENT
UID:UZ_PLZ_20260613_0730_499812
DTSTAMP:20260613T073000
DTSTART:20260613T073000
DTEND:20260613T090000
SUMMARY:Technologie wytwarzania 3D (L): 25MiBM-EM-ND
CATEGORIES:L
LOCATION:B420 A-11
END:VEVENT
BEGIN:VEVENT
UID:UZ_PLZ_20260613_0915_499722
DTSTAMP:20260613T091500
DTSTART:20260613T091500
DTEND:20260613T113000
SUMMARY:Zastosowanie MES w analizach inżynierskich (P): 25MiBM-EM-ND
CATEGORIES:P
LOCATION:B420 A-11
END:VEVENT
BEGIN:VEVENT
UID:UZ_PLZ_20260613_1145_499731
DTSTAMP:20260613T114500
DTSTART:20260613T114500
DTEND:20260613T140000
SUMMARY:Wykorzystanie technik komputerowych w eksploatacji (L): 31MiBM-EM-NP
CATEGORIES:L
LOCATION:B420 A-11
END:VEVENT
BEGIN:VEVENT
UID:UZ_PLZ_20260613_1415_499740
DTSTAMP:20260613T141500
DTSTART:20260613T141500
DTEND:20260613T154500
SUMMARY:Pneumatyczne i hydrauliczne układy sterowania maszyn (W): 31MiBM-EM-NP
CATEGORIES:W
LOCATION:B420 A-11
END:VEVENT
BEGIN:VEVENT
UID:UZ_PLZ_20260613_1615_499744
DTSTAMP:20260613T161500
DTSTART:20260613T161500
DTEND:20260613T174500
SUMMARY:Technologiczne aspekty projektowania maszyn (P): 31MiBM-KM-NP
CATEGORIES:P
LOCATION:B420 A-11
END:VEVENT
BEGIN:VEVENT
UID:UZ_PLZ_20260613_1800_499757
DTSTAMP:20260613T180000
DTSTART:20260613T180000
DTEND:20260613T193000
SUMMARY:Podstawy konstrukcji 3D (L): 31MiBM-TM-NP
CATEGORIES:L
LOCATION:B420 A-11
END:VEVENT
BEGIN:VEVENT
UID:UZ_PLZ_20260616_0915_499688
DTSTAMP:20260616T091500
DTSTART:20260616T091500
DTEND:20260616T104500
SUMMARY:Technologiczne aspekty projektowania maszyn (P): 31MiBM-KM-SP
CATEGORIES:P
LOCATION:B420 A-11
END:VEVENT
BEGIN:VEVENT
UID:UZ_PLZ_20260616_1100_499666
DTSTAMP:20260616T110000
DTSTART:20260616T110000
DTEND:20260616T123500
SUMMARY:Pneumatyczne i hydrauliczne układy sterowania maszyn (Ć): 31MiBM-EM-SP
CATEGORIES:Ć
LOCATION:B420 A-11
END:VEVENT
BEGIN:VEVENT
UID:UZ_PLZ_20260616_1245_499673
DTSTAMP:20260616T124500
DTSTART:20260616T124500
DTEND:20260616T141500
SUMMARY:Wykorzystanie technik komputerowych w eksploatacji (L): 31MiBM-EM-SP
CATEGORIES:L
LOCATION:B420 A-11
END:VEVENT
BEGIN:VEVENT
UID:UZ_PLZ_20260617_0915_500365
DTSTAMP:20260617T091500
DTSTART:20260617T091500
DTEND:20260617T150000
SUMMARY:Rezerwacja Kierownictwo IIM (R)
CATEGORIES:R
END:VEVENT
BEGIN:VEVENT
UID:UZ_PLZ_20260618_0915_499589
DTSTAMP:20260618T091500
DTSTART:20260618T091500
DTEND:20260618T104500
SUMMARY:Komputerowe wspomaganie programowania obrabiarek CNC (L): 25MiBM-TM-SD
CATEGORIES:L
LOCATION:B420 A-11
END:VEVENT
BEGIN:VEVENT
UID:UZ_PLZ_20260619_1900_504612
DTSTAMP:20260619T190000
DTSTART:20260619T190000
DTEND:20260619T202400
SUMMARY:AZS / Sporty halowe (Ć)
CATEGORIES:Ć
LOCATION:00011 A-1
END:VEVENT
BEGIN:VEVENT
UID:UZ_PLZ_20260626_1900_504612
DTSTAMP:20260626T190000
DTSTART:20260626T190000
DTEND:20260626T202400
SUMMARY:AZS / Sporty halowe (Ć)
CATEGORIES:Ć
LOCATION:00011 A-1
END:VEVENT
BEGIN:VEVENT
UID:UZ_PLZ_20260703_1900_504612
DTSTAMP:20260703T190000
DTSTART:20260703T190000
DTEND:20260703T202400
SUMMARY:AZS / Sporty halowe (Ć)
CATEGORIES:Ć
LOCATION:00011 A-1
END:VEVENT
BEGIN:VEVENT
UID:UZ_PLZ_20260710_1900_504612
DTSTAMP:20260710T190000
DTSTART:20260710T190000
DTEND:20260710T202400
SUMMARY:AZS / Sporty halowe (Ć)
CATEGORIES:Ć
LOCATION:00011 A-1
END:VEVENT
BEGIN:VEVENT
UID:UZ_PLZ_20260717_1900_504612
DTSTAMP:20260717T190000
DTSTART:20260717T190000
DTEND:20260717T202400
SUMMARY:AZS / Sporty halowe (Ć)
CATEGORIES:Ć
LOCATION:00011 A-1
END:VEVENT
BEGIN:VEVENT
UID:UZ_PLZ_20260724_1900_504612
DTSTAMP:20260724T190000
DTSTART:20260724T190000
DTEND:20260724T202400
SUMMARY:AZS / Sporty halowe (Ć)
CATEGORIES:Ć
LOCATION:00011 A-1
END:VEVENT
BEGIN:VEVENT
UID:UZ_PLZ_20260731_1900_504612
DTSTAMP:20260731T190000
DTSTART:20260731T190000
DTEND:20260731T202400
SUMMARY:AZS / Sporty halowe (Ć)
CATEGORIES:Ć
LOCATION:00011 A-1
END:VEVENT
BEGIN:VEVENT
UID:UZ_PLZ_20260807_1900_504612
DTSTAMP:20260807T190000
DTSTART:20260807T190000
DTEND:20260807T202400
SUMMARY:AZS / Sporty halowe (Ć)
CATEGORIES:Ć
LOCATION:00011 A-1
END:VEVENT
BEGIN:VEVENT
UID:UZ_PLZ_20260814_1900_504612
DTSTAMP:20260814T190000
DTSTART:20260814T190000
DTEND:20260814T202400
SUMMARY:AZS / Sporty halowe (Ć)
CATEGORIES:Ć
LOCATION:00011 A-1
END:VEVENT
BEGIN:VEVENT
UID:UZ_PLZ_20260821_1900_504612
DTSTAMP:20260821T190000
DTSTART:20260821T190000
DTEND:20260821T202400
SUMMARY:AZS / Sporty halowe (Ć)
CATEGORIES:Ć
LOCATION:00011 A-1
END:VEVENT
BEGIN:VEVENT
UID:UZ_PLZ_20260828_1900_504612
DTSTAMP:20260828T190000
DTSTART:20260828T190000
DTEND:20260828T202400
SUMMARY:AZS / Sporty halowe (Ć)
CATEGORIES:Ć
LOCATION:00011 A-1
END:VEVENT
BEGIN:VEVENT
UID:UZ_PLZ_20260904_1900_504612
DTSTAMP:20260904T190000
DTSTART:20260904T190000
DTEND:20260904T202400
SUMMARY:AZS / Sporty halowe (Ć)
CATEGORIES:Ć
LOCATION:00011 A-1
END:VEVENT
BEGIN:VEVENT
UID:UZ_PLZ_20260911_1900_504612
DTSTAMP:20260911T190000
DTSTART:20260911T190000
DTEND:20260911T202400
SUMMARY:AZS / Sporty halowe (Ć)
CATEGORIES:Ć
LOCATION:00011 A-1
END:VEVENT
BEGIN:VEVENT
UID:UZ_PLZ_20260918_1900_504612
DTSTAMP:20260918T190000
DTSTART:20260918T190000
DTEND:20260918T202400
SUMMARY:AZS / Sporty halowe (Ć)
CATEGORIES:Ć
LOCATION:00011 A-1
END:VEVENT
BEGIN:VEVENT
UID:UZ_PLZ_20260925_1900_504612
DTSTAMP:20260925T190000
DTSTART:20260925T190000
DTEND:20260925T202400
SUMMARY:AZS / Sporty halowe (Ć)
CATEGORIES:Ć
LOCATION:00011 A-1
END:VEVENT
END:VCALENDAR
