BEGIN:VCALENDAR
TZID:Europe/Warsaw
X-WR-TIMEZONE:Europe/Warsaw
VERSION:2.0
PRODID:-//Uniwersytet Zielonogórski//NONSGML Plan zajęć v1.0//EN
NAME:Plan zajęć - semestr letni 2025/2026
X-WR-CALNAME:Plan zajęć - semestr letni 2025/2026
COLOR:green
CALSCALE:GREGORIAN
BEGIN:VEVENT
UID:UZ_PLZ_20260423_1100_499667
DTSTAMP:20260423T110000
DTSTART:20260423T110000
DTEND:20260423T123500
SUMMARY:Podstawy automatyki (Ć): 21IL-SP
CATEGORIES:Ć
LOCATION:B212 A-11
END:VEVENT
BEGIN:VEVENT
UID:UZ_PLZ_20260423_1245_499624
DTSTAMP:20260423T124500
DTSTART:20260423T124500
DTEND:20260423T142000
SUMMARY:Techniki automatyzacji II (L): 21MiBM-SP/A
CATEGORIES:L
LOCATION:B401 A-11\; H020 A-10
END:VEVENT
BEGIN:VEVENT
UID:UZ_PLZ_20260423_1430_499647
DTSTAMP:20260423T143000
DTSTART:20260423T143000
DTEND:20260423T155500
SUMMARY:Techniki automatyzacji II (W): 21MiBM-SP
CATEGORIES:W
LOCATION:B312 A-11
END:VEVENT
BEGIN:VEVENT
UID:UZ_PLZ_20260425_0730_499783
DTSTAMP:20260425T073000
DTSTART:20260425T073000
DTEND:20260425T090000
SUMMARY:Automatyka i robotyka (W): 11MiBM-NP
CATEGORIES:W
LOCATION:125 A-2
END:VEVENT
BEGIN:VEVENT
UID:UZ_PLZ_20260425_0915_499709
DTSTAMP:20260425T091500
DTSTART:20260425T091500
DTEND:20260425T104500
SUMMARY:Automatyka i robotyka (L): 11MiBM-NP/A
CATEGORIES:L
LOCATION:H020 A-10
END:VEVENT
BEGIN:VEVENT
UID:UZ_PLZ_20260425_1100_499784
DTSTAMP:20260425T110000
DTSTART:20260425T110000
DTEND:20260425T123000
SUMMARY:Automatyka i robotyka (L): 11MiBM-NP/B
CATEGORIES:L
LOCATION:H020 A-10
END:VEVENT
BEGIN:VEVENT
UID:UZ_PLZ_20260425_1430_499797
DTSTAMP:20260425T143000
DTSTART:20260425T143000
DTEND:20260425T155000
SUMMARY:Techniki automatyzacji II (L): 21MiBM-NP/B
CATEGORIES:L
LOCATION:B202 A-11\; H020 A-10
END:VEVENT
BEGIN:VEVENT
UID:UZ_PLZ_20260425_1615_499776
DTSTAMP:20260425T161500
DTSTART:20260425T161500
DTEND:20260425T173500
SUMMARY:Techniki automatyzacji II (W): 21MiBM-NP
CATEGORIES:W
LOCATION:B112 A-11
END:VEVENT
BEGIN:VEVENT
UID:UZ_PLZ_20260425_1800_499762
DTSTAMP:20260425T180000
DTSTART:20260425T180000
DTEND:20260425T192000
SUMMARY:Techniki automatyzacji II (L): 21MiBM-NP/A
CATEGORIES:L
LOCATION:B301 A-11\; H020 A-10
END:VEVENT
BEGIN:VEVENT
UID:UZ_PLZ_20260427_1100_499622
DTSTAMP:20260427T110000
DTSTART:20260427T110000
DTEND:20260427T123000
SUMMARY:Podstawy automatyki (W): 21IL-SP
CATEGORIES:W
LOCATION:B212 A-11
END:VEVENT
BEGIN:VEVENT
UID:UZ_PLZ_20260427_1245_499659
DTSTAMP:20260427T124500
DTSTART:20260427T124500
DTEND:20260427T141500
SUMMARY:Komputerowe wspomaganie projektowania CAD (L): 11MiBM-SP/B
CATEGORIES:L
LOCATION:B401 A-11
END:VEVENT
BEGIN:VEVENT
UID:UZ_PLZ_20260427_1430_499659
DTSTAMP:20260427T143000
DTSTART:20260427T143000
DTEND:20260427T155500
SUMMARY:Komputerowe wspomaganie projektowania CAD (L): 11MiBM-SP/B
CATEGORIES:L
LOCATION:B401 A-11
END:VEVENT
BEGIN:VEVENT
UID:UZ_PLZ_20260430_1100_499668
DTSTAMP:20260430T110000
DTSTART:20260430T110000
DTEND:20260430T122500
SUMMARY:Podstawy automatyki (L): 21IL-SP
CATEGORIES:L
LOCATION:B401 A-11
END:VEVENT
BEGIN:VEVENT
UID:UZ_PLZ_20260430_1245_499705
DTSTAMP:20260430T124500
DTSTART:20260430T124500
DTEND:20260430T141000
SUMMARY:Techniki automatyzacji II (L): 21MiBM-SP/B
CATEGORIES:L
LOCATION:B401 A-11\; H020 A-10
END:VEVENT
BEGIN:VEVENT
UID:UZ_PLZ_20260430_1430_499649
DTSTAMP:20260430T143000
DTSTART:20260430T143000
DTEND:20260430T160500
SUMMARY:Układy sterowania samolotów (L): 31IL-MiOL-SP
CATEGORIES:L
LOCATION:B202 A-11
END:VEVENT
BEGIN:VEVENT
UID:UZ_PLZ_20260504_1100_499622
DTSTAMP:20260504T110000
DTSTART:20260504T110000
DTEND:20260504T123000
SUMMARY:Podstawy automatyki (W): 21IL-SP
CATEGORIES:W
LOCATION:B212 A-11
END:VEVENT
BEGIN:VEVENT
UID:UZ_PLZ_20260504_1245_499659
DTSTAMP:20260504T124500
DTSTART:20260504T124500
DTEND:20260504T141500
SUMMARY:Komputerowe wspomaganie projektowania CAD (L): 11MiBM-SP/B
CATEGORIES:L
LOCATION:B401 A-11
END:VEVENT
BEGIN:VEVENT
UID:UZ_PLZ_20260506_0915_500366
DTSTAMP:20260506T091500
DTSTART:20260506T091500
DTEND:20260506T110000
SUMMARY:Rezerwacja IIM (R)
CATEGORIES:R
END:VEVENT
BEGIN:VEVENT
UID:UZ_PLZ_20260507_1100_499667
DTSTAMP:20260507T110000
DTSTART:20260507T110000
DTEND:20260507T123500
SUMMARY:Podstawy automatyki (Ć): 21IL-SP
CATEGORIES:Ć
LOCATION:B212 A-11
END:VEVENT
BEGIN:VEVENT
UID:UZ_PLZ_20260507_1245_499624
DTSTAMP:20260507T124500
DTSTART:20260507T124500
DTEND:20260507T142000
SUMMARY:Techniki automatyzacji II (L): 21MiBM-SP/A
CATEGORIES:L
LOCATION:B401 A-11\; H020 A-10
END:VEVENT
BEGIN:VEVENT
UID:UZ_PLZ_20260507_1430_499649
DTSTAMP:20260507T143000
DTSTART:20260507T143000
DTEND:20260507T160500
SUMMARY:Układy sterowania samolotów (L): 31IL-MiOL-SP
CATEGORIES:L
LOCATION:B202 A-11
END:VEVENT
BEGIN:VEVENT
UID:UZ_PLZ_20260509_0730_499783
DTSTAMP:20260509T073000
DTSTART:20260509T073000
DTEND:20260509T090000
SUMMARY:Automatyka i robotyka (W): 11MiBM-NP
CATEGORIES:W
LOCATION:125 A-2
END:VEVENT
BEGIN:VEVENT
UID:UZ_PLZ_20260509_0915_499709
DTSTAMP:20260509T091500
DTSTART:20260509T091500
DTEND:20260509T104500
SUMMARY:Automatyka i robotyka (L): 11MiBM-NP/A
CATEGORIES:L
LOCATION:H020 A-10
END:VEVENT
BEGIN:VEVENT
UID:UZ_PLZ_20260509_1100_499784
DTSTAMP:20260509T110000
DTSTART:20260509T110000
DTEND:20260509T123000
SUMMARY:Automatyka i robotyka (L): 11MiBM-NP/B
CATEGORIES:L
LOCATION:H020 A-10
END:VEVENT
BEGIN:VEVENT
UID:UZ_PLZ_20260509_1800_498439
DTSTAMP:20260509T180000
DTSTART:20260509T180000
DTEND:20260509T194000
SUMMARY:Techniki CAD (L): 33LOG-TS-NP/A
CATEGORIES:L
LOCATION:H130 A-10
END:VEVENT
BEGIN:VEVENT
UID:UZ_PLZ_20260509_1945_498354
DTSTAMP:20260509T194500
DTSTART:20260509T194500
DTEND:20260509T212500
SUMMARY:Techniki CAD (L): 32LOG-TS-NP/B
CATEGORIES:L
LOCATION:H130 A-10
END:VEVENT
BEGIN:VEVENT
UID:UZ_PLZ_20260511_1100_499622
DTSTAMP:20260511T110000
DTSTART:20260511T110000
DTEND:20260511T123000
SUMMARY:Podstawy automatyki (W): 21IL-SP
CATEGORIES:W
LOCATION:B212 A-11
END:VEVENT
BEGIN:VEVENT
UID:UZ_PLZ_20260511_1245_499659
DTSTAMP:20260511T124500
DTSTART:20260511T124500
DTEND:20260511T141500
SUMMARY:Komputerowe wspomaganie projektowania CAD (L): 11MiBM-SP/B
CATEGORIES:L
LOCATION:B401 A-11
END:VEVENT
BEGIN:VEVENT
UID:UZ_PLZ_20260511_1430_499659
DTSTAMP:20260511T143000
DTSTART:20260511T143000
DTEND:20260511T155500
SUMMARY:Komputerowe wspomaganie projektowania CAD (L): 11MiBM-SP/B
CATEGORIES:L
LOCATION:B401 A-11
END:VEVENT
BEGIN:VEVENT
UID:UZ_PLZ_20260513_0915_500366
DTSTAMP:20260513T091500
DTSTART:20260513T091500
DTEND:20260513T110000
SUMMARY:Rezerwacja IIM (R)
CATEGORIES:R
END:VEVENT
BEGIN:VEVENT
UID:UZ_PLZ_20260514_1100_499668
DTSTAMP:20260514T110000
DTSTART:20260514T110000
DTEND:20260514T122500
SUMMARY:Podstawy automatyki (L): 21IL-SP
CATEGORIES:L
LOCATION:B401 A-11
END:VEVENT
BEGIN:VEVENT
UID:UZ_PLZ_20260514_1245_499705
DTSTAMP:20260514T124500
DTSTART:20260514T124500
DTEND:20260514T141000
SUMMARY:Techniki automatyzacji II (L): 21MiBM-SP/B
CATEGORIES:L
LOCATION:B401 A-11\; H020 A-10
END:VEVENT
BEGIN:VEVENT
UID:UZ_PLZ_20260514_1430_499649
DTSTAMP:20260514T143000
DTSTART:20260514T143000
DTEND:20260514T160500
SUMMARY:Układy sterowania samolotów (L): 31IL-MiOL-SP
CATEGORIES:L
LOCATION:B202 A-11
END:VEVENT
BEGIN:VEVENT
UID:UZ_PLZ_20260516_0730_499783
DTSTAMP:20260516T073000
DTSTART:20260516T073000
DTEND:20260516T090000
SUMMARY:Automatyka i robotyka (W): 11MiBM-NP
CATEGORIES:W
LOCATION:125 A-2
END:VEVENT
BEGIN:VEVENT
UID:UZ_PLZ_20260516_0915_499709
DTSTAMP:20260516T091500
DTSTART:20260516T091500
DTEND:20260516T104500
SUMMARY:Automatyka i robotyka (L): 11MiBM-NP/A
CATEGORIES:L
LOCATION:H020 A-10
END:VEVENT
BEGIN:VEVENT
UID:UZ_PLZ_20260516_1100_499784
DTSTAMP:20260516T110000
DTSTART:20260516T110000
DTEND:20260516T123000
SUMMARY:Automatyka i robotyka (L): 11MiBM-NP/B
CATEGORIES:L
LOCATION:H020 A-10
END:VEVENT
BEGIN:VEVENT
UID:UZ_PLZ_20260516_1430_499797
DTSTAMP:20260516T143000
DTSTART:20260516T143000
DTEND:20260516T155000
SUMMARY:Techniki automatyzacji II (L): 21MiBM-NP/B
CATEGORIES:L
LOCATION:B202 A-11\; H020 A-10
END:VEVENT
BEGIN:VEVENT
UID:UZ_PLZ_20260516_1615_499776
DTSTAMP:20260516T161500
DTSTART:20260516T161500
DTEND:20260516T173500
SUMMARY:Techniki automatyzacji II (W): 21MiBM-NP
CATEGORIES:W
LOCATION:B112 A-11
END:VEVENT
BEGIN:VEVENT
UID:UZ_PLZ_20260516_1800_499762
DTSTAMP:20260516T180000
DTSTART:20260516T180000
DTEND:20260516T192000
SUMMARY:Techniki automatyzacji II (L): 21MiBM-NP/A
CATEGORIES:L
LOCATION:B301 A-11\; H020 A-10
END:VEVENT
BEGIN:VEVENT
UID:UZ_PLZ_20260518_1100_499622
DTSTAMP:20260518T110000
DTSTART:20260518T110000
DTEND:20260518T123000
SUMMARY:Podstawy automatyki (W): 21IL-SP
CATEGORIES:W
LOCATION:B212 A-11
END:VEVENT
BEGIN:VEVENT
UID:UZ_PLZ_20260518_1245_499659
DTSTAMP:20260518T124500
DTSTART:20260518T124500
DTEND:20260518T141500
SUMMARY:Komputerowe wspomaganie projektowania CAD (L): 11MiBM-SP/B
CATEGORIES:L
LOCATION:B401 A-11
END:VEVENT
BEGIN:VEVENT
UID:UZ_PLZ_20260520_0915_500366
DTSTAMP:20260520T091500
DTSTART:20260520T091500
DTEND:20260520T110000
SUMMARY:Rezerwacja IIM (R)
CATEGORIES:R
END:VEVENT
BEGIN:VEVENT
UID:UZ_PLZ_20260521_1100_499667
DTSTAMP:20260521T110000
DTSTART:20260521T110000
DTEND:20260521T123500
SUMMARY:Podstawy automatyki (Ć): 21IL-SP
CATEGORIES:Ć
LOCATION:B212 A-11
END:VEVENT
BEGIN:VEVENT
UID:UZ_PLZ_20260521_1245_499624
DTSTAMP:20260521T124500
DTSTART:20260521T124500
DTEND:20260521T142000
SUMMARY:Techniki automatyzacji II (L): 21MiBM-SP/A
CATEGORIES:L
LOCATION:B401 A-11\; H020 A-10
END:VEVENT
BEGIN:VEVENT
UID:UZ_PLZ_20260521_1430_499649
DTSTAMP:20260521T143000
DTSTART:20260521T143000
DTEND:20260521T160500
SUMMARY:Układy sterowania samolotów (L): 31IL-MiOL-SP
CATEGORIES:L
LOCATION:B202 A-11
END:VEVENT
BEGIN:VEVENT
UID:UZ_PLZ_20260525_1100_499622
DTSTAMP:20260525T110000
DTSTART:20260525T110000
DTEND:20260525T123000
SUMMARY:Podstawy automatyki (W): 21IL-SP
CATEGORIES:W
LOCATION:B212 A-11
END:VEVENT
BEGIN:VEVENT
UID:UZ_PLZ_20260525_1245_499659
DTSTAMP:20260525T124500
DTSTART:20260525T124500
DTEND:20260525T141500
SUMMARY:Komputerowe wspomaganie projektowania CAD (L): 11MiBM-SP/B
CATEGORIES:L
LOCATION:B401 A-11
END:VEVENT
BEGIN:VEVENT
UID:UZ_PLZ_20260525_1430_499659
DTSTAMP:20260525T143000
DTSTART:20260525T143000
DTEND:20260525T155500
SUMMARY:Komputerowe wspomaganie projektowania CAD (L): 11MiBM-SP/B
CATEGORIES:L
LOCATION:B401 A-11
END:VEVENT
BEGIN:VEVENT
UID:UZ_PLZ_20260527_0915_500366
DTSTAMP:20260527T091500
DTSTART:20260527T091500
DTEND:20260527T110000
SUMMARY:Rezerwacja IIM (R)
CATEGORIES:R
END:VEVENT
BEGIN:VEVENT
UID:UZ_PLZ_20260528_1100_499668
DTSTAMP:20260528T110000
DTSTART:20260528T110000
DTEND:20260528T122500
SUMMARY:Podstawy automatyki (L): 21IL-SP
CATEGORIES:L
LOCATION:B401 A-11
END:VEVENT
BEGIN:VEVENT
UID:UZ_PLZ_20260528_1245_499705
DTSTAMP:20260528T124500
DTSTART:20260528T124500
DTEND:20260528T141000
SUMMARY:Techniki automatyzacji II (L): 21MiBM-SP/B
CATEGORIES:L
LOCATION:B401 A-11\; H020 A-10
END:VEVENT
BEGIN:VEVENT
UID:UZ_PLZ_20260528_1430_499649
DTSTAMP:20260528T143000
DTSTART:20260528T143000
DTEND:20260528T160500
SUMMARY:Układy sterowania samolotów (L): 31IL-MiOL-SP
CATEGORIES:L
LOCATION:B202 A-11
END:VEVENT
BEGIN:VEVENT
UID:UZ_PLZ_20260530_0730_499783
DTSTAMP:20260530T073000
DTSTART:20260530T073000
DTEND:20260530T090000
SUMMARY:Automatyka i robotyka (W): 11MiBM-NP
CATEGORIES:W
LOCATION:125 A-2
END:VEVENT
BEGIN:VEVENT
UID:UZ_PLZ_20260530_0915_499709
DTSTAMP:20260530T091500
DTSTART:20260530T091500
DTEND:20260530T104500
SUMMARY:Automatyka i robotyka (L): 11MiBM-NP/A
CATEGORIES:L
LOCATION:H020 A-10
END:VEVENT
BEGIN:VEVENT
UID:UZ_PLZ_20260530_1100_499784
DTSTAMP:20260530T110000
DTSTART:20260530T110000
DTEND:20260530T123000
SUMMARY:Automatyka i robotyka (L): 11MiBM-NP/B
CATEGORIES:L
LOCATION:H020 A-10
END:VEVENT
BEGIN:VEVENT
UID:UZ_PLZ_20260530_1800_498439
DTSTAMP:20260530T180000
DTSTART:20260530T180000
DTEND:20260530T194000
SUMMARY:Techniki CAD (L): 33LOG-TS-NP/A
CATEGORIES:L
LOCATION:H130 A-10
END:VEVENT
BEGIN:VEVENT
UID:UZ_PLZ_20260530_1945_498354
DTSTAMP:20260530T194500
DTSTART:20260530T194500
DTEND:20260530T212500
SUMMARY:Techniki CAD (L): 32LOG-TS-NP/B
CATEGORIES:L
LOCATION:H130 A-10
END:VEVENT
BEGIN:VEVENT
UID:UZ_PLZ_20260601_1100_499622
DTSTAMP:20260601T110000
DTSTART:20260601T110000
DTEND:20260601T123000
SUMMARY:Podstawy automatyki (W): 21IL-SP
CATEGORIES:W
LOCATION:B212 A-11
END:VEVENT
BEGIN:VEVENT
UID:UZ_PLZ_20260601_1245_499659
DTSTAMP:20260601T124500
DTSTART:20260601T124500
DTEND:20260601T141500
SUMMARY:Komputerowe wspomaganie projektowania CAD (L): 11MiBM-SP/B
CATEGORIES:L
LOCATION:B401 A-11
END:VEVENT
BEGIN:VEVENT
UID:UZ_PLZ_20260603_0915_500366
DTSTAMP:20260603T091500
DTSTART:20260603T091500
DTEND:20260603T110000
SUMMARY:Rezerwacja IIM (R)
CATEGORIES:R
END:VEVENT
BEGIN:VEVENT
UID:UZ_PLZ_20260608_1100_499622
DTSTAMP:20260608T110000
DTSTART:20260608T110000
DTEND:20260608T123000
SUMMARY:Podstawy automatyki (W): 21IL-SP
CATEGORIES:W
LOCATION:B212 A-11
END:VEVENT
BEGIN:VEVENT
UID:UZ_PLZ_20260608_1245_499659
DTSTAMP:20260608T124500
DTSTART:20260608T124500
DTEND:20260608T141500
SUMMARY:Komputerowe wspomaganie projektowania CAD (L): 11MiBM-SP/B
CATEGORIES:L
LOCATION:B401 A-11
END:VEVENT
BEGIN:VEVENT
UID:UZ_PLZ_20260608_1430_499659
DTSTAMP:20260608T143000
DTSTART:20260608T143000
DTEND:20260608T155500
SUMMARY:Komputerowe wspomaganie projektowania CAD (L): 11MiBM-SP/B
CATEGORIES:L
LOCATION:B401 A-11
END:VEVENT
BEGIN:VEVENT
UID:UZ_PLZ_20260610_0915_500366
DTSTAMP:20260610T091500
DTSTART:20260610T091500
DTEND:20260610T110000
SUMMARY:Rezerwacja IIM (R)
CATEGORIES:R
END:VEVENT
BEGIN:VEVENT
UID:UZ_PLZ_20260611_1100_499668
DTSTAMP:20260611T110000
DTSTART:20260611T110000
DTEND:20260611T122500
SUMMARY:Podstawy automatyki (L): 21IL-SP
CATEGORIES:L
LOCATION:B401 A-11
END:VEVENT
BEGIN:VEVENT
UID:UZ_PLZ_20260611_1245_499705
DTSTAMP:20260611T124500
DTSTART:20260611T124500
DTEND:20260611T141000
SUMMARY:Techniki automatyzacji II (L): 21MiBM-SP/B
CATEGORIES:L
LOCATION:B401 A-11\; H020 A-10
END:VEVENT
BEGIN:VEVENT
UID:UZ_PLZ_20260611_1430_499649
DTSTAMP:20260611T143000
DTSTART:20260611T143000
DTEND:20260611T160500
SUMMARY:Układy sterowania samolotów (L): 31IL-MiOL-SP
CATEGORIES:L
LOCATION:B202 A-11
END:VEVENT
BEGIN:VEVENT
UID:UZ_PLZ_20260613_0730_499783
DTSTAMP:20260613T073000
DTSTART:20260613T073000
DTEND:20260613T090000
SUMMARY:Automatyka i robotyka (W): 11MiBM-NP
CATEGORIES:W
LOCATION:125 A-2
END:VEVENT
BEGIN:VEVENT
UID:UZ_PLZ_20260613_0915_499709
DTSTAMP:20260613T091500
DTSTART:20260613T091500
DTEND:20260613T104500
SUMMARY:Automatyka i robotyka (L): 11MiBM-NP/A
CATEGORIES:L
LOCATION:H020 A-10
END:VEVENT
BEGIN:VEVENT
UID:UZ_PLZ_20260613_1100_499784
DTSTAMP:20260613T110000
DTSTART:20260613T110000
DTEND:20260613T123000
SUMMARY:Automatyka i robotyka (L): 11MiBM-NP/B
CATEGORIES:L
LOCATION:H020 A-10
END:VEVENT
BEGIN:VEVENT
UID:UZ_PLZ_20260613_1430_499797
DTSTAMP:20260613T143000
DTSTART:20260613T143000
DTEND:20260613T155000
SUMMARY:Techniki automatyzacji II (L): 21MiBM-NP/B
CATEGORIES:L
LOCATION:B202 A-11\; H020 A-10
END:VEVENT
BEGIN:VEVENT
UID:UZ_PLZ_20260613_1615_499776
DTSTAMP:20260613T161500
DTSTART:20260613T161500
DTEND:20260613T173500
SUMMARY:Techniki automatyzacji II (W): 21MiBM-NP
CATEGORIES:W
LOCATION:B112 A-11
END:VEVENT
BEGIN:VEVENT
UID:UZ_PLZ_20260613_1800_499762
DTSTAMP:20260613T180000
DTSTART:20260613T180000
DTEND:20260613T192000
SUMMARY:Techniki automatyzacji II (L): 21MiBM-NP/A
CATEGORIES:L
LOCATION:B301 A-11\; H020 A-10
END:VEVENT
BEGIN:VEVENT
UID:UZ_PLZ_20260615_1100_499622
DTSTAMP:20260615T110000
DTSTART:20260615T110000
DTEND:20260615T123000
SUMMARY:Podstawy automatyki (W): 21IL-SP
CATEGORIES:W
LOCATION:B212 A-11
END:VEVENT
BEGIN:VEVENT
UID:UZ_PLZ_20260615_1245_499659
DTSTAMP:20260615T124500
DTSTART:20260615T124500
DTEND:20260615T141500
SUMMARY:Komputerowe wspomaganie projektowania CAD (L): 11MiBM-SP/B
CATEGORIES:L
LOCATION:B401 A-11
END:VEVENT
BEGIN:VEVENT
UID:UZ_PLZ_20260617_0915_500366
DTSTAMP:20260617T091500
DTSTART:20260617T091500
DTEND:20260617T110000
SUMMARY:Rezerwacja IIM (R)
CATEGORIES:R
END:VEVENT
BEGIN:VEVENT
UID:UZ_PLZ_20260618_1100_499667
DTSTAMP:20260618T110000
DTSTART:20260618T110000
DTEND:20260618T123500
SUMMARY:Podstawy automatyki (Ć): 21IL-SP
CATEGORIES:Ć
LOCATION:B212 A-11
END:VEVENT
BEGIN:VEVENT
UID:UZ_PLZ_20260618_1245_499624
DTSTAMP:20260618T124500
DTSTART:20260618T124500
DTEND:20260618T142000
SUMMARY:Techniki automatyzacji II (L): 21MiBM-SP/A
CATEGORIES:L
LOCATION:B401 A-11\; H020 A-10
END:VEVENT
BEGIN:VEVENT
UID:UZ_PLZ_20260618_1430_499649
DTSTAMP:20260618T143000
DTSTART:20260618T143000
DTEND:20260618T160500
SUMMARY:Układy sterowania samolotów (L): 31IL-MiOL-SP
CATEGORIES:L
LOCATION:B202 A-11
END:VEVENT
END:VCALENDAR
