BEGIN:VCALENDAR
TZID:Europe/Warsaw
X-WR-TIMEZONE:Europe/Warsaw
VERSION:2.0
PRODID:-//Uniwersytet Zielonogórski//NONSGML Plan zajęć v1.0//EN
NAME:Plan zajęć - semestr zimowy 2025/2026
X-WR-CALNAME:Plan zajęć - semestr zimowy 2025/2026
COLOR:green
CALSCALE:GREGORIAN
BEGIN:VEVENT
UID:UZ_PLZ_20251001_0915_487161
DTSTAMP:20251001T091500
DTSTART:20251001T091500
DTEND:20251001T110000
SUMMARY:Rezerwacja IIM (R)
CATEGORIES:R
END:VEVENT
BEGIN:VEVENT
UID:UZ_PLZ_20251006_0915_485209
DTSTAMP:20251006T091500
DTSTART:20251006T091500
DTEND:20251006T105000
SUMMARY:Podstawy technologii budowy maszyn (L): 31MiBM-SP/B
CATEGORIES:L
LOCATION:B401 A-11\; H034 A-10
END:VEVENT
BEGIN:VEVENT
UID:UZ_PLZ_20251006_1100_485405
DTSTAMP:20251006T110000
DTSTART:20251006T110000
DTEND:20251006T123000
SUMMARY:Języki programowania inżynierskiego (L): 21MiBM-SP/A
CATEGORIES:L
LOCATION:B420 A-11
END:VEVENT
BEGIN:VEVENT
UID:UZ_PLZ_20251006_1245_485238
DTSTAMP:20251006T124500
DTSTART:20251006T124500
DTEND:20251006T141500
SUMMARY:Języki programowania inżynierskiego (L): 21MiBM-SP/B
CATEGORIES:L
LOCATION:B420 A-11
END:VEVENT
BEGIN:VEVENT
UID:UZ_PLZ_20251006_1430_485486
DTSTAMP:20251006T143000
DTSTART:20251006T143000
DTEND:20251006T160500
SUMMARY:Techniki automatyzacji I (W): 21MiBM-SP
CATEGORIES:W
LOCATION:B112 A-11
END:VEVENT
BEGIN:VEVENT
UID:UZ_PLZ_20251006_1615_485431
DTSTAMP:20251006T161500
DTSTART:20251006T161500
DTEND:20251006T175000
SUMMARY:Techniki automatyzacji I (L): 21MiBM-SP/B
CATEGORIES:L
LOCATION:H020 A-10\; H132 A-10
END:VEVENT
BEGIN:VEVENT
UID:UZ_PLZ_20251008_0915_487161
DTSTAMP:20251008T091500
DTSTART:20251008T091500
DTEND:20251008T110000
SUMMARY:Rezerwacja IIM (R)
CATEGORIES:R
END:VEVENT
BEGIN:VEVENT
UID:UZ_PLZ_20251012_1245_492351
DTSTAMP:20251012T124500
DTSTART:20251012T124500
DTEND:20251012T141500
SUMMARY:Języki programowania inżynierskiego (L): 21MiBM-NP/B
CATEGORIES:L
LOCATION:H130 A-10
END:VEVENT
BEGIN:VEVENT
UID:UZ_PLZ_20251012_1430_492344
DTSTAMP:20251012T143000
DTSTART:20251012T143000
DTEND:20251012T160000
SUMMARY:Języki programowania inżynierskiego (L): 21MiBM-NP/A
CATEGORIES:L
LOCATION:H130 A-10
END:VEVENT
BEGIN:VEVENT
UID:UZ_PLZ_20251013_0915_485478
DTSTAMP:20251013T091500
DTSTART:20251013T091500
DTEND:20251013T104000
SUMMARY:Podstawy technologii budowy maszyn (L): 31MiBM-SP/A
CATEGORIES:L
LOCATION:B401 A-11\; H034 A-10
END:VEVENT
BEGIN:VEVENT
UID:UZ_PLZ_20251013_1100_485405
DTSTAMP:20251013T110000
DTSTART:20251013T110000
DTEND:20251013T123000
SUMMARY:Języki programowania inżynierskiego (L): 21MiBM-SP/A
CATEGORIES:L
LOCATION:B420 A-11
END:VEVENT
BEGIN:VEVENT
UID:UZ_PLZ_20251013_1245_485238
DTSTAMP:20251013T124500
DTSTART:20251013T124500
DTEND:20251013T141500
SUMMARY:Języki programowania inżynierskiego (L): 21MiBM-SP/B
CATEGORIES:L
LOCATION:B420 A-11
END:VEVENT
BEGIN:VEVENT
UID:UZ_PLZ_20251013_1430_485486
DTSTAMP:20251013T143000
DTSTART:20251013T143000
DTEND:20251013T160500
SUMMARY:Techniki automatyzacji I (W): 21MiBM-SP
CATEGORIES:W
LOCATION:B112 A-11
END:VEVENT
BEGIN:VEVENT
UID:UZ_PLZ_20251013_1615_485487
DTSTAMP:20251013T161500
DTSTART:20251013T161500
DTEND:20251013T174000
SUMMARY:Techniki automatyzacji I (L): 21MiBM-SP/A
CATEGORIES:L
LOCATION:H020 A-10\; H132 A-10
END:VEVENT
BEGIN:VEVENT
UID:UZ_PLZ_20251015_0915_487161
DTSTAMP:20251015T091500
DTSTART:20251015T091500
DTEND:20251015T110000
SUMMARY:Rezerwacja IIM (R)
CATEGORIES:R
END:VEVENT
BEGIN:VEVENT
UID:UZ_PLZ_20251020_0915_485209
DTSTAMP:20251020T091500
DTSTART:20251020T091500
DTEND:20251020T105000
SUMMARY:Podstawy technologii budowy maszyn (L): 31MiBM-SP/B
CATEGORIES:L
LOCATION:B401 A-11\; H034 A-10
END:VEVENT
BEGIN:VEVENT
UID:UZ_PLZ_20251020_1100_485405
DTSTAMP:20251020T110000
DTSTART:20251020T110000
DTEND:20251020T123000
SUMMARY:Języki programowania inżynierskiego (L): 21MiBM-SP/A
CATEGORIES:L
LOCATION:B420 A-11
END:VEVENT
BEGIN:VEVENT
UID:UZ_PLZ_20251020_1245_485238
DTSTAMP:20251020T124500
DTSTART:20251020T124500
DTEND:20251020T141500
SUMMARY:Języki programowania inżynierskiego (L): 21MiBM-SP/B
CATEGORIES:L
LOCATION:B420 A-11
END:VEVENT
BEGIN:VEVENT
UID:UZ_PLZ_20251020_1430_485486
DTSTAMP:20251020T143000
DTSTART:20251020T143000
DTEND:20251020T160500
SUMMARY:Techniki automatyzacji I (W): 21MiBM-SP
CATEGORIES:W
LOCATION:B112 A-11
END:VEVENT
BEGIN:VEVENT
UID:UZ_PLZ_20251020_1615_485431
DTSTAMP:20251020T161500
DTSTART:20251020T161500
DTEND:20251020T175000
SUMMARY:Techniki automatyzacji I (L): 21MiBM-SP/B
CATEGORIES:L
LOCATION:H020 A-10\; H132 A-10
END:VEVENT
BEGIN:VEVENT
UID:UZ_PLZ_20251022_0915_487161
DTSTAMP:20251022T091500
DTSTART:20251022T091500
DTEND:20251022T110000
SUMMARY:Rezerwacja IIM (R)
CATEGORIES:R
END:VEVENT
BEGIN:VEVENT
UID:UZ_PLZ_20251026_0730_492347
DTSTAMP:20251026T073000
DTSTART:20251026T073000
DTEND:20251026T091000
SUMMARY:Techniki automatyzacji I (W): 21MiBM-NP
CATEGORIES:W
LOCATION:B213 A-11
END:VEVENT
BEGIN:VEVENT
UID:UZ_PLZ_20251026_0915_492354
DTSTAMP:20251026T091500
DTSTART:20251026T091500
DTEND:20251026T105500
SUMMARY:Techniki automatyzacji I (L): 21MiBM-NP/B
CATEGORIES:L
LOCATION:B301 A-11\; H020 A-10
END:VEVENT
BEGIN:VEVENT
UID:UZ_PLZ_20251026_1100_492341
DTSTAMP:20251026T110000
DTSTART:20251026T110000
DTEND:20251026T124000
SUMMARY:Techniki automatyzacji I (L): 21MiBM-NP/A
CATEGORIES:L
LOCATION:B301 A-11\; H020 A-10
END:VEVENT
BEGIN:VEVENT
UID:UZ_PLZ_20251026_1245_492351
DTSTAMP:20251026T124500
DTSTART:20251026T124500
DTEND:20251026T141500
SUMMARY:Języki programowania inżynierskiego (L): 21MiBM-NP/B
CATEGORIES:L
LOCATION:H130 A-10
END:VEVENT
BEGIN:VEVENT
UID:UZ_PLZ_20251026_1430_492344
DTSTAMP:20251026T143000
DTSTART:20251026T143000
DTEND:20251026T160000
SUMMARY:Języki programowania inżynierskiego (L): 21MiBM-NP/A
CATEGORIES:L
LOCATION:H130 A-10
END:VEVENT
BEGIN:VEVENT
UID:UZ_PLZ_20251027_0915_485478
DTSTAMP:20251027T091500
DTSTART:20251027T091500
DTEND:20251027T104000
SUMMARY:Podstawy technologii budowy maszyn (L): 31MiBM-SP/A
CATEGORIES:L
LOCATION:B401 A-11\; H034 A-10
END:VEVENT
BEGIN:VEVENT
UID:UZ_PLZ_20251027_1100_485405
DTSTAMP:20251027T110000
DTSTART:20251027T110000
DTEND:20251027T123000
SUMMARY:Języki programowania inżynierskiego (L): 21MiBM-SP/A
CATEGORIES:L
LOCATION:B420 A-11
END:VEVENT
BEGIN:VEVENT
UID:UZ_PLZ_20251027_1245_485238
DTSTAMP:20251027T124500
DTSTART:20251027T124500
DTEND:20251027T141500
SUMMARY:Języki programowania inżynierskiego (L): 21MiBM-SP/B
CATEGORIES:L
LOCATION:B420 A-11
END:VEVENT
BEGIN:VEVENT
UID:UZ_PLZ_20251027_1430_485486
DTSTAMP:20251027T143000
DTSTART:20251027T143000
DTEND:20251027T160500
SUMMARY:Techniki automatyzacji I (W): 21MiBM-SP
CATEGORIES:W
LOCATION:B112 A-11
END:VEVENT
BEGIN:VEVENT
UID:UZ_PLZ_20251027_1615_485487
DTSTAMP:20251027T161500
DTSTART:20251027T161500
DTEND:20251027T174000
SUMMARY:Techniki automatyzacji I (L): 21MiBM-SP/A
CATEGORIES:L
LOCATION:H020 A-10\; H132 A-10
END:VEVENT
BEGIN:VEVENT
UID:UZ_PLZ_20251029_0915_487161
DTSTAMP:20251029T091500
DTSTART:20251029T091500
DTEND:20251029T110000
SUMMARY:Rezerwacja IIM (R)
CATEGORIES:R
END:VEVENT
BEGIN:VEVENT
UID:UZ_PLZ_20251103_0915_485209
DTSTAMP:20251103T091500
DTSTART:20251103T091500
DTEND:20251103T105000
SUMMARY:Podstawy technologii budowy maszyn (L): 31MiBM-SP/B
CATEGORIES:L
LOCATION:B401 A-11\; H034 A-10
END:VEVENT
BEGIN:VEVENT
UID:UZ_PLZ_20251103_1100_485405
DTSTAMP:20251103T110000
DTSTART:20251103T110000
DTEND:20251103T123000
SUMMARY:Języki programowania inżynierskiego (L): 21MiBM-SP/A
CATEGORIES:L
LOCATION:B420 A-11
END:VEVENT
BEGIN:VEVENT
UID:UZ_PLZ_20251103_1245_485238
DTSTAMP:20251103T124500
DTSTART:20251103T124500
DTEND:20251103T141500
SUMMARY:Języki programowania inżynierskiego (L): 21MiBM-SP/B
CATEGORIES:L
LOCATION:B420 A-11
END:VEVENT
BEGIN:VEVENT
UID:UZ_PLZ_20251103_1430_485486
DTSTAMP:20251103T143000
DTSTART:20251103T143000
DTEND:20251103T160500
SUMMARY:Techniki automatyzacji I (W): 21MiBM-SP
CATEGORIES:W
LOCATION:B112 A-11
END:VEVENT
BEGIN:VEVENT
UID:UZ_PLZ_20251103_1615_485431
DTSTAMP:20251103T161500
DTSTART:20251103T161500
DTEND:20251103T175000
SUMMARY:Techniki automatyzacji I (L): 21MiBM-SP/B
CATEGORIES:L
LOCATION:H020 A-10\; H132 A-10
END:VEVENT
BEGIN:VEVENT
UID:UZ_PLZ_20251105_0915_487161
DTSTAMP:20251105T091500
DTSTART:20251105T091500
DTEND:20251105T110000
SUMMARY:Rezerwacja IIM (R)
CATEGORIES:R
END:VEVENT
BEGIN:VEVENT
UID:UZ_PLZ_20251109_1245_492351
DTSTAMP:20251109T124500
DTSTART:20251109T124500
DTEND:20251109T141500
SUMMARY:Języki programowania inżynierskiego (L): 21MiBM-NP/B
CATEGORIES:L
LOCATION:H130 A-10
END:VEVENT
BEGIN:VEVENT
UID:UZ_PLZ_20251109_1430_492344
DTSTAMP:20251109T143000
DTSTART:20251109T143000
DTEND:20251109T160000
SUMMARY:Języki programowania inżynierskiego (L): 21MiBM-NP/A
CATEGORIES:L
LOCATION:H130 A-10
END:VEVENT
BEGIN:VEVENT
UID:UZ_PLZ_20251112_0915_487161
DTSTAMP:20251112T091500
DTSTART:20251112T091500
DTEND:20251112T110000
SUMMARY:Rezerwacja IIM (R)
CATEGORIES:R
END:VEVENT
BEGIN:VEVENT
UID:UZ_PLZ_20251113_0915_485478
DTSTAMP:20251113T091500
DTSTART:20251113T091500
DTEND:20251113T104000
SUMMARY:Podstawy technologii budowy maszyn (L): 31MiBM-SP/A
CATEGORIES:L
LOCATION:B401 A-11\; H034 A-10
END:VEVENT
BEGIN:VEVENT
UID:UZ_PLZ_20251113_1100_485405
DTSTAMP:20251113T110000
DTSTART:20251113T110000
DTEND:20251113T123000
SUMMARY:Języki programowania inżynierskiego (L): 21MiBM-SP/A
CATEGORIES:L
LOCATION:B420 A-11
END:VEVENT
BEGIN:VEVENT
UID:UZ_PLZ_20251113_1245_485238
DTSTAMP:20251113T124500
DTSTART:20251113T124500
DTEND:20251113T141500
SUMMARY:Języki programowania inżynierskiego (L): 21MiBM-SP/B
CATEGORIES:L
LOCATION:B420 A-11
END:VEVENT
BEGIN:VEVENT
UID:UZ_PLZ_20251113_1430_485486
DTSTAMP:20251113T143000
DTSTART:20251113T143000
DTEND:20251113T160500
SUMMARY:Techniki automatyzacji I (W): 21MiBM-SP
CATEGORIES:W
LOCATION:B112 A-11
END:VEVENT
BEGIN:VEVENT
UID:UZ_PLZ_20251113_1615_485487
DTSTAMP:20251113T161500
DTSTART:20251113T161500
DTEND:20251113T174000
SUMMARY:Techniki automatyzacji I (L): 21MiBM-SP/A
CATEGORIES:L
LOCATION:H020 A-10\; H132 A-10
END:VEVENT
BEGIN:VEVENT
UID:UZ_PLZ_20251117_0915_485209
DTSTAMP:20251117T091500
DTSTART:20251117T091500
DTEND:20251117T105000
SUMMARY:Podstawy technologii budowy maszyn (L): 31MiBM-SP/B
CATEGORIES:L
LOCATION:B401 A-11\; H034 A-10
END:VEVENT
BEGIN:VEVENT
UID:UZ_PLZ_20251117_1100_485405
DTSTAMP:20251117T110000
DTSTART:20251117T110000
DTEND:20251117T123000
SUMMARY:Języki programowania inżynierskiego (L): 21MiBM-SP/A
CATEGORIES:L
LOCATION:B420 A-11
END:VEVENT
BEGIN:VEVENT
UID:UZ_PLZ_20251117_1245_485238
DTSTAMP:20251117T124500
DTSTART:20251117T124500
DTEND:20251117T141500
SUMMARY:Języki programowania inżynierskiego (L): 21MiBM-SP/B
CATEGORIES:L
LOCATION:B420 A-11
END:VEVENT
BEGIN:VEVENT
UID:UZ_PLZ_20251117_1430_485486
DTSTAMP:20251117T143000
DTSTART:20251117T143000
DTEND:20251117T160500
SUMMARY:Techniki automatyzacji I (W): 21MiBM-SP
CATEGORIES:W
LOCATION:B112 A-11
END:VEVENT
BEGIN:VEVENT
UID:UZ_PLZ_20251117_1615_485431
DTSTAMP:20251117T161500
DTSTART:20251117T161500
DTEND:20251117T175000
SUMMARY:Techniki automatyzacji I (L): 21MiBM-SP/B
CATEGORIES:L
LOCATION:H020 A-10\; H132 A-10
END:VEVENT
BEGIN:VEVENT
UID:UZ_PLZ_20251119_0915_487161
DTSTAMP:20251119T091500
DTSTART:20251119T091500
DTEND:20251119T110000
SUMMARY:Rezerwacja IIM (R)
CATEGORIES:R
END:VEVENT
BEGIN:VEVENT
UID:UZ_PLZ_20251123_0730_492347
DTSTAMP:20251123T073000
DTSTART:20251123T073000
DTEND:20251123T091000
SUMMARY:Techniki automatyzacji I (W): 21MiBM-NP
CATEGORIES:W
LOCATION:B213 A-11
END:VEVENT
BEGIN:VEVENT
UID:UZ_PLZ_20251123_0915_492354
DTSTAMP:20251123T091500
DTSTART:20251123T091500
DTEND:20251123T105500
SUMMARY:Techniki automatyzacji I (L): 21MiBM-NP/B
CATEGORIES:L
LOCATION:B301 A-11\; H020 A-10
END:VEVENT
BEGIN:VEVENT
UID:UZ_PLZ_20251123_1100_492341
DTSTAMP:20251123T110000
DTSTART:20251123T110000
DTEND:20251123T124000
SUMMARY:Techniki automatyzacji I (L): 21MiBM-NP/A
CATEGORIES:L
LOCATION:B301 A-11\; H020 A-10
END:VEVENT
BEGIN:VEVENT
UID:UZ_PLZ_20251123_1245_492351
DTSTAMP:20251123T124500
DTSTART:20251123T124500
DTEND:20251123T141500
SUMMARY:Języki programowania inżynierskiego (L): 21MiBM-NP/B
CATEGORIES:L
LOCATION:H130 A-10
END:VEVENT
BEGIN:VEVENT
UID:UZ_PLZ_20251123_1430_492344
DTSTAMP:20251123T143000
DTSTART:20251123T143000
DTEND:20251123T160000
SUMMARY:Języki programowania inżynierskiego (L): 21MiBM-NP/A
CATEGORIES:L
LOCATION:H130 A-10
END:VEVENT
BEGIN:VEVENT
UID:UZ_PLZ_20251124_0915_485478
DTSTAMP:20251124T091500
DTSTART:20251124T091500
DTEND:20251124T104000
SUMMARY:Podstawy technologii budowy maszyn (L): 31MiBM-SP/A
CATEGORIES:L
LOCATION:B401 A-11\; H034 A-10
END:VEVENT
BEGIN:VEVENT
UID:UZ_PLZ_20251124_1100_485405
DTSTAMP:20251124T110000
DTSTART:20251124T110000
DTEND:20251124T123000
SUMMARY:Języki programowania inżynierskiego (L): 21MiBM-SP/A
CATEGORIES:L
LOCATION:B420 A-11
END:VEVENT
BEGIN:VEVENT
UID:UZ_PLZ_20251124_1245_485238
DTSTAMP:20251124T124500
DTSTART:20251124T124500
DTEND:20251124T141500
SUMMARY:Języki programowania inżynierskiego (L): 21MiBM-SP/B
CATEGORIES:L
LOCATION:B420 A-11
END:VEVENT
BEGIN:VEVENT
UID:UZ_PLZ_20251124_1430_485487
DTSTAMP:20251124T143000
DTSTART:20251124T143000
DTEND:20251124T155500
SUMMARY:Techniki automatyzacji I (L): 21MiBM-SP/A
CATEGORIES:L
LOCATION:H020 A-10\; H132 A-10
END:VEVENT
BEGIN:VEVENT
UID:UZ_PLZ_20251124_1615_485196
DTSTAMP:20251124T161500
DTSTART:20251124T161500
DTEND:20251124T175500
SUMMARY:Mechanika lotu (Ć): 31IL-SP
CATEGORIES:Ć
LOCATION:B112 A-11\; B301 A-11
END:VEVENT
BEGIN:VEVENT
UID:UZ_PLZ_20251124_1800_485196
DTSTAMP:20251124T180000
DTSTART:20251124T180000
DTEND:20251124T193500
SUMMARY:Mechanika lotu (Ć): 31IL-SP
CATEGORIES:Ć
LOCATION:B112 A-11\; B301 A-11
END:VEVENT
BEGIN:VEVENT
UID:UZ_PLZ_20251125_1430_485152
DTSTAMP:20251125T143000
DTSTART:20251125T143000
DTEND:20251125T160500
SUMMARY:Mechanika lotu (L): 31IL-SP
CATEGORIES:L
LOCATION:H129 A-10\; H203 A-10
END:VEVENT
BEGIN:VEVENT
UID:UZ_PLZ_20251126_0915_487161
DTSTAMP:20251126T091500
DTSTART:20251126T091500
DTEND:20251126T110000
SUMMARY:Rezerwacja IIM (R)
CATEGORIES:R
END:VEVENT
BEGIN:VEVENT
UID:UZ_PLZ_20251201_0915_485209
DTSTAMP:20251201T091500
DTSTART:20251201T091500
DTEND:20251201T105000
SUMMARY:Podstawy technologii budowy maszyn (L): 31MiBM-SP/B
CATEGORIES:L
LOCATION:B401 A-11\; H034 A-10
END:VEVENT
BEGIN:VEVENT
UID:UZ_PLZ_20251201_1100_485405
DTSTAMP:20251201T110000
DTSTART:20251201T110000
DTEND:20251201T123000
SUMMARY:Języki programowania inżynierskiego (L): 21MiBM-SP/A
CATEGORIES:L
LOCATION:B420 A-11
END:VEVENT
BEGIN:VEVENT
UID:UZ_PLZ_20251201_1245_485238
DTSTAMP:20251201T124500
DTSTART:20251201T124500
DTEND:20251201T141500
SUMMARY:Języki programowania inżynierskiego (L): 21MiBM-SP/B
CATEGORIES:L
LOCATION:B420 A-11
END:VEVENT
BEGIN:VEVENT
UID:UZ_PLZ_20251201_1430_485431
DTSTAMP:20251201T143000
DTSTART:20251201T143000
DTEND:20251201T160500
SUMMARY:Techniki automatyzacji I (L): 21MiBM-SP/B
CATEGORIES:L
LOCATION:H020 A-10\; H132 A-10
END:VEVENT
BEGIN:VEVENT
UID:UZ_PLZ_20251202_1430_485152
DTSTAMP:20251202T143000
DTSTART:20251202T143000
DTEND:20251202T160500
SUMMARY:Mechanika lotu (L): 31IL-SP
CATEGORIES:L
LOCATION:H129 A-10\; H203 A-10
END:VEVENT
BEGIN:VEVENT
UID:UZ_PLZ_20251202_1615_485152
DTSTAMP:20251202T161500
DTSTART:20251202T161500
DTEND:20251202T175000
SUMMARY:Mechanika lotu (L): 31IL-SP
CATEGORIES:L
LOCATION:H129 A-10\; H203 A-10
END:VEVENT
BEGIN:VEVENT
UID:UZ_PLZ_20251203_0915_487161
DTSTAMP:20251203T091500
DTSTART:20251203T091500
DTEND:20251203T110000
SUMMARY:Rezerwacja IIM (R)
CATEGORIES:R
END:VEVENT
BEGIN:VEVENT
UID:UZ_PLZ_20251207_1245_492351
DTSTAMP:20251207T124500
DTSTART:20251207T124500
DTEND:20251207T141500
SUMMARY:Języki programowania inżynierskiego (L): 21MiBM-NP/B
CATEGORIES:L
LOCATION:H130 A-10
END:VEVENT
BEGIN:VEVENT
UID:UZ_PLZ_20251207_1430_492344
DTSTAMP:20251207T143000
DTSTART:20251207T143000
DTEND:20251207T160000
SUMMARY:Języki programowania inżynierskiego (L): 21MiBM-NP/A
CATEGORIES:L
LOCATION:H130 A-10
END:VEVENT
BEGIN:VEVENT
UID:UZ_PLZ_20251208_0915_485478
DTSTAMP:20251208T091500
DTSTART:20251208T091500
DTEND:20251208T104000
SUMMARY:Podstawy technologii budowy maszyn (L): 31MiBM-SP/A
CATEGORIES:L
LOCATION:B401 A-11\; H034 A-10
END:VEVENT
BEGIN:VEVENT
UID:UZ_PLZ_20251208_1100_485405
DTSTAMP:20251208T110000
DTSTART:20251208T110000
DTEND:20251208T123000
SUMMARY:Języki programowania inżynierskiego (L): 21MiBM-SP/A
CATEGORIES:L
LOCATION:B420 A-11
END:VEVENT
BEGIN:VEVENT
UID:UZ_PLZ_20251208_1245_485238
DTSTAMP:20251208T124500
DTSTART:20251208T124500
DTEND:20251208T141500
SUMMARY:Języki programowania inżynierskiego (L): 21MiBM-SP/B
CATEGORIES:L
LOCATION:B420 A-11
END:VEVENT
BEGIN:VEVENT
UID:UZ_PLZ_20251208_1430_485487
DTSTAMP:20251208T143000
DTSTART:20251208T143000
DTEND:20251208T155500
SUMMARY:Techniki automatyzacji I (L): 21MiBM-SP/A
CATEGORIES:L
LOCATION:H020 A-10\; H132 A-10
END:VEVENT
BEGIN:VEVENT
UID:UZ_PLZ_20251208_1615_485196
DTSTAMP:20251208T161500
DTSTART:20251208T161500
DTEND:20251208T175500
SUMMARY:Mechanika lotu (Ć): 31IL-SP
CATEGORIES:Ć
LOCATION:B112 A-11\; B301 A-11
END:VEVENT
BEGIN:VEVENT
UID:UZ_PLZ_20251208_1800_485196
DTSTAMP:20251208T180000
DTSTART:20251208T180000
DTEND:20251208T193500
SUMMARY:Mechanika lotu (Ć): 31IL-SP
CATEGORIES:Ć
LOCATION:B112 A-11\; B301 A-11
END:VEVENT
BEGIN:VEVENT
UID:UZ_PLZ_20251209_1430_485152
DTSTAMP:20251209T143000
DTSTART:20251209T143000
DTEND:20251209T160500
SUMMARY:Mechanika lotu (L): 31IL-SP
CATEGORIES:L
LOCATION:H129 A-10\; H203 A-10
END:VEVENT
BEGIN:VEVENT
UID:UZ_PLZ_20251210_0915_487161
DTSTAMP:20251210T091500
DTSTART:20251210T091500
DTEND:20251210T110000
SUMMARY:Rezerwacja IIM (R)
CATEGORIES:R
END:VEVENT
BEGIN:VEVENT
UID:UZ_PLZ_20251214_0730_492347
DTSTAMP:20251214T073000
DTSTART:20251214T073000
DTEND:20251214T091000
SUMMARY:Techniki automatyzacji I (W): 21MiBM-NP
CATEGORIES:W
LOCATION:B213 A-11
END:VEVENT
BEGIN:VEVENT
UID:UZ_PLZ_20251214_0915_492354
DTSTAMP:20251214T091500
DTSTART:20251214T091500
DTEND:20251214T105500
SUMMARY:Techniki automatyzacji I (L): 21MiBM-NP/B
CATEGORIES:L
LOCATION:B301 A-11\; H020 A-10
END:VEVENT
BEGIN:VEVENT
UID:UZ_PLZ_20251214_1100_492341
DTSTAMP:20251214T110000
DTSTART:20251214T110000
DTEND:20251214T124000
SUMMARY:Techniki automatyzacji I (L): 21MiBM-NP/A
CATEGORIES:L
LOCATION:B301 A-11\; H020 A-10
END:VEVENT
BEGIN:VEVENT
UID:UZ_PLZ_20251214_1245_492351
DTSTAMP:20251214T124500
DTSTART:20251214T124500
DTEND:20251214T141500
SUMMARY:Języki programowania inżynierskiego (L): 21MiBM-NP/B
CATEGORIES:L
LOCATION:H130 A-10
END:VEVENT
BEGIN:VEVENT
UID:UZ_PLZ_20251214_1430_492344
DTSTAMP:20251214T143000
DTSTART:20251214T143000
DTEND:20251214T160000
SUMMARY:Języki programowania inżynierskiego (L): 21MiBM-NP/A
CATEGORIES:L
LOCATION:H130 A-10
END:VEVENT
BEGIN:VEVENT
UID:UZ_PLZ_20251215_0915_485209
DTSTAMP:20251215T091500
DTSTART:20251215T091500
DTEND:20251215T105000
SUMMARY:Podstawy technologii budowy maszyn (L): 31MiBM-SP/B
CATEGORIES:L
LOCATION:B401 A-11\; H034 A-10
END:VEVENT
BEGIN:VEVENT
UID:UZ_PLZ_20251215_1100_485405
DTSTAMP:20251215T110000
DTSTART:20251215T110000
DTEND:20251215T123000
SUMMARY:Języki programowania inżynierskiego (L): 21MiBM-SP/A
CATEGORIES:L
LOCATION:B420 A-11
END:VEVENT
BEGIN:VEVENT
UID:UZ_PLZ_20251215_1245_485238
DTSTAMP:20251215T124500
DTSTART:20251215T124500
DTEND:20251215T141500
SUMMARY:Języki programowania inżynierskiego (L): 21MiBM-SP/B
CATEGORIES:L
LOCATION:B420 A-11
END:VEVENT
BEGIN:VEVENT
UID:UZ_PLZ_20251215_1430_485431
DTSTAMP:20251215T143000
DTSTART:20251215T143000
DTEND:20251215T160500
SUMMARY:Techniki automatyzacji I (L): 21MiBM-SP/B
CATEGORIES:L
LOCATION:H020 A-10\; H132 A-10
END:VEVENT
BEGIN:VEVENT
UID:UZ_PLZ_20251217_0915_487161
DTSTAMP:20251217T091500
DTSTART:20251217T091500
DTEND:20251217T110000
SUMMARY:Rezerwacja IIM (R)
CATEGORIES:R
END:VEVENT
BEGIN:VEVENT
UID:UZ_PLZ_20251217_1435_485196
DTSTAMP:20251217T143500
DTSTART:20251217T143500
DTEND:20251217T160500
SUMMARY:Mechanika lotu (Ć): 31IL-SP
CATEGORIES:Ć
LOCATION:B301 A-11
END:VEVENT
BEGIN:VEVENT
UID:UZ_PLZ_20251217_1615_485196
DTSTAMP:20251217T161500
DTSTART:20251217T161500
DTEND:20251217T175000
SUMMARY:Mechanika lotu (Ć): 31IL-SP
CATEGORIES:Ć
LOCATION:B301 A-11
END:VEVENT
BEGIN:VEVENT
UID:UZ_PLZ_20260107_1430_485152
DTSTAMP:20260107T143000
DTSTART:20260107T143000
DTEND:20260107T160500
SUMMARY:Mechanika lotu (L): 31IL-SP
CATEGORIES:L
LOCATION:H129 A-10\; H203 A-10
END:VEVENT
BEGIN:VEVENT
UID:UZ_PLZ_20260111_1245_492351
DTSTAMP:20260111T124500
DTSTART:20260111T124500
DTEND:20260111T141500
SUMMARY:Języki programowania inżynierskiego (L): 21MiBM-NP/B
CATEGORIES:L
LOCATION:H130 A-10
END:VEVENT
BEGIN:VEVENT
UID:UZ_PLZ_20260111_1430_492344
DTSTAMP:20260111T143000
DTSTART:20260111T143000
DTEND:20260111T160000
SUMMARY:Języki programowania inżynierskiego (L): 21MiBM-NP/A
CATEGORIES:L
LOCATION:H130 A-10
END:VEVENT
BEGIN:VEVENT
UID:UZ_PLZ_20260112_0915_485209
DTSTAMP:20260112T091500
DTSTART:20260112T091500
DTEND:20260112T105000
SUMMARY:Podstawy technologii budowy maszyn (L): 31MiBM-SP/B
CATEGORIES:L
LOCATION:B401 A-11\; H034 A-10
END:VEVENT
BEGIN:VEVENT
UID:UZ_PLZ_20260112_1100_485405
DTSTAMP:20260112T110000
DTSTART:20260112T110000
DTEND:20260112T123000
SUMMARY:Języki programowania inżynierskiego (L): 21MiBM-SP/A
CATEGORIES:L
LOCATION:B420 A-11
END:VEVENT
BEGIN:VEVENT
UID:UZ_PLZ_20260112_1245_485238
DTSTAMP:20260112T124500
DTSTART:20260112T124500
DTEND:20260112T141500
SUMMARY:Języki programowania inżynierskiego (L): 21MiBM-SP/B
CATEGORIES:L
LOCATION:B420 A-11
END:VEVENT
BEGIN:VEVENT
UID:UZ_PLZ_20260112_1430_485431
DTSTAMP:20260112T143000
DTSTART:20260112T143000
DTEND:20260112T160500
SUMMARY:Techniki automatyzacji I (L): 21MiBM-SP/B
CATEGORIES:L
LOCATION:H020 A-10\; H132 A-10
END:VEVENT
BEGIN:VEVENT
UID:UZ_PLZ_20260112_1615_485196
DTSTAMP:20260112T161500
DTSTART:20260112T161500
DTEND:20260112T175500
SUMMARY:Mechanika lotu (Ć): 31IL-SP
CATEGORIES:Ć
LOCATION:B112 A-11\; B301 A-11
END:VEVENT
BEGIN:VEVENT
UID:UZ_PLZ_20260112_1800_485196
DTSTAMP:20260112T180000
DTSTART:20260112T180000
DTEND:20260112T193500
SUMMARY:Mechanika lotu (Ć): 31IL-SP
CATEGORIES:Ć
LOCATION:B112 A-11\; B301 A-11
END:VEVENT
BEGIN:VEVENT
UID:UZ_PLZ_20260113_1430_485152
DTSTAMP:20260113T143000
DTSTART:20260113T143000
DTEND:20260113T160500
SUMMARY:Mechanika lotu (L): 31IL-SP
CATEGORIES:L
LOCATION:B301 A-11\; H129 A-10\; H203 A-10
END:VEVENT
BEGIN:VEVENT
UID:UZ_PLZ_20260114_0915_487161
DTSTAMP:20260114T091500
DTSTART:20260114T091500
DTEND:20260114T110000
SUMMARY:Rezerwacja IIM (R)
CATEGORIES:R
END:VEVENT
BEGIN:VEVENT
UID:UZ_PLZ_20260118_0730_492347
DTSTAMP:20260118T073000
DTSTART:20260118T073000
DTEND:20260118T091000
SUMMARY:Techniki automatyzacji I (W): 21MiBM-NP
CATEGORIES:W
LOCATION:B213 A-11
END:VEVENT
BEGIN:VEVENT
UID:UZ_PLZ_20260118_0915_492354
DTSTAMP:20260118T091500
DTSTART:20260118T091500
DTEND:20260118T105500
SUMMARY:Techniki automatyzacji I (L): 21MiBM-NP/B
CATEGORIES:L
LOCATION:B301 A-11\; H020 A-10
END:VEVENT
BEGIN:VEVENT
UID:UZ_PLZ_20260118_1100_492341
DTSTAMP:20260118T110000
DTSTART:20260118T110000
DTEND:20260118T124000
SUMMARY:Techniki automatyzacji I (L): 21MiBM-NP/A
CATEGORIES:L
LOCATION:B301 A-11\; H020 A-10
END:VEVENT
BEGIN:VEVENT
UID:UZ_PLZ_20260118_1245_492351
DTSTAMP:20260118T124500
DTSTART:20260118T124500
DTEND:20260118T141500
SUMMARY:Języki programowania inżynierskiego (L): 21MiBM-NP/B
CATEGORIES:L
LOCATION:H130 A-10
END:VEVENT
BEGIN:VEVENT
UID:UZ_PLZ_20260118_1430_492344
DTSTAMP:20260118T143000
DTSTART:20260118T143000
DTEND:20260118T160000
SUMMARY:Języki programowania inżynierskiego (L): 21MiBM-NP/A
CATEGORIES:L
LOCATION:H130 A-10
END:VEVENT
BEGIN:VEVENT
UID:UZ_PLZ_20260119_0915_485478
DTSTAMP:20260119T091500
DTSTART:20260119T091500
DTEND:20260119T104000
SUMMARY:Podstawy technologii budowy maszyn (L): 31MiBM-SP/A
CATEGORIES:L
LOCATION:B401 A-11\; H034 A-10
END:VEVENT
BEGIN:VEVENT
UID:UZ_PLZ_20260119_1100_485405
DTSTAMP:20260119T110000
DTSTART:20260119T110000
DTEND:20260119T123000
SUMMARY:Języki programowania inżynierskiego (L): 21MiBM-SP/A
CATEGORIES:L
LOCATION:B420 A-11
END:VEVENT
BEGIN:VEVENT
UID:UZ_PLZ_20260119_1245_485238
DTSTAMP:20260119T124500
DTSTART:20260119T124500
DTEND:20260119T141500
SUMMARY:Języki programowania inżynierskiego (L): 21MiBM-SP/B
CATEGORIES:L
LOCATION:B420 A-11
END:VEVENT
BEGIN:VEVENT
UID:UZ_PLZ_20260119_1430_485487
DTSTAMP:20260119T143000
DTSTART:20260119T143000
DTEND:20260119T155500
SUMMARY:Techniki automatyzacji I (L): 21MiBM-SP/A
CATEGORIES:L
LOCATION:H020 A-10\; H132 A-10
END:VEVENT
BEGIN:VEVENT
UID:UZ_PLZ_20260119_1615_485196
DTSTAMP:20260119T161500
DTSTART:20260119T161500
DTEND:20260119T175500
SUMMARY:Mechanika lotu (Ć): 31IL-SP
CATEGORIES:Ć
LOCATION:B112 A-11\; B301 A-11
END:VEVENT
BEGIN:VEVENT
UID:UZ_PLZ_20260119_1800_485196
DTSTAMP:20260119T180000
DTSTART:20260119T180000
DTEND:20260119T193500
SUMMARY:Mechanika lotu (Ć): 31IL-SP
CATEGORIES:Ć
LOCATION:B112 A-11\; B301 A-11
END:VEVENT
BEGIN:VEVENT
UID:UZ_PLZ_20260120_1430_485152
DTSTAMP:20260120T143000
DTSTART:20260120T143000
DTEND:20260120T160500
SUMMARY:Mechanika lotu (L): 31IL-SP
CATEGORIES:L
LOCATION:B301 A-11\; H129 A-10\; H203 A-10
END:VEVENT
BEGIN:VEVENT
UID:UZ_PLZ_20260121_0915_487161
DTSTAMP:20260121T091500
DTSTART:20260121T091500
DTEND:20260121T110000
SUMMARY:Rezerwacja IIM (R)
CATEGORIES:R
END:VEVENT
BEGIN:VEVENT
UID:UZ_PLZ_20260126_0915_485478
DTSTAMP:20260126T091500
DTSTART:20260126T091500
DTEND:20260126T104000
SUMMARY:Podstawy technologii budowy maszyn (L): 31MiBM-SP/A
CATEGORIES:L
LOCATION:B401 A-11\; H034 A-10
END:VEVENT
BEGIN:VEVENT
UID:UZ_PLZ_20260126_1100_485405
DTSTAMP:20260126T110000
DTSTART:20260126T110000
DTEND:20260126T123000
SUMMARY:Języki programowania inżynierskiego (L): 21MiBM-SP/A
CATEGORIES:L
LOCATION:B420 A-11
END:VEVENT
BEGIN:VEVENT
UID:UZ_PLZ_20260126_1245_485238
DTSTAMP:20260126T124500
DTSTART:20260126T124500
DTEND:20260126T141500
SUMMARY:Języki programowania inżynierskiego (L): 21MiBM-SP/B
CATEGORIES:L
LOCATION:B420 A-11
END:VEVENT
BEGIN:VEVENT
UID:UZ_PLZ_20260126_1430_485487
DTSTAMP:20260126T143000
DTSTART:20260126T143000
DTEND:20260126T155500
SUMMARY:Techniki automatyzacji I (L): 21MiBM-SP/A
CATEGORIES:L
LOCATION:H020 A-10\; H132 A-10
END:VEVENT
BEGIN:VEVENT
UID:UZ_PLZ_20260126_1615_485196
DTSTAMP:20260126T161500
DTSTART:20260126T161500
DTEND:20260126T175500
SUMMARY:Mechanika lotu (Ć): 31IL-SP
CATEGORIES:Ć
LOCATION:B112 A-11\; B301 A-11
END:VEVENT
BEGIN:VEVENT
UID:UZ_PLZ_20260126_1800_485196
DTSTAMP:20260126T180000
DTSTART:20260126T180000
DTEND:20260126T193500
SUMMARY:Mechanika lotu (Ć): 31IL-SP
CATEGORIES:Ć
LOCATION:B112 A-11\; B301 A-11
END:VEVENT
BEGIN:VEVENT
UID:UZ_PLZ_20260128_0915_487161
DTSTAMP:20260128T091500
DTSTART:20260128T091500
DTEND:20260128T110000
SUMMARY:Rezerwacja IIM (R)
CATEGORIES:R
END:VEVENT
BEGIN:VEVENT
UID:UZ_PLZ_20260201_1245_492351
DTSTAMP:20260201T124500
DTSTART:20260201T124500
DTEND:20260201T141500
SUMMARY:Języki programowania inżynierskiego (L): 21MiBM-NP/B
CATEGORIES:L
LOCATION:H130 A-10
END:VEVENT
BEGIN:VEVENT
UID:UZ_PLZ_20260201_1430_492344
DTSTAMP:20260201T143000
DTSTART:20260201T143000
DTEND:20260201T160000
SUMMARY:Języki programowania inżynierskiego (L): 21MiBM-NP/A
CATEGORIES:L
LOCATION:H130 A-10
END:VEVENT
BEGIN:VEVENT
UID:UZ_PLZ_20260202_0915_485478
DTSTAMP:20260202T091500
DTSTART:20260202T091500
DTEND:20260202T104000
SUMMARY:Podstawy technologii budowy maszyn (L): 31MiBM-SP/A
CATEGORIES:L
LOCATION:B401 A-11\; H034 A-10
END:VEVENT
BEGIN:VEVENT
UID:UZ_PLZ_20260202_1100_485405
DTSTAMP:20260202T110000
DTSTART:20260202T110000
DTEND:20260202T123000
SUMMARY:Języki programowania inżynierskiego (L): 21MiBM-SP/A
CATEGORIES:L
LOCATION:B420 A-11
END:VEVENT
BEGIN:VEVENT
UID:UZ_PLZ_20260202_1245_485238
DTSTAMP:20260202T124500
DTSTART:20260202T124500
DTEND:20260202T141500
SUMMARY:Języki programowania inżynierskiego (L): 21MiBM-SP/B
CATEGORIES:L
LOCATION:B420 A-11
END:VEVENT
BEGIN:VEVENT
UID:UZ_PLZ_20260202_1430_485487
DTSTAMP:20260202T143000
DTSTART:20260202T143000
DTEND:20260202T155500
SUMMARY:Techniki automatyzacji I (L): 21MiBM-SP/A
CATEGORIES:L
LOCATION:H020 A-10\; H132 A-10
END:VEVENT
BEGIN:VEVENT
UID:UZ_PLZ_20260202_1615_485196
DTSTAMP:20260202T161500
DTSTART:20260202T161500
DTEND:20260202T175500
SUMMARY:Mechanika lotu (Ć): 31IL-SP
CATEGORIES:Ć
LOCATION:B112 A-11\; B301 A-11
END:VEVENT
BEGIN:VEVENT
UID:UZ_PLZ_20260202_1800_485196
DTSTAMP:20260202T180000
DTSTART:20260202T180000
DTEND:20260202T193500
SUMMARY:Mechanika lotu (Ć): 31IL-SP
CATEGORIES:Ć
LOCATION:B112 A-11\; B301 A-11
END:VEVENT
END:VCALENDAR
