BEGIN:VCALENDAR
TZID:Europe/Warsaw
X-WR-TIMEZONE:Europe/Warsaw
VERSION:2.0
PRODID:-//Uniwersytet Zielonogórski//NONSGML Plan zajęć v1.0//EN
NAME:Plan zajęć - semestr zimowy 2025/2026
X-WR-CALNAME:Plan zajęć - semestr zimowy 2025/2026
COLOR:green
CALSCALE:GREGORIAN
BEGIN:VEVENT
UID:UZ_PLZ_20251001_0915_487158
DTSTAMP:20251001T091500
DTSTART:20251001T091500
DTEND:20251001T150000
SUMMARY:Rezerwacja Kierownictwo IIM (R)
CATEGORIES:R
END:VEVENT
BEGIN:VEVENT
UID:UZ_PLZ_20251003_1100_485224
DTSTAMP:20251003T110000
DTSTART:20251003T110000
DTEND:20251003T122500
SUMMARY:Wprowadzenie do mechatroniki (W): 11MTR-SP
CATEGORIES:W
LOCATION:B213 A-11
END:VEVENT
BEGIN:VEVENT
UID:UZ_PLZ_20251007_1100_485379
DTSTAMP:20251007T110000
DTSTART:20251007T110000
DTEND:20251007T123500
SUMMARY:Podstawy technologii budowy maszyn (P): 31MiBM-SP/B
CATEGORIES:P
LOCATION:B104 A-11
END:VEVENT
BEGIN:VEVENT
UID:UZ_PLZ_20251007_1245_485162
DTSTAMP:20251007T124500
DTSTART:20251007T124500
DTEND:20251007T141500
SUMMARY:Podstawy technologii budowy maszyn (W): 31MiBM-SP
CATEGORIES:W
LOCATION:B104 A-11
END:VEVENT
BEGIN:VEVENT
UID:UZ_PLZ_20251008_0915_487158
DTSTAMP:20251008T091500
DTSTART:20251008T091500
DTEND:20251008T150000
SUMMARY:Rezerwacja Kierownictwo IIM (R)
CATEGORIES:R
END:VEVENT
BEGIN:VEVENT
UID:UZ_PLZ_20251014_1100_485479
DTSTAMP:20251014T110000
DTSTART:20251014T110000
DTEND:20251014T122500
SUMMARY:Podstawy technologii budowy maszyn (P): 31MiBM-SP/A
CATEGORIES:P
LOCATION:B104 A-11
END:VEVENT
BEGIN:VEVENT
UID:UZ_PLZ_20251014_1245_485162
DTSTAMP:20251014T124500
DTSTART:20251014T124500
DTEND:20251014T141500
SUMMARY:Podstawy technologii budowy maszyn (W): 31MiBM-SP
CATEGORIES:W
LOCATION:B104 A-11
END:VEVENT
BEGIN:VEVENT
UID:UZ_PLZ_20251015_0915_487158
DTSTAMP:20251015T091500
DTSTART:20251015T091500
DTEND:20251015T150000
SUMMARY:Rezerwacja Kierownictwo IIM (R)
CATEGORIES:R
END:VEVENT
BEGIN:VEVENT
UID:UZ_PLZ_20251021_1100_485379
DTSTAMP:20251021T110000
DTSTART:20251021T110000
DTEND:20251021T123500
SUMMARY:Podstawy technologii budowy maszyn (P): 31MiBM-SP/B
CATEGORIES:P
LOCATION:B104 A-11
END:VEVENT
BEGIN:VEVENT
UID:UZ_PLZ_20251021_1245_485162
DTSTAMP:20251021T124500
DTSTART:20251021T124500
DTEND:20251021T141500
SUMMARY:Podstawy technologii budowy maszyn (W): 31MiBM-SP
CATEGORIES:W
LOCATION:B104 A-11
END:VEVENT
BEGIN:VEVENT
UID:UZ_PLZ_20251022_0915_487158
DTSTAMP:20251022T091500
DTSTART:20251022T091500
DTEND:20251022T150000
SUMMARY:Rezerwacja Kierownictwo IIM (R)
CATEGORIES:R
END:VEVENT
BEGIN:VEVENT
UID:UZ_PLZ_20251023_1100_492637
DTSTAMP:20251023T110000
DTSTART:20251023T110000
DTEND:20251023T123000
SUMMARY:Wykład monograficzny (w dyscyplinie) (W): 31SDNSiT-23/Mech
CATEGORIES:W
LOCATION:B419 A-11
END:VEVENT
BEGIN:VEVENT
UID:UZ_PLZ_20251028_1100_485479
DTSTAMP:20251028T110000
DTSTART:20251028T110000
DTEND:20251028T122500
SUMMARY:Podstawy technologii budowy maszyn (P): 31MiBM-SP/A
CATEGORIES:P
LOCATION:B104 A-11
END:VEVENT
BEGIN:VEVENT
UID:UZ_PLZ_20251028_1245_485162
DTSTAMP:20251028T124500
DTSTART:20251028T124500
DTEND:20251028T141500
SUMMARY:Podstawy technologii budowy maszyn (W): 31MiBM-SP
CATEGORIES:W
LOCATION:B104 A-11
END:VEVENT
BEGIN:VEVENT
UID:UZ_PLZ_20251029_0915_487158
DTSTAMP:20251029T091500
DTSTART:20251029T091500
DTEND:20251029T150000
SUMMARY:Rezerwacja Kierownictwo IIM (R)
CATEGORIES:R
END:VEVENT
BEGIN:VEVENT
UID:UZ_PLZ_20251030_1100_492637
DTSTAMP:20251030T110000
DTSTART:20251030T110000
DTEND:20251030T123000
SUMMARY:Wykład monograficzny (w dyscyplinie) (W): 31SDNSiT-23/Mech
CATEGORIES:W
LOCATION:B419 A-11
END:VEVENT
BEGIN:VEVENT
UID:UZ_PLZ_20251104_1100_485379
DTSTAMP:20251104T110000
DTSTART:20251104T110000
DTEND:20251104T123500
SUMMARY:Podstawy technologii budowy maszyn (P): 31MiBM-SP/B
CATEGORIES:P
LOCATION:B104 A-11
END:VEVENT
BEGIN:VEVENT
UID:UZ_PLZ_20251104_1245_485162
DTSTAMP:20251104T124500
DTSTART:20251104T124500
DTEND:20251104T141500
SUMMARY:Podstawy technologii budowy maszyn (W): 31MiBM-SP
CATEGORIES:W
LOCATION:B104 A-11
END:VEVENT
BEGIN:VEVENT
UID:UZ_PLZ_20251105_0915_487158
DTSTAMP:20251105T091500
DTSTART:20251105T091500
DTEND:20251105T150000
SUMMARY:Rezerwacja Kierownictwo IIM (R)
CATEGORIES:R
END:VEVENT
BEGIN:VEVENT
UID:UZ_PLZ_20251106_1100_492637
DTSTAMP:20251106T110000
DTSTART:20251106T110000
DTEND:20251106T123000
SUMMARY:Wykład monograficzny (w dyscyplinie) (W): 31SDNSiT-23/Mech
CATEGORIES:W
LOCATION:B419 A-11
END:VEVENT
BEGIN:VEVENT
UID:UZ_PLZ_20251112_0915_487158
DTSTAMP:20251112T091500
DTSTART:20251112T091500
DTEND:20251112T150000
SUMMARY:Rezerwacja Kierownictwo IIM (R)
CATEGORIES:R
END:VEVENT
BEGIN:VEVENT
UID:UZ_PLZ_20251114_1100_485479
DTSTAMP:20251114T110000
DTSTART:20251114T110000
DTEND:20251114T122500
SUMMARY:Podstawy technologii budowy maszyn (P): 31MiBM-SP/A
CATEGORIES:P
LOCATION:B104 A-11
END:VEVENT
BEGIN:VEVENT
UID:UZ_PLZ_20251114_1245_485162
DTSTAMP:20251114T124500
DTSTART:20251114T124500
DTEND:20251114T141500
SUMMARY:Podstawy technologii budowy maszyn (W): 31MiBM-SP
CATEGORIES:W
LOCATION:B104 A-11
END:VEVENT
BEGIN:VEVENT
UID:UZ_PLZ_20251118_1100_485379
DTSTAMP:20251118T110000
DTSTART:20251118T110000
DTEND:20251118T123500
SUMMARY:Podstawy technologii budowy maszyn (P): 31MiBM-SP/B
CATEGORIES:P
LOCATION:B104 A-11
END:VEVENT
BEGIN:VEVENT
UID:UZ_PLZ_20251118_1245_485162
DTSTAMP:20251118T124500
DTSTART:20251118T124500
DTEND:20251118T141500
SUMMARY:Podstawy technologii budowy maszyn (W): 31MiBM-SP
CATEGORIES:W
LOCATION:B104 A-11
END:VEVENT
BEGIN:VEVENT
UID:UZ_PLZ_20251119_0915_487158
DTSTAMP:20251119T091500
DTSTART:20251119T091500
DTEND:20251119T150000
SUMMARY:Rezerwacja Kierownictwo IIM (R)
CATEGORIES:R
END:VEVENT
BEGIN:VEVENT
UID:UZ_PLZ_20251120_1100_492637
DTSTAMP:20251120T110000
DTSTART:20251120T110000
DTEND:20251120T123000
SUMMARY:Wykład monograficzny (w dyscyplinie) (W): 31SDNSiT-23/Mech
CATEGORIES:W
LOCATION:B419 A-11
END:VEVENT
BEGIN:VEVENT
UID:UZ_PLZ_20251125_1100_485479
DTSTAMP:20251125T110000
DTSTART:20251125T110000
DTEND:20251125T122500
SUMMARY:Podstawy technologii budowy maszyn (P): 31MiBM-SP/A
CATEGORIES:P
LOCATION:B104 A-11
END:VEVENT
BEGIN:VEVENT
UID:UZ_PLZ_20251125_1245_485162
DTSTAMP:20251125T124500
DTSTART:20251125T124500
DTEND:20251125T141500
SUMMARY:Podstawy technologii budowy maszyn (W): 31MiBM-SP
CATEGORIES:W
LOCATION:B104 A-11
END:VEVENT
BEGIN:VEVENT
UID:UZ_PLZ_20251126_0915_487158
DTSTAMP:20251126T091500
DTSTART:20251126T091500
DTEND:20251126T150000
SUMMARY:Rezerwacja Kierownictwo IIM (R)
CATEGORIES:R
END:VEVENT
BEGIN:VEVENT
UID:UZ_PLZ_20251127_1100_492637
DTSTAMP:20251127T110000
DTSTART:20251127T110000
DTEND:20251127T123000
SUMMARY:Wykład monograficzny (w dyscyplinie) (W): 31SDNSiT-23/Mech
CATEGORIES:W
LOCATION:B419 A-11
END:VEVENT
BEGIN:VEVENT
UID:UZ_PLZ_20251202_1100_485379
DTSTAMP:20251202T110000
DTSTART:20251202T110000
DTEND:20251202T123500
SUMMARY:Podstawy technologii budowy maszyn (P): 31MiBM-SP/B
CATEGORIES:P
LOCATION:B104 A-11
END:VEVENT
BEGIN:VEVENT
UID:UZ_PLZ_20251202_1245_485162
DTSTAMP:20251202T124500
DTSTART:20251202T124500
DTEND:20251202T141500
SUMMARY:Podstawy technologii budowy maszyn (W): 31MiBM-SP
CATEGORIES:W
LOCATION:B104 A-11
END:VEVENT
BEGIN:VEVENT
UID:UZ_PLZ_20251203_0915_487158
DTSTAMP:20251203T091500
DTSTART:20251203T091500
DTEND:20251203T150000
SUMMARY:Rezerwacja Kierownictwo IIM (R)
CATEGORIES:R
END:VEVENT
BEGIN:VEVENT
UID:UZ_PLZ_20251204_1100_492637
DTSTAMP:20251204T110000
DTSTART:20251204T110000
DTEND:20251204T123000
SUMMARY:Wykład monograficzny (w dyscyplinie) (W): 31SDNSiT-23/Mech
CATEGORIES:W
LOCATION:B419 A-11
END:VEVENT
BEGIN:VEVENT
UID:UZ_PLZ_20251209_1100_485479
DTSTAMP:20251209T110000
DTSTART:20251209T110000
DTEND:20251209T122500
SUMMARY:Podstawy technologii budowy maszyn (P): 31MiBM-SP/A
CATEGORIES:P
LOCATION:B104 A-11
END:VEVENT
BEGIN:VEVENT
UID:UZ_PLZ_20251209_1245_485162
DTSTAMP:20251209T124500
DTSTART:20251209T124500
DTEND:20251209T141500
SUMMARY:Podstawy technologii budowy maszyn (W): 31MiBM-SP
CATEGORIES:W
LOCATION:B104 A-11
END:VEVENT
BEGIN:VEVENT
UID:UZ_PLZ_20251210_0915_487158
DTSTAMP:20251210T091500
DTSTART:20251210T091500
DTEND:20251210T150000
SUMMARY:Rezerwacja Kierownictwo IIM (R)
CATEGORIES:R
END:VEVENT
BEGIN:VEVENT
UID:UZ_PLZ_20251216_1100_485379
DTSTAMP:20251216T110000
DTSTART:20251216T110000
DTEND:20251216T123500
SUMMARY:Podstawy technologii budowy maszyn (P): 31MiBM-SP/B
CATEGORIES:P
LOCATION:B104 A-11
END:VEVENT
BEGIN:VEVENT
UID:UZ_PLZ_20251216_1245_485162
DTSTAMP:20251216T124500
DTSTART:20251216T124500
DTEND:20251216T141500
SUMMARY:Podstawy technologii budowy maszyn (W): 31MiBM-SP
CATEGORIES:W
LOCATION:B104 A-11
END:VEVENT
BEGIN:VEVENT
UID:UZ_PLZ_20251217_0915_487158
DTSTAMP:20251217T091500
DTSTART:20251217T091500
DTEND:20251217T150000
SUMMARY:Rezerwacja Kierownictwo IIM (R)
CATEGORIES:R
END:VEVENT
BEGIN:VEVENT
UID:UZ_PLZ_20251218_1100_492637
DTSTAMP:20251218T110000
DTSTART:20251218T110000
DTEND:20251218T123000
SUMMARY:Wykład monograficzny (w dyscyplinie) (W): 31SDNSiT-23/Mech
CATEGORIES:W
LOCATION:B419 A-11
END:VEVENT
BEGIN:VEVENT
UID:UZ_PLZ_20260107_1100_485479
DTSTAMP:20260107T110000
DTSTART:20260107T110000
DTEND:20260107T122500
SUMMARY:Podstawy technologii budowy maszyn (P): 31MiBM-SP/A
CATEGORIES:P
LOCATION:B104 A-11
END:VEVENT
BEGIN:VEVENT
UID:UZ_PLZ_20260107_1245_485162
DTSTAMP:20260107T124500
DTSTART:20260107T124500
DTEND:20260107T141500
SUMMARY:Podstawy technologii budowy maszyn (W): 31MiBM-SP
CATEGORIES:W
LOCATION:B104 A-11
END:VEVENT
BEGIN:VEVENT
UID:UZ_PLZ_20260113_1100_485379
DTSTAMP:20260113T110000
DTSTART:20260113T110000
DTEND:20260113T123500
SUMMARY:Podstawy technologii budowy maszyn (P): 31MiBM-SP/B
CATEGORIES:P
LOCATION:B104 A-11
END:VEVENT
BEGIN:VEVENT
UID:UZ_PLZ_20260113_1245_485162
DTSTAMP:20260113T124500
DTSTART:20260113T124500
DTEND:20260113T141500
SUMMARY:Podstawy technologii budowy maszyn (W): 31MiBM-SP
CATEGORIES:W
LOCATION:B104 A-11
END:VEVENT
BEGIN:VEVENT
UID:UZ_PLZ_20260114_0915_487158
DTSTAMP:20260114T091500
DTSTART:20260114T091500
DTEND:20260114T150000
SUMMARY:Rezerwacja Kierownictwo IIM (R)
CATEGORIES:R
END:VEVENT
BEGIN:VEVENT
UID:UZ_PLZ_20260115_1100_492637
DTSTAMP:20260115T110000
DTSTART:20260115T110000
DTEND:20260115T114500
SUMMARY:Wykład monograficzny (w dyscyplinie) (W): 31SDNSiT-23/Mech
CATEGORIES:W
LOCATION:B419 A-11
END:VEVENT
BEGIN:VEVENT
UID:UZ_PLZ_20260120_1100_485479
DTSTAMP:20260120T110000
DTSTART:20260120T110000
DTEND:20260120T122500
SUMMARY:Podstawy technologii budowy maszyn (P): 31MiBM-SP/A
CATEGORIES:P
LOCATION:B104 A-11
END:VEVENT
BEGIN:VEVENT
UID:UZ_PLZ_20260120_1245_485162
DTSTAMP:20260120T124500
DTSTART:20260120T124500
DTEND:20260120T141500
SUMMARY:Podstawy technologii budowy maszyn (W): 31MiBM-SP
CATEGORIES:W
LOCATION:B104 A-11
END:VEVENT
BEGIN:VEVENT
UID:UZ_PLZ_20260121_0915_487158
DTSTAMP:20260121T091500
DTSTART:20260121T091500
DTEND:20260121T150000
SUMMARY:Rezerwacja Kierownictwo IIM (R)
CATEGORIES:R
END:VEVENT
BEGIN:VEVENT
UID:UZ_PLZ_20260127_1100_485479
DTSTAMP:20260127T110000
DTSTART:20260127T110000
DTEND:20260127T122500
SUMMARY:Podstawy technologii budowy maszyn (P): 31MiBM-SP/A
CATEGORIES:P
LOCATION:B104 A-11
END:VEVENT
BEGIN:VEVENT
UID:UZ_PLZ_20260127_1245_485162
DTSTAMP:20260127T124500
DTSTART:20260127T124500
DTEND:20260127T141500
SUMMARY:Podstawy technologii budowy maszyn (W): 31MiBM-SP
CATEGORIES:W
LOCATION:B104 A-11
END:VEVENT
BEGIN:VEVENT
UID:UZ_PLZ_20260128_0915_487158
DTSTAMP:20260128T091500
DTSTART:20260128T091500
DTEND:20260128T150000
SUMMARY:Rezerwacja Kierownictwo IIM (R)
CATEGORIES:R
END:VEVENT
BEGIN:VEVENT
UID:UZ_PLZ_20260203_1100_502236
DTSTAMP:20260203T110000
DTSTART:20260203T110000
DTEND:20260203T123000
SUMMARY:Podstawy technologii budowy maszyn (E): 31MiBM-SP
CATEGORIES:E
LOCATION:B312 A-11
END:VEVENT
BEGIN:VEVENT
UID:UZ_PLZ_20260220_1100_502236
DTSTAMP:20260220T110000
DTSTART:20260220T110000
DTEND:20260220T123000
SUMMARY:Podstawy technologii budowy maszyn (E): 31MiBM-SP
CATEGORIES:E
LOCATION:B312 A-11
END:VEVENT
END:VCALENDAR
