BEGIN:VCALENDAR
TZID:Europe/Warsaw
X-WR-TIMEZONE:Europe/Warsaw
VERSION:2.0
PRODID:-//Uniwersytet Zielonogórski//NONSGML Plan zajęć v1.0//EN
NAME:Plan zajęć - semestr letni 2025/2026
X-WR-CALNAME:Plan zajęć - semestr letni 2025/2026
COLOR:green
CALSCALE:GREGORIAN
BEGIN:VEVENT
UID:UZ_PLZ_20260303_1100_499563
DTSTAMP:20260303T110000
DTSTART:20260303T110000
DTEND:20260303T123000
SUMMARY:Automatyka i robotyka (L): 11MiBM-SP/B
CATEGORIES:L
LOCATION:H131 A-10
END:VEVENT
BEGIN:VEVENT
UID:UZ_PLZ_20260303_1245_499553
DTSTAMP:20260303T124500
DTSTART:20260303T124500
DTEND:20260303T141500
SUMMARY:Automatyka i robotyka (L): 11MiBM-SP/A
CATEGORIES:L
LOCATION:H131 A-10
END:VEVENT
BEGIN:VEVENT
UID:UZ_PLZ_20260304_0730_504532
DTSTAMP:20260304T073000
DTSTART:20260304T073000
DTEND:20260304T150000
SUMMARY:Dzień Otwarty WNIT (R)
CATEGORIES:R
LOCATION:30 A-9
END:VEVENT
BEGIN:VEVENT
UID:UZ_PLZ_20260304_0915_500365
DTSTAMP:20260304T091500
DTSTART:20260304T091500
DTEND:20260304T150000
SUMMARY:Rezerwacja Kierownictwo IIM (R)
CATEGORIES:R
END:VEVENT
BEGIN:VEVENT
UID:UZ_PLZ_20260304_1100_506534
DTSTAMP:20260304T110000
DTSTART:20260304T110000
DTEND:20260304T114500
SUMMARY:Dni otwarte na WNIT (R)
CATEGORIES:R
LOCATION:115 A-2
END:VEVENT
BEGIN:VEVENT
UID:UZ_PLZ_20260305_1100_499571
DTSTAMP:20260305T110000
DTSTART:20260305T110000
DTEND:20260305T123000
SUMMARY:Automatyzacja wytwarzania (L): 15MiBM-SD/A
CATEGORIES:L
LOCATION:B202 A-11\; H020 A-10
END:VEVENT
BEGIN:VEVENT
UID:UZ_PLZ_20260305_1245_499577
DTSTAMP:20260305T124500
DTSTART:20260305T124500
DTEND:20260305T141000
SUMMARY:Automatyzacja wytwarzania (W): 15MiBM-SD
CATEGORIES:W
LOCATION:B112 A-11
END:VEVENT
BEGIN:VEVENT
UID:UZ_PLZ_20260311_0915_500365
DTSTAMP:20260311T091500
DTSTART:20260311T091500
DTEND:20260311T150000
SUMMARY:Rezerwacja Kierownictwo IIM (R)
CATEGORIES:R
END:VEVENT
BEGIN:VEVENT
UID:UZ_PLZ_20260318_0915_500365
DTSTAMP:20260318T091500
DTSTART:20260318T091500
DTEND:20260318T150000
SUMMARY:Rezerwacja Kierownictwo IIM (R)
CATEGORIES:R
END:VEVENT
BEGIN:VEVENT
UID:UZ_PLZ_20260318_1330_505487
DTSTAMP:20260318T133000
DTSTART:20260318T133000
DTEND:20260318T150000
SUMMARY:Wykład monograficzny (w dyscyplinie) (W): 11SDNŚiT-25/Mech
CATEGORIES:W
LOCATION:B212 A-11
END:VEVENT
BEGIN:VEVENT
UID:UZ_PLZ_20260325_0915_500365
DTSTAMP:20260325T091500
DTSTART:20260325T091500
DTEND:20260325T150000
SUMMARY:Rezerwacja Kierownictwo IIM (R)
CATEGORIES:R
END:VEVENT
BEGIN:VEVENT
UID:UZ_PLZ_20260325_1330_505487
DTSTAMP:20260325T133000
DTSTART:20260325T133000
DTEND:20260325T150000
SUMMARY:Wykład monograficzny (w dyscyplinie) (W): 11SDNŚiT-25/Mech
CATEGORIES:W
LOCATION:B212 A-11
END:VEVENT
BEGIN:VEVENT
UID:UZ_PLZ_20260401_0915_500365
DTSTAMP:20260401T091500
DTSTART:20260401T091500
DTEND:20260401T150000
SUMMARY:Rezerwacja Kierownictwo IIM (R)
CATEGORIES:R
END:VEVENT
BEGIN:VEVENT
UID:UZ_PLZ_20260401_1330_505487
DTSTAMP:20260401T133000
DTSTART:20260401T133000
DTEND:20260401T150000
SUMMARY:Wykład monograficzny (w dyscyplinie) (W): 11SDNŚiT-25/Mech
CATEGORIES:W
LOCATION:B212 A-11
END:VEVENT
BEGIN:VEVENT
UID:UZ_PLZ_20260408_0915_500365
DTSTAMP:20260408T091500
DTSTART:20260408T091500
DTEND:20260408T150000
SUMMARY:Rezerwacja Kierownictwo IIM (R)
CATEGORIES:R
END:VEVENT
BEGIN:VEVENT
UID:UZ_PLZ_20260408_1330_505487
DTSTAMP:20260408T133000
DTSTART:20260408T133000
DTEND:20260408T150000
SUMMARY:Wykład monograficzny (w dyscyplinie) (W): 11SDNŚiT-25/Mech
CATEGORIES:W
LOCATION:B212 A-11
END:VEVENT
BEGIN:VEVENT
UID:UZ_PLZ_20260410_1100_499553
DTSTAMP:20260410T110000
DTSTART:20260410T110000
DTEND:20260410T123000
SUMMARY:Automatyka i robotyka (L): 11MiBM-SP/A
CATEGORIES:L
LOCATION:H020 A-10
END:VEVENT
BEGIN:VEVENT
UID:UZ_PLZ_20260410_1245_499563
DTSTAMP:20260410T124500
DTSTART:20260410T124500
DTEND:20260410T141500
SUMMARY:Automatyka i robotyka (L): 11MiBM-SP/B
CATEGORIES:L
LOCATION:H020 A-10
END:VEVENT
BEGIN:VEVENT
UID:UZ_PLZ_20260414_1100_499563
DTSTAMP:20260414T110000
DTSTART:20260414T110000
DTEND:20260414T123000
SUMMARY:Automatyka i robotyka (L): 11MiBM-SP/B
CATEGORIES:L
LOCATION:H020 A-10
END:VEVENT
BEGIN:VEVENT
UID:UZ_PLZ_20260414_1245_499553
DTSTAMP:20260414T124500
DTSTART:20260414T124500
DTEND:20260414T141500
SUMMARY:Automatyka i robotyka (L): 11MiBM-SP/A
CATEGORIES:L
LOCATION:H020 A-10
END:VEVENT
BEGIN:VEVENT
UID:UZ_PLZ_20260415_0915_500365
DTSTAMP:20260415T091500
DTSTART:20260415T091500
DTEND:20260415T150000
SUMMARY:Rezerwacja Kierownictwo IIM (R)
CATEGORIES:R
END:VEVENT
BEGIN:VEVENT
UID:UZ_PLZ_20260415_1330_505487
DTSTAMP:20260415T133000
DTSTART:20260415T133000
DTEND:20260415T150000
SUMMARY:Wykład monograficzny (w dyscyplinie) (W): 11SDNŚiT-25/Mech
CATEGORIES:W
LOCATION:B212 A-11
END:VEVENT
BEGIN:VEVENT
UID:UZ_PLZ_20260417_1100_499553
DTSTAMP:20260417T110000
DTSTART:20260417T110000
DTEND:20260417T123000
SUMMARY:Automatyka i robotyka (L): 11MiBM-SP/A
CATEGORIES:L
LOCATION:H020 A-10
END:VEVENT
BEGIN:VEVENT
UID:UZ_PLZ_20260417_1245_499563
DTSTAMP:20260417T124500
DTSTART:20260417T124500
DTEND:20260417T141500
SUMMARY:Automatyka i robotyka (L): 11MiBM-SP/B
CATEGORIES:L
LOCATION:H020 A-10
END:VEVENT
BEGIN:VEVENT
UID:UZ_PLZ_20260421_1100_499563
DTSTAMP:20260421T110000
DTSTART:20260421T110000
DTEND:20260421T123000
SUMMARY:Automatyka i robotyka (L): 11MiBM-SP/B
CATEGORIES:L
LOCATION:H020 A-10
END:VEVENT
BEGIN:VEVENT
UID:UZ_PLZ_20260421_1245_499553
DTSTAMP:20260421T124500
DTSTART:20260421T124500
DTEND:20260421T141500
SUMMARY:Automatyka i robotyka (L): 11MiBM-SP/A
CATEGORIES:L
LOCATION:H020 A-10
END:VEVENT
BEGIN:VEVENT
UID:UZ_PLZ_20260422_0915_500365
DTSTAMP:20260422T091500
DTSTART:20260422T091500
DTEND:20260422T150000
SUMMARY:Rezerwacja Kierownictwo IIM (R)
CATEGORIES:R
END:VEVENT
BEGIN:VEVENT
UID:UZ_PLZ_20260422_1330_505487
DTSTAMP:20260422T133000
DTSTART:20260422T133000
DTEND:20260422T150000
SUMMARY:Wykład monograficzny (w dyscyplinie) (W): 11SDNŚiT-25/Mech
CATEGORIES:W
LOCATION:B212 A-11
END:VEVENT
BEGIN:VEVENT
UID:UZ_PLZ_20260424_1100_499553
DTSTAMP:20260424T110000
DTSTART:20260424T110000
DTEND:20260424T123000
SUMMARY:Automatyka i robotyka (L): 11MiBM-SP/A
CATEGORIES:L
LOCATION:H020 A-10
END:VEVENT
BEGIN:VEVENT
UID:UZ_PLZ_20260424_1245_499563
DTSTAMP:20260424T124500
DTSTART:20260424T124500
DTEND:20260424T141500
SUMMARY:Automatyka i robotyka (L): 11MiBM-SP/B
CATEGORIES:L
LOCATION:H020 A-10
END:VEVENT
BEGIN:VEVENT
UID:UZ_PLZ_20260428_1100_499563
DTSTAMP:20260428T110000
DTSTART:20260428T110000
DTEND:20260428T123000
SUMMARY:Automatyka i robotyka (L): 11MiBM-SP/B
CATEGORIES:L
LOCATION:H020 A-10
END:VEVENT
BEGIN:VEVENT
UID:UZ_PLZ_20260428_1245_499553
DTSTAMP:20260428T124500
DTSTART:20260428T124500
DTEND:20260428T141500
SUMMARY:Automatyka i robotyka (L): 11MiBM-SP/A
CATEGORIES:L
LOCATION:H020 A-10
END:VEVENT
BEGIN:VEVENT
UID:UZ_PLZ_20260429_1100_499553
DTSTAMP:20260429T110000
DTSTART:20260429T110000
DTEND:20260429T123000
SUMMARY:Automatyka i robotyka (L): 11MiBM-SP/A
CATEGORIES:L
LOCATION:H020 A-10
END:VEVENT
BEGIN:VEVENT
UID:UZ_PLZ_20260429_1245_499563
DTSTAMP:20260429T124500
DTSTART:20260429T124500
DTEND:20260429T141500
SUMMARY:Automatyka i robotyka (L): 11MiBM-SP/B
CATEGORIES:L
LOCATION:H020 A-10
END:VEVENT
BEGIN:VEVENT
UID:UZ_PLZ_20260505_1100_499563
DTSTAMP:20260505T110000
DTSTART:20260505T110000
DTEND:20260505T123000
SUMMARY:Automatyka i robotyka (L): 11MiBM-SP/B
CATEGORIES:L
LOCATION:H020 A-10
END:VEVENT
BEGIN:VEVENT
UID:UZ_PLZ_20260505_1245_499553
DTSTAMP:20260505T124500
DTSTART:20260505T124500
DTEND:20260505T141500
SUMMARY:Automatyka i robotyka (L): 11MiBM-SP/A
CATEGORIES:L
LOCATION:H020 A-10
END:VEVENT
BEGIN:VEVENT
UID:UZ_PLZ_20260506_0915_500365
DTSTAMP:20260506T091500
DTSTART:20260506T091500
DTEND:20260506T150000
SUMMARY:Rezerwacja Kierownictwo IIM (R)
CATEGORIES:R
END:VEVENT
BEGIN:VEVENT
UID:UZ_PLZ_20260506_1330_505487
DTSTAMP:20260506T133000
DTSTART:20260506T133000
DTEND:20260506T150000
SUMMARY:Wykład monograficzny (w dyscyplinie) (W): 11SDNŚiT-25/Mech
CATEGORIES:W
LOCATION:B212 A-11
END:VEVENT
BEGIN:VEVENT
UID:UZ_PLZ_20260512_1100_499563
DTSTAMP:20260512T110000
DTSTART:20260512T110000
DTEND:20260512T123000
SUMMARY:Automatyka i robotyka (L): 11MiBM-SP/B
CATEGORIES:L
LOCATION:H020 A-10
END:VEVENT
BEGIN:VEVENT
UID:UZ_PLZ_20260512_1245_499553
DTSTAMP:20260512T124500
DTSTART:20260512T124500
DTEND:20260512T141500
SUMMARY:Automatyka i robotyka (L): 11MiBM-SP/A
CATEGORIES:L
LOCATION:H020 A-10
END:VEVENT
BEGIN:VEVENT
UID:UZ_PLZ_20260513_0915_500365
DTSTAMP:20260513T091500
DTSTART:20260513T091500
DTEND:20260513T150000
SUMMARY:Rezerwacja Kierownictwo IIM (R)
CATEGORIES:R
END:VEVENT
BEGIN:VEVENT
UID:UZ_PLZ_20260513_1415_505487
DTSTAMP:20260513T141500
DTSTART:20260513T141500
DTEND:20260513T150000
SUMMARY:Wykład monograficzny (w dyscyplinie) (W): 11SDNŚiT-25/Mech
CATEGORIES:W
LOCATION:B212 A-11
END:VEVENT
BEGIN:VEVENT
UID:UZ_PLZ_20260519_1100_499563
DTSTAMP:20260519T110000
DTSTART:20260519T110000
DTEND:20260519T123000
SUMMARY:Automatyka i robotyka (L): 11MiBM-SP/B
CATEGORIES:L
LOCATION:H020 A-10
END:VEVENT
BEGIN:VEVENT
UID:UZ_PLZ_20260519_1245_499553
DTSTAMP:20260519T124500
DTSTART:20260519T124500
DTEND:20260519T141500
SUMMARY:Automatyka i robotyka (L): 11MiBM-SP/A
CATEGORIES:L
LOCATION:H020 A-10
END:VEVENT
BEGIN:VEVENT
UID:UZ_PLZ_20260520_0915_500365
DTSTAMP:20260520T091500
DTSTART:20260520T091500
DTEND:20260520T150000
SUMMARY:Rezerwacja Kierownictwo IIM (R)
CATEGORIES:R
END:VEVENT
BEGIN:VEVENT
UID:UZ_PLZ_20260526_1100_499563
DTSTAMP:20260526T110000
DTSTART:20260526T110000
DTEND:20260526T123000
SUMMARY:Automatyka i robotyka (L): 11MiBM-SP/B
CATEGORIES:L
LOCATION:H020 A-10
END:VEVENT
BEGIN:VEVENT
UID:UZ_PLZ_20260526_1245_499553
DTSTAMP:20260526T124500
DTSTART:20260526T124500
DTEND:20260526T141500
SUMMARY:Automatyka i robotyka (L): 11MiBM-SP/A
CATEGORIES:L
LOCATION:H020 A-10
END:VEVENT
BEGIN:VEVENT
UID:UZ_PLZ_20260527_0915_500365
DTSTAMP:20260527T091500
DTSTART:20260527T091500
DTEND:20260527T150000
SUMMARY:Rezerwacja Kierownictwo IIM (R)
CATEGORIES:R
END:VEVENT
BEGIN:VEVENT
UID:UZ_PLZ_20260602_1100_499563
DTSTAMP:20260602T110000
DTSTART:20260602T110000
DTEND:20260602T123000
SUMMARY:Automatyka i robotyka (L): 11MiBM-SP/B
CATEGORIES:L
LOCATION:H020 A-10
END:VEVENT
BEGIN:VEVENT
UID:UZ_PLZ_20260602_1245_499553
DTSTAMP:20260602T124500
DTSTART:20260602T124500
DTEND:20260602T141500
SUMMARY:Automatyka i robotyka (L): 11MiBM-SP/A
CATEGORIES:L
LOCATION:H020 A-10
END:VEVENT
BEGIN:VEVENT
UID:UZ_PLZ_20260603_0915_500365
DTSTAMP:20260603T091500
DTSTART:20260603T091500
DTEND:20260603T150000
SUMMARY:Rezerwacja Kierownictwo IIM (R)
CATEGORIES:R
END:VEVENT
BEGIN:VEVENT
UID:UZ_PLZ_20260609_1100_499563
DTSTAMP:20260609T110000
DTSTART:20260609T110000
DTEND:20260609T123000
SUMMARY:Automatyka i robotyka (L): 11MiBM-SP/B
CATEGORIES:L
LOCATION:H020 A-10
END:VEVENT
BEGIN:VEVENT
UID:UZ_PLZ_20260609_1245_499553
DTSTAMP:20260609T124500
DTSTART:20260609T124500
DTEND:20260609T141500
SUMMARY:Automatyka i robotyka (L): 11MiBM-SP/A
CATEGORIES:L
LOCATION:H020 A-10
END:VEVENT
BEGIN:VEVENT
UID:UZ_PLZ_20260610_0915_500365
DTSTAMP:20260610T091500
DTSTART:20260610T091500
DTEND:20260610T150000
SUMMARY:Rezerwacja Kierownictwo IIM (R)
CATEGORIES:R
END:VEVENT
BEGIN:VEVENT
UID:UZ_PLZ_20260616_1100_499563
DTSTAMP:20260616T110000
DTSTART:20260616T110000
DTEND:20260616T123000
SUMMARY:Automatyka i robotyka (L): 11MiBM-SP/B
CATEGORIES:L
LOCATION:H020 A-10
END:VEVENT
BEGIN:VEVENT
UID:UZ_PLZ_20260616_1245_499553
DTSTAMP:20260616T124500
DTSTART:20260616T124500
DTEND:20260616T141500
SUMMARY:Automatyka i robotyka (L): 11MiBM-SP/A
CATEGORIES:L
LOCATION:H020 A-10
END:VEVENT
BEGIN:VEVENT
UID:UZ_PLZ_20260617_0915_500365
DTSTAMP:20260617T091500
DTSTART:20260617T091500
DTEND:20260617T150000
SUMMARY:Rezerwacja Kierownictwo IIM (R)
CATEGORIES:R
END:VEVENT
END:VCALENDAR
