BEGIN:VCALENDAR
TZID:Europe/Warsaw
X-WR-TIMEZONE:Europe/Warsaw
VERSION:2.0
PRODID:-//Uniwersytet Zielonogórski//NONSGML Plan zajęć v1.0//EN
NAME:Plan zajęć - semestr zimowy 2025/2026
X-WR-CALNAME:Plan zajęć - semestr zimowy 2025/2026
COLOR:green
CALSCALE:GREGORIAN
BEGIN:VEVENT
UID:UZ_PLZ_20251001_0915_487161
DTSTAMP:20251001T091500
DTSTART:20251001T091500
DTEND:20251001T110000
SUMMARY:Rezerwacja IIM (R)
CATEGORIES:R
END:VEVENT
BEGIN:VEVENT
UID:UZ_PLZ_20251006_0915_485258
DTSTAMP:20251006T091500
DTSTART:20251006T091500
DTEND:20251006T105000
SUMMARY:Zarządzanie jakością w procesach produkcyjnych (W): 31ZiIP-ZPU-SP
CATEGORIES:W
LOCATION:B212 A-11
END:VEVENT
BEGIN:VEVENT
UID:UZ_PLZ_20251006_1100_485381
DTSTAMP:20251006T110000
DTSTART:20251006T110000
DTEND:20251006T123500
SUMMARY:Procesy technologiczne (W): 31ZiIP-ZPU-SP
CATEGORIES:W
LOCATION:B212 A-11
ATTACH:https://classroom.google.com/c/ODEyMTg1NzkyMjU3
END:VEVENT
BEGIN:VEVENT
UID:UZ_PLZ_20251006_1245_485336
DTSTAMP:20251006T124500
DTSTART:20251006T124500
DTEND:20251006T141500
SUMMARY:Procesy technologiczne (L): 31ZiIP-ZPU-SP
CATEGORIES:L
LOCATION:H222 A-10
END:VEVENT
BEGIN:VEVENT
UID:UZ_PLZ_20251008_0915_487161
DTSTAMP:20251008T091500
DTSTART:20251008T091500
DTEND:20251008T110000
SUMMARY:Rezerwacja IIM (R)
CATEGORIES:R
END:VEVENT
BEGIN:VEVENT
UID:UZ_PLZ_20251011_0740_485663
DTSTAMP:20251011T074000
DTSTART:20251011T074000
DTEND:20251011T090000
SUMMARY:Komputerowe wspomaganie w inżynierii produkcji (W): 41ZiIP-IJ-NP
CATEGORIES:W
LOCATION:H222 A-10
END:VEVENT
BEGIN:VEVENT
UID:UZ_PLZ_20251011_0915_485755
DTSTAMP:20251011T091500
DTSTART:20251011T091500
DTEND:20251011T123000
SUMMARY:Komputerowe wspomaganie w inżynierii produkcji (P): 41ZiIP-IJ-NP
CATEGORIES:P
LOCATION:H222 A-10
END:VEVENT
BEGIN:VEVENT
UID:UZ_PLZ_20251011_1245_485531
DTSTAMP:20251011T124500
DTSTART:20251011T124500
DTEND:20251011T141500
SUMMARY:Procesy technologiczne (W): 31ZiIP-IJ-NP\; 31ZiIP-ZPU-NP
CATEGORIES:W
LOCATION:B411 A-11
END:VEVENT
BEGIN:VEVENT
UID:UZ_PLZ_20251011_1430_485576
DTSTAMP:20251011T143000
DTSTART:20251011T143000
DTEND:20251011T164500
SUMMARY:Procesy technologiczne (L): 31ZiIP-ZPU-NP
CATEGORIES:L
LOCATION:H222 A-10
END:VEVENT
BEGIN:VEVENT
UID:UZ_PLZ_20251012_1100_485694
DTSTAMP:20251012T110000
DTSTART:20251012T110000
DTEND:20251012T122000
SUMMARY:Zarządzanie jakością w procesach produkcyjnych (P): 31ZiIP-ZPU-NP
CATEGORIES:P
LOCATION:B419 A-11
END:VEVENT
BEGIN:VEVENT
UID:UZ_PLZ_20251012_1245_485575
DTSTAMP:20251012T124500
DTSTART:20251012T124500
DTEND:20251012T150000
SUMMARY:Procesy technologiczne (L): 31ZiIP-IJ-NP
CATEGORIES:L
LOCATION:H222 A-10
END:VEVENT
BEGIN:VEVENT
UID:UZ_PLZ_20251012_1515_485724
DTSTAMP:20251012T151500
DTSTART:20251012T151500
DTEND:20251012T163500
SUMMARY:Projektowanie dla jakości (W): 31ZiIP-IJ-NP
CATEGORIES:W
LOCATION:B311 A-11
END:VEVENT
BEGIN:VEVENT
UID:UZ_PLZ_20251012_1645_485870
DTSTAMP:20251012T164500
DTSTART:20251012T164500
DTEND:20251012T180500
SUMMARY:Zarządzanie jakością w procesach produkcyjnych (P): 31ZiIP-IJ-NP
CATEGORIES:P
LOCATION:B311 A-11
END:VEVENT
BEGIN:VEVENT
UID:UZ_PLZ_20251013_0915_485495
DTSTAMP:20251013T091500
DTSTART:20251013T091500
DTEND:20251013T104000
SUMMARY:Zarządzanie jakością w procesach produkcyjnych (P): 31ZiIP-ZPU-SP
CATEGORIES:P
LOCATION:B212 A-11
END:VEVENT
BEGIN:VEVENT
UID:UZ_PLZ_20251013_1100_485336
DTSTAMP:20251013T110000
DTSTART:20251013T110000
DTEND:20251013T122500
SUMMARY:Procesy technologiczne (L): 31ZiIP-ZPU-SP
CATEGORIES:L
LOCATION:H222 A-10
END:VEVENT
BEGIN:VEVENT
UID:UZ_PLZ_20251013_1245_485336
DTSTAMP:20251013T124500
DTSTART:20251013T124500
DTEND:20251013T141500
SUMMARY:Procesy technologiczne (L): 31ZiIP-ZPU-SP
CATEGORIES:L
LOCATION:H222 A-10
END:VEVENT
BEGIN:VEVENT
UID:UZ_PLZ_20251015_0915_487161
DTSTAMP:20251015T091500
DTSTART:20251015T091500
DTEND:20251015T110000
SUMMARY:Rezerwacja IIM (R)
CATEGORIES:R
END:VEVENT
BEGIN:VEVENT
UID:UZ_PLZ_20251020_0915_485258
DTSTAMP:20251020T091500
DTSTART:20251020T091500
DTEND:20251020T105000
SUMMARY:Zarządzanie jakością w procesach produkcyjnych (W): 31ZiIP-ZPU-SP
CATEGORIES:W
LOCATION:B212 A-11
END:VEVENT
BEGIN:VEVENT
UID:UZ_PLZ_20251020_1100_485381
DTSTAMP:20251020T110000
DTSTART:20251020T110000
DTEND:20251020T123500
SUMMARY:Procesy technologiczne (W): 31ZiIP-ZPU-SP
CATEGORIES:W
LOCATION:B212 A-11
ATTACH:https://classroom.google.com/c/ODEyMTg1NzkyMjU3
END:VEVENT
BEGIN:VEVENT
UID:UZ_PLZ_20251020_1245_485336
DTSTAMP:20251020T124500
DTSTART:20251020T124500
DTEND:20251020T141500
SUMMARY:Procesy technologiczne (L): 31ZiIP-ZPU-SP
CATEGORIES:L
LOCATION:H222 A-10
END:VEVENT
BEGIN:VEVENT
UID:UZ_PLZ_20251022_0915_487161
DTSTAMP:20251022T091500
DTSTART:20251022T091500
DTEND:20251022T110000
SUMMARY:Rezerwacja IIM (R)
CATEGORIES:R
END:VEVENT
BEGIN:VEVENT
UID:UZ_PLZ_20251025_0915_485755
DTSTAMP:20251025T091500
DTSTART:20251025T091500
DTEND:20251025T123000
SUMMARY:Komputerowe wspomaganie w inżynierii produkcji (P): 41ZiIP-IJ-NP
CATEGORIES:P
LOCATION:H222 A-10
END:VEVENT
BEGIN:VEVENT
UID:UZ_PLZ_20251025_1245_485871
DTSTAMP:20251025T124500
DTSTART:20251025T124500
DTEND:20251025T141500
SUMMARY:Zarządzanie jakością w procesach produkcyjnych (W): 31ZiIP-IJ-NP\; 31ZiIP-ZPU-NP
CATEGORIES:W
LOCATION:B411 A-11
END:VEVENT
BEGIN:VEVENT
UID:UZ_PLZ_20251025_1430_485576
DTSTAMP:20251025T143000
DTSTART:20251025T143000
DTEND:20251025T164500
SUMMARY:Procesy technologiczne (L): 31ZiIP-ZPU-NP
CATEGORIES:L
LOCATION:H222 A-10
END:VEVENT
BEGIN:VEVENT
UID:UZ_PLZ_20251026_0730_485823
DTSTAMP:20251026T073000
DTSTART:20251026T073000
DTEND:20251026T090000
SUMMARY:Projektowanie dla jakości (P): 31ZiIP-IJ-NP
CATEGORIES:P
LOCATION:H222 A-10
END:VEVENT
BEGIN:VEVENT
UID:UZ_PLZ_20251026_1245_485575
DTSTAMP:20251026T124500
DTSTART:20251026T124500
DTEND:20251026T150000
SUMMARY:Procesy technologiczne (L): 31ZiIP-IJ-NP
CATEGORIES:L
LOCATION:H222 A-10
END:VEVENT
BEGIN:VEVENT
UID:UZ_PLZ_20251027_0915_485495
DTSTAMP:20251027T091500
DTSTART:20251027T091500
DTEND:20251027T104000
SUMMARY:Zarządzanie jakością w procesach produkcyjnych (P): 31ZiIP-ZPU-SP
CATEGORIES:P
LOCATION:B212 A-11
END:VEVENT
BEGIN:VEVENT
UID:UZ_PLZ_20251027_1100_485336
DTSTAMP:20251027T110000
DTSTART:20251027T110000
DTEND:20251027T122500
SUMMARY:Procesy technologiczne (L): 31ZiIP-ZPU-SP
CATEGORIES:L
LOCATION:H222 A-10
END:VEVENT
BEGIN:VEVENT
UID:UZ_PLZ_20251027_1245_485336
DTSTAMP:20251027T124500
DTSTART:20251027T124500
DTEND:20251027T141500
SUMMARY:Procesy technologiczne (L): 31ZiIP-ZPU-SP
CATEGORIES:L
LOCATION:H222 A-10
END:VEVENT
BEGIN:VEVENT
UID:UZ_PLZ_20251029_0915_487161
DTSTAMP:20251029T091500
DTSTART:20251029T091500
DTEND:20251029T110000
SUMMARY:Rezerwacja IIM (R)
CATEGORIES:R
END:VEVENT
BEGIN:VEVENT
UID:UZ_PLZ_20251103_0915_485258
DTSTAMP:20251103T091500
DTSTART:20251103T091500
DTEND:20251103T105000
SUMMARY:Zarządzanie jakością w procesach produkcyjnych (W): 31ZiIP-ZPU-SP
CATEGORIES:W
LOCATION:B212 A-11
END:VEVENT
BEGIN:VEVENT
UID:UZ_PLZ_20251103_1100_485381
DTSTAMP:20251103T110000
DTSTART:20251103T110000
DTEND:20251103T123500
SUMMARY:Procesy technologiczne (W): 31ZiIP-ZPU-SP
CATEGORIES:W
LOCATION:B212 A-11
ATTACH:https://classroom.google.com/c/ODEyMTg1NzkyMjU3
END:VEVENT
BEGIN:VEVENT
UID:UZ_PLZ_20251103_1245_485336
DTSTAMP:20251103T124500
DTSTART:20251103T124500
DTEND:20251103T141500
SUMMARY:Procesy technologiczne (L): 31ZiIP-ZPU-SP
CATEGORIES:L
LOCATION:H222 A-10
END:VEVENT
BEGIN:VEVENT
UID:UZ_PLZ_20251105_0915_487161
DTSTAMP:20251105T091500
DTSTART:20251105T091500
DTEND:20251105T110000
SUMMARY:Rezerwacja IIM (R)
CATEGORIES:R
END:VEVENT
BEGIN:VEVENT
UID:UZ_PLZ_20251108_0740_485663
DTSTAMP:20251108T074000
DTSTART:20251108T074000
DTEND:20251108T090000
SUMMARY:Komputerowe wspomaganie w inżynierii produkcji (W): 41ZiIP-IJ-NP
CATEGORIES:W
LOCATION:H222 A-10
END:VEVENT
BEGIN:VEVENT
UID:UZ_PLZ_20251108_0915_485755
DTSTAMP:20251108T091500
DTSTART:20251108T091500
DTEND:20251108T123000
SUMMARY:Komputerowe wspomaganie w inżynierii produkcji (P): 41ZiIP-IJ-NP
CATEGORIES:P
LOCATION:H222 A-10
END:VEVENT
BEGIN:VEVENT
UID:UZ_PLZ_20251108_1245_485531
DTSTAMP:20251108T124500
DTSTART:20251108T124500
DTEND:20251108T141500
SUMMARY:Procesy technologiczne (W): 31ZiIP-IJ-NP\; 31ZiIP-ZPU-NP
CATEGORIES:W
LOCATION:B411 A-11
END:VEVENT
BEGIN:VEVENT
UID:UZ_PLZ_20251108_1430_485576
DTSTAMP:20251108T143000
DTSTART:20251108T143000
DTEND:20251108T164500
SUMMARY:Procesy technologiczne (L): 31ZiIP-ZPU-NP
CATEGORIES:L
LOCATION:H222 A-10
END:VEVENT
BEGIN:VEVENT
UID:UZ_PLZ_20251109_1100_485694
DTSTAMP:20251109T110000
DTSTART:20251109T110000
DTEND:20251109T122000
SUMMARY:Zarządzanie jakością w procesach produkcyjnych (P): 31ZiIP-ZPU-NP
CATEGORIES:P
LOCATION:B419 A-11
END:VEVENT
BEGIN:VEVENT
UID:UZ_PLZ_20251109_1245_485575
DTSTAMP:20251109T124500
DTSTART:20251109T124500
DTEND:20251109T150000
SUMMARY:Procesy technologiczne (L): 31ZiIP-IJ-NP
CATEGORIES:L
LOCATION:H222 A-10
END:VEVENT
BEGIN:VEVENT
UID:UZ_PLZ_20251109_1515_485724
DTSTAMP:20251109T151500
DTSTART:20251109T151500
DTEND:20251109T163500
SUMMARY:Projektowanie dla jakości (W): 31ZiIP-IJ-NP
CATEGORIES:W
LOCATION:B311 A-11
END:VEVENT
BEGIN:VEVENT
UID:UZ_PLZ_20251109_1645_485870
DTSTAMP:20251109T164500
DTSTART:20251109T164500
DTEND:20251109T180500
SUMMARY:Zarządzanie jakością w procesach produkcyjnych (P): 31ZiIP-IJ-NP
CATEGORIES:P
LOCATION:B311 A-11
END:VEVENT
BEGIN:VEVENT
UID:UZ_PLZ_20251112_0915_487161
DTSTAMP:20251112T091500
DTSTART:20251112T091500
DTEND:20251112T110000
SUMMARY:Rezerwacja IIM (R)
CATEGORIES:R
END:VEVENT
BEGIN:VEVENT
UID:UZ_PLZ_20251113_0915_485495
DTSTAMP:20251113T091500
DTSTART:20251113T091500
DTEND:20251113T104000
SUMMARY:Zarządzanie jakością w procesach produkcyjnych (P): 31ZiIP-ZPU-SP
CATEGORIES:P
LOCATION:B212 A-11
END:VEVENT
BEGIN:VEVENT
UID:UZ_PLZ_20251113_1100_485336
DTSTAMP:20251113T110000
DTSTART:20251113T110000
DTEND:20251113T122500
SUMMARY:Procesy technologiczne (L): 31ZiIP-ZPU-SP
CATEGORIES:L
LOCATION:H222 A-10
END:VEVENT
BEGIN:VEVENT
UID:UZ_PLZ_20251113_1245_485336
DTSTAMP:20251113T124500
DTSTART:20251113T124500
DTEND:20251113T141500
SUMMARY:Procesy technologiczne (L): 31ZiIP-ZPU-SP
CATEGORIES:L
LOCATION:H222 A-10
END:VEVENT
BEGIN:VEVENT
UID:UZ_PLZ_20251117_0915_485258
DTSTAMP:20251117T091500
DTSTART:20251117T091500
DTEND:20251117T105000
SUMMARY:Zarządzanie jakością w procesach produkcyjnych (W): 31ZiIP-ZPU-SP
CATEGORIES:W
LOCATION:B212 A-11
END:VEVENT
BEGIN:VEVENT
UID:UZ_PLZ_20251117_1100_485381
DTSTAMP:20251117T110000
DTSTART:20251117T110000
DTEND:20251117T123500
SUMMARY:Procesy technologiczne (W): 31ZiIP-ZPU-SP
CATEGORIES:W
LOCATION:B212 A-11
ATTACH:https://classroom.google.com/c/ODEyMTg1NzkyMjU3
END:VEVENT
BEGIN:VEVENT
UID:UZ_PLZ_20251117_1245_485336
DTSTAMP:20251117T124500
DTSTART:20251117T124500
DTEND:20251117T141500
SUMMARY:Procesy technologiczne (L): 31ZiIP-ZPU-SP
CATEGORIES:L
LOCATION:H222 A-10
END:VEVENT
BEGIN:VEVENT
UID:UZ_PLZ_20251119_0915_487161
DTSTAMP:20251119T091500
DTSTART:20251119T091500
DTEND:20251119T110000
SUMMARY:Rezerwacja IIM (R)
CATEGORIES:R
END:VEVENT
BEGIN:VEVENT
UID:UZ_PLZ_20251122_0915_485755
DTSTAMP:20251122T091500
DTSTART:20251122T091500
DTEND:20251122T123000
SUMMARY:Komputerowe wspomaganie w inżynierii produkcji (P): 41ZiIP-IJ-NP
CATEGORIES:P
LOCATION:H222 A-10
END:VEVENT
BEGIN:VEVENT
UID:UZ_PLZ_20251122_1245_485871
DTSTAMP:20251122T124500
DTSTART:20251122T124500
DTEND:20251122T141500
SUMMARY:Zarządzanie jakością w procesach produkcyjnych (W): 31ZiIP-IJ-NP\; 31ZiIP-ZPU-NP
CATEGORIES:W
LOCATION:B411 A-11
END:VEVENT
BEGIN:VEVENT
UID:UZ_PLZ_20251122_1430_485576
DTSTAMP:20251122T143000
DTSTART:20251122T143000
DTEND:20251122T164500
SUMMARY:Procesy technologiczne (L): 31ZiIP-ZPU-NP
CATEGORIES:L
LOCATION:H222 A-10
END:VEVENT
BEGIN:VEVENT
UID:UZ_PLZ_20251123_0730_485823
DTSTAMP:20251123T073000
DTSTART:20251123T073000
DTEND:20251123T090000
SUMMARY:Projektowanie dla jakości (P): 31ZiIP-IJ-NP
CATEGORIES:P
LOCATION:H222 A-10
END:VEVENT
BEGIN:VEVENT
UID:UZ_PLZ_20251123_1245_485575
DTSTAMP:20251123T124500
DTSTART:20251123T124500
DTEND:20251123T150000
SUMMARY:Procesy technologiczne (L): 31ZiIP-IJ-NP
CATEGORIES:L
LOCATION:H222 A-10
END:VEVENT
BEGIN:VEVENT
UID:UZ_PLZ_20251124_0915_485495
DTSTAMP:20251124T091500
DTSTART:20251124T091500
DTEND:20251124T104000
SUMMARY:Zarządzanie jakością w procesach produkcyjnych (P): 31ZiIP-ZPU-SP
CATEGORIES:P
LOCATION:B212 A-11
END:VEVENT
BEGIN:VEVENT
UID:UZ_PLZ_20251124_1100_485336
DTSTAMP:20251124T110000
DTSTART:20251124T110000
DTEND:20251124T122500
SUMMARY:Procesy technologiczne (L): 31ZiIP-ZPU-SP
CATEGORIES:L
LOCATION:H222 A-10
END:VEVENT
BEGIN:VEVENT
UID:UZ_PLZ_20251124_1245_485336
DTSTAMP:20251124T124500
DTSTART:20251124T124500
DTEND:20251124T141500
SUMMARY:Procesy technologiczne (L): 31ZiIP-ZPU-SP
CATEGORIES:L
LOCATION:H222 A-10
END:VEVENT
BEGIN:VEVENT
UID:UZ_PLZ_20251126_0915_487161
DTSTAMP:20251126T091500
DTSTART:20251126T091500
DTEND:20251126T110000
SUMMARY:Rezerwacja IIM (R)
CATEGORIES:R
END:VEVENT
BEGIN:VEVENT
UID:UZ_PLZ_20251201_0915_485258
DTSTAMP:20251201T091500
DTSTART:20251201T091500
DTEND:20251201T105000
SUMMARY:Zarządzanie jakością w procesach produkcyjnych (W): 31ZiIP-ZPU-SP
CATEGORIES:W
LOCATION:B212 A-11
END:VEVENT
BEGIN:VEVENT
UID:UZ_PLZ_20251201_1100_485381
DTSTAMP:20251201T110000
DTSTART:20251201T110000
DTEND:20251201T123500
SUMMARY:Procesy technologiczne (W): 31ZiIP-ZPU-SP
CATEGORIES:W
LOCATION:B212 A-11
ATTACH:https://classroom.google.com/c/ODEyMTg1NzkyMjU3
END:VEVENT
BEGIN:VEVENT
UID:UZ_PLZ_20251201_1245_485336
DTSTAMP:20251201T124500
DTSTART:20251201T124500
DTEND:20251201T141500
SUMMARY:Procesy technologiczne (L): 31ZiIP-ZPU-SP
CATEGORIES:L
LOCATION:H222 A-10
END:VEVENT
BEGIN:VEVENT
UID:UZ_PLZ_20251203_0915_487161
DTSTAMP:20251203T091500
DTSTART:20251203T091500
DTEND:20251203T110000
SUMMARY:Rezerwacja IIM (R)
CATEGORIES:R
END:VEVENT
BEGIN:VEVENT
UID:UZ_PLZ_20251206_0740_485663
DTSTAMP:20251206T074000
DTSTART:20251206T074000
DTEND:20251206T090000
SUMMARY:Komputerowe wspomaganie w inżynierii produkcji (W): 41ZiIP-IJ-NP
CATEGORIES:W
LOCATION:H222 A-10
END:VEVENT
BEGIN:VEVENT
UID:UZ_PLZ_20251206_0915_485755
DTSTAMP:20251206T091500
DTSTART:20251206T091500
DTEND:20251206T123000
SUMMARY:Komputerowe wspomaganie w inżynierii produkcji (P): 41ZiIP-IJ-NP
CATEGORIES:P
LOCATION:H222 A-10
END:VEVENT
BEGIN:VEVENT
UID:UZ_PLZ_20251206_1245_485531
DTSTAMP:20251206T124500
DTSTART:20251206T124500
DTEND:20251206T141500
SUMMARY:Procesy technologiczne (W): 31ZiIP-IJ-NP\; 31ZiIP-ZPU-NP
CATEGORIES:W
LOCATION:B411 A-11
END:VEVENT
BEGIN:VEVENT
UID:UZ_PLZ_20251206_1430_485576
DTSTAMP:20251206T143000
DTSTART:20251206T143000
DTEND:20251206T164500
SUMMARY:Procesy technologiczne (L): 31ZiIP-ZPU-NP
CATEGORIES:L
LOCATION:H222 A-10
END:VEVENT
BEGIN:VEVENT
UID:UZ_PLZ_20251207_1100_485694
DTSTAMP:20251207T110000
DTSTART:20251207T110000
DTEND:20251207T122000
SUMMARY:Zarządzanie jakością w procesach produkcyjnych (P): 31ZiIP-ZPU-NP
CATEGORIES:P
LOCATION:B419 A-11
END:VEVENT
BEGIN:VEVENT
UID:UZ_PLZ_20251207_1245_485575
DTSTAMP:20251207T124500
DTSTART:20251207T124500
DTEND:20251207T150000
SUMMARY:Procesy technologiczne (L): 31ZiIP-IJ-NP
CATEGORIES:L
LOCATION:H222 A-10
END:VEVENT
BEGIN:VEVENT
UID:UZ_PLZ_20251207_1515_485724
DTSTAMP:20251207T151500
DTSTART:20251207T151500
DTEND:20251207T163500
SUMMARY:Projektowanie dla jakości (W): 31ZiIP-IJ-NP
CATEGORIES:W
LOCATION:B311 A-11
END:VEVENT
BEGIN:VEVENT
UID:UZ_PLZ_20251207_1645_485870
DTSTAMP:20251207T164500
DTSTART:20251207T164500
DTEND:20251207T180500
SUMMARY:Zarządzanie jakością w procesach produkcyjnych (P): 31ZiIP-IJ-NP
CATEGORIES:P
LOCATION:B311 A-11
END:VEVENT
BEGIN:VEVENT
UID:UZ_PLZ_20251208_0915_485495
DTSTAMP:20251208T091500
DTSTART:20251208T091500
DTEND:20251208T104000
SUMMARY:Zarządzanie jakością w procesach produkcyjnych (P): 31ZiIP-ZPU-SP
CATEGORIES:P
LOCATION:B212 A-11
END:VEVENT
BEGIN:VEVENT
UID:UZ_PLZ_20251208_1100_485336
DTSTAMP:20251208T110000
DTSTART:20251208T110000
DTEND:20251208T122500
SUMMARY:Procesy technologiczne (L): 31ZiIP-ZPU-SP
CATEGORIES:L
LOCATION:H222 A-10
END:VEVENT
BEGIN:VEVENT
UID:UZ_PLZ_20251208_1245_485336
DTSTAMP:20251208T124500
DTSTART:20251208T124500
DTEND:20251208T141500
SUMMARY:Procesy technologiczne (L): 31ZiIP-ZPU-SP
CATEGORIES:L
LOCATION:H222 A-10
END:VEVENT
BEGIN:VEVENT
UID:UZ_PLZ_20251210_0915_487161
DTSTAMP:20251210T091500
DTSTART:20251210T091500
DTEND:20251210T110000
SUMMARY:Rezerwacja IIM (R)
CATEGORIES:R
END:VEVENT
BEGIN:VEVENT
UID:UZ_PLZ_20251213_0915_485755
DTSTAMP:20251213T091500
DTSTART:20251213T091500
DTEND:20251213T123000
SUMMARY:Komputerowe wspomaganie w inżynierii produkcji (P): 41ZiIP-IJ-NP
CATEGORIES:P
LOCATION:H222 A-10
END:VEVENT
BEGIN:VEVENT
UID:UZ_PLZ_20251213_1245_485871
DTSTAMP:20251213T124500
DTSTART:20251213T124500
DTEND:20251213T141500
SUMMARY:Zarządzanie jakością w procesach produkcyjnych (W): 31ZiIP-IJ-NP\; 31ZiIP-ZPU-NP
CATEGORIES:W
LOCATION:B411 A-11
END:VEVENT
BEGIN:VEVENT
UID:UZ_PLZ_20251213_1430_485576
DTSTAMP:20251213T143000
DTSTART:20251213T143000
DTEND:20251213T164500
SUMMARY:Procesy technologiczne (L): 31ZiIP-ZPU-NP
CATEGORIES:L
LOCATION:H222 A-10
END:VEVENT
BEGIN:VEVENT
UID:UZ_PLZ_20251214_0730_485823
DTSTAMP:20251214T073000
DTSTART:20251214T073000
DTEND:20251214T090000
SUMMARY:Projektowanie dla jakości (P): 31ZiIP-IJ-NP
CATEGORIES:P
LOCATION:H222 A-10
END:VEVENT
BEGIN:VEVENT
UID:UZ_PLZ_20251214_1245_485575
DTSTAMP:20251214T124500
DTSTART:20251214T124500
DTEND:20251214T150000
SUMMARY:Procesy technologiczne (L): 31ZiIP-IJ-NP
CATEGORIES:L
LOCATION:H222 A-10
END:VEVENT
BEGIN:VEVENT
UID:UZ_PLZ_20251215_0915_485258
DTSTAMP:20251215T091500
DTSTART:20251215T091500
DTEND:20251215T105000
SUMMARY:Zarządzanie jakością w procesach produkcyjnych (W): 31ZiIP-ZPU-SP
CATEGORIES:W
LOCATION:B212 A-11
END:VEVENT
BEGIN:VEVENT
UID:UZ_PLZ_20251215_1100_485381
DTSTAMP:20251215T110000
DTSTART:20251215T110000
DTEND:20251215T123500
SUMMARY:Procesy technologiczne (W): 31ZiIP-ZPU-SP
CATEGORIES:W
LOCATION:B212 A-11
ATTACH:https://classroom.google.com/c/ODEyMTg1NzkyMjU3
END:VEVENT
BEGIN:VEVENT
UID:UZ_PLZ_20251215_1245_485336
DTSTAMP:20251215T124500
DTSTART:20251215T124500
DTEND:20251215T141500
SUMMARY:Procesy technologiczne (L): 31ZiIP-ZPU-SP
CATEGORIES:L
LOCATION:H222 A-10
END:VEVENT
BEGIN:VEVENT
UID:UZ_PLZ_20251217_0915_487161
DTSTAMP:20251217T091500
DTSTART:20251217T091500
DTEND:20251217T110000
SUMMARY:Rezerwacja IIM (R)
CATEGORIES:R
END:VEVENT
BEGIN:VEVENT
UID:UZ_PLZ_20260110_0740_485663
DTSTAMP:20260110T074000
DTSTART:20260110T074000
DTEND:20260110T090000
SUMMARY:Komputerowe wspomaganie w inżynierii produkcji (W): 41ZiIP-IJ-NP
CATEGORIES:W
LOCATION:H222 A-10
END:VEVENT
BEGIN:VEVENT
UID:UZ_PLZ_20260110_0915_485755
DTSTAMP:20260110T091500
DTSTART:20260110T091500
DTEND:20260110T123000
SUMMARY:Komputerowe wspomaganie w inżynierii produkcji (P): 41ZiIP-IJ-NP
CATEGORIES:P
LOCATION:H222 A-10
END:VEVENT
BEGIN:VEVENT
UID:UZ_PLZ_20260110_1245_485531
DTSTAMP:20260110T124500
DTSTART:20260110T124500
DTEND:20260110T141500
SUMMARY:Procesy technologiczne (W): 31ZiIP-IJ-NP\; 31ZiIP-ZPU-NP
CATEGORIES:W
LOCATION:B411 A-11
END:VEVENT
BEGIN:VEVENT
UID:UZ_PLZ_20260110_1430_485576
DTSTAMP:20260110T143000
DTSTART:20260110T143000
DTEND:20260110T164500
SUMMARY:Procesy technologiczne (L): 31ZiIP-ZPU-NP
CATEGORIES:L
LOCATION:H222 A-10
END:VEVENT
BEGIN:VEVENT
UID:UZ_PLZ_20260111_1100_485694
DTSTAMP:20260111T110000
DTSTART:20260111T110000
DTEND:20260111T122000
SUMMARY:Zarządzanie jakością w procesach produkcyjnych (P): 31ZiIP-ZPU-NP
CATEGORIES:P
LOCATION:B419 A-11
END:VEVENT
BEGIN:VEVENT
UID:UZ_PLZ_20260111_1245_485575
DTSTAMP:20260111T124500
DTSTART:20260111T124500
DTEND:20260111T150000
SUMMARY:Procesy technologiczne (L): 31ZiIP-IJ-NP
CATEGORIES:L
LOCATION:H222 A-10
END:VEVENT
BEGIN:VEVENT
UID:UZ_PLZ_20260111_1515_485724
DTSTAMP:20260111T151500
DTSTART:20260111T151500
DTEND:20260111T163500
SUMMARY:Projektowanie dla jakości (W): 31ZiIP-IJ-NP
CATEGORIES:W
LOCATION:B311 A-11
END:VEVENT
BEGIN:VEVENT
UID:UZ_PLZ_20260111_1645_485870
DTSTAMP:20260111T164500
DTSTART:20260111T164500
DTEND:20260111T180500
SUMMARY:Zarządzanie jakością w procesach produkcyjnych (P): 31ZiIP-IJ-NP
CATEGORIES:P
LOCATION:B311 A-11
END:VEVENT
BEGIN:VEVENT
UID:UZ_PLZ_20260112_0915_485258
DTSTAMP:20260112T091500
DTSTART:20260112T091500
DTEND:20260112T105000
SUMMARY:Zarządzanie jakością w procesach produkcyjnych (W): 31ZiIP-ZPU-SP
CATEGORIES:W
LOCATION:B212 A-11
END:VEVENT
BEGIN:VEVENT
UID:UZ_PLZ_20260112_1100_485381
DTSTAMP:20260112T110000
DTSTART:20260112T110000
DTEND:20260112T123500
SUMMARY:Procesy technologiczne (W): 31ZiIP-ZPU-SP
CATEGORIES:W
LOCATION:B212 A-11
ATTACH:https://classroom.google.com/c/ODEyMTg1NzkyMjU3
END:VEVENT
BEGIN:VEVENT
UID:UZ_PLZ_20260112_1245_485336
DTSTAMP:20260112T124500
DTSTART:20260112T124500
DTEND:20260112T141500
SUMMARY:Procesy technologiczne (L): 31ZiIP-ZPU-SP
CATEGORIES:L
LOCATION:H222 A-10
END:VEVENT
BEGIN:VEVENT
UID:UZ_PLZ_20260114_0915_487161
DTSTAMP:20260114T091500
DTSTART:20260114T091500
DTEND:20260114T110000
SUMMARY:Rezerwacja IIM (R)
CATEGORIES:R
END:VEVENT
BEGIN:VEVENT
UID:UZ_PLZ_20260117_0915_485755
DTSTAMP:20260117T091500
DTSTART:20260117T091500
DTEND:20260117T123000
SUMMARY:Komputerowe wspomaganie w inżynierii produkcji (P): 41ZiIP-IJ-NP
CATEGORIES:P
LOCATION:H222 A-10
END:VEVENT
BEGIN:VEVENT
UID:UZ_PLZ_20260117_1245_485871
DTSTAMP:20260117T124500
DTSTART:20260117T124500
DTEND:20260117T141500
SUMMARY:Zarządzanie jakością w procesach produkcyjnych (W): 31ZiIP-IJ-NP\; 31ZiIP-ZPU-NP
CATEGORIES:W
LOCATION:B411 A-11
END:VEVENT
BEGIN:VEVENT
UID:UZ_PLZ_20260117_1430_485576
DTSTAMP:20260117T143000
DTSTART:20260117T143000
DTEND:20260117T164500
SUMMARY:Procesy technologiczne (L): 31ZiIP-ZPU-NP
CATEGORIES:L
LOCATION:H222 A-10
END:VEVENT
BEGIN:VEVENT
UID:UZ_PLZ_20260118_0730_485823
DTSTAMP:20260118T073000
DTSTART:20260118T073000
DTEND:20260118T090000
SUMMARY:Projektowanie dla jakości (P): 31ZiIP-IJ-NP
CATEGORIES:P
LOCATION:H222 A-10
END:VEVENT
BEGIN:VEVENT
UID:UZ_PLZ_20260118_1245_485575
DTSTAMP:20260118T124500
DTSTART:20260118T124500
DTEND:20260118T150000
SUMMARY:Procesy technologiczne (L): 31ZiIP-IJ-NP
CATEGORIES:L
LOCATION:H222 A-10
END:VEVENT
BEGIN:VEVENT
UID:UZ_PLZ_20260119_0915_485495
DTSTAMP:20260119T091500
DTSTART:20260119T091500
DTEND:20260119T104000
SUMMARY:Zarządzanie jakością w procesach produkcyjnych (P): 31ZiIP-ZPU-SP
CATEGORIES:P
LOCATION:B212 A-11
END:VEVENT
BEGIN:VEVENT
UID:UZ_PLZ_20260119_1100_485336
DTSTAMP:20260119T110000
DTSTART:20260119T110000
DTEND:20260119T122500
SUMMARY:Procesy technologiczne (L): 31ZiIP-ZPU-SP
CATEGORIES:L
LOCATION:H222 A-10
END:VEVENT
BEGIN:VEVENT
UID:UZ_PLZ_20260119_1245_485336
DTSTAMP:20260119T124500
DTSTART:20260119T124500
DTEND:20260119T141500
SUMMARY:Procesy technologiczne (L): 31ZiIP-ZPU-SP
CATEGORIES:L
LOCATION:H222 A-10
END:VEVENT
BEGIN:VEVENT
UID:UZ_PLZ_20260121_0915_487161
DTSTAMP:20260121T091500
DTSTART:20260121T091500
DTEND:20260121T110000
SUMMARY:Rezerwacja IIM (R)
CATEGORIES:R
END:VEVENT
BEGIN:VEVENT
UID:UZ_PLZ_20260126_0915_485495
DTSTAMP:20260126T091500
DTSTART:20260126T091500
DTEND:20260126T104000
SUMMARY:Zarządzanie jakością w procesach produkcyjnych (P): 31ZiIP-ZPU-SP
CATEGORIES:P
LOCATION:B212 A-11
END:VEVENT
BEGIN:VEVENT
UID:UZ_PLZ_20260126_1100_485336
DTSTAMP:20260126T110000
DTSTART:20260126T110000
DTEND:20260126T122500
SUMMARY:Procesy technologiczne (L): 31ZiIP-ZPU-SP
CATEGORIES:L
LOCATION:H222 A-10
END:VEVENT
BEGIN:VEVENT
UID:UZ_PLZ_20260126_1245_485336
DTSTAMP:20260126T124500
DTSTART:20260126T124500
DTEND:20260126T141500
SUMMARY:Procesy technologiczne (L): 31ZiIP-ZPU-SP
CATEGORIES:L
LOCATION:H222 A-10
END:VEVENT
BEGIN:VEVENT
UID:UZ_PLZ_20260128_0915_487161
DTSTAMP:20260128T091500
DTSTART:20260128T091500
DTEND:20260128T110000
SUMMARY:Rezerwacja IIM (R)
CATEGORIES:R
END:VEVENT
BEGIN:VEVENT
UID:UZ_PLZ_20260131_0740_485663
DTSTAMP:20260131T074000
DTSTART:20260131T074000
DTEND:20260131T090000
SUMMARY:Komputerowe wspomaganie w inżynierii produkcji (W): 41ZiIP-IJ-NP
CATEGORIES:W
LOCATION:H222 A-10
END:VEVENT
BEGIN:VEVENT
UID:UZ_PLZ_20260131_0915_485755
DTSTAMP:20260131T091500
DTSTART:20260131T091500
DTEND:20260131T123000
SUMMARY:Komputerowe wspomaganie w inżynierii produkcji (P): 41ZiIP-IJ-NP
CATEGORIES:P
LOCATION:H222 A-10
END:VEVENT
BEGIN:VEVENT
UID:UZ_PLZ_20260131_1245_485531
DTSTAMP:20260131T124500
DTSTART:20260131T124500
DTEND:20260131T141500
SUMMARY:Procesy technologiczne (W): 31ZiIP-IJ-NP\; 31ZiIP-ZPU-NP
CATEGORIES:W
LOCATION:B411 A-11
END:VEVENT
BEGIN:VEVENT
UID:UZ_PLZ_20260131_1430_485576
DTSTAMP:20260131T143000
DTSTART:20260131T143000
DTEND:20260131T164500
SUMMARY:Procesy technologiczne (L): 31ZiIP-ZPU-NP
CATEGORIES:L
LOCATION:H222 A-10
END:VEVENT
BEGIN:VEVENT
UID:UZ_PLZ_20260201_1100_485694
DTSTAMP:20260201T110000
DTSTART:20260201T110000
DTEND:20260201T122000
SUMMARY:Zarządzanie jakością w procesach produkcyjnych (P): 31ZiIP-ZPU-NP
CATEGORIES:P
LOCATION:B419 A-11
END:VEVENT
BEGIN:VEVENT
UID:UZ_PLZ_20260201_1245_485575
DTSTAMP:20260201T124500
DTSTART:20260201T124500
DTEND:20260201T150000
SUMMARY:Procesy technologiczne (L): 31ZiIP-IJ-NP
CATEGORIES:L
LOCATION:H222 A-10
END:VEVENT
BEGIN:VEVENT
UID:UZ_PLZ_20260201_1515_485724
DTSTAMP:20260201T151500
DTSTART:20260201T151500
DTEND:20260201T163500
SUMMARY:Projektowanie dla jakości (W): 31ZiIP-IJ-NP
CATEGORIES:W
LOCATION:B311 A-11
END:VEVENT
BEGIN:VEVENT
UID:UZ_PLZ_20260201_1645_485870
DTSTAMP:20260201T164500
DTSTART:20260201T164500
DTEND:20260201T180500
SUMMARY:Zarządzanie jakością w procesach produkcyjnych (P): 31ZiIP-IJ-NP
CATEGORIES:P
LOCATION:B311 A-11
END:VEVENT
BEGIN:VEVENT
UID:UZ_PLZ_20260202_0915_485495
DTSTAMP:20260202T091500
DTSTART:20260202T091500
DTEND:20260202T104000
SUMMARY:Zarządzanie jakością w procesach produkcyjnych (P): 31ZiIP-ZPU-SP
CATEGORIES:P
LOCATION:B212 A-11
END:VEVENT
BEGIN:VEVENT
UID:UZ_PLZ_20260202_1100_485336
DTSTAMP:20260202T110000
DTSTART:20260202T110000
DTEND:20260202T122500
SUMMARY:Procesy technologiczne (L): 31ZiIP-ZPU-SP
CATEGORIES:L
LOCATION:H222 A-10
END:VEVENT
BEGIN:VEVENT
UID:UZ_PLZ_20260202_1245_485336
DTSTAMP:20260202T124500
DTSTART:20260202T124500
DTEND:20260202T141500
SUMMARY:Procesy technologiczne (L): 31ZiIP-ZPU-SP
CATEGORIES:L
LOCATION:H222 A-10
END:VEVENT
BEGIN:VEVENT
UID:UZ_PLZ_20260203_1000_496060
DTSTAMP:20260203T100000
DTSTART:20260203T100000
DTEND:20260203T120000
SUMMARY:Procesy technologiczne (E): 31ZiIP-ZPU-SP
CATEGORIES:E
LOCATION:B108 A-11
END:VEVENT
BEGIN:VEVENT
UID:UZ_PLZ_20260207_1400_496031
DTSTAMP:20260207T140000
DTSTART:20260207T140000
DTEND:20260207T160000
SUMMARY:Procesy technologiczne (E): 31ZiIP-IJ-NP\; 31ZiIP-ZPU-NP
CATEGORIES:E
LOCATION:302 A-2
END:VEVENT
BEGIN:VEVENT
UID:UZ_PLZ_20260217_1400_496060
DTSTAMP:20260217T140000
DTSTART:20260217T140000
DTEND:20260217T150000
SUMMARY:Procesy technologiczne (E): 31ZiIP-ZPU-SP
CATEGORIES:E
LOCATION:B108 A-11
END:VEVENT
BEGIN:VEVENT
UID:UZ_PLZ_20260217_1500_496031
DTSTAMP:20260217T150000
DTSTART:20260217T150000
DTEND:20260217T160000
SUMMARY:Procesy technologiczne (E): 31ZiIP-IJ-NP\; 31ZiIP-ZPU-NP
CATEGORIES:E
LOCATION:B112 A-11
END:VEVENT
END:VCALENDAR
