BEGIN:VCALENDAR
TZID:Europe/Warsaw
X-WR-TIMEZONE:Europe/Warsaw
VERSION:2.0
PRODID:-//Uniwersytet Zielonogórski//NONSGML Plan zajęć v1.0//EN
NAME:Plan zajęć - semestr letni 2025/2026
X-WR-CALNAME:Plan zajęć - semestr letni 2025/2026
COLOR:green
CALSCALE:GREGORIAN
BEGIN:VEVENT
UID:UZ_PLZ_20260422_0915_500366
DTSTAMP:20260422T091500
DTSTART:20260422T091500
DTEND:20260422T110000
SUMMARY:Rezerwacja IIM (R)
CATEGORIES:R
END:VEVENT
BEGIN:VEVENT
UID:UZ_PLZ_20260424_1100_497960
DTSTAMP:20260424T110000
DTSTART:20260424T110000
DTEND:20260424T123500
SUMMARY:Techniki CAD (L): 33LOG-TS-SP/A
CATEGORIES:L
LOCATION:H130 A-10
DESCRIPTION:<a href="https://classroom.google.com/c/ODUwNDA0OTI5ODA2">Google Classroom</a> 
END:VEVENT
BEGIN:VEVENT
UID:UZ_PLZ_20260424_1245_497917
DTSTAMP:20260424T124500
DTSTART:20260424T124500
DTEND:20260424T142000
SUMMARY:Techniki CAD (L): 32LOG-TS-SP/A
CATEGORIES:L
LOCATION:H130 A-10
DESCRIPTION:<a href="https://classroom.google.com/c/ODUwNDA0OTI5ODA2">Google Classroom</a> 
END:VEVENT
BEGIN:VEVENT
UID:UZ_PLZ_20260425_1100_500518
DTSTAMP:20260425T110000
DTSTART:20260425T110000
DTEND:20260425T122000
SUMMARY:Prognozowanie i symulacja w przedsiębiorstwie (L): 15ZiIP-ND/B
CATEGORIES:L
LOCATION:H130 A-10
DESCRIPTION:<a href="https://classroom.google.com/c/ODUwNDA5OTM4ODUz">Google Classroom</a> 
END:VEVENT
BEGIN:VEVENT
UID:UZ_PLZ_20260425_1245_500517
DTSTAMP:20260425T124500
DTSTART:20260425T124500
DTEND:20260425T140500
SUMMARY:Prognozowanie i symulacja w przedsiębiorstwie (L): 15ZiIP-ND/A
CATEGORIES:L
LOCATION:H130 A-10
DESCRIPTION:<a href="https://classroom.google.com/c/ODUwNDA5OTM4ODUz">Google Classroom</a> 
END:VEVENT
BEGIN:VEVENT
UID:UZ_PLZ_20260425_1430_500479
DTSTAMP:20260425T143000
DTSTART:20260425T143000
DTEND:20260425T155000
SUMMARY:Prognozowanie i symulacja w przedsiębiorstwie (W): 15ZiIP-ND
CATEGORIES:W
LOCATION:108 A-2
DESCRIPTION:<a href="https://classroom.google.com/c/ODUwNDA5OTM4ODUz">Google Classroom</a> 
END:VEVENT
BEGIN:VEVENT
UID:UZ_PLZ_20260425_1615_500506
DTSTAMP:20260425T161500
DTSTART:20260425T161500
DTEND:20260425T174500
SUMMARY:Tendencje rozwojowe w kontroli jakości (P): 31ZiIP-IJ-NP
CATEGORIES:P
LOCATION:H130 A-10
END:VEVENT
BEGIN:VEVENT
UID:UZ_PLZ_20260425_1800_498438
DTSTAMP:20260425T180000
DTSTART:20260425T180000
DTEND:20260425T192000
SUMMARY:Techniki CAD (L): 31LOG-ZLP-NP/A
CATEGORIES:L
LOCATION:H130 A-10
DESCRIPTION:<a href="https://classroom.google.com/c/ODUwNDA0OTI5ODA2">Google Classroom</a> 
END:VEVENT
BEGIN:VEVENT
UID:UZ_PLZ_20260425_1935_498353
DTSTAMP:20260425T193500
DTSTART:20260425T193500
DTEND:20260425T205500
SUMMARY:Techniki CAD (L): 32LOG-TS-NP/A
CATEGORIES:L
LOCATION:H130 A-10
DESCRIPTION:<a href="https://classroom.google.com/c/ODUwNDA0OTI5ODA2">Google Classroom</a> 
END:VEVENT
BEGIN:VEVENT
UID:UZ_PLZ_20260429_0915_498071
DTSTAMP:20260429T091500
DTSTART:20260429T091500
DTEND:20260429T104000
SUMMARY:Techniki CAD (L): 31LOG-ZLP-SP/A
CATEGORIES:L
LOCATION:H130 A-10
DESCRIPTION:<a href="https://classroom.google.com/c/ODUwNDA0OTI5ODA2">Google Classroom</a> 
END:VEVENT
BEGIN:VEVENT
UID:UZ_PLZ_20260429_1100_498013
DTSTAMP:20260429T110000
DTSTART:20260429T110000
DTEND:20260429T122500
SUMMARY:Techniki CAD (L): 33LOG-TS-SP/B
CATEGORIES:L
LOCATION:H130 A-10
DESCRIPTION:<a href="https://classroom.google.com/c/ODUwNDA0OTI5ODA2">Google Classroom</a> 
END:VEVENT
BEGIN:VEVENT
UID:UZ_PLZ_20260429_1245_497817
DTSTAMP:20260429T124500
DTSTART:20260429T124500
DTEND:20260429T141000
SUMMARY:Techniki CAD (L): 32LOG-TS-SP/B
CATEGORIES:L
LOCATION:H130 A-10
DESCRIPTION:<a href="https://classroom.google.com/c/ODUwNDA0OTI5ODA2">Google Classroom</a> 
END:VEVENT
BEGIN:VEVENT
UID:UZ_PLZ_20260506_0915_500366
DTSTAMP:20260506T091500
DTSTART:20260506T091500
DTEND:20260506T110000
SUMMARY:Rezerwacja IIM (R)
CATEGORIES:R
END:VEVENT
BEGIN:VEVENT
UID:UZ_PLZ_20260508_1100_497960
DTSTAMP:20260508T110000
DTSTART:20260508T110000
DTEND:20260508T123500
SUMMARY:Techniki CAD (L): 33LOG-TS-SP/A
CATEGORIES:L
LOCATION:H130 A-10
DESCRIPTION:<a href="https://classroom.google.com/c/ODUwNDA0OTI5ODA2">Google Classroom</a> 
END:VEVENT
BEGIN:VEVENT
UID:UZ_PLZ_20260508_1245_497917
DTSTAMP:20260508T124500
DTSTART:20260508T124500
DTEND:20260508T142000
SUMMARY:Techniki CAD (L): 32LOG-TS-SP/A
CATEGORIES:L
LOCATION:H130 A-10
DESCRIPTION:<a href="https://classroom.google.com/c/ODUwNDA0OTI5ODA2">Google Classroom</a> 
END:VEVENT
BEGIN:VEVENT
UID:UZ_PLZ_20260509_1425_500483
DTSTAMP:20260509T142500
DTSTART:20260509T142500
DTEND:20260509T160500
SUMMARY:Tendencje rozwojowe w kontroli jakości (W): 31ZiIP-IJ-NP
CATEGORIES:W
LOCATION:B208 A-11
END:VEVENT
BEGIN:VEVENT
UID:UZ_PLZ_20260509_1615_500506
DTSTAMP:20260509T161500
DTSTART:20260509T161500
DTEND:20260509T174500
SUMMARY:Tendencje rozwojowe w kontroli jakości (P): 31ZiIP-IJ-NP
CATEGORIES:P
LOCATION:H130 A-10
END:VEVENT
BEGIN:VEVENT
UID:UZ_PLZ_20260513_0915_500366
DTSTAMP:20260513T091500
DTSTART:20260513T091500
DTEND:20260513T110000
SUMMARY:Rezerwacja IIM (R)
CATEGORIES:R
END:VEVENT
BEGIN:VEVENT
UID:UZ_PLZ_20260515_0915_498071
DTSTAMP:20260515T091500
DTSTART:20260515T091500
DTEND:20260515T104000
SUMMARY:Techniki CAD (L): 31LOG-ZLP-SP/A
CATEGORIES:L
LOCATION:H130 A-10
DESCRIPTION:<a href="https://classroom.google.com/c/ODUwNDA0OTI5ODA2">Google Classroom</a> 
END:VEVENT
BEGIN:VEVENT
UID:UZ_PLZ_20260515_1100_498013
DTSTAMP:20260515T110000
DTSTART:20260515T110000
DTEND:20260515T122500
SUMMARY:Techniki CAD (L): 33LOG-TS-SP/B
CATEGORIES:L
LOCATION:H130 A-10
DESCRIPTION:<a href="https://classroom.google.com/c/ODUwNDA0OTI5ODA2">Google Classroom</a> 
END:VEVENT
BEGIN:VEVENT
UID:UZ_PLZ_20260515_1245_497817
DTSTAMP:20260515T124500
DTSTART:20260515T124500
DTEND:20260515T141000
SUMMARY:Techniki CAD (L): 32LOG-TS-SP/B
CATEGORIES:L
LOCATION:H130 A-10
DESCRIPTION:<a href="https://classroom.google.com/c/ODUwNDA0OTI5ODA2">Google Classroom</a> 
END:VEVENT
BEGIN:VEVENT
UID:UZ_PLZ_20260516_1100_500518
DTSTAMP:20260516T110000
DTSTART:20260516T110000
DTEND:20260516T122000
SUMMARY:Prognozowanie i symulacja w przedsiębiorstwie (L): 15ZiIP-ND/B
CATEGORIES:L
LOCATION:H130 A-10
DESCRIPTION:<a href="https://classroom.google.com/c/ODUwNDA5OTM4ODUz">Google Classroom</a> 
END:VEVENT
BEGIN:VEVENT
UID:UZ_PLZ_20260516_1245_500517
DTSTAMP:20260516T124500
DTSTART:20260516T124500
DTEND:20260516T140500
SUMMARY:Prognozowanie i symulacja w przedsiębiorstwie (L): 15ZiIP-ND/A
CATEGORIES:L
LOCATION:H130 A-10
DESCRIPTION:<a href="https://classroom.google.com/c/ODUwNDA5OTM4ODUz">Google Classroom</a> 
END:VEVENT
BEGIN:VEVENT
UID:UZ_PLZ_20260516_1430_500479
DTSTAMP:20260516T143000
DTSTART:20260516T143000
DTEND:20260516T155000
SUMMARY:Prognozowanie i symulacja w przedsiębiorstwie (W): 15ZiIP-ND
CATEGORIES:W
LOCATION:108 A-2
DESCRIPTION:<a href="https://classroom.google.com/c/ODUwNDA5OTM4ODUz">Google Classroom</a> 
END:VEVENT
BEGIN:VEVENT
UID:UZ_PLZ_20260516_1615_500506
DTSTAMP:20260516T161500
DTSTART:20260516T161500
DTEND:20260516T174500
SUMMARY:Tendencje rozwojowe w kontroli jakości (P): 31ZiIP-IJ-NP
CATEGORIES:P
LOCATION:H130 A-10
END:VEVENT
BEGIN:VEVENT
UID:UZ_PLZ_20260516_1800_498438
DTSTAMP:20260516T180000
DTSTART:20260516T180000
DTEND:20260516T192000
SUMMARY:Techniki CAD (L): 31LOG-ZLP-NP/A
CATEGORIES:L
LOCATION:H130 A-10
DESCRIPTION:<a href="https://classroom.google.com/c/ODUwNDA0OTI5ODA2">Google Classroom</a> 
END:VEVENT
BEGIN:VEVENT
UID:UZ_PLZ_20260516_1935_498353
DTSTAMP:20260516T193500
DTSTART:20260516T193500
DTEND:20260516T205500
SUMMARY:Techniki CAD (L): 32LOG-TS-NP/A
CATEGORIES:L
LOCATION:H130 A-10
DESCRIPTION:<a href="https://classroom.google.com/c/ODUwNDA0OTI5ODA2">Google Classroom</a> 
END:VEVENT
BEGIN:VEVENT
UID:UZ_PLZ_20260520_0915_500366
DTSTAMP:20260520T091500
DTSTART:20260520T091500
DTEND:20260520T110000
SUMMARY:Rezerwacja IIM (R)
CATEGORIES:R
END:VEVENT
BEGIN:VEVENT
UID:UZ_PLZ_20260522_1100_497960
DTSTAMP:20260522T110000
DTSTART:20260522T110000
DTEND:20260522T123500
SUMMARY:Techniki CAD (L): 33LOG-TS-SP/A
CATEGORIES:L
LOCATION:H130 A-10
DESCRIPTION:<a href="https://classroom.google.com/c/ODUwNDA0OTI5ODA2">Google Classroom</a> 
END:VEVENT
BEGIN:VEVENT
UID:UZ_PLZ_20260522_1245_497917
DTSTAMP:20260522T124500
DTSTART:20260522T124500
DTEND:20260522T142000
SUMMARY:Techniki CAD (L): 32LOG-TS-SP/A
CATEGORIES:L
LOCATION:H130 A-10
DESCRIPTION:<a href="https://classroom.google.com/c/ODUwNDA0OTI5ODA2">Google Classroom</a> 
END:VEVENT
BEGIN:VEVENT
UID:UZ_PLZ_20260527_0915_500366
DTSTAMP:20260527T091500
DTSTART:20260527T091500
DTEND:20260527T110000
SUMMARY:Rezerwacja IIM (R)
CATEGORIES:R
END:VEVENT
BEGIN:VEVENT
UID:UZ_PLZ_20260529_0915_498071
DTSTAMP:20260529T091500
DTSTART:20260529T091500
DTEND:20260529T104000
SUMMARY:Techniki CAD (L): 31LOG-ZLP-SP/A
CATEGORIES:L
LOCATION:H130 A-10
DESCRIPTION:<a href="https://classroom.google.com/c/ODUwNDA0OTI5ODA2">Google Classroom</a> 
END:VEVENT
BEGIN:VEVENT
UID:UZ_PLZ_20260529_1100_498013
DTSTAMP:20260529T110000
DTSTART:20260529T110000
DTEND:20260529T122500
SUMMARY:Techniki CAD (L): 33LOG-TS-SP/B
CATEGORIES:L
LOCATION:H130 A-10
DESCRIPTION:<a href="https://classroom.google.com/c/ODUwNDA0OTI5ODA2">Google Classroom</a> 
END:VEVENT
BEGIN:VEVENT
UID:UZ_PLZ_20260529_1245_497817
DTSTAMP:20260529T124500
DTSTART:20260529T124500
DTEND:20260529T141000
SUMMARY:Techniki CAD (L): 32LOG-TS-SP/B
CATEGORIES:L
LOCATION:H130 A-10
DESCRIPTION:<a href="https://classroom.google.com/c/ODUwNDA0OTI5ODA2">Google Classroom</a> 
END:VEVENT
BEGIN:VEVENT
UID:UZ_PLZ_20260530_1425_500483
DTSTAMP:20260530T142500
DTSTART:20260530T142500
DTEND:20260530T160500
SUMMARY:Tendencje rozwojowe w kontroli jakości (W): 31ZiIP-IJ-NP
CATEGORIES:W
LOCATION:B208 A-11
END:VEVENT
BEGIN:VEVENT
UID:UZ_PLZ_20260530_1615_500506
DTSTAMP:20260530T161500
DTSTART:20260530T161500
DTEND:20260530T174500
SUMMARY:Tendencje rozwojowe w kontroli jakości (P): 31ZiIP-IJ-NP
CATEGORIES:P
LOCATION:H130 A-10
END:VEVENT
BEGIN:VEVENT
UID:UZ_PLZ_20260603_0915_500366
DTSTAMP:20260603T091500
DTSTART:20260603T091500
DTEND:20260603T110000
SUMMARY:Rezerwacja IIM (R)
CATEGORIES:R
END:VEVENT
BEGIN:VEVENT
UID:UZ_PLZ_20260610_0915_500366
DTSTAMP:20260610T091500
DTSTART:20260610T091500
DTEND:20260610T110000
SUMMARY:Rezerwacja IIM (R)
CATEGORIES:R
END:VEVENT
BEGIN:VEVENT
UID:UZ_PLZ_20260612_0915_498071
DTSTAMP:20260612T091500
DTSTART:20260612T091500
DTEND:20260612T104000
SUMMARY:Techniki CAD (L): 31LOG-ZLP-SP/A
CATEGORIES:L
LOCATION:H130 A-10
DESCRIPTION:<a href="https://classroom.google.com/c/ODUwNDA0OTI5ODA2">Google Classroom</a> 
END:VEVENT
BEGIN:VEVENT
UID:UZ_PLZ_20260612_1100_498013
DTSTAMP:20260612T110000
DTSTART:20260612T110000
DTEND:20260612T122500
SUMMARY:Techniki CAD (L): 33LOG-TS-SP/B
CATEGORIES:L
LOCATION:H130 A-10
DESCRIPTION:<a href="https://classroom.google.com/c/ODUwNDA0OTI5ODA2">Google Classroom</a> 
END:VEVENT
BEGIN:VEVENT
UID:UZ_PLZ_20260612_1245_497817
DTSTAMP:20260612T124500
DTSTART:20260612T124500
DTEND:20260612T141000
SUMMARY:Techniki CAD (L): 32LOG-TS-SP/B
CATEGORIES:L
LOCATION:H130 A-10
DESCRIPTION:<a href="https://classroom.google.com/c/ODUwNDA0OTI5ODA2">Google Classroom</a> 
END:VEVENT
BEGIN:VEVENT
UID:UZ_PLZ_20260613_1100_500518
DTSTAMP:20260613T110000
DTSTART:20260613T110000
DTEND:20260613T122000
SUMMARY:Prognozowanie i symulacja w przedsiębiorstwie (L): 15ZiIP-ND/B
CATEGORIES:L
LOCATION:H130 A-10
DESCRIPTION:<a href="https://classroom.google.com/c/ODUwNDA5OTM4ODUz">Google Classroom</a> 
END:VEVENT
BEGIN:VEVENT
UID:UZ_PLZ_20260613_1245_500517
DTSTAMP:20260613T124500
DTSTART:20260613T124500
DTEND:20260613T140500
SUMMARY:Prognozowanie i symulacja w przedsiębiorstwie (L): 15ZiIP-ND/A
CATEGORIES:L
LOCATION:H130 A-10
DESCRIPTION:<a href="https://classroom.google.com/c/ODUwNDA5OTM4ODUz">Google Classroom</a> 
END:VEVENT
BEGIN:VEVENT
UID:UZ_PLZ_20260613_1430_500479
DTSTAMP:20260613T143000
DTSTART:20260613T143000
DTEND:20260613T155000
SUMMARY:Prognozowanie i symulacja w przedsiębiorstwie (W): 15ZiIP-ND
CATEGORIES:W
LOCATION:108 A-2
DESCRIPTION:<a href="https://classroom.google.com/c/ODUwNDA5OTM4ODUz">Google Classroom</a> 
END:VEVENT
BEGIN:VEVENT
UID:UZ_PLZ_20260613_1615_500506
DTSTAMP:20260613T161500
DTSTART:20260613T161500
DTEND:20260613T174500
SUMMARY:Tendencje rozwojowe w kontroli jakości (P): 31ZiIP-IJ-NP
CATEGORIES:P
LOCATION:H130 A-10
END:VEVENT
BEGIN:VEVENT
UID:UZ_PLZ_20260613_1800_498438
DTSTAMP:20260613T180000
DTSTART:20260613T180000
DTEND:20260613T192000
SUMMARY:Techniki CAD (L): 31LOG-ZLP-NP/A
CATEGORIES:L
LOCATION:H130 A-10
DESCRIPTION:<a href="https://classroom.google.com/c/ODUwNDA0OTI5ODA2">Google Classroom</a> 
END:VEVENT
BEGIN:VEVENT
UID:UZ_PLZ_20260613_1935_498353
DTSTAMP:20260613T193500
DTSTART:20260613T193500
DTEND:20260613T205500
SUMMARY:Techniki CAD (L): 32LOG-TS-NP/A
CATEGORIES:L
LOCATION:H130 A-10
DESCRIPTION:<a href="https://classroom.google.com/c/ODUwNDA0OTI5ODA2">Google Classroom</a> 
END:VEVENT
BEGIN:VEVENT
UID:UZ_PLZ_20260617_0915_500366
DTSTAMP:20260617T091500
DTSTART:20260617T091500
DTEND:20260617T110000
SUMMARY:Rezerwacja IIM (R)
CATEGORIES:R
END:VEVENT
BEGIN:VEVENT
UID:UZ_PLZ_20260619_1100_497960
DTSTAMP:20260619T110000
DTSTART:20260619T110000
DTEND:20260619T123500
SUMMARY:Techniki CAD (L): 33LOG-TS-SP/A
CATEGORIES:L
LOCATION:H130 A-10
DESCRIPTION:<a href="https://classroom.google.com/c/ODUwNDA0OTI5ODA2">Google Classroom</a> 
END:VEVENT
BEGIN:VEVENT
UID:UZ_PLZ_20260619_1245_497917
DTSTAMP:20260619T124500
DTSTART:20260619T124500
DTEND:20260619T142000
SUMMARY:Techniki CAD (L): 32LOG-TS-SP/A
CATEGORIES:L
LOCATION:H130 A-10
DESCRIPTION:<a href="https://classroom.google.com/c/ODUwNDA0OTI5ODA2">Google Classroom</a> 
END:VEVENT
BEGIN:VEVENT
UID:UZ_PLZ_20260620_1000_508107
DTSTAMP:20260620T100000
DTSTART:20260620T100000
DTEND:20260620T120000
SUMMARY:Prognozowanie i symulacja w przedsiębiorstwie (E): 15ZiIP-ND
CATEGORIES:E
LOCATION:302 A-2
END:VEVENT
BEGIN:VEVENT
UID:UZ_PLZ_20260912_1200_508107
DTSTAMP:20260912T120000
DTSTART:20260912T120000
DTEND:20260912T131500
SUMMARY:Prognozowanie i symulacja w przedsiębiorstwie (E): 15ZiIP-ND
CATEGORIES:E
LOCATION:B416 A-11
END:VEVENT
END:VCALENDAR
