BEGIN:VCALENDAR
TZID:Europe/Warsaw
X-WR-TIMEZONE:Europe/Warsaw
VERSION:2.0
PRODID:-//Uniwersytet Zielonogórski//NONSGML Plan zajęć v1.0//EN
NAME:Plan zajęć - semestr letni 2025/2026
X-WR-CALNAME:Plan zajęć - semestr letni 2025/2026
COLOR:green
CALSCALE:GREGORIAN
BEGIN:VEVENT
UID:UZ_PLZ_20260425_1100_498409
DTSTAMP:20260425T110000
DTSTART:20260425T110000
DTEND:20260425T122000
SUMMARY:Formy  finansowania działalności gospodarczej (L): 11ZARZ-SRB-ND/A
CATEGORIES:L
LOCATION:147 A-0
ATTACH:https://classroom.google.com/c/ODUxNjE1NDQ5NjUy
END:VEVENT
BEGIN:VEVENT
UID:UZ_PLZ_20260425_1245_506646
DTSTAMP:20260425T124500
DTSTART:20260425T124500
DTEND:20260425T132000
SUMMARY:Proseminarium (Pro): 21FiR-FB-NP\; 22FiR-RPG-NP
CATEGORIES:Pro
LOCATION:153 A-0
END:VEVENT
BEGIN:VEVENT
UID:UZ_PLZ_20260425_1245_499242
DTSTAMP:20260425T124500
DTSTART:20260425T124500
DTEND:20260425T135000
SUMMARY:Seminarium  I (S): 11FiR-ARF-ND\; 12FiR-FP-ND
CATEGORIES:S
LOCATION:153 A-0
END:VEVENT
BEGIN:VEVENT
UID:UZ_PLZ_20260425_1350_507280
DTSTAMP:20260425T135000
DTSTART:20260425T135000
DTEND:20260425T143000
SUMMARY:Dyżur dziekański (I)
CATEGORIES:I
LOCATION:11 A-0
END:VEVENT
BEGIN:VEVENT
UID:UZ_PLZ_20260425_1430_498369
DTSTAMP:20260425T143000
DTSTART:20260425T143000
DTEND:20260425T155000
SUMMARY:Finanse publiczne (W): 11ZARZ-NP\; 12ZARZ-NP
CATEGORIES:W
LOCATION:005 A-0
END:VEVENT
BEGIN:VEVENT
UID:UZ_PLZ_20260425_1615_498450
DTSTAMP:20260425T161500
DTSTART:20260425T161500
DTEND:20260425T173500
SUMMARY:Finanse publiczne (Ć): 12ZARZ-NP
CATEGORIES:Ć
LOCATION:03b A-0
END:VEVENT
BEGIN:VEVENT
UID:UZ_PLZ_20260425_1800_498368
DTSTAMP:20260425T180000
DTSTART:20260425T180000
DTEND:20260425T192000
SUMMARY:Finanse przedsiębiorstw (L): 21ZARZ-NP/A
CATEGORIES:L
LOCATION:159 A-0
END:VEVENT
BEGIN:VEVENT
UID:UZ_PLZ_20260426_0740_498371
DTSTAMP:20260426T074000
DTSTART:20260426T074000
DTEND:20260426T090000
SUMMARY:Formy  finansowania działalności gospodarczej (L): 11ZARZ-SRB-ND/B
CATEGORIES:L
LOCATION:102 A-0
ATTACH:https://classroom.google.com/c/ODUxNjE3ODIxNjc4
END:VEVENT
BEGIN:VEVENT
UID:UZ_PLZ_20260426_0925_498323
DTSTAMP:20260426T092500
DTSTART:20260426T092500
DTEND:20260426T104500
SUMMARY:Finanse przedsiębiorstw (W): 21ZARZ-NP
CATEGORIES:W
LOCATION:03b A-0
END:VEVENT
BEGIN:VEVENT
UID:UZ_PLZ_20260426_1100_498283
DTSTAMP:20260426T110000
DTSTART:20260426T110000
DTEND:20260426T122000
SUMMARY:Formy  finansowania działalności gospodarczej (W): 11ZARZ-SRB-ND
CATEGORIES:W
LOCATION:03b A-0
END:VEVENT
BEGIN:VEVENT
UID:UZ_PLZ_20260426_1245_499103
DTSTAMP:20260426T124500
DTSTART:20260426T124500
DTEND:20260426T141500
SUMMARY:Finanse publiczne (Ć): 11FiR-NP
CATEGORIES:Ć
LOCATION:03b A-0
END:VEVENT
BEGIN:VEVENT
UID:UZ_PLZ_20260427_0915_498941
DTSTAMP:20260427T091500
DTSTART:20260427T091500
DTEND:20260427T104500
SUMMARY:Finanse publiczne (Ć): 11FiR-SP
CATEGORIES:Ć
LOCATION:005 A-0
END:VEVENT
BEGIN:VEVENT
UID:UZ_PLZ_20260427_1050_507102
DTSTAMP:20260427T105000
DTSTART:20260427T105000
DTEND:20260427T113500
SUMMARY:Konsultacje (I)
CATEGORIES:I
LOCATION:11 A-0\; 153 A-0
END:VEVENT
BEGIN:VEVENT
UID:UZ_PLZ_20260427_1145_507281
DTSTAMP:20260427T114500
DTSTART:20260427T114500
DTEND:20260427T124500
SUMMARY:Dyżur dziekański (I)
CATEGORIES:I
LOCATION:11 A-0
END:VEVENT
BEGIN:VEVENT
UID:UZ_PLZ_20260427_1245_498832
DTSTAMP:20260427T124500
DTSTART:20260427T124500
DTEND:20260427T141500
SUMMARY:Finanse publiczne (Ć): 12FiR-SP
CATEGORIES:Ć
LOCATION:005 A-0
END:VEVENT
BEGIN:VEVENT
UID:UZ_PLZ_20260428_0730_498833
DTSTAMP:20260428T073000
DTSTART:20260428T073000
DTEND:20260428T090000
SUMMARY:Finanse publiczne (Ć): 13FiR-SP
CATEGORIES:Ć
LOCATION:005 A-0
END:VEVENT
BEGIN:VEVENT
UID:UZ_PLZ_20260428_0915_505168
DTSTAMP:20260428T091500
DTSTART:20260428T091500
DTEND:20260428T104000
SUMMARY:Enterprise Finance/Finanse przedsiębiorstw (W): 31IiE-SP
CATEGORIES:W
LOCATION:213 A-29
ATTACH:https://classroom.google.com/c/ODUxNjEzNTc3MTc2
END:VEVENT
BEGIN:VEVENT
UID:UZ_PLZ_20260504_0730_498979
DTSTAMP:20260504T073000
DTSTART:20260504T073000
DTEND:20260504T090500
SUMMARY:Finanse publiczne (W): 11FiR-SP\; 12FiR-SP\; 13FiR-SP
CATEGORIES:W
LOCATION:005 A-0
END:VEVENT
BEGIN:VEVENT
UID:UZ_PLZ_20260504_0915_498941
DTSTAMP:20260504T091500
DTSTART:20260504T091500
DTEND:20260504T104500
SUMMARY:Finanse publiczne (Ć): 11FiR-SP
CATEGORIES:Ć
LOCATION:1 C-2
END:VEVENT
BEGIN:VEVENT
UID:UZ_PLZ_20260504_1050_507102
DTSTAMP:20260504T105000
DTSTART:20260504T105000
DTEND:20260504T113500
SUMMARY:Konsultacje (I)
CATEGORIES:I
LOCATION:11 A-0\; 153 A-0
END:VEVENT
BEGIN:VEVENT
UID:UZ_PLZ_20260504_1145_507281
DTSTAMP:20260504T114500
DTSTART:20260504T114500
DTEND:20260504T124500
SUMMARY:Dyżur dziekański (I)
CATEGORIES:I
LOCATION:11 A-0
END:VEVENT
BEGIN:VEVENT
UID:UZ_PLZ_20260504_1245_498832
DTSTAMP:20260504T124500
DTSTART:20260504T124500
DTEND:20260504T141500
SUMMARY:Finanse publiczne (Ć): 12FiR-SP
CATEGORIES:Ć
LOCATION:005 A-0
END:VEVENT
BEGIN:VEVENT
UID:UZ_PLZ_20260505_0730_498833
DTSTAMP:20260505T073000
DTSTART:20260505T073000
DTEND:20260505T090000
SUMMARY:Finanse publiczne (Ć): 13FiR-SP
CATEGORIES:Ć
LOCATION:005 A-0
END:VEVENT
BEGIN:VEVENT
UID:UZ_PLZ_20260505_0915_505050
DTSTAMP:20260505T091500
DTSTART:20260505T091500
DTEND:20260505T105000
SUMMARY:Enterprise Finance/Finanse przedsiębiorstw (Ć): 31IiE-SP
CATEGORIES:Ć
LOCATION:213 A-29
END:VEVENT
BEGIN:VEVENT
UID:UZ_PLZ_20260506_0730_497893
DTSTAMP:20260506T073000
DTSTART:20260506T073000
DTEND:20260506T090000
SUMMARY:Formy  finansowania działalności gospodarczej (L): 11ZARZ-SRB-SD/A
CATEGORIES:L
LOCATION:147 A-0
ATTACH:https://classroom.google.com/c/ODUxNjE4MDA2MzE2
END:VEVENT
BEGIN:VEVENT
UID:UZ_PLZ_20260506_0915_497892
DTSTAMP:20260506T091500
DTSTART:20260506T091500
DTEND:20260506T105000
SUMMARY:Formy  finansowania działalności gospodarczej (W): 11ZARZ-SRB-SD
CATEGORIES:W
LOCATION:F6 A-0
END:VEVENT
BEGIN:VEVENT
UID:UZ_PLZ_20260506_1100_497891
DTSTAMP:20260506T110000
DTSTART:20260506T110000
DTEND:20260506T123500
SUMMARY:Finanse publiczne (Ć): 12ZARZ-SP
CATEGORIES:Ć
LOCATION:F5 A-0
END:VEVENT
BEGIN:VEVENT
UID:UZ_PLZ_20260509_1100_498371
DTSTAMP:20260509T110000
DTSTART:20260509T110000
DTEND:20260509T124000
SUMMARY:Formy  finansowania działalności gospodarczej (L): 11ZARZ-SRB-ND/B
CATEGORIES:L
LOCATION:147 A-0
ATTACH:https://classroom.google.com/c/ODUxNjE3ODIxNjc4
END:VEVENT
BEGIN:VEVENT
UID:UZ_PLZ_20260509_1245_506646
DTSTAMP:20260509T124500
DTSTART:20260509T124500
DTEND:20260509T132000
SUMMARY:Proseminarium (Pro): 21FiR-FB-NP\; 22FiR-RPG-NP
CATEGORIES:Pro
LOCATION:153 A-0
END:VEVENT
BEGIN:VEVENT
UID:UZ_PLZ_20260509_1245_499242
DTSTAMP:20260509T124500
DTSTART:20260509T124500
DTEND:20260509T135000
SUMMARY:Seminarium  I (S): 11FiR-ARF-ND\; 12FiR-FP-ND
CATEGORIES:S
LOCATION:153 A-0
END:VEVENT
BEGIN:VEVENT
UID:UZ_PLZ_20260509_1350_507280
DTSTAMP:20260509T135000
DTSTART:20260509T135000
DTEND:20260509T143000
SUMMARY:Dyżur dziekański (I)
CATEGORIES:I
LOCATION:11 A-0
END:VEVENT
BEGIN:VEVENT
UID:UZ_PLZ_20260509_1430_507103
DTSTAMP:20260509T143000
DTSTART:20260509T143000
DTEND:20260509T160000
SUMMARY:Konsultacje (I)
CATEGORIES:I
LOCATION:11 A-0\; 153 A-0
END:VEVENT
BEGIN:VEVENT
UID:UZ_PLZ_20260509_1615_498192
DTSTAMP:20260509T161500
DTSTART:20260509T161500
DTEND:20260509T175500
SUMMARY:Finanse publiczne (Ć): 11ZARZ-NP
CATEGORIES:Ć
LOCATION:03b A-0
END:VEVENT
BEGIN:VEVENT
UID:UZ_PLZ_20260509_1800_498233
DTSTAMP:20260509T180000
DTSTART:20260509T180000
DTEND:20260509T194000
SUMMARY:Finanse przedsiębiorstw (L): 21ZARZ-NP/B
CATEGORIES:L
LOCATION:159 A-0
END:VEVENT
BEGIN:VEVENT
UID:UZ_PLZ_20260510_0730_498409
DTSTAMP:20260510T073000
DTSTART:20260510T073000
DTEND:20260510T091000
SUMMARY:Formy  finansowania działalności gospodarczej (L): 11ZARZ-SRB-ND/A
CATEGORIES:L
LOCATION:102 A-0
ATTACH:https://classroom.google.com/c/ODUxNjE1NDQ5NjUy
END:VEVENT
BEGIN:VEVENT
UID:UZ_PLZ_20260510_0915_499126
DTSTAMP:20260510T091500
DTSTART:20260510T091500
DTEND:20260510T105500
SUMMARY:Finanse publiczne (W): 11FiR-NP
CATEGORIES:W
LOCATION:03b A-0
END:VEVENT
BEGIN:VEVENT
UID:UZ_PLZ_20260510_1245_499103
DTSTAMP:20260510T124500
DTSTART:20260510T124500
DTEND:20260510T141500
SUMMARY:Finanse publiczne (Ć): 11FiR-NP
CATEGORIES:Ć
LOCATION:03b A-0
END:VEVENT
BEGIN:VEVENT
UID:UZ_PLZ_20260511_0915_498941
DTSTAMP:20260511T091500
DTSTART:20260511T091500
DTEND:20260511T104500
SUMMARY:Finanse publiczne (Ć): 11FiR-SP
CATEGORIES:Ć
LOCATION:005 A-0
END:VEVENT
BEGIN:VEVENT
UID:UZ_PLZ_20260511_1050_507102
DTSTAMP:20260511T105000
DTSTART:20260511T105000
DTEND:20260511T113500
SUMMARY:Konsultacje (I)
CATEGORIES:I
LOCATION:11 A-0\; 153 A-0
END:VEVENT
BEGIN:VEVENT
UID:UZ_PLZ_20260511_1145_507281
DTSTAMP:20260511T114500
DTSTART:20260511T114500
DTEND:20260511T124500
SUMMARY:Dyżur dziekański (I)
CATEGORIES:I
LOCATION:11 A-0
END:VEVENT
BEGIN:VEVENT
UID:UZ_PLZ_20260511_1245_498832
DTSTAMP:20260511T124500
DTSTART:20260511T124500
DTEND:20260511T141500
SUMMARY:Finanse publiczne (Ć): 12FiR-SP
CATEGORIES:Ć
LOCATION:005 A-0
END:VEVENT
BEGIN:VEVENT
UID:UZ_PLZ_20260512_0730_498833
DTSTAMP:20260512T073000
DTSTART:20260512T073000
DTEND:20260512T090000
SUMMARY:Finanse publiczne (Ć): 13FiR-SP
CATEGORIES:Ć
LOCATION:005 A-0
END:VEVENT
BEGIN:VEVENT
UID:UZ_PLZ_20260512_0915_505168
DTSTAMP:20260512T091500
DTSTART:20260512T091500
DTEND:20260512T104000
SUMMARY:Enterprise Finance/Finanse przedsiębiorstw (W): 31IiE-SP
CATEGORIES:W
LOCATION:213 A-29
ATTACH:https://classroom.google.com/c/ODUxNjEzNTc3MTc2
END:VEVENT
BEGIN:VEVENT
UID:UZ_PLZ_20260513_0730_497893
DTSTAMP:20260513T073000
DTSTART:20260513T073000
DTEND:20260513T090000
SUMMARY:Formy  finansowania działalności gospodarczej (L): 11ZARZ-SRB-SD/A
CATEGORIES:L
LOCATION:147 A-0
ATTACH:https://classroom.google.com/c/ODUxNjE4MDA2MzE2
END:VEVENT
BEGIN:VEVENT
UID:UZ_PLZ_20260513_0915_497982
DTSTAMP:20260513T091500
DTSTART:20260513T091500
DTEND:20260513T104000
SUMMARY:Finanse publiczne (W): 11ZARZ-SP\; 12ZARZ-SP
CATEGORIES:W
LOCATION:005 A-0
END:VEVENT
BEGIN:VEVENT
UID:UZ_PLZ_20260513_1100_498034
DTSTAMP:20260513T110000
DTSTART:20260513T110000
DTEND:20260513T122500
SUMMARY:Finanse publiczne (Ć): 11ZARZ-SP
CATEGORIES:Ć
LOCATION:F5 A-0
END:VEVENT
BEGIN:VEVENT
UID:UZ_PLZ_20260516_1100_498409
DTSTAMP:20260516T110000
DTSTART:20260516T110000
DTEND:20260516T122000
SUMMARY:Formy  finansowania działalności gospodarczej (L): 11ZARZ-SRB-ND/A
CATEGORIES:L
LOCATION:147 A-0
ATTACH:https://classroom.google.com/c/ODUxNjE1NDQ5NjUy
END:VEVENT
BEGIN:VEVENT
UID:UZ_PLZ_20260516_1245_506646
DTSTAMP:20260516T124500
DTSTART:20260516T124500
DTEND:20260516T132000
SUMMARY:Proseminarium (Pro): 21FiR-FB-NP\; 22FiR-RPG-NP
CATEGORIES:Pro
LOCATION:153 A-0
END:VEVENT
BEGIN:VEVENT
UID:UZ_PLZ_20260516_1245_499242
DTSTAMP:20260516T124500
DTSTART:20260516T124500
DTEND:20260516T135000
SUMMARY:Seminarium  I (S): 11FiR-ARF-ND\; 12FiR-FP-ND
CATEGORIES:S
LOCATION:153 A-0
END:VEVENT
BEGIN:VEVENT
UID:UZ_PLZ_20260516_1350_507280
DTSTAMP:20260516T135000
DTSTART:20260516T135000
DTEND:20260516T143000
SUMMARY:Dyżur dziekański (I)
CATEGORIES:I
LOCATION:11 A-0
END:VEVENT
BEGIN:VEVENT
UID:UZ_PLZ_20260516_1430_498369
DTSTAMP:20260516T143000
DTSTART:20260516T143000
DTEND:20260516T155000
SUMMARY:Finanse publiczne (W): 11ZARZ-NP\; 12ZARZ-NP
CATEGORIES:W
LOCATION:005 A-0
END:VEVENT
BEGIN:VEVENT
UID:UZ_PLZ_20260516_1615_498450
DTSTAMP:20260516T161500
DTSTART:20260516T161500
DTEND:20260516T173500
SUMMARY:Finanse publiczne (Ć): 12ZARZ-NP
CATEGORIES:Ć
LOCATION:03b A-0
END:VEVENT
BEGIN:VEVENT
UID:UZ_PLZ_20260516_1800_498368
DTSTAMP:20260516T180000
DTSTART:20260516T180000
DTEND:20260516T192000
SUMMARY:Finanse przedsiębiorstw (L): 21ZARZ-NP/A
CATEGORIES:L
LOCATION:159 A-0
END:VEVENT
BEGIN:VEVENT
UID:UZ_PLZ_20260517_0740_498371
DTSTAMP:20260517T074000
DTSTART:20260517T074000
DTEND:20260517T090000
SUMMARY:Formy  finansowania działalności gospodarczej (L): 11ZARZ-SRB-ND/B
CATEGORIES:L
LOCATION:102 A-0
ATTACH:https://classroom.google.com/c/ODUxNjE3ODIxNjc4
END:VEVENT
BEGIN:VEVENT
UID:UZ_PLZ_20260517_0925_498323
DTSTAMP:20260517T092500
DTSTART:20260517T092500
DTEND:20260517T104500
SUMMARY:Finanse przedsiębiorstw (W): 21ZARZ-NP
CATEGORIES:W
LOCATION:03b A-0
END:VEVENT
BEGIN:VEVENT
UID:UZ_PLZ_20260517_1100_498283
DTSTAMP:20260517T110000
DTSTART:20260517T110000
DTEND:20260517T122000
SUMMARY:Formy  finansowania działalności gospodarczej (W): 11ZARZ-SRB-ND
CATEGORIES:W
LOCATION:03b A-0
END:VEVENT
BEGIN:VEVENT
UID:UZ_PLZ_20260517_1245_499103
DTSTAMP:20260517T124500
DTSTART:20260517T124500
DTEND:20260517T141500
SUMMARY:Finanse publiczne (Ć): 11FiR-NP
CATEGORIES:Ć
LOCATION:03b A-0
END:VEVENT
BEGIN:VEVENT
UID:UZ_PLZ_20260518_0730_498979
DTSTAMP:20260518T073000
DTSTART:20260518T073000
DTEND:20260518T090500
SUMMARY:Finanse publiczne (W): 11FiR-SP\; 12FiR-SP\; 13FiR-SP
CATEGORIES:W
LOCATION:005 A-0
END:VEVENT
BEGIN:VEVENT
UID:UZ_PLZ_20260518_0915_498941
DTSTAMP:20260518T091500
DTSTART:20260518T091500
DTEND:20260518T104500
SUMMARY:Finanse publiczne (Ć): 11FiR-SP
CATEGORIES:Ć
LOCATION:1 C-2
END:VEVENT
BEGIN:VEVENT
UID:UZ_PLZ_20260518_1050_507102
DTSTAMP:20260518T105000
DTSTART:20260518T105000
DTEND:20260518T113500
SUMMARY:Konsultacje (I)
CATEGORIES:I
LOCATION:11 A-0\; 153 A-0
END:VEVENT
BEGIN:VEVENT
UID:UZ_PLZ_20260518_1145_507281
DTSTAMP:20260518T114500
DTSTART:20260518T114500
DTEND:20260518T124500
SUMMARY:Dyżur dziekański (I)
CATEGORIES:I
LOCATION:11 A-0
END:VEVENT
BEGIN:VEVENT
UID:UZ_PLZ_20260518_1245_498832
DTSTAMP:20260518T124500
DTSTART:20260518T124500
DTEND:20260518T141500
SUMMARY:Finanse publiczne (Ć): 12FiR-SP
CATEGORIES:Ć
LOCATION:005 A-0
END:VEVENT
BEGIN:VEVENT
UID:UZ_PLZ_20260519_0730_498833
DTSTAMP:20260519T073000
DTSTART:20260519T073000
DTEND:20260519T090000
SUMMARY:Finanse publiczne (Ć): 13FiR-SP
CATEGORIES:Ć
LOCATION:005 A-0
END:VEVENT
BEGIN:VEVENT
UID:UZ_PLZ_20260519_0915_505050
DTSTAMP:20260519T091500
DTSTART:20260519T091500
DTEND:20260519T105000
SUMMARY:Enterprise Finance/Finanse przedsiębiorstw (Ć): 31IiE-SP
CATEGORIES:Ć
LOCATION:213 A-29
END:VEVENT
BEGIN:VEVENT
UID:UZ_PLZ_20260520_0730_497893
DTSTAMP:20260520T073000
DTSTART:20260520T073000
DTEND:20260520T090000
SUMMARY:Formy  finansowania działalności gospodarczej (L): 11ZARZ-SRB-SD/A
CATEGORIES:L
LOCATION:147 A-0
ATTACH:https://classroom.google.com/c/ODUxNjE4MDA2MzE2
END:VEVENT
BEGIN:VEVENT
UID:UZ_PLZ_20260520_0915_497892
DTSTAMP:20260520T091500
DTSTART:20260520T091500
DTEND:20260520T105000
SUMMARY:Formy  finansowania działalności gospodarczej (W): 11ZARZ-SRB-SD
CATEGORIES:W
LOCATION:F6 A-0
END:VEVENT
BEGIN:VEVENT
UID:UZ_PLZ_20260520_1100_497891
DTSTAMP:20260520T110000
DTSTART:20260520T110000
DTEND:20260520T123500
SUMMARY:Finanse publiczne (Ć): 12ZARZ-SP
CATEGORIES:Ć
LOCATION:F5 A-0
END:VEVENT
BEGIN:VEVENT
UID:UZ_PLZ_20260525_0915_498941
DTSTAMP:20260525T091500
DTSTART:20260525T091500
DTEND:20260525T104500
SUMMARY:Finanse publiczne (Ć): 11FiR-SP
CATEGORIES:Ć
LOCATION:005 A-0
END:VEVENT
BEGIN:VEVENT
UID:UZ_PLZ_20260525_1050_507102
DTSTAMP:20260525T105000
DTSTART:20260525T105000
DTEND:20260525T113500
SUMMARY:Konsultacje (I)
CATEGORIES:I
LOCATION:11 A-0\; 153 A-0
END:VEVENT
BEGIN:VEVENT
UID:UZ_PLZ_20260525_1145_507281
DTSTAMP:20260525T114500
DTSTART:20260525T114500
DTEND:20260525T124500
SUMMARY:Dyżur dziekański (I)
CATEGORIES:I
LOCATION:11 A-0
END:VEVENT
BEGIN:VEVENT
UID:UZ_PLZ_20260525_1245_498832
DTSTAMP:20260525T124500
DTSTART:20260525T124500
DTEND:20260525T141500
SUMMARY:Finanse publiczne (Ć): 12FiR-SP
CATEGORIES:Ć
LOCATION:005 A-0
END:VEVENT
BEGIN:VEVENT
UID:UZ_PLZ_20260526_0730_498833
DTSTAMP:20260526T073000
DTSTART:20260526T073000
DTEND:20260526T090000
SUMMARY:Finanse publiczne (Ć): 13FiR-SP
CATEGORIES:Ć
LOCATION:005 A-0
END:VEVENT
BEGIN:VEVENT
UID:UZ_PLZ_20260526_0915_505168
DTSTAMP:20260526T091500
DTSTART:20260526T091500
DTEND:20260526T104000
SUMMARY:Enterprise Finance/Finanse przedsiębiorstw (W): 31IiE-SP
CATEGORIES:W
LOCATION:213 A-29
ATTACH:https://classroom.google.com/c/ODUxNjEzNTc3MTc2
END:VEVENT
BEGIN:VEVENT
UID:UZ_PLZ_20260527_0730_497893
DTSTAMP:20260527T073000
DTSTART:20260527T073000
DTEND:20260527T090000
SUMMARY:Formy  finansowania działalności gospodarczej (L): 11ZARZ-SRB-SD/A
CATEGORIES:L
LOCATION:147 A-0
ATTACH:https://classroom.google.com/c/ODUxNjE4MDA2MzE2
END:VEVENT
BEGIN:VEVENT
UID:UZ_PLZ_20260527_0915_497982
DTSTAMP:20260527T091500
DTSTART:20260527T091500
DTEND:20260527T104000
SUMMARY:Finanse publiczne (W): 11ZARZ-SP\; 12ZARZ-SP
CATEGORIES:W
LOCATION:005 A-0
END:VEVENT
BEGIN:VEVENT
UID:UZ_PLZ_20260527_1100_498034
DTSTAMP:20260527T110000
DTSTART:20260527T110000
DTEND:20260527T122500
SUMMARY:Finanse publiczne (Ć): 11ZARZ-SP
CATEGORIES:Ć
LOCATION:F5 A-0
END:VEVENT
BEGIN:VEVENT
UID:UZ_PLZ_20260530_1100_498371
DTSTAMP:20260530T110000
DTSTART:20260530T110000
DTEND:20260530T124000
SUMMARY:Formy  finansowania działalności gospodarczej (L): 11ZARZ-SRB-ND/B
CATEGORIES:L
LOCATION:147 A-0
ATTACH:https://classroom.google.com/c/ODUxNjE3ODIxNjc4
END:VEVENT
BEGIN:VEVENT
UID:UZ_PLZ_20260530_1245_506646
DTSTAMP:20260530T124500
DTSTART:20260530T124500
DTEND:20260530T132000
SUMMARY:Proseminarium (Pro): 21FiR-FB-NP\; 22FiR-RPG-NP
CATEGORIES:Pro
LOCATION:153 A-0
END:VEVENT
BEGIN:VEVENT
UID:UZ_PLZ_20260530_1245_499242
DTSTAMP:20260530T124500
DTSTART:20260530T124500
DTEND:20260530T135000
SUMMARY:Seminarium  I (S): 11FiR-ARF-ND\; 12FiR-FP-ND
CATEGORIES:S
LOCATION:153 A-0
END:VEVENT
BEGIN:VEVENT
UID:UZ_PLZ_20260530_1350_507280
DTSTAMP:20260530T135000
DTSTART:20260530T135000
DTEND:20260530T143000
SUMMARY:Dyżur dziekański (I)
CATEGORIES:I
LOCATION:11 A-0
END:VEVENT
BEGIN:VEVENT
UID:UZ_PLZ_20260530_1430_507103
DTSTAMP:20260530T143000
DTSTART:20260530T143000
DTEND:20260530T160000
SUMMARY:Konsultacje (I)
CATEGORIES:I
LOCATION:11 A-0\; 153 A-0
END:VEVENT
BEGIN:VEVENT
UID:UZ_PLZ_20260530_1615_498192
DTSTAMP:20260530T161500
DTSTART:20260530T161500
DTEND:20260530T175500
SUMMARY:Finanse publiczne (Ć): 11ZARZ-NP
CATEGORIES:Ć
LOCATION:03b A-0
END:VEVENT
BEGIN:VEVENT
UID:UZ_PLZ_20260530_1800_498233
DTSTAMP:20260530T180000
DTSTART:20260530T180000
DTEND:20260530T194000
SUMMARY:Finanse przedsiębiorstw (L): 21ZARZ-NP/B
CATEGORIES:L
LOCATION:159 A-0
END:VEVENT
BEGIN:VEVENT
UID:UZ_PLZ_20260531_0730_498409
DTSTAMP:20260531T073000
DTSTART:20260531T073000
DTEND:20260531T091000
SUMMARY:Formy  finansowania działalności gospodarczej (L): 11ZARZ-SRB-ND/A
CATEGORIES:L
LOCATION:102 A-0
ATTACH:https://classroom.google.com/c/ODUxNjE1NDQ5NjUy
END:VEVENT
BEGIN:VEVENT
UID:UZ_PLZ_20260531_0915_499126
DTSTAMP:20260531T091500
DTSTART:20260531T091500
DTEND:20260531T105500
SUMMARY:Finanse publiczne (W): 11FiR-NP
CATEGORIES:W
LOCATION:03b A-0
END:VEVENT
BEGIN:VEVENT
UID:UZ_PLZ_20260531_1245_499103
DTSTAMP:20260531T124500
DTSTART:20260531T124500
DTEND:20260531T141500
SUMMARY:Finanse publiczne (Ć): 11FiR-NP
CATEGORIES:Ć
LOCATION:03b A-0
END:VEVENT
BEGIN:VEVENT
UID:UZ_PLZ_20260601_0730_498979
DTSTAMP:20260601T073000
DTSTART:20260601T073000
DTEND:20260601T090500
SUMMARY:Finanse publiczne (W): 11FiR-SP\; 12FiR-SP\; 13FiR-SP
CATEGORIES:W
LOCATION:005 A-0
END:VEVENT
BEGIN:VEVENT
UID:UZ_PLZ_20260601_0915_498941
DTSTAMP:20260601T091500
DTSTART:20260601T091500
DTEND:20260601T104500
SUMMARY:Finanse publiczne (Ć): 11FiR-SP
CATEGORIES:Ć
LOCATION:1 C-2
END:VEVENT
BEGIN:VEVENT
UID:UZ_PLZ_20260601_1050_507102
DTSTAMP:20260601T105000
DTSTART:20260601T105000
DTEND:20260601T113500
SUMMARY:Konsultacje (I)
CATEGORIES:I
LOCATION:11 A-0\; 153 A-0
END:VEVENT
BEGIN:VEVENT
UID:UZ_PLZ_20260601_1145_507281
DTSTAMP:20260601T114500
DTSTART:20260601T114500
DTEND:20260601T124500
SUMMARY:Dyżur dziekański (I)
CATEGORIES:I
LOCATION:11 A-0
END:VEVENT
BEGIN:VEVENT
UID:UZ_PLZ_20260601_1245_498832
DTSTAMP:20260601T124500
DTSTART:20260601T124500
DTEND:20260601T141500
SUMMARY:Finanse publiczne (Ć): 12FiR-SP
CATEGORIES:Ć
LOCATION:005 A-0
END:VEVENT
BEGIN:VEVENT
UID:UZ_PLZ_20260602_0730_498833
DTSTAMP:20260602T073000
DTSTART:20260602T073000
DTEND:20260602T090000
SUMMARY:Finanse publiczne (Ć): 13FiR-SP
CATEGORIES:Ć
LOCATION:005 A-0
END:VEVENT
BEGIN:VEVENT
UID:UZ_PLZ_20260602_0915_505050
DTSTAMP:20260602T091500
DTSTART:20260602T091500
DTEND:20260602T105000
SUMMARY:Enterprise Finance/Finanse przedsiębiorstw (Ć): 31IiE-SP
CATEGORIES:Ć
LOCATION:213 A-29
END:VEVENT
BEGIN:VEVENT
UID:UZ_PLZ_20260603_0730_497893
DTSTAMP:20260603T073000
DTSTART:20260603T073000
DTEND:20260603T090000
SUMMARY:Formy  finansowania działalności gospodarczej (L): 11ZARZ-SRB-SD/A
CATEGORIES:L
LOCATION:147 A-0
ATTACH:https://classroom.google.com/c/ODUxNjE4MDA2MzE2
END:VEVENT
BEGIN:VEVENT
UID:UZ_PLZ_20260603_0915_497892
DTSTAMP:20260603T091500
DTSTART:20260603T091500
DTEND:20260603T105000
SUMMARY:Formy  finansowania działalności gospodarczej (W): 11ZARZ-SRB-SD
CATEGORIES:W
LOCATION:F6 A-0
END:VEVENT
BEGIN:VEVENT
UID:UZ_PLZ_20260603_1100_497891
DTSTAMP:20260603T110000
DTSTART:20260603T110000
DTEND:20260603T123500
SUMMARY:Finanse publiczne (Ć): 12ZARZ-SP
CATEGORIES:Ć
LOCATION:F5 A-0
END:VEVENT
BEGIN:VEVENT
UID:UZ_PLZ_20260608_0915_498941
DTSTAMP:20260608T091500
DTSTART:20260608T091500
DTEND:20260608T104500
SUMMARY:Finanse publiczne (Ć): 11FiR-SP
CATEGORIES:Ć
LOCATION:005 A-0
END:VEVENT
BEGIN:VEVENT
UID:UZ_PLZ_20260608_1050_507102
DTSTAMP:20260608T105000
DTSTART:20260608T105000
DTEND:20260608T113500
SUMMARY:Konsultacje (I)
CATEGORIES:I
LOCATION:11 A-0\; 153 A-0
END:VEVENT
BEGIN:VEVENT
UID:UZ_PLZ_20260608_1145_507281
DTSTAMP:20260608T114500
DTSTART:20260608T114500
DTEND:20260608T124500
SUMMARY:Dyżur dziekański (I)
CATEGORIES:I
LOCATION:11 A-0
END:VEVENT
BEGIN:VEVENT
UID:UZ_PLZ_20260608_1245_498832
DTSTAMP:20260608T124500
DTSTART:20260608T124500
DTEND:20260608T141500
SUMMARY:Finanse publiczne (Ć): 12FiR-SP
CATEGORIES:Ć
LOCATION:005 A-0
END:VEVENT
BEGIN:VEVENT
UID:UZ_PLZ_20260609_0730_498833
DTSTAMP:20260609T073000
DTSTART:20260609T073000
DTEND:20260609T090000
SUMMARY:Finanse publiczne (Ć): 13FiR-SP
CATEGORIES:Ć
LOCATION:005 A-0
END:VEVENT
BEGIN:VEVENT
UID:UZ_PLZ_20260609_0915_505168
DTSTAMP:20260609T091500
DTSTART:20260609T091500
DTEND:20260609T104000
SUMMARY:Enterprise Finance/Finanse przedsiębiorstw (W): 31IiE-SP
CATEGORIES:W
LOCATION:213 A-29
ATTACH:https://classroom.google.com/c/ODUxNjEzNTc3MTc2
END:VEVENT
BEGIN:VEVENT
UID:UZ_PLZ_20260610_0730_497893
DTSTAMP:20260610T073000
DTSTART:20260610T073000
DTEND:20260610T090000
SUMMARY:Formy  finansowania działalności gospodarczej (L): 11ZARZ-SRB-SD/A
CATEGORIES:L
LOCATION:147 A-0
ATTACH:https://classroom.google.com/c/ODUxNjE4MDA2MzE2
END:VEVENT
BEGIN:VEVENT
UID:UZ_PLZ_20260610_0915_497982
DTSTAMP:20260610T091500
DTSTART:20260610T091500
DTEND:20260610T104000
SUMMARY:Finanse publiczne (W): 11ZARZ-SP\; 12ZARZ-SP
CATEGORIES:W
LOCATION:005 A-0
END:VEVENT
BEGIN:VEVENT
UID:UZ_PLZ_20260610_1100_498034
DTSTAMP:20260610T110000
DTSTART:20260610T110000
DTEND:20260610T122500
SUMMARY:Finanse publiczne (Ć): 11ZARZ-SP
CATEGORIES:Ć
LOCATION:F5 A-0
END:VEVENT
BEGIN:VEVENT
UID:UZ_PLZ_20260613_1100_498409
DTSTAMP:20260613T110000
DTSTART:20260613T110000
DTEND:20260613T122000
SUMMARY:Formy  finansowania działalności gospodarczej (L): 11ZARZ-SRB-ND/A
CATEGORIES:L
LOCATION:147 A-0
ATTACH:https://classroom.google.com/c/ODUxNjE1NDQ5NjUy
END:VEVENT
BEGIN:VEVENT
UID:UZ_PLZ_20260613_1245_506646
DTSTAMP:20260613T124500
DTSTART:20260613T124500
DTEND:20260613T132000
SUMMARY:Proseminarium (Pro): 21FiR-FB-NP\; 22FiR-RPG-NP
CATEGORIES:Pro
LOCATION:153 A-0
END:VEVENT
BEGIN:VEVENT
UID:UZ_PLZ_20260613_1245_499242
DTSTAMP:20260613T124500
DTSTART:20260613T124500
DTEND:20260613T135000
SUMMARY:Seminarium  I (S): 11FiR-ARF-ND\; 12FiR-FP-ND
CATEGORIES:S
LOCATION:153 A-0
END:VEVENT
BEGIN:VEVENT
UID:UZ_PLZ_20260613_1350_507280
DTSTAMP:20260613T135000
DTSTART:20260613T135000
DTEND:20260613T143000
SUMMARY:Dyżur dziekański (I)
CATEGORIES:I
LOCATION:11 A-0
END:VEVENT
BEGIN:VEVENT
UID:UZ_PLZ_20260613_1430_498369
DTSTAMP:20260613T143000
DTSTART:20260613T143000
DTEND:20260613T155000
SUMMARY:Finanse publiczne (W): 11ZARZ-NP\; 12ZARZ-NP
CATEGORIES:W
LOCATION:005 A-0
END:VEVENT
BEGIN:VEVENT
UID:UZ_PLZ_20260613_1615_498450
DTSTAMP:20260613T161500
DTSTART:20260613T161500
DTEND:20260613T173500
SUMMARY:Finanse publiczne (Ć): 12ZARZ-NP
CATEGORIES:Ć
LOCATION:03b A-0
END:VEVENT
BEGIN:VEVENT
UID:UZ_PLZ_20260613_1800_498368
DTSTAMP:20260613T180000
DTSTART:20260613T180000
DTEND:20260613T192000
SUMMARY:Finanse przedsiębiorstw (L): 21ZARZ-NP/A
CATEGORIES:L
LOCATION:159 A-0
END:VEVENT
BEGIN:VEVENT
UID:UZ_PLZ_20260614_0740_498371
DTSTAMP:20260614T074000
DTSTART:20260614T074000
DTEND:20260614T090000
SUMMARY:Formy  finansowania działalności gospodarczej (L): 11ZARZ-SRB-ND/B
CATEGORIES:L
LOCATION:102 A-0
ATTACH:https://classroom.google.com/c/ODUxNjE3ODIxNjc4
END:VEVENT
BEGIN:VEVENT
UID:UZ_PLZ_20260614_0925_498323
DTSTAMP:20260614T092500
DTSTART:20260614T092500
DTEND:20260614T104500
SUMMARY:Finanse przedsiębiorstw (W): 21ZARZ-NP
CATEGORIES:W
LOCATION:03b A-0
END:VEVENT
BEGIN:VEVENT
UID:UZ_PLZ_20260614_1100_498283
DTSTAMP:20260614T110000
DTSTART:20260614T110000
DTEND:20260614T122000
SUMMARY:Formy  finansowania działalności gospodarczej (W): 11ZARZ-SRB-ND
CATEGORIES:W
LOCATION:03b A-0
END:VEVENT
BEGIN:VEVENT
UID:UZ_PLZ_20260614_1245_499103
DTSTAMP:20260614T124500
DTSTART:20260614T124500
DTEND:20260614T141500
SUMMARY:Finanse publiczne (Ć): 11FiR-NP
CATEGORIES:Ć
LOCATION:03b A-0
END:VEVENT
BEGIN:VEVENT
UID:UZ_PLZ_20260615_0730_498979
DTSTAMP:20260615T073000
DTSTART:20260615T073000
DTEND:20260615T090500
SUMMARY:Finanse publiczne (W): 11FiR-SP\; 12FiR-SP\; 13FiR-SP
CATEGORIES:W
LOCATION:005 A-0
END:VEVENT
BEGIN:VEVENT
UID:UZ_PLZ_20260615_0915_498941
DTSTAMP:20260615T091500
DTSTART:20260615T091500
DTEND:20260615T104500
SUMMARY:Finanse publiczne (Ć): 11FiR-SP
CATEGORIES:Ć
LOCATION:1 C-2
END:VEVENT
BEGIN:VEVENT
UID:UZ_PLZ_20260615_1050_507102
DTSTAMP:20260615T105000
DTSTART:20260615T105000
DTEND:20260615T113500
SUMMARY:Konsultacje (I)
CATEGORIES:I
LOCATION:11 A-0\; 153 A-0
END:VEVENT
BEGIN:VEVENT
UID:UZ_PLZ_20260615_1145_507281
DTSTAMP:20260615T114500
DTSTART:20260615T114500
DTEND:20260615T124500
SUMMARY:Dyżur dziekański (I)
CATEGORIES:I
LOCATION:11 A-0
END:VEVENT
BEGIN:VEVENT
UID:UZ_PLZ_20260615_1245_498832
DTSTAMP:20260615T124500
DTSTART:20260615T124500
DTEND:20260615T141500
SUMMARY:Finanse publiczne (Ć): 12FiR-SP
CATEGORIES:Ć
LOCATION:005 A-0
END:VEVENT
BEGIN:VEVENT
UID:UZ_PLZ_20260616_0730_498833
DTSTAMP:20260616T073000
DTSTART:20260616T073000
DTEND:20260616T090000
SUMMARY:Finanse publiczne (Ć): 13FiR-SP
CATEGORIES:Ć
LOCATION:005 A-0
END:VEVENT
BEGIN:VEVENT
UID:UZ_PLZ_20260616_0915_505050
DTSTAMP:20260616T091500
DTSTART:20260616T091500
DTEND:20260616T105000
SUMMARY:Enterprise Finance/Finanse przedsiębiorstw (Ć): 31IiE-SP
CATEGORIES:Ć
LOCATION:213 A-29
END:VEVENT
BEGIN:VEVENT
UID:UZ_PLZ_20260617_0730_497893
DTSTAMP:20260617T073000
DTSTART:20260617T073000
DTEND:20260617T090000
SUMMARY:Formy  finansowania działalności gospodarczej (L): 11ZARZ-SRB-SD/A
CATEGORIES:L
LOCATION:147 A-0
ATTACH:https://classroom.google.com/c/ODUxNjE4MDA2MzE2
END:VEVENT
BEGIN:VEVENT
UID:UZ_PLZ_20260617_0915_497982
DTSTAMP:20260617T091500
DTSTART:20260617T091500
DTEND:20260617T104000
SUMMARY:Finanse publiczne (W): 11ZARZ-SP\; 12ZARZ-SP
CATEGORIES:W
LOCATION:005 A-0
END:VEVENT
BEGIN:VEVENT
UID:UZ_PLZ_20260617_1100_498034
DTSTAMP:20260617T110000
DTSTART:20260617T110000
DTEND:20260617T122500
SUMMARY:Finanse publiczne (Ć): 11ZARZ-SP
CATEGORIES:Ć
LOCATION:F5 A-0
END:VEVENT
BEGIN:VEVENT
UID:UZ_PLZ_20260620_0915_508525
DTSTAMP:20260620T091500
DTSTART:20260620T091500
DTEND:20260620T100000
SUMMARY:Finanse przedsiębiorstw (E): 21ZARZ-NP
CATEGORIES:E
LOCATION:005 A-0
END:VEVENT
BEGIN:VEVENT
UID:UZ_PLZ_20260620_1000_508529
DTSTAMP:20260620T100000
DTSTART:20260620T100000
DTEND:20260620T104500
SUMMARY:Finanse publiczne (E): 11FiR-NP
CATEGORIES:E
LOCATION:005 A-0
END:VEVENT
BEGIN:VEVENT
UID:UZ_PLZ_20260622_0815_508530
DTSTAMP:20260622T081500
DTSTART:20260622T081500
DTEND:20260622T090000
SUMMARY:Finanse publiczne (E): 11FiR-SP\; 12FiR-SP\; 13FiR-SP
CATEGORIES:E
LOCATION:207 A-29
END:VEVENT
BEGIN:VEVENT
UID:UZ_PLZ_20260914_0815_508530
DTSTAMP:20260914T081500
DTSTART:20260914T081500
DTEND:20260914T090000
SUMMARY:Finanse publiczne (E): 11FiR-SP\; 12FiR-SP\; 13FiR-SP
CATEGORIES:E
LOCATION:207 A-29
END:VEVENT
BEGIN:VEVENT
UID:UZ_PLZ_20260914_1700_508525
DTSTAMP:20260914T170000
DTSTART:20260914T170000
DTEND:20260914T173000
SUMMARY:Finanse przedsiębiorstw (E): 21ZARZ-NP
CATEGORIES:E
LOCATION:005 A-0
END:VEVENT
BEGIN:VEVENT
UID:UZ_PLZ_20260914_1730_508529
DTSTAMP:20260914T173000
DTSTART:20260914T173000
DTEND:20260914T180000
SUMMARY:Finanse publiczne (E): 11FiR-NP
CATEGORIES:E
LOCATION:005 A-0
END:VEVENT
END:VCALENDAR
