BEGIN:VCALENDAR
TZID:Europe/Warsaw
X-WR-TIMEZONE:Europe/Warsaw
VERSION:2.0
PRODID:-//Uniwersytet Zielonogórski//NONSGML Plan zajęć v1.0//EN
NAME:Plan zajęć - semestr letni 2025/2026
X-WR-CALNAME:Plan zajęć - semestr letni 2025/2026
COLOR:green
CALSCALE:GREGORIAN
BEGIN:VEVENT
UID:UZ_PLZ_20260423_1045_497761
DTSTAMP:20260423T104500
DTSTART:20260423T104500
DTEND:20260423T120000
SUMMARY:Seminarium Instytutowe ISSI (R)
CATEGORIES:R
LOCATION:412 A-2
END:VEVENT
BEGIN:VEVENT
UID:UZ_PLZ_20260424_0915_495248
DTSTAMP:20260424T091500
DTSTART:20260424T091500
DTEND:20260424T104500
SUMMARY:Integracja systemów (W): 31E-B-SP
CATEGORIES:W
LOCATION:106 A-2
ATTACH:https://classroom.google.com/c/ODQ3MTExNzU3Mzc5
END:VEVENT
BEGIN:VEVENT
UID:UZ_PLZ_20260424_1100_495283
DTSTAMP:20260424T110000
DTSTART:20260424T110000
DTEND:20260424T123000
SUMMARY:Integracja systemów (L): 31E-B-SP/A
CATEGORIES:L
LOCATION:211 A-2
ATTACH:https://classroom.google.com/c/ODQ3MTEyODQ3ODQ1
END:VEVENT
BEGIN:VEVENT
UID:UZ_PLZ_20260424_1245_495238
DTSTAMP:20260424T124500
DTSTART:20260424T124500
DTEND:20260424T141500
SUMMARY:Integracja systemów (L): 31E-B-SP/B
CATEGORIES:L
LOCATION:211 A-2
ATTACH:https://classroom.google.com/c/ODQ3MTEwNTgzNzMy
END:VEVENT
BEGIN:VEVENT
UID:UZ_PLZ_20260424_1430_495382
DTSTAMP:20260424T143000
DTSTART:20260424T143000
DTEND:20260424T160000
SUMMARY:Uczenie maszynowe (L): 12INF-SD(L)/B
CATEGORIES:L
LOCATION:409 A-2
ATTACH:https://classroom.google.com/c/Nzk0MTQ0MDQzNjIx
END:VEVENT
BEGIN:VEVENT
UID:UZ_PLZ_20260425_1100_495892
DTSTAMP:20260425T110000
DTSTART:20260425T110000
DTEND:20260425T123000
SUMMARY:Elementy sztucznej inteligencji (W): 21INF-NP
CATEGORIES:W
LOCATION:125 A-2
ATTACH:https://classroom.google.com/c/ODQ3MTExNDcwNTY3
END:VEVENT
BEGIN:VEVENT
UID:UZ_PLZ_20260425_1245_495697
DTSTAMP:20260425T124500
DTSTART:20260425T124500
DTEND:20260425T141500
SUMMARY:Integracja systemów (W): 31E-B-NP
CATEGORIES:W
LOCATION:120 A-2
ATTACH:https://classroom.google.com/c/ODQ3MTEyODcyNzg1
END:VEVENT
BEGIN:VEVENT
UID:UZ_PLZ_20260425_1430_495685
DTSTAMP:20260425T143000
DTSTART:20260425T143000
DTEND:20260425T160000
SUMMARY:Integracja systemów (L): 31E-B-NP
CATEGORIES:L
LOCATION:211 A-2
ATTACH:https://classroom.google.com/c/ODQ3MTEzMjU4ODI4
END:VEVENT
BEGIN:VEVENT
UID:UZ_PLZ_20260429_0915_495248
DTSTAMP:20260429T091500
DTSTART:20260429T091500
DTEND:20260429T104500
SUMMARY:Integracja systemów (W): 31E-B-SP
CATEGORIES:W
LOCATION:106 A-2
ATTACH:https://classroom.google.com/c/ODQ3MTExNzU3Mzc5
END:VEVENT
BEGIN:VEVENT
UID:UZ_PLZ_20260429_1100_495283
DTSTAMP:20260429T110000
DTSTART:20260429T110000
DTEND:20260429T123000
SUMMARY:Integracja systemów (L): 31E-B-SP/A
CATEGORIES:L
LOCATION:211 A-2
ATTACH:https://classroom.google.com/c/ODQ3MTEyODQ3ODQ1
END:VEVENT
BEGIN:VEVENT
UID:UZ_PLZ_20260429_1245_495238
DTSTAMP:20260429T124500
DTSTART:20260429T124500
DTEND:20260429T141500
SUMMARY:Integracja systemów (L): 31E-B-SP/B
CATEGORIES:L
LOCATION:211 A-2
ATTACH:https://classroom.google.com/c/ODQ3MTEwNTgzNzMy
END:VEVENT
BEGIN:VEVENT
UID:UZ_PLZ_20260429_1430_495382
DTSTAMP:20260429T143000
DTSTART:20260429T143000
DTEND:20260429T160000
SUMMARY:Uczenie maszynowe (L): 12INF-SD(L)/B
CATEGORIES:L
LOCATION:409 A-2
ATTACH:https://classroom.google.com/c/Nzk0MTQ0MDQzNjIx
END:VEVENT
BEGIN:VEVENT
UID:UZ_PLZ_20260430_0735_495260
DTSTAMP:20260430T073500
DTSTART:20260430T073500
DTEND:20260430T090000
SUMMARY:Eksploracja danych (W): 11E-B-SP
CATEGORIES:W
LOCATION:106 A-2
ATTACH:https://classroom.google.com/c/ODQ3MTEyODk0MDYx
END:VEVENT
BEGIN:VEVENT
UID:UZ_PLZ_20260430_1045_497761
DTSTAMP:20260430T104500
DTSTART:20260430T104500
DTEND:20260430T120000
SUMMARY:Seminarium Instytutowe ISSI (R)
CATEGORIES:R
LOCATION:412 A-2
END:VEVENT
BEGIN:VEVENT
UID:UZ_PLZ_20260507_1045_497761
DTSTAMP:20260507T104500
DTSTART:20260507T104500
DTEND:20260507T120000
SUMMARY:Seminarium Instytutowe ISSI (R)
CATEGORIES:R
LOCATION:412 A-2
END:VEVENT
BEGIN:VEVENT
UID:UZ_PLZ_20260508_0915_495248
DTSTAMP:20260508T091500
DTSTART:20260508T091500
DTEND:20260508T104500
SUMMARY:Integracja systemów (W): 31E-B-SP
CATEGORIES:W
LOCATION:106 A-2
ATTACH:https://classroom.google.com/c/ODQ3MTExNzU3Mzc5
END:VEVENT
BEGIN:VEVENT
UID:UZ_PLZ_20260508_1100_495283
DTSTAMP:20260508T110000
DTSTART:20260508T110000
DTEND:20260508T123000
SUMMARY:Integracja systemów (L): 31E-B-SP/A
CATEGORIES:L
LOCATION:211 A-2
ATTACH:https://classroom.google.com/c/ODQ3MTEyODQ3ODQ1
END:VEVENT
BEGIN:VEVENT
UID:UZ_PLZ_20260508_1245_495238
DTSTAMP:20260508T124500
DTSTART:20260508T124500
DTEND:20260508T141500
SUMMARY:Integracja systemów (L): 31E-B-SP/B
CATEGORIES:L
LOCATION:211 A-2
ATTACH:https://classroom.google.com/c/ODQ3MTEwNTgzNzMy
END:VEVENT
BEGIN:VEVENT
UID:UZ_PLZ_20260508_1430_495382
DTSTAMP:20260508T143000
DTSTART:20260508T143000
DTEND:20260508T160000
SUMMARY:Uczenie maszynowe (L): 12INF-SD(L)/B
CATEGORIES:L
LOCATION:409 A-2
ATTACH:https://classroom.google.com/c/Nzk0MTQ0MDQzNjIx
END:VEVENT
BEGIN:VEVENT
UID:UZ_PLZ_20260509_1100_495892
DTSTAMP:20260509T110000
DTSTART:20260509T110000
DTEND:20260509T123000
SUMMARY:Elementy sztucznej inteligencji (W): 21INF-NP
CATEGORIES:W
LOCATION:125 A-2
ATTACH:https://classroom.google.com/c/ODQ3MTExNDcwNTY3
END:VEVENT
BEGIN:VEVENT
UID:UZ_PLZ_20260509_1245_495697
DTSTAMP:20260509T124500
DTSTART:20260509T124500
DTEND:20260509T141500
SUMMARY:Integracja systemów (W): 31E-B-NP
CATEGORIES:W
LOCATION:120 A-2
ATTACH:https://classroom.google.com/c/ODQ3MTEyODcyNzg1
END:VEVENT
BEGIN:VEVENT
UID:UZ_PLZ_20260509_1430_495685
DTSTAMP:20260509T143000
DTSTART:20260509T143000
DTEND:20260509T160000
SUMMARY:Integracja systemów (L): 31E-B-NP
CATEGORIES:L
LOCATION:211 A-2
ATTACH:https://classroom.google.com/c/ODQ3MTEzMjU4ODI4
END:VEVENT
BEGIN:VEVENT
UID:UZ_PLZ_20260514_0735_495260
DTSTAMP:20260514T073500
DTSTART:20260514T073500
DTEND:20260514T090000
SUMMARY:Eksploracja danych (W): 11E-B-SP
CATEGORIES:W
LOCATION:106 A-2
ATTACH:https://classroom.google.com/c/ODQ3MTEyODk0MDYx
END:VEVENT
BEGIN:VEVENT
UID:UZ_PLZ_20260514_1045_497761
DTSTAMP:20260514T104500
DTSTART:20260514T104500
DTEND:20260514T120000
SUMMARY:Seminarium Instytutowe ISSI (R)
CATEGORIES:R
LOCATION:412 A-2
END:VEVENT
BEGIN:VEVENT
UID:UZ_PLZ_20260515_0915_495248
DTSTAMP:20260515T091500
DTSTART:20260515T091500
DTEND:20260515T104500
SUMMARY:Integracja systemów (W): 31E-B-SP
CATEGORIES:W
LOCATION:106 A-2
ATTACH:https://classroom.google.com/c/ODQ3MTExNzU3Mzc5
END:VEVENT
BEGIN:VEVENT
UID:UZ_PLZ_20260515_1100_495283
DTSTAMP:20260515T110000
DTSTART:20260515T110000
DTEND:20260515T123000
SUMMARY:Integracja systemów (L): 31E-B-SP/A
CATEGORIES:L
LOCATION:211 A-2
ATTACH:https://classroom.google.com/c/ODQ3MTEyODQ3ODQ1
END:VEVENT
BEGIN:VEVENT
UID:UZ_PLZ_20260515_1245_495238
DTSTAMP:20260515T124500
DTSTART:20260515T124500
DTEND:20260515T141500
SUMMARY:Integracja systemów (L): 31E-B-SP/B
CATEGORIES:L
LOCATION:211 A-2
ATTACH:https://classroom.google.com/c/ODQ3MTEwNTgzNzMy
END:VEVENT
BEGIN:VEVENT
UID:UZ_PLZ_20260515_1430_495382
DTSTAMP:20260515T143000
DTSTART:20260515T143000
DTEND:20260515T160000
SUMMARY:Uczenie maszynowe (L): 12INF-SD(L)/B
CATEGORIES:L
LOCATION:409 A-2
ATTACH:https://classroom.google.com/c/Nzk0MTQ0MDQzNjIx
END:VEVENT
BEGIN:VEVENT
UID:UZ_PLZ_20260516_1100_495892
DTSTAMP:20260516T110000
DTSTART:20260516T110000
DTEND:20260516T123000
SUMMARY:Elementy sztucznej inteligencji (W): 21INF-NP
CATEGORIES:W
LOCATION:125 A-2
ATTACH:https://classroom.google.com/c/ODQ3MTExNDcwNTY3
END:VEVENT
BEGIN:VEVENT
UID:UZ_PLZ_20260516_1245_495697
DTSTAMP:20260516T124500
DTSTART:20260516T124500
DTEND:20260516T141500
SUMMARY:Integracja systemów (W): 31E-B-NP
CATEGORIES:W
LOCATION:120 A-2
ATTACH:https://classroom.google.com/c/ODQ3MTEyODcyNzg1
END:VEVENT
BEGIN:VEVENT
UID:UZ_PLZ_20260516_1430_495685
DTSTAMP:20260516T143000
DTSTART:20260516T143000
DTEND:20260516T160000
SUMMARY:Integracja systemów (L): 31E-B-NP
CATEGORIES:L
LOCATION:211 A-2
ATTACH:https://classroom.google.com/c/ODQ3MTEzMjU4ODI4
END:VEVENT
BEGIN:VEVENT
UID:UZ_PLZ_20260521_1045_497761
DTSTAMP:20260521T104500
DTSTART:20260521T104500
DTEND:20260521T120000
SUMMARY:Seminarium Instytutowe ISSI (R)
CATEGORIES:R
LOCATION:412 A-2
END:VEVENT
BEGIN:VEVENT
UID:UZ_PLZ_20260522_0915_495248
DTSTAMP:20260522T091500
DTSTART:20260522T091500
DTEND:20260522T104500
SUMMARY:Integracja systemów (W): 31E-B-SP
CATEGORIES:W
LOCATION:106 A-2
ATTACH:https://classroom.google.com/c/ODQ3MTExNzU3Mzc5
END:VEVENT
BEGIN:VEVENT
UID:UZ_PLZ_20260522_1100_495283
DTSTAMP:20260522T110000
DTSTART:20260522T110000
DTEND:20260522T123000
SUMMARY:Integracja systemów (L): 31E-B-SP/A
CATEGORIES:L
LOCATION:211 A-2
ATTACH:https://classroom.google.com/c/ODQ3MTEyODQ3ODQ1
END:VEVENT
BEGIN:VEVENT
UID:UZ_PLZ_20260522_1245_495238
DTSTAMP:20260522T124500
DTSTART:20260522T124500
DTEND:20260522T141500
SUMMARY:Integracja systemów (L): 31E-B-SP/B
CATEGORIES:L
LOCATION:211 A-2
ATTACH:https://classroom.google.com/c/ODQ3MTEwNTgzNzMy
END:VEVENT
BEGIN:VEVENT
UID:UZ_PLZ_20260522_1430_495382
DTSTAMP:20260522T143000
DTSTART:20260522T143000
DTEND:20260522T160000
SUMMARY:Uczenie maszynowe (L): 12INF-SD(L)/B
CATEGORIES:L
LOCATION:409 A-2
ATTACH:https://classroom.google.com/c/Nzk0MTQ0MDQzNjIx
END:VEVENT
BEGIN:VEVENT
UID:UZ_PLZ_20260528_0735_495260
DTSTAMP:20260528T073500
DTSTART:20260528T073500
DTEND:20260528T090000
SUMMARY:Eksploracja danych (W): 11E-B-SP
CATEGORIES:W
LOCATION:106 A-2
ATTACH:https://classroom.google.com/c/ODQ3MTEyODk0MDYx
END:VEVENT
BEGIN:VEVENT
UID:UZ_PLZ_20260528_1045_497761
DTSTAMP:20260528T104500
DTSTART:20260528T104500
DTEND:20260528T120000
SUMMARY:Seminarium Instytutowe ISSI (R)
CATEGORIES:R
LOCATION:412 A-2
END:VEVENT
BEGIN:VEVENT
UID:UZ_PLZ_20260529_0915_495248
DTSTAMP:20260529T091500
DTSTART:20260529T091500
DTEND:20260529T104500
SUMMARY:Integracja systemów (W): 31E-B-SP
CATEGORIES:W
LOCATION:106 A-2
ATTACH:https://classroom.google.com/c/ODQ3MTExNzU3Mzc5
END:VEVENT
BEGIN:VEVENT
UID:UZ_PLZ_20260529_1100_495283
DTSTAMP:20260529T110000
DTSTART:20260529T110000
DTEND:20260529T123000
SUMMARY:Integracja systemów (L): 31E-B-SP/A
CATEGORIES:L
LOCATION:211 A-2
ATTACH:https://classroom.google.com/c/ODQ3MTEyODQ3ODQ1
END:VEVENT
BEGIN:VEVENT
UID:UZ_PLZ_20260529_1245_495238
DTSTAMP:20260529T124500
DTSTART:20260529T124500
DTEND:20260529T141500
SUMMARY:Integracja systemów (L): 31E-B-SP/B
CATEGORIES:L
LOCATION:211 A-2
ATTACH:https://classroom.google.com/c/ODQ3MTEwNTgzNzMy
END:VEVENT
BEGIN:VEVENT
UID:UZ_PLZ_20260529_1430_495382
DTSTAMP:20260529T143000
DTSTART:20260529T143000
DTEND:20260529T160000
SUMMARY:Uczenie maszynowe (L): 12INF-SD(L)/B
CATEGORIES:L
LOCATION:409 A-2
ATTACH:https://classroom.google.com/c/Nzk0MTQ0MDQzNjIx
END:VEVENT
BEGIN:VEVENT
UID:UZ_PLZ_20260530_1100_495892
DTSTAMP:20260530T110000
DTSTART:20260530T110000
DTEND:20260530T123000
SUMMARY:Elementy sztucznej inteligencji (W): 21INF-NP
CATEGORIES:W
LOCATION:125 A-2
ATTACH:https://classroom.google.com/c/ODQ3MTExNDcwNTY3
END:VEVENT
BEGIN:VEVENT
UID:UZ_PLZ_20260530_1245_495697
DTSTAMP:20260530T124500
DTSTART:20260530T124500
DTEND:20260530T141500
SUMMARY:Integracja systemów (W): 31E-B-NP
CATEGORIES:W
LOCATION:120 A-2
ATTACH:https://classroom.google.com/c/ODQ3MTEyODcyNzg1
END:VEVENT
BEGIN:VEVENT
UID:UZ_PLZ_20260530_1430_495685
DTSTAMP:20260530T143000
DTSTART:20260530T143000
DTEND:20260530T160000
SUMMARY:Integracja systemów (L): 31E-B-NP
CATEGORIES:L
LOCATION:211 A-2
ATTACH:https://classroom.google.com/c/ODQ3MTEzMjU4ODI4
END:VEVENT
BEGIN:VEVENT
UID:UZ_PLZ_20260611_0735_495260
DTSTAMP:20260611T073500
DTSTART:20260611T073500
DTEND:20260611T090000
SUMMARY:Eksploracja danych (W): 11E-B-SP
CATEGORIES:W
LOCATION:106 A-2
ATTACH:https://classroom.google.com/c/ODQ3MTEyODk0MDYx
END:VEVENT
BEGIN:VEVENT
UID:UZ_PLZ_20260611_1045_497761
DTSTAMP:20260611T104500
DTSTART:20260611T104500
DTEND:20260611T120000
SUMMARY:Seminarium Instytutowe ISSI (R)
CATEGORIES:R
LOCATION:412 A-2
END:VEVENT
BEGIN:VEVENT
UID:UZ_PLZ_20260612_0915_495248
DTSTAMP:20260612T091500
DTSTART:20260612T091500
DTEND:20260612T104500
SUMMARY:Integracja systemów (W): 31E-B-SP
CATEGORIES:W
LOCATION:106 A-2
ATTACH:https://classroom.google.com/c/ODQ3MTExNzU3Mzc5
END:VEVENT
BEGIN:VEVENT
UID:UZ_PLZ_20260612_1100_495283
DTSTAMP:20260612T110000
DTSTART:20260612T110000
DTEND:20260612T123000
SUMMARY:Integracja systemów (L): 31E-B-SP/A
CATEGORIES:L
LOCATION:211 A-2
ATTACH:https://classroom.google.com/c/ODQ3MTEyODQ3ODQ1
END:VEVENT
BEGIN:VEVENT
UID:UZ_PLZ_20260612_1245_495238
DTSTAMP:20260612T124500
DTSTART:20260612T124500
DTEND:20260612T141500
SUMMARY:Integracja systemów (L): 31E-B-SP/B
CATEGORIES:L
LOCATION:211 A-2
ATTACH:https://classroom.google.com/c/ODQ3MTEwNTgzNzMy
END:VEVENT
BEGIN:VEVENT
UID:UZ_PLZ_20260612_1430_495382
DTSTAMP:20260612T143000
DTSTART:20260612T143000
DTEND:20260612T160000
SUMMARY:Uczenie maszynowe (L): 12INF-SD(L)/B
CATEGORIES:L
LOCATION:409 A-2
ATTACH:https://classroom.google.com/c/Nzk0MTQ0MDQzNjIx
END:VEVENT
BEGIN:VEVENT
UID:UZ_PLZ_20260613_1100_495892
DTSTAMP:20260613T110000
DTSTART:20260613T110000
DTEND:20260613T123000
SUMMARY:Elementy sztucznej inteligencji (W): 21INF-NP
CATEGORIES:W
LOCATION:125 A-2
ATTACH:https://classroom.google.com/c/ODQ3MTExNDcwNTY3
END:VEVENT
BEGIN:VEVENT
UID:UZ_PLZ_20260613_1245_495697
DTSTAMP:20260613T124500
DTSTART:20260613T124500
DTEND:20260613T141500
SUMMARY:Integracja systemów (W): 31E-B-NP
CATEGORIES:W
LOCATION:120 A-2
ATTACH:https://classroom.google.com/c/ODQ3MTEyODcyNzg1
END:VEVENT
BEGIN:VEVENT
UID:UZ_PLZ_20260613_1430_495685
DTSTAMP:20260613T143000
DTSTART:20260613T143000
DTEND:20260613T160000
SUMMARY:Integracja systemów (L): 31E-B-NP
CATEGORIES:L
LOCATION:211 A-2
ATTACH:https://classroom.google.com/c/ODQ3MTEzMjU4ODI4
END:VEVENT
BEGIN:VEVENT
UID:UZ_PLZ_20260618_1045_497761
DTSTAMP:20260618T104500
DTSTART:20260618T104500
DTEND:20260618T120000
SUMMARY:Seminarium Instytutowe ISSI (R)
CATEGORIES:R
LOCATION:412 A-2
END:VEVENT
BEGIN:VEVENT
UID:UZ_PLZ_20260619_0915_495248
DTSTAMP:20260619T091500
DTSTART:20260619T091500
DTEND:20260619T104500
SUMMARY:Integracja systemów (W): 31E-B-SP
CATEGORIES:W
LOCATION:106 A-2
ATTACH:https://classroom.google.com/c/ODQ3MTExNzU3Mzc5
END:VEVENT
BEGIN:VEVENT
UID:UZ_PLZ_20260619_1100_495283
DTSTAMP:20260619T110000
DTSTART:20260619T110000
DTEND:20260619T123000
SUMMARY:Integracja systemów (L): 31E-B-SP/A
CATEGORIES:L
LOCATION:211 A-2
ATTACH:https://classroom.google.com/c/ODQ3MTEyODQ3ODQ1
END:VEVENT
BEGIN:VEVENT
UID:UZ_PLZ_20260619_1245_495238
DTSTAMP:20260619T124500
DTSTART:20260619T124500
DTEND:20260619T141500
SUMMARY:Integracja systemów (L): 31E-B-SP/B
CATEGORIES:L
LOCATION:211 A-2
ATTACH:https://classroom.google.com/c/ODQ3MTEwNTgzNzMy
END:VEVENT
BEGIN:VEVENT
UID:UZ_PLZ_20260619_1430_495382
DTSTAMP:20260619T143000
DTSTART:20260619T143000
DTEND:20260619T160000
SUMMARY:Uczenie maszynowe (L): 12INF-SD(L)/B
CATEGORIES:L
LOCATION:409 A-2
ATTACH:https://classroom.google.com/c/Nzk0MTQ0MDQzNjIx
END:VEVENT
END:VCALENDAR
